Workbook

Sheet Base de Datos
A1: Fuente: INEGI (2015) y Banco de México, Informe Anual (Varios años) y (1979)
A2: Año | B2: PIB real observado en mp de 1950 | C2: PIB real observado % | D2: PIB observado 1950=100 | E2: PIB observado en LN | F2: Hodrick-Prescott del PIB real en LN Lambda=100 | G2: PIB real en millones de pesos de 1950 | H2: PIB real potencial % | I2: PIB potencial 1950=100 | J2: PIB potencial en LN | K2: IPC, 1950=100 | L2: IPC promedio en LN | M2: Oferta monetaria en mp | N2: Oferta monetaria 1950=100 | O2: Oferta monetaria en LN | P2: Importaciones en md | Q2: Importaciones 1950=100 | R2: Importaciones en LN
K5: 34.9302 | L5: =LN(K5) -> 3.5533518 | P5: 197.5 | Q5: =((P5/P$35)*100) -> 35.496046 | R5: =LN(Q5) -> 3.5694213
A6: 1921 | B6: 17117.41 | D6: =((B6/B$35)*100) -> 40.598178 | E6: =LN(D6) -> 3.7037232 | F6: 9.7854223 | G6: =EXP(F6) -> 17772.761 | I6: =((G6/G$35)*100) -> 42.677169 | J6: =LN(I6) -> 3.7536641 | K6: 31.889144 | L6: =LN(K6) -> 3.4622656 | P6: 241.7 | Q6: =((P6/P$35)*100) -> 43.439971 | R6: =LN(Q6) -> 3.77138
A7: 1922 | B7: 17516.471 | C7: =((B7/B6)-1)*100 -> 2.3313198 | D7: =((B7/B$35)*100) -> 41.544651 | E7: =LN(D7) -> 3.7267688 | F7: 9.7917482 | G7: =EXP(F7) -> 17885.546 | H7: =((G7/G6)-1)*100 -> 0.63460009 | I7: =((G7/G$35)*100) -> 42.947999 | J7: =LN(I7) -> 3.7599901 | K7: 26.759381 | L7: =LN(K7) -> 3.2868851 | P7: 150.7 | Q7: =((P7/P$35)*100) -> 27.084831 | R7: =LN(Q7) -> 3.2989738
A8: 1923 | B8: 18118.274 | C8: =((B8/B7)-1)*100 -> 3.4356373 | D8: =((B8/B$35)*100) -> 42.971974 | E8: =LN(D8) -> 3.7605481 | F8: 9.7976984 | G8: =EXP(F8) -> 17992.287 | H8: =((G8/G7)-1)*100 -> 0.59679784 | I8: =((G8/G$35)*100) -> 43.204311 | J8: =LN(I8) -> 3.7659403 | K8: 28.663211 | L8: =LN(K8) -> 3.3556145 | P8: 152.9 | Q8: =((P8/P$35)*100) -> 27.48023 | R8: =LN(Q8) -> 3.3134668
A9: 1924 | B9: 17825.313 | C9: =((B9/B8)-1)*100 -> -1.616934 | D9: =((B9/B$35)*100) -> 42.277146 | E9: =LN(D9) -> 3.7442467 | F9: 9.8026888 | G9: =EXP(F9) -> 18082.298 | H9: =((G9/G8)-1)*100 -> 0.50027816 | I9: =((G9/G$35)*100) -> 43.420453 | J9: =LN(I9) -> 3.7709306 | K9: 27.473317 | L9: =LN(K9) -> 3.3132153 | P9: 155.1 | Q9: =((P9/P$35)*100) -> 27.875629 | R9: =LN(Q9) -> 3.3277528
A10: 1925 | B10: 18930.589 | C10: =((B10/B9)-1)*100 -> 6.2005952 | D10: =((B10/B$35)*100) -> 44.898581 | E10: =LN(D10) -> 3.8044062 | F10: 9.8062047 | G10: =EXP(F10) -> 18145.987 | H10: =((G10/G9)-1)*100 -> 0.35221227 | I10: =((G10/G$35)*100) -> 43.573385 | J10: =LN(I10) -> 3.7744465 | K10: 28.821863 | L10: =LN(K10) -> 3.3611342 | P10: 192.6 | Q10: =((P10/P$35)*100) -> 34.615385 | R10: =LN(Q10) -> 3.5442982
A11: 1926 | B11: 20066.275 | C11: =((B11/B10)-1)*100 -> 5.9992146 | D11: =((B11/B$35)*100) -> 47.592143 | E11: =LN(D11) -> 3.8626677 | F11: 9.8075887 | G11: =EXP(F11) -> 18171.118 | H11: =((G11/G10)-1)*100 -> 0.13849349 | I11: =((G11/G$35)*100) -> 43.633732 | J11: =LN(I11) -> 3.7758305 | K11: 28.293022 | L11: =LN(K11) -> 3.3426152 | P11: 184.1 | Q11: =((P11/P$35)*100) -> 33.087707 | R11: =LN(Q11) -> 3.4991618
A12: 1927 | B12: 19183.677 | C12: =((B12/B11)-1)*100 -> -4.3984171 | D12: =((B12/B$35)*100) -> 45.498842 | E12: =LN(D12) -> 3.8176869 | F12: 9.8066064 | G12: =EXP(F12) -> 18153.277 | H12: =((G12/G11)-1)*100 -> -0.098178521 | I12: =((G12/G$35)*100) -> 43.590893 | J12: =LN(I12) -> 3.7748482 | K12: 27.63197 | L12: =LN(K12) -> 3.3189734 | P12: 163.2 | Q12: =((P12/P$35)*100) -> 29.331416 | R12: =LN(Q12) -> 3.3786592
A13: 1928 | B13: 19302.618 | C13: =((B13/B12)-1)*100 -> 0.62001303 | D13: =((B13/B$35)*100) -> 45.780941 | E13: =LN(D13) -> 3.8238679 | F13: 9.8040157 | G13: =EXP(F13) -> 18106.308 | H13: =((G13/G12)-1)*100 -> -0.25873735 | I13: =((G13/G$35)*100) -> 43.478107 | J13: =LN(I13) -> 3.7722575 | K13: 26.521403 | L13: =LN(K13) -> 3.2779521 | P13: 172.1 | Q13: =((P13/P$35)*100) -> 30.930985 | R13: =LN(Q13) -> 3.4317584
A14: 1929 | B14: 18555.856 | C14: =((B14/B13)-1)*100 -> -3.868709 | D14: =((B14/B$35)*100) -> 44.009809 | E14: =LN(D14) -> 3.7844125 | F14: 9.8011264 | G14: =EXP(F14) -> 18054.069 | H14: =((G14/G13)-1)*100 -> -0.28851441 | I14: =((G14/G$35)*100) -> 43.352666 | J14: =LN(I14) -> 3.7693682 | K14: 26.442076 | L14: =LN(K14) -> 3.2749565 | P14: 177.7 | Q14: =((P14/P$35)*100) -> 31.937455 | R14: =LN(Q14) -> 3.4637795
A15: 1930 | B15: 17392.799 | C15: =((B15/B14)-1)*100 -> -6.2678685 | D15: =((B15/B$35)*100) -> 41.251332 | E15: =LN(D15) -> 3.7196834 | F15: 9.7998881 | G15: =EXP(F15) -> 18031.728 | H15: =((G15/G14)-1)*100 -> -0.12374606 | I15: =((G15/G$35)*100) -> 43.299019 | J15: =LN(I15) -> 3.76813 | K15: 26.494961 | L15: =LN(K15) -> 3.2769545 | P15: 154.9 | Q15: =((P15/P$35)*100) -> 27.839684 | R15: =LN(Q15) -> 3.3264625
A16: 1931 | B16: 17969.259 | C16: =((B16/B15)-1)*100 -> 3.314359 | D16: =((B16/B$35)*100) -> 42.61855 | E16: =LN(D16) -> 3.7522896 | F16: 9.8025248 | G16: =EXP(F16) -> 18079.334 | H16: =((G16/G15)-1)*100 -> 0.26401577 | I16: =((G16/G$35)*100) -> 43.413335 | J16: =LN(I16) -> 3.7707667 | K16: 23.077111 | L16: =LN(K16) -> 3.1388412 | P16: 81.9 | Q16: =((P16/P$35)*100) -> 14.719626 | R16: =LN(Q16) -> 2.6891817
A17: 1932 | B17: 15289.025 | C17: =((B17/B16)-1)*100 -> -14.915662 | D17: =((B17/B$35)*100) -> 36.261711 | E17: =LN(D17) -> 3.5907624 | F17: 9.8108994 | G17: =EXP(F17) -> 18231.378 | H17: =((G17/G16)-1)*100 -> 0.84098022 | I17: =((G17/G$35)*100) -> 43.778433 | J17: =LN(I17) -> 3.7791413 | K17: 21.529275 | L17: =LN(K17) -> 3.0694136 | P17: 57.3 | Q17: =((P17/P$35)*100) -> 10.298347 | R17: =LN(Q17) -> 2.3319833
A18: 1933 | B18: 17016.377 | C18: =((B18/B17)-1)*100 -> 11.297987 | D18: =((B18/B$35)*100) -> 40.358554 | E18: =LN(D18) -> 3.6978034 | F18: 9.826814 | G18: =EXP(F18) -> 18523.844 | H18: =((G18/G17)-1)*100 -> 1.6041888 | I18: =((G18/G$35)*100) -> 44.480721 | J18: =LN(I18) -> 3.7950559 | K18: 22.843716 | L18: =LN(K18) -> 3.1286761 | M18: 411 | N18: =((M18/M$35)*100) -> 6.8648739 | O18: =LN(N18) -> 1.9264177 | P18: 69.7 | Q18: =((P18/P$35)*100) -> 12.526959 | R18: =LN(Q18) -> 2.527883
A19: 1934 | B19: 18164.566 | C19: =((B19/B18)-1)*100 -> 6.7475526 | D19: =((B19/B$35)*100) -> 43.081769 | E19: =LN(D19) -> 3.7630999 | F19: 9.8503104 | G19: =EXP(F19) -> 18964.241 | H19: =((G19/G18)-1)*100 -> 2.3774625 | I19: =((G19/G$35)*100) -> 45.538234 | J19: =LN(I19) -> 3.8185523 | K19: 24.103036 | L19: =LN(K19) -> 3.1823378 | M19: 468 | N19: =((M19/M$35)*100) -> 7.8169367 | O19: =LN(N19) -> 2.0562928 | P19: 92.8 | Q19: =((P19/P$35)*100) -> 16.678648 | R19: =LN(Q19) -> 2.8141294
A20: 1935 | B20: 19514.482 | C20: =((B20/B19)-1)*100 -> 7.4315903 | D20: =((B20/B$35)*100) -> 46.283429 | E20: =LN(D20) -> 3.834784 | F20: 9.8805817 | G20: =EXP(F20) -> 19547.091 | H20: =((G20/G19)-1)*100 -> 3.0734145 | I20: =((G20/G$35)*100) -> 46.937813 | J20: =LN(I20) -> 3.8488236 | K20: 24.028833 | L20: =LN(K20) -> 3.1792545 | M20: 515 | N20: =((M20/M$35)*100) -> 8.6019709 | O20: =LN(N20) -> 2.1519914 | P20: 112.8 | Q20: =((P20/P$35)*100) -> 20.273185 | R20: =LN(Q20) -> 3.0092991
A21: 1936 | B21: 21071.87 | C21: =((B21/B20)-1)*100 -> 7.980676 | D21: =((B21/B$35)*100) -> 49.97716 | E21: =LN(D21) -> 3.9115661 | F21: 9.9163902 | G21: =EXP(F21) -> 20259.725 | H21: =((G21/G20)-1)*100 -> 3.64573 | I21: =((G21/G$35)*100) -> 48.649039 | J21: =LN(I21) -> 3.884632 | K21: 25.540441 | L21: =LN(K21) -> 3.2402631 | M21: 626 | N21: =((M21/M$35)*100) -> 10.455988 | O21: =LN(N21) -> 2.3471748 | P21: 128.9 | Q21: =((P21/P$35)*100) -> 23.166786 | R21: =LN(Q21) -> 3.1427196
A22: 1937 | B22: 21769.298 | C22: =((B22/B21)-1)*100 -> 3.3097609 | D22: =((B22/B$35)*100) -> 51.631284 | E22: =LN(D22) -> 3.9441278 | F22: 9.9564813 | G22: =EXP(F22) -> 21088.462 | H22: =((G22/G21)-1)*100 -> 4.0905647 | I22: =((G22/G$35)*100) -> 50.639059 | J22: =LN(I22) -> 3.9247232 | K22: 30.244868 | L22: =LN(K22) -> 3.4093265 | M22: 663 | N22: =((M22/M$35)*100) -> 11.073994 | O22: =LN(N22) -> 2.4045994 | P22: 170.6 | Q22: =((P22/P$35)*100) -> 30.661395 | R22: =LN(Q22) -> 3.4230044
A23: 1938 | B23: 22122.067 | C23: =((B23/B22)-1)*100 -> 1.6204889 | D23: =((B23/B$35)*100) -> 52.467963 | E23: =LN(D23) -> 3.9602028 | F23: 9.9999938 | G23: =EXP(F23) -> 22026.329 | H23: =((G23/G22)-1)*100 -> 4.4472977 | I23: =((G23/G$35)*100) -> 52.891129 | J23: =LN(I23) -> 3.9682356 | K23: 32.142328 | L23: =LN(K23) -> 3.4701738 | M23: 737 | N23: =((M23/M$35)*100) -> 12.310005 | O23: =LN(N23) -> 2.5104123 | P23: 109.3 | Q23: =((P23/P$35)*100) -> 19.644141 | R23: =LN(Q23) -> 2.9777791
A24: 1939 | B24: 23311.48 | C24: =((B24/B23)-1)*100 -> 5.3765904 | D24: =((B24/B$35)*100) -> 55.288951 | E24: =LN(D24) -> 4.0125731 | F24: 10.046384 | G24: =EXP(F24) -> 23072.203 | H24: =((G24/G23)-1)*100 -> 4.7482898 | I24: =((G24/G$35)*100) -> 55.402553 | J24: =LN(I24) -> 4.0146257 | K24: 32.318293 | L24: =LN(K24) -> 3.4756334 | M24: 883 | N24: =((M24/M$35)*100) -> 14.748622 | O24: =LN(N24) -> 2.6911497 | P24: 128.2 | Q24: =((P24/P$35)*100) -> 23.040978 | R24: =LN(Q24) -> 3.1372743
A25: 1940 | B25: 23633.162 | C25: =((B25/B24)-1)*100 -> 1.3799301 | D25: =((B25/B$35)*100) -> 56.0519 | E25: =LN(D25) -> 4.026278 | F25: 10.095151 | G25: =EXP(F25) -> 24225.261 | H25: =((G25/G24)-1)*100 -> 4.9976064 | I25: =((G25/G$35)*100) -> 58.171354 | J25: =LN(I25) -> 4.063393 | K25: 32.815305 | L25: =LN(K25) -> 3.490895 | M25: 1062 | N25: =((M25/M$35)*100) -> 17.738433 | O25: =LN(N25) -> 2.8757337 | P25: 132.4 | Q25: =((P25/P$35)*100) -> 23.79583 | R25: =LN(Q25) -> 3.1695104
A26: 1941 | B26: 25934.947 | C26: =((B26/B25)-1)*100 -> 9.7396377 | D26: =((B26/B$35)*100) -> 61.511152 | E26: =LN(D26) -> 4.1192185 | F26: 10.145899 | G26: =EXP(F26) -> 25486.362 | H26: =((G26/G25)-1)*100 -> 5.2057287 | I26: =((G26/G$35)*100) -> 61.199597 | J26: =LN(I26) -> 4.1141406 | K26: 34.97561 | L26: =LN(K26) -> 3.554651 | M26: 1268 | N26: =((M26/M$35)*100) -> 21.179222 | O26: =LN(N26) -> 3.0530206 | P26: 199.5 | Q26: =((P26/P$35)*100) -> 35.8555 | R26: =LN(Q26) -> 3.579497
A27: 1942 | B27: 27389.95 | C27: =((B27/B26)-1)*100 -> 5.6102042 | D27: =((B27/B$35)*100) -> 64.962053 | E27: =LN(D27) -> 4.1738033 | F27: 10.197982 | G27: =EXP(F27) -> 26848.949 | H27: =((G27/G26)-1)*100 -> 5.3463386 | I27: =((G27/G$35)*100) -> 64.471535 | J27: =LN(I27) -> 4.1662238 | K27: 38.600122 | L27: =LN(K27) -> 3.6532554 | M27: 1750 | N27: =((M27/M$35)*100) -> 29.229998 | O27: =LN(N27) -> 3.3751955 | P27: 172.2 | Q27: =((P27/P$35)*100) -> 30.948958 | R27: =LN(Q27) -> 3.4323393
A28: 1943 | B28: 28404.33 | C28: =((B28/B27)-1)*100 -> 3.7034752 | D28: =((B28/B$35)*100) -> 67.367906 | E28: =LN(D28) -> 4.2101687 | F28: 10.250931 | G28: =EXP(F28) -> 28308.877 | H28: =((G28/G27)-1)*100 -> 5.4375595 | I28: =((G28/G$35)*100) -> 67.977213 | J28: =LN(I28) -> 4.2191725 | K28: 46.630591 | L28: =LN(K28) -> 3.8422568 | M28: 2672 | N28: =((M28/M$35)*100) -> 44.630032 | O28: =LN(N28) -> 3.798407 | P28: 212.2 | Q28: =((P28/P$35)*100) -> 38.13803 | R28: =LN(Q28) -> 3.641212
A29: 1944 | B29: 30723.01 | C29: =((B29/B28)-1)*100 -> 8.1631196 | D29: =((B29/B$35)*100) -> 72.867229 | E29: =LN(D29) -> 4.288639 | F29: 10.304474 | G29: =EXP(F29) -> 29865.952 | H29: =((G29/G28)-1)*100 -> 5.5003074 | I29: =((G29/G$35)*100) -> 71.716169 | J29: =LN(I29) -> 4.2727162 | K29: 57.128075 | L29: =LN(K29) -> 4.0452957 | M29: 3309 | N29: =((M29/M$35)*100) -> 55.269751 | O29: =LN(N29) -> 4.0122258 | P29: 311 | Q29: =((P29/P$35)*100) -> 55.89504 | R29: =LN(Q29) -> 4.0234756
... A67: 1982 | B67: 297700.98 | C67: =((B67/B66)-1)*100 -> -0.0075833694 | D67: =((B67/B$35)*100) -> 706.07163 | E67: =LN(D67) -> 6.5597167 | F67: 12.531008 | G67: =EXP(F67) -> 276788.18 | H67: =((G67/G66)-1)*100 -> 3.5567274 | I67: =((G67/G$35)*100) -> 664.64273 | J67: =LN(I67) -> 6.4992497 | K67: 2245.8348 | L67: =LN(K67) -> 7.7168326 | M67: 993000 | N67: =((M67/M$35)*100) -> 16585.936 | O67: =LN(N67) -> 9.7163104 | P67: 17010.631 | Q67: =((P67/P$35)*100) -> 3057.2665 | R67: =LN(Q67) -> 8.0252765
A68: 1983 | B68: 284712.35 | C68: =((B68/B67)-1)*100 -> -4.3629806 | D68: =((B68/B$35)*100) -> 675.26586 | E68: =LN(D68) -> 6.5151065 | F68: 12.559657 | G68: =EXP(F68) -> 284832.67 | H68: =((G68/G67)-1)*100 -> 2.9063692 | I68: =((G68/G$35)*100) -> 683.9597 | J68: =LN(I68) -> 6.527899 | K68: 4533.7773 | L68: =LN(K68) -> 8.4193107 | P68: 11848.281 | Q68: =((P68/P$35)*100) -> 2129.4538 | R68: =LN(Q68) -> 7.6636208
A69: 1984 | B69: 294639.44 | C69: =((B69/B68)-1)*100 -> 3.4867114 | D69: =((B69/B$35)*100) -> 698.81044 | E69: =LN(D69) -> 6.5493795 | F69: 12.583172 | G69: =EXP(F69) -> 291609.73 | H69: =((G69/G68)-1)*100 -> 2.3793141 | I69: =((G69/G$35)*100) -> 700.23325 | J69: =LN(I69) -> 6.5514135 | K69: 7501.0807 | L69: =LN(K69) -> 8.9228024 | P69: 15916.198 | Q69: =((P69/P$35)*100) -> 2860.5676 | R69: =LN(Q69) -> 7.9587753
A70: 1985 | B70: 300174.47 | C70: =((B70/B69)-1)*100 -> 1.8785772 | D70: =((B70/B$35)*100) -> 711.93813 | E70: =LN(D70) -> 6.567991 | F70: 12.602712 | G70: =EXP(F70) -> 297363.99 | H70: =((G70/G69)-1)*100 -> 1.9732737 | I70: =((G70/G$35)*100) -> 714.05077 | J70: =LN(I70) -> 6.5709541 | K70: 11832.838 | L70: =LN(K70) -> 9.3786339 | P70: 18359.097 | Q70: =((P70/P$35)*100) -> 3299.622 | R70: =LN(Q70) -> 8.1015632
A71: 1986 | B71: 289043.02 | C71: =((B71/B70)-1)*100 -> -3.7083271 | D71: =((B71/B$35)*100) -> 685.53713 | E71: =LN(D71) -> 6.5302027 | F71: 12.619543 | G71: =EXP(F71) -> 302411.26 | H71: =((G71/G70)-1)*100 -> 1.6973378 | I71: =((G71/G$35)*100) -> 726.17063 | J71: =LN(I71) -> 6.587785 | K71: 22036.686 | L71: =LN(K71) -> 10.000464 | P71: 16783.892 | Q71: =((P71/P$35)*100) -> 3016.5155 | R71: =LN(Q71) -> 8.0118576
A72: 1987 | B72: 295027.21 | C72: =((B72/B71)-1)*100 -> 2.0703463 | D72: =((B72/B$35)*100) -> 699.73013 | E72: =LN(D72) -> 6.5506947 | F72: 12.635023 | G72: =EXP(F72) -> 307128.91 | H72: =((G72/G71)-1)*100 -> 1.5600101 | I72: =((G72/G$35)*100) -> 737.49896 | J72: =LN(I72) -> 6.6032647 | K72: 51087.076 | L72: =LN(K72) -> 10.841287 | P72: 18812.426 | Q72: =((P72/P$35)*100) -> 3381.0974 | R72: =LN(Q72) -> 8.1259556
A73: 1988 | B73: 298801.08 | C73: =((B73/B72)-1)*100 -> 1.2791601 | D73: =((B73/B$35)*100) -> 708.6808 | E73: =LN(D73) -> 6.5634052 | F73: 12.650057 | G73: =EXP(F73) -> 311781.37 | H73: =((G73/G72)-1)*100 -> 1.5148228 | I73: =((G73/G$35)*100) -> 748.67076 | J73: =LN(I73) -> 6.6182993 | K73: 109409.23 | L73: =LN(K73) -> 11.602851 | P73: 28081.969 | Q73: =((P73/P$35)*100) -> 5047.0829 | R73: =LN(Q73) -> 8.5265657
A74: 1989 | B74: 309722.13 | C74: =((B74/B73)-1)*100 -> 3.6549541 | D74: =((B74/B$35)*100) -> 734.58275 | E74: =LN(D74) -> 6.5993027 | F74: 12.665151 | G74: =EXP(F74) -> 316523.04 | H74: =((G74/G73)-1)*100 -> 1.5208336 | I74: =((G74/G$35)*100) -> 760.0568 | J74: =LN(I74) -> 6.6333932 | K74: 131299.7 | L74: =LN(K74) -> 11.785238 | P74: 34765.996 | Q74: =((P74/P$35)*100) -> 6248.3817 | R74: =LN(Q74) -> 8.7400778
A75: 1990 | B75: 325853.79 | C75: =((B75/B74)-1)*100 -> 5.2084322 | D75: =((B75/B$35)*100) -> 772.843 | E75: =LN(D75) -> 6.6500759 | F75: 12.680383 | G75: =EXP(F75) -> 321381.24 | H75: =((G75/G74)-1)*100 -> 1.5348654 | I75: =((G75/G$35)*100) -> 771.72265 | J75: =LN(I75) -> 6.6486252 | K75: 166293.26 | L75: =LN(K75) -> 12.021508 | P75: 41593.252 | Q75: =((P75/P$35)*100) -> 7475.4227 | R75: =LN(Q75) -> 8.9193759

Sheet Gráficas
A2: Año | B2: PIB real observado en mp de 1950 | C2: PIB real observado % | D2: PIB real en LN | E2: Hodrick-Prescott del PIB real en LN Lambda=100 | F2: PIB real en millones de pesos de 1950 | G2: PIB real potencial % | H2: Brecha PIB real % | I2: Años | J2: Ordenamiento de las brechas de menor a mayor
B5: PIB observado en mp | C5: PIB en % | D5: Observado | E5: Potencial | F5: PIB potencial en mp | H5: Brecha en %
A6: 1921 | B6: 17117.41 | D6: =LN(B6) -> 9.7478513 | E6: 9.7854223 | F6: =EXP(E6) -> 17772.761
A7: 1922 | B7: 17516.471 | C7: =((B7/B6)-1)*100 -> 2.3313198 | D7: =LN(B7) -> 9.7708969 | E7: 9.7917482 | F7: =EXP(E7) -> 17885.546 | G7: =((F7/F6)-1)*100 -> 0.63460009 | H7: =(((1+(C7/100))/(1+(G7/100)))-1)*100 -> 1.6860203 | I7: 1932 | J7: -15.625237
A8: 1923 | B8: 18118.274 | C8: =((B8/B7)-1)*100 -> 3.4356373 | D8: =LN(B8) -> 9.8046763 | E8: 9.7976984 | F8: =EXP(E8) -> 17992.287 | G8: =((F8/F7)-1)*100 -> 0.59679784 | H8: =(((1+(C8/100))/(1+(G8/100)))-1)*100 -> 2.8219978 | I8: 1983 | J8: -7.0640427
A9: 1924 | B9: 17825.313 | C9: =((B9/B8)-1)*100 -> -1.616934 | D9: =LN(B9) -> 9.7883748 | E9: 9.8026888 | F9: =EXP(E9) -> 18082.298 | G9: =((F9/F8)-1)*100 -> 0.50027816 | H9: =(((1+(C9/100))/(1+(G9/100)))-1)*100 -> -2.1066729 | I9: 1930 | J9: -6.151735
A10: 1925 | B10: 18930.589 | C10: =((B10/B9)-1)*100 -> 6.2005952 | D10: =LN(B10) -> 9.8485343 | E10: 9.8062047 | F10: =EXP(E10) -> 18145.987 | G10: =((F10/F9)-1)*100 -> 0.35221227 | H10: =(((1+(C10/100))/(1+(G10/100)))-1)*100 -> 5.8278565 | I10: 1953 | J10: -5.4789968
A11: 1926 | B11: 20066.275 | C11: =((B11/B10)-1)*100 -> 5.9992146 | D11: =LN(B11) -> 9.9067958 | E11: 9.8075887 | F11: =EXP(E11) -> 18171.118 | G11: =((F11/F10)-1)*100 -> 0.13849349 | H11: =(((1+(C11/100))/(1+(G11/100)))-1)*100 -> 5.8526156 | I11: 1986 | J11: -5.3154439
A12: 1927 | B12: 19183.677 | C12: =((B12/B11)-1)*100 -> -4.3984171 | D12: =LN(B12) -> 9.861815 | E12: 9.8066064 | F12: =EXP(E12) -> 18153.277 | G12: =((F12/F11)-1)*100 -> -0.098178521 | H12: =(((1+(C12/100))/(1+(G12/100)))-1)*100 -> -4.3044646 | I12: 1927 | J12: -4.3044646
A13: 1928 | B13: 19302.618 | C13: =((B13/B12)-1)*100 -> 0.62001303 | D13: =LN(B13) -> 9.867996 | E13: 9.8040157 | F13: =EXP(E13) -> 18106.308 | G13: =((F13/F12)-1)*100 -> -0.25873735 | H13: =(((1+(C13/100))/(1+(G13/100)))-1)*100 -> 0.88102994 | I13: 1929 | J13: -3.5905538
A14: 1929 | B14: 18555.856 | C14: =((B14/B13)-1)*100 -> -3.868709 | D14: =LN(B14) -> 9.8285407 | E14: 9.8011264 | F14: =EXP(E14) -> 18054.069 | G14: =((F14/F13)-1)*100 -> -0.28851441 | H14: =(((1+(C14/100))/(1+(G14/100)))-1)*100 -> -3.5905538 | I14: 1940 | J14: -3.4454845
A15: 1930 | B15: 17392.799 | C15: =((B15/B14)-1)*100 -> -6.2678685 | D15: =LN(B15) -> 9.7638116 | E15: 9.7998881 | F15: =EXP(E15) -> 18031.728 | G15: =((F15/F14)-1)*100 -> -0.12374606 | H15: =(((1+(C15/100))/(1+(G15/100)))-1)*100 -> -6.151735 | I15: 1982 | J15: -3.441892
A16: 1931 | B16: 17969.259 | C16: =((B16/B15)-1)*100 -> 3.314359 | D16: =LN(B16) -> 9.7964177 | E16: 9.8025248 | F16: =EXP(E16) -> 18079.334 | G16: =((F16/F15)-1)*100 -> 0.26401577 | H16: =(((1+(C16/100))/(1+(G16/100)))-1)*100 -> 3.042311 | I16: 1959 | J16: -3.0617772
A17: 1932 | B17: 15289.025 | C17: =((B17/B16)-1)*100 -> -14.915662 | D17: =LN(B17) -> 9.6348905 | E17: 9.8108994 | F17: =EXP(E17) -> 18231.378 | G17: =((F17/F16)-1)*100 -> 0.84098022 | H17: =(((1+(C17/100))/(1+(G17/100)))-1)*100 -> -15.625237 | I17: 1969 | J17: -2.9056004
A18: 1933 | B18: 17016.377 | C18: =((B18/B17)-1)*100 -> 11.297987 | D18: =LN(B18) -> 9.7419315 | E18: 9.826814 | F18: =EXP(E18) -> 18523.844 | G18: =((F18/F17)-1)*100 -> 1.6041888 | H18: =(((1+(C18/100))/(1+(G18/100)))-1)*100 -> 9.5407462 | I18: 1938 | J18: -2.7064451
... A75: 1990 | B75: 325853.79 | C75: =((B75/B74)-1)*100 -> 5.2084322 | D75: =LN(B75) -> 12.694204 | E75: 12.680383 | F75: =EXP(E75) -> 321381.24 | G75: =((F75/F74)-1)*100 -> 1.5348654 | H75: =(((1+(C75/100))/(1+(G75/100)))-1)*100 -> 3.6180348 | I75: 1933 | J75: 9.5407462

Sheet Cuadros
B3: Cuadro 4. PIB real por años del sexenio en tasas de crecimiento, 1935-1982
C4: 1 | D4: 2 | E4: 3 | F4: 4 | G4: 5 | H4: 6 | I4: Promedio
B5: Cárdenas | C5: 7.4 | D5: 7.980676 | E5: 3.3097609 | F5: 1.6204889 | G5: 5.3765904 | H5: 1.3799301 | I5: =AVERAGE(C5:H5) -> 4.5112411
B6: Ávila Camacho | C6: 9.7396377 | D6: 5.6102042 | E6: 3.7034752 | F6: 8.1631196 | G6: 3.1411194 | H6: 6.5718338 | I6: =AVERAGE(C6:H6) -> 6.1548983
B7: Alemán | C7: 3.4439975 | D7: 4.1205602 | E7: 5.4810301 | F7: 9.8948425 | G7: 7.7336731 | H7: 3.9768205 | I7: =AVERAGE(C7:H7) -> 5.775154
B8: Ruiz Cortines | C8: 0.2740118 | D8: 9.9958618 | E8: 8.4985211 | F8: 6.8368506 | G8: 7.5750115 | H8: 5.3182691 | I8: =AVERAGE(C8:H8) -> 6.416421
B9: López Mateos | C9: 2.9911047 | D9: 8.1166106 | E9: 4.3192767 | F9: 4.4587231 | G9: 7.5494401 | H9: 11.003827 | I9: =AVERAGE(C9:H9) -> 6.4064971
B10: Díaz Ordaz | C10: 6.1487855 | D10: 6.0961393 | E10: 5.8549249 | F10: 9.4232788 | G10: 3.41862 | H10: 6.502484 | I10: =AVERAGE(C10:H10) -> 6.2407054
B11: Echeverría | C11: 3.7624677 | D11: 8.2288073 | E11: 7.8611199 | F11: 5.7768272 | G11: 5.744485 | H11: 4.4174441 | I11: =AVERAGE(C11:H11) -> 5.9651919
B12: López Portillo | C12: 3.3906397 | D12: 8.9569423 | E12: 9.6981701 | F12: 9.233252 | G12: 9.4883124 | H12: 0 | I12: =AVERAGE(C12:H12) -> 6.7945528
B13: Promedio | C13: =AVERAGE(C5:C12) -> 4.6438306 | D13: =AVERAGE(D5:D12) -> 7.3882252 | E13: =AVERAGE(E5:E12) -> 6.0907849 | F13: =AVERAGE(F5:F12) -> 6.9259228 | G13: =AVERAGE(G5:G12) -> 6.2534065 | H13: =AVERAGE(H5:H12) -> 4.8963261 | I13: =AVERAGE(C13:H13) -> 6.0330827
B14: Fuente: INEGI (2015) y Banco de México, Informe Anual (Varios años) y (1979)
B16: Cuadro 5. Brechas del producto promedio del sexenio en tasas de crecimiento, 1936-1982 | K16: Cuadro 10. Variables ordenadas por año del sexenio
C17: 1 | D17: 2 | E17: 3 | F17: 4 | G17: 5 | H17: 6 | I17: Promedio | K17: Año del sexenio | L17: PIB observado | M17: Brechas | N17: Inflación | O17: Oferta Monetaria | P17: Importaciones | Q17: TC Real
B18: Cárdenas | C18: 4.2 | D18: 4.1824646 | E18: -0.75011969 | F18: -2.7064451 | G18: 0.59981948 | H18: -3.4454845 | I18: =AVERAGE(C18:H18) -> 0.34670579 | K18: 1 | L18: 4.2500921 | M18: -1.6804457 | N18: 7.1865953 | O18: 12.070311 | P18: 5.5404613 | Q18: -4.801539
B19: Ávila Camacho | C19: 4.3095647 | D19: 0.25047433 | E19: -1.6446551 | F19: 2.5239853 | G19: -2.2711846 | H19: 0.93871633 | I19: =AVERAGE(C19:H19) -> 0.68448348 | K19: 2 | L19: 7.3882252 | M19: 1.5540227 | N19: 7.8240875 | O19: 20.181208 | P19: 9.3624821 | Q19: -2.300099
B20: Alemán | C20: -2.0730781 | D20: -1.5063977 | E20: -0.31239728 | F20: 3.7655362 | G20: 1.6615909 | H20: -1.92949 | I20: =AVERAGE(C20:H20) -> -0.065706006 | K20: 3 | L20: 6.0907849 | M20: 0.27921031 | N20: 11.420705 | O20: 20.256361 | P20: 16.903093 | Q20: 3.6324448
B21: Ruiz Cortines | C21: -5.4789968 | D21: 3.5989128 | E21: 2.1283979 | F21: 0.54096426 | G21: 1.2388216 | H21: -0.87044843 | I21: =AVERAGE(C21:H21) -> 0.1929419 | K21: 4 | L21: 6.9259228 | M21: 1.0659806 | N21: 12.398627 | O21: 20.657958 | P21: 22.743567 | Q21: 4.592757
B22: López Mateos | C22: -3.0617772 | D22: 1.7269252 | E22: -1.9012185 | F22: -1.8506379 | G22: 0.95944747 | H22: 4.1286878 | I22: =AVERAGE(C22:H22) -> 0.00023781099 | K22: 5 | L22: 6.2534065 | M22: 0.47285657 | N22: 11.226523 | O22: 16.012556 | P22: 20.158404 | Q22: 2.5441694
B23: Díaz Ordaz | C23: -0.44971797 | D23: -0.49347592 | E23: -0.69646404 | F23: 2.6860279 | G23: -2.9056004 | H23: 0.018241044 | I23: =AVERAGE(C23:H23) -> -0.30683157 | K23: 6 | L23: 5.5958013 | M23: -0.40203296 | N23: 7.2341267 | O23: 12.493438 | P23: 14.227184 | Q23: 1.9328708
B24: Echeverría | C24: -2.5399845 | D24: 1.6599996 | E24: 1.3376754 | F24: -0.56827782 | G24: -0.51802869 | H24: -1.654453 | I24: =AVERAGE(C24:H24) -> -0.38051152 | K24: Fuente: Cálculos propios con los datos de los cuadros 4-9.
B25: López Portillo | C25: -2.46913 | D25: 3.013279 | E25: 4.0724639 | F25: 4.1366923 | G25: 5.0179868 | H25: -3.4 | I25: =AVERAGE(C25:H25) -> 1.7285487
B26: Promedio | C26: =AVERAGE(C18:C25) -> -0.94539 | D26: =AVERAGE(D18:D25) -> 1.5540227 | E26: =AVERAGE(E18:E25) -> 0.27921031 | F26: =AVERAGE(F18:F25) -> 1.0659806 | G26: =AVERAGE(G18:G25) -> 0.47285657 | H26: =AVERAGE(H18:H25) -> -0.77677884 | I26: =AVERAGE(C26:H26) -> 0.27498357
B27: Fuente: INEGI (2015) y Banco de México, Informe Anual (Varios años) y (1979)
B29: Cuadro 6. Inflación por años del sexenio, 1935-1982 | K29: Cuadro 11. Coeficientes correlación, 1935-1982
C30: 1 | D30: 2 | E30: 3 | F30: 4 | G30: 5 | H30: 6 | I30: Promedio | L30: PIB observado | M30: Brechas | N30: Inflación | O30: Oferta Monetaria | P30: Importaciones | Q30: TC Real
B31: Cárdenas | C31: -0.3 | D31: 6.2908064 | E31: 18.419524 | F31: 6.2736576 | G31: 0.54745729 | H31: 1.5378641 | I31: =AVERAGE(C31:H31) -> 5.4615515 | K31: PIB observado | L31: 1 | M31: =CORREL(L18:L23,M18:M23) -> 0.99825097 | N31: =CORREL(N18:N23,L18:L23) -> 0.45153167 | O31: =CORREL(O18:O23,L18:L23) -> 0.83531087 | P31: =CORREL(P18:P23,L18:L23) -> 0.49699373 | Q31: =CORREL(Q18:Q23,L18:L23) -> 0.45446717
B32: Ávila Camacho | C32: 6.583225 | D32: 10.362971 | E32: 20.804256 | F32: 22.512011 | G32: 11.30719 | H32: 15.099404 | I32: =AVERAGE(C32:H32) -> 14.444843 | K32: Brechas | L32: =CORREL(L18:L23,M18:M23) -> 0.99825097 | M32: 1 | N32: =CORREL(N18:N23,M18:M23) -> 0.48200693 | O32: =CORREL(O18:O23,M18:M23) -> 0.85076635 | P32: =CORREL(P18:P23,M18:M23) -> 0.50691954 | Q32: =CORREL(Q18:Q23,M18:M23) -> 0.45704448
B33: Alemán | C33: 5.9361563 | D33: 7.3234495 | E33: 9.5544872 | F33: 9.6945662 | G33: 24.399461 | H33: 3.6157582 | I33: =AVERAGE(C33:H33) -> 10.087313 | K33: Inflación | L33: =CORREL(N18:N23,L18:L23) -> 0.45153167 | M33: =CORREL(N18:N23,M18:M23) -> 0.48200693 | N33: 1 | O33: =CORREL(O18:O23,N18:N23) -> 0.66177229 | P33: =CORREL(P18:P23,N18:N23) -> 0.87919211 | Q33: =CORREL(Q18:Q23,O18:O23) -> 0.46412664
B34: Ruiz Cortines | C34: 0.2740118 | D34: 9.9958618 | E34: 8.4985211 | F34: 6.8368506 | G34: 7.5750115 | H34: 5.3182691 | I34: =AVERAGE(C34:H34) -> 6.416421 | K34: Oferta Monetaria | L34: =CORREL(O18:O23,L18:L23) -> 0.83531087 | M34: =CORREL(O18:O23,M18:M23) -> 0.85076635 | N34: =CORREL(O18:O23,N18:N23) -> 0.66177229 | O34: 1 | P34: =CORREL(P18:P23,O18:O23) -> 0.47375884 | Q34: =CORREL(Q18:Q23,O18:O23) -> 0.46412664
B35: López Mateos | C35: 1.1514216 | D35: 4.90938 | E35: 0.9638116 | F35: 1.8011527 | G35: 0.5779665 | H35: 4.2394746 | I35: =AVERAGE(C35:H35) -> 2.2738678 | K35: Importaciones | L35: =CORREL(P18:P23,L18:L23) -> 0.49699373 | M35: =CORREL(P18:P23,M18:M23) -> 0.50691954 | N35: =CORREL(P18:P23,N18:N23) -> 0.87919211 | O35: =CORREL(P18:P23,O18:O23) -> 0.47375884 | P35: 1 | Q35: =CORREL(Q18:Q23,P18:P23) -> 0.94820266
B36: Díaz Ordaz | C36: 1.828205 | D36: 1.3092476 | E36: 2.8518458 | F36: 1.9351076 | G36: 2.5268086 | H36: 5.0033969 | I36: =AVERAGE(C36:H36) -> 2.5757686 | K36: TC Real | L36: =CORREL(Q18:Q23,L18:L23) -> 0.45446717 | M36: =CORREL(Q18:Q23,M18:M23) -> 0.45704448 | N36: =CORREL(Q18:Q23,N18:N23) -> 0.79923642 | O36: =CORREL(Q18:Q23,O18:O23) -> 0.46412664 | P36: =CORREL(Q18:Q23,P18:P23) -> 0.94820266 | Q36: 1
B37: Echeverría | C37: 5.469021 | D37: 4.9436884 | E37: 12.081945 | F37: 23.784025 | G37: 14.944526 | H37: 15.82472 | I37: =AVERAGE(C37:H37) -> 12.841321 | K37: Fuente: Cálculos propios con los datos del cuadro 10
B38: López Portillo | C38: 29.064126 | D38: 17.457295 | E38: 18.19125 | F38: 26.351647 | G38: 27.933761 | H38: 58.9 | I38: =AVERAGE(C38:H38) -> 29.64968
B39: Promedio | C39: =AVERAGE(C31:C38) -> 6.2507709 | D39: =AVERAGE(D31:D38) -> 7.8240875 | E39: =AVERAGE(E31:E38) -> 11.420705 | F39: =AVERAGE(F31:F38) -> 12.398627 | G39: =AVERAGE(G31:G38) -> 11.226523 | H39: =AVERAGE(H31:H38) -> 13.692361 | I39: =AVERAGE(C39:H39) -> 10.468846
B40: Fuente: INEGI (2015) y Banco de México, Informe Anual (Varios años) y (1979)
B42: Cuadro 7. Oferta monetaria en tasas de crecimiento por años del sexenio, 1935-1982
C43: 1 | D43: 2 | E43: 3 | F43: 4 | G43: 5 | H43: 6 | I43: Promedio
B44: Cárdenas | C44: 10 | D44: 21.553398 | E44: 5.9105431 | F44: 11.161388 | G44: 19.810041 | H44: 20.271801 | I44: =AVERAGE(C44:H44) -> 14.784528
B45: Ávila Camacho | C45: 19.397363 | D45: 38.012618 | E45: 52.685714 | F45: 23.83982 | G45: 6.9507404 | H45: -2.2040124 | I45: =AVERAGE(C45:H45) -> 23.113707
...

Sheet Cuadros Brechas
A3: Cuadro 1. Brechas positivas y otras variables en promedio ponderado, 1933-1981
O4: Promedio ponderado
B5: 1933-1936 | C5: 1939 | D5: 1941-1942 | E5: 1944 | F5: 1946 | G5: 1950-1951 | H5: 1954-1957 | I5: 1960 | J5: 1963-1964 | K5: 1968 | L5: 1970 | M5: 1972-1973 | N5: 1978-1981
A6: Brechas | B6: 4.8 | C6: 0.4 | D6: 2.2 | E6: 2.5 | F6: 0.9 | G6: 2.7 | H6: 1.9 | I6: 1.7 | J6: 2.5 | K6: 2.7 | L6: 0 | M6: 1.5 | N6: 4.6 | O6: =(B6*B$12)+(C6*C$12)+(D6*D$12)+(E6*E$12)+(F6*F$12)+(G6*G$12)+(H6*H$12)+(I6*I$12)+(J6*J$12)+(K6*K$12)+(L6*L$12)+(M6*M$12)+(N6*N$12) -> 2.7384615
A7: Inflación | B7: 6.3 | C7: 0.5 | D7: 8.5 | E7: 22.5 | F7: 15.1 | G7: 17 | H7: 8 | I7: 4.9 | J7: 2.4 | K7: 1.9 | L7: 5 | M7: 8.5 | N7: 22.5 | O7: =(B7*B$12)+(C7*C$12)+(D7*D$12)+(E7*E$12)+(F7*F$12)+(G7*G$12)+(H7*H$12)+(I7*I$12)+(J7*J$12)+(K7*K$12)+(L7*L$12)+(M7*M$12)+(N7*N$12) -> 10.380769
A8: Oferta monetaria | B8: 15.2 | C8: 19.8 | D8: 28.7 | E8: 23.8 | F8: -2.2 | G8: 25.6 | H8: 13.1 | I8: 9.2 | J8: 16.8 | K8: 13.6 | L8: 10.5 | M8: 22.6 | N8: 32.9 | O8: =(B8*B$12)+(C8*C$12)+(D8*D$12)+(E8*E$12)+(F8*F$12)+(G8*G$12)+(H8*H$12)+(I8*I$12)+(J8*J$12)+(K8*K$12)+(L8*L$12)+(M8*M$12)+(N8*N$12) -> 19.496154
A9: Balance fiscal | B9: -0.1 | C9: -0.5 | D9: -1.3 | E9: -0.2 | F9: 0 | G9: 0.8 | H9: 0 | I9: -1.6 | J9: -1.1 | K9: -1 | L9: -1.5 | M9: -3.5 | N9: -4 | O9: =(B9*B$12)+(C9*C$12)+(D9*D$12)+(E9*E$12)+(F9*F$12)+(G9*G$12)+(H9*H$12)+(I9*I$12)+(J9*J$12)+(K9*K$12)+(L9*L$12)+(M9*M$12)+(N9*N$12) -> -1.2076923
A10: TC Real | B10: -4.2 | C10: -14.3 | D10: -3.2 | E10: 21.7 | F10: 0.7 | G10: 4.8 | H10: 2.7 | I10: 0.8 | J10: 2.4 | K10: -0.5 | L10: -0.8 | M10: 3.6 | N10: 8.4 | O10: =(B10*B$12)+(C10*C$12)+(D10*D$12)+(E10*E$12)+(F10*F$12)+(G10*G$12)+(H10*H$12)+(I10*I$12)+(J10*J$12)+(K10*K$12)+(L10*L$12)+(M10*M$12)+(N10*N$12) -> 1.9384615
A11: Importaciones | B11: 22.6 | C11: 17.3 | D11: 18.5 | E11: 46.6 | F11: 61.2 | G11: 38.2 | H11: 8.9 | I11: 7.2 | J11: 13.9 | K11: 10.3 | L11: 17.6 | M11: 31.9 | N11: 48.5 | O11: =(B11*B$12)+(C11*C$12)+(D11*D$12)+(E11*E$12)+(F11*F$12)+(G11*G$12)+(H11*H$12)+(I11*I$12)+(J11*J$12)+(K11*K$12)+(L11*L$12)+(M11*M$12)+(N11*N$12) -> 26.353846
A12: Ponderadores | B12: =4/26 -> 0.15384615 | C12: =1/26 -> 0.038461538 | D12: =2/26 -> 0.076923077 | E12: =1/26 -> 0.038461538 | F12: =1/26 -> 0.038461538 | G12: =2/26 -> 0.076923077 | H12: =4/26 -> 0.15384615 | I12: =1/26 -> 0.038461538 | J12: =2/26 -> 0.076923077 | K12: =1/26 -> 0.038461538 | L12: =1/26 -> 0.038461538 | M12: =2/26 -> 0.076923077 | N12: =4/26 -> 0.15384615 | O12: =SUM(B12:N12) -> 1
A13: Fuente: INEGI (2015) y Banco de México, Informe Anual (Varios años) y (1979)
A15: Cuadro 2. Brechas negativas y otras variables en promedio ponderado, 1937-1982
O16: Promedio ponderado
B17: 1937-1938 | C17: 1940 | D17: 1943 | E17: 1945 | F17: 1947-1949 | G17: 1952-1953 | H17: 1958-1959 | I17: 1961-1962 | J17: 1965-1967 | K17: 1969 | L17: 1971 | M17: 1974-1977 | N17: 1982
A18: Brechas | B18: -2 | C18: -3.6 | D18: -1.7 | E18: -2.3 | F18: -1.4 | G18: -3.8 | H18: -2 | I18: -2 | J18: -0.5 | K18: -2.9 | L18: -2.5 | M18: -1.2 | N18: -2.8 | O18: =(B18*B$24)+(C18*C$24)+(D18*D$24)+(E18*E$24)+(F18*F$24)+(G18*G$24)+(H18*H$24)+(I18*I$24)+(J18*J$24)+(K18*K$24)+(L18*L$24)+(M18*M$24)+(N18*N$24) -> -1.9125
A19: Inflación | B19: 12.3 | C19: 1.5 | D19: 20.8 | E19: 11.3 | F19: 7.6 | G19: 0.9 | H19: 2.8 | I19: 1.4 | J19: 2 | K19: 2.5 | L19: 5.5 | M19: 20.9 | N19: 58.913427 | O19: =(B19*B$24)+(C19*C$24)+(D19*D$24)+(E19*E$24)+(F19*F$24)+(G19*G$24)+(H19*H$24)+(I19*I$24)+(J19*J$24)+(K19*K$24)+(L19*L$24)+(M19*M$24)+(N19*N$24) -> 10.321393
A20: Oferta monetaria | B20: 8.5 | C20: 20.3 | D20: 52.7 | E20: 7 | F20: 8.1 | G20: 6.1 | H20: 11.6 | I20: 9.4 | J20: 8.6 | K20: 10.3 | L20: 8.3 | M20: 25.2 | N20: 62.254902 | O20: =(B20*B$24)+(C20*C$24)+(D20*D$24)+(E20*E$24)+(F20*F$24)+(G20*G$24)+(H20*H$24)+(I20*I$24)+(J20*J$24)+(K20*K$24)+(L20*L$24)+(M20*M$24)+(N20*N$24) -> 15.956454
A21: Balance fiscal | B21: -0.6 | C21: -0.9 | D21: 0.2 | E21: -0.7 | F21: -0.2 | G21: -0.4 | H21: -0.7 | I21: -1.4 | J21: -1.4 | K21: -1.2 | L21: -1.3 | M21: -4.3 | N21: -12.157464 | O21: =(B21*B$24)+(C21*C$24)+(D21*D$24)+(E21*E$24)+(F21*F$24)+(G21*G$24)+(H21*H$24)+(I21*I$24)+(J21*J$24)+(K21*K$24)+(L21*L$24)+(M21*M$24)+(N21*N$24) -> -1.844061
A22: TC Real | B22: 1.9 | C22: 10.9 | D22: 15.5 | E22: 9.4 | F22: -15.7 | G22: 3.2 | H22: 2 | I22: 1.4 | J22: 0.2 | K22: -2.8 | L22: 1.1 | M22: -2.9 | N22: -32.51299 | O22: =(B22*B$24)+(C22*C$24)+(D22*D$24)+(E22*E$24)+(F22*F$24)+(G22*G$24)+(H22*H$24)+(I22*I$24)+(J22*J$24)+(K22*K$24)+(L22*L$24)+(M22*M$24)+(N22*N$24) -> -1.6463746
A23: Importaciones | B23: -1.8 | C23: 3.3 | D23: 23.2 | E23: 19.8 | F23: -3.7 | G23: -5.3 | H23: -5.4 | I23: -2.1 | J23: 5.3 | K23: 3.4 | L23: -3.4 | M23: 12.7 | N23: -37.424633 | O23: =(B23*B$24)+(C23*C$24)+(D23*D$24)+(E23*E$24)+(F23*F$24)+(G23*G$24)+(H23*H$24)+(I23*I$24)+(J23*J$24)+(K23*K$24)+(L23*L$24)+(M23*M$24)+(N23*N$24) -> 1.4698069
A24: Ponderadores | B24: =2/24 -> 0.083333333 | C24: =1/24 -> 0.041666667 | D24: =1/24 -> 0.041666667 | E24: =1/24 -> 0.041666667 | F24: =3/24 -> 0.125 | G24: =2/24 -> 0.083333333 | H24: =2/24 -> 0.083333333 | I24: =2/24 -> 0.083333333 | J24: =3/24 -> 0.125 | K24: =1/24 -> 0.041666667 | L24: =1/24 -> 0.041666667 | M24: =4/24 -> 0.16666667 | N24: =1/24 -> 0.041666667 | O24: =SUM(B24:N24) -> 1
A25: Fuente: INEGI (2015) y Banco de México, Informe Anual (Varios años) y (1979)
A27: Cuadro 3. Brechas negativas y otras variables en promedio ponderado, 1936-1981
L28: Promedio ponderado
B29: 1937-1938 | C29: 1940 | D29: 1945 | E29: 1947-1949 | F29: 1952-1953 | G29: 1958-1959 | H29: 1961-1962 | I29: 1965-1967 | J29: 1969 | K29: 1971
A30: Brechas | B30: -2.1 | C30: -3.4 | D30: -2.1 | E30: -1.1 | F30: -3.6 | G30: -1.9 | H30: -2 | I30: -0.7 | J30: -2.8 | K30: -2.3 | L30: =(B30*B$36)+(C30*C$36)+(D30*D$36)+(E30*E$36)+(F30*F$36)+(G30*G$36)+(H30*H$36)+(I30*I$36)+(J30*J$36)+(K30*K$36) -> -1.5304348
A31: Inflación | B31: 12.3 | C31: 1.5 | D31: 11.3 | E31: 7.6 | F31: 0.9 | G31: 2.8 | H31: 1.4 | I31: 2 | J31: 2.5 | K31: 5.5 | L31: =(B31*B$36)+(C31*C$36)+(D31*D$36)+(E31*E$36)+(F31*F$36)+(G31*G$36)+(H31*H$36)+(I31*I$36)+(J31*J$36)+(K31*K$36) -> 3.6695652
A32: Oferta monetaria | B32: 8.5 | C32: 20.3 | D32: 7 | E32: 8.1 | F32: 6.1 | G32: 11.6 | H32: 9.4 | I32: 8.6 | J32: 10.3 | K32: 8.3 | L32: =(B32*B$36)+(C32*C$36)+(D32*D$36)+(E32*E$36)+(F32*F$36)+(G32*G$36)+(H32*H$36)+(I32*I$36)+(J32*J$36)+(K32*K$36) -> 7.2695652
A33: Balance fiscal | B33: -0.6 | C33: -0.9 | D33: -0.7 | E33: -0.2 | F33: -0.4 | G33: -0.7 | H33: -1.4 | I33: -1.4 | J33: -1.2 | K33: -1.3 | L33: =(B33*B$36)+(C33*C$36)+(D33*D$36)+(E33*E$36)+(F33*F$36)+(G33*G$36)+(H33*H$36)+(I33*I$36)+(J33*J$36)+(K33*K$36) -> -0.65652174
A34: TC Real | B34: 1.9 | C34: 10.9 | D34: 9.4 | E34: -15.7 | F34: 3.2 | G34: 2 | H34: 1.4 | I34: 0.2 | J34: -2.8 | K34: 1.1 | L34: =(B34*B$36)+(C34*C$36)+(D34*D$36)+(E34*E$36)+(F34*F$36)+(G34*G$36)+(H34*H$36)+(I34*I$36)+(J34*J$36)+(K34*K$36) -> -0.47391304
A35: Importaciones | B35: -1.8 | C35: 3.3 | D35: 19.8 | E35: -3.7 | F35: -5.3 | G35: -5.4 | H35: -2.1 | I35: 5.3 | J35: 3.4 | K35: -3.4 | L35: =(B35*B$36)+(C35*C$36)+(D35*D$36)+(E35*E$36)+(F35*F$36)+(G35*G$36)+(H35*H$36)+(I35*I$36)+(J35*J$36)+(K35*K$36) -> -0.056521739
A36: Ponderadores | B36: =2/23 -> 0.086956522 | C36: =1/23 -> 0.043478261 | D36: =1/23 -> 0.043478261 | E36: =3/23 -> 0.13043478 | F36: =2/23 -> 0.086956522 | G36: =2/23 -> 0.086956522 | H36: =2/23 -> 0.086956522 | I36: =3/23 -> 0.13043478 | J36: =1/23 -> 0.043478261 | K36: =1/23 -> 0.043478261 | L36: =SUM(B36:M36) -> 0.7826087
A37: Fuente: INEGI (2015) y Banco de México, Informe Anual (Varios años) y (1979)

Sheet Correlaciones
A1: Fuente: Véase Base de datos en este archivo de Excel
A2: Año | B2: PIB observado en LN | C2: PIB potencial en LN | D2: IPC promedio en LN | E2: Oferta monetaria en LN | F2: Importaciones en LN
A6: ='Base de Datos'!A6 -> 1921 | B6: ='Base de Datos'!E6 -> 3.7037232 | C6: ='Base de Datos'!J6 -> 3.7536641 | D6: ='Base de Datos'!L6 -> 3.4622656 | E6: - | F6: ='Base de Datos'!R6 -> 3.77138
A7: ='Base de Datos'!A7 -> 1922 | B7: ='Base de Datos'!E7 -> 3.7267688 | C7: ='Base de Datos'!J7 -> 3.7599901 | D7: ='Base de Datos'!L7 -> 3.2868851 | E7: - | F7: ='Base de Datos'!R7 -> 3.2989738 | H7: Cuadro 12 Coeficientes correlación, 1935-1982
A8: ='Base de Datos'!A8 -> 1923 | B8: ='Base de Datos'!E8 -> 3.7605481 | C8: ='Base de Datos'!J8 -> 3.7659403 | D8: ='Base de Datos'!L8 -> 3.3556145 | E8: - | F8: ='Base de Datos'!R8 -> 3.3134668 | I8: PIB observado | J8: PIB potencial | K8: Inflación | L8: Oferta Monetaria | M8: Importaciones
A9: ='Base de Datos'!A9 -> 1924 | B9: ='Base de Datos'!E9 -> 3.7442467 | C9: ='Base de Datos'!J9 -> 3.7709306 | D9: ='Base de Datos'!L9 -> 3.3132153 | E9: - | F9: ='Base de Datos'!R9 -> 3.3277528 | H9: PIB observado | I9: 1
A10: ='Base de Datos'!A10 -> 1925 | B10: ='Base de Datos'!E10 -> 3.8044062 | C10: ='Base de Datos'!J10 -> 3.7744465 | D10: ='Base de Datos'!L10 -> 3.3611342 | E10: - | F10: ='Base de Datos'!R10 -> 3.5442982 | H10: PIB potencial | I10: =CORREL(B19:B66,C19:C66) -> 0.99940456 | J10: 1
A11: ='Base de Datos'!A11 -> 1926 | B11: ='Base de Datos'!E11 -> 3.8626677 | C11: ='Base de Datos'!J11 -> 3.7758305 | D11: ='Base de Datos'!L11 -> 3.3426152 | E11: - | F11: ='Base de Datos'!R11 -> 3.4991618 | H11: Inflación | I11: =CORREL(B19:B66,D19:D66) -> 0.96390779 | J11: =CORREL(C19:C66,D19:D66) -> 0.96052123 | K11: 1
A12: ='Base de Datos'!A12 -> 1927 | B12: ='Base de Datos'!E12 -> 3.8176869 | C12: ='Base de Datos'!J12 -> 3.7748482 | D12: ='Base de Datos'!L12 -> 3.3189734 | E12: - | F12: ='Base de Datos'!R12 -> 3.3786592 | H12: Oferta Monetaria | I12: =CORREL(B19:B66,E19:E66) -> 0.98817573 | J12: =CORREL(C19:C66,E19:E66) -> 0.98603481 | K12: =CORREL(D19:D66,E19:E66) -> 0.98873686 | L12: 1
A13: ='Base de Datos'!A13 -> 1928 | B13: ='Base de Datos'!E13 -> 3.8238679 | C13: ='Base de Datos'!J13 -> 3.7722575 | D13: ='Base de Datos'!L13 -> 3.2779521 | E13: - | F13: ='Base de Datos'!R13 -> 3.4317584 | H13: Importaciones | I13: =CORREL(B19:B66,F19:F66) -> 0.96893844 | J13: =CORREL(C19:C66,F19:F66) -> 0.96522017 | K13: =CORREL(D19:D66,F19:F66) -> 0.98473227 | L13: =CORREL(E19:E66,F19:F66) -> 0.98473785 | M13: 1
A14: ='Base de Datos'!A14 -> 1929 | B14: ='Base de Datos'!E14 -> 3.7844125 | C14: ='Base de Datos'!J14 -> 3.7693682 | D14: ='Base de Datos'!L14 -> 3.2749565 | E14: - | F14: ='Base de Datos'!R14 -> 3.4637795
A15: ='Base de Datos'!A15 -> 1930 | B15: ='Base de Datos'!E15 -> 3.7196834 | C15: ='Base de Datos'!J15 -> 3.76813 | D15: ='Base de Datos'!L15 -> 3.2769545 | E15: - | F15: ='Base de Datos'!R15 -> 3.3264625
A16: ='Base de Datos'!A16 -> 1931 | B16: ='Base de Datos'!E16 -> 3.7522896 | C16: ='Base de Datos'!J16 -> 3.7707667 | D16: ='Base de Datos'!L16 -> 3.1388412 | E16: - | F16: ='Base de Datos'!R16 -> 2.6891817
A17: ='Base de Datos'!A18 -> 1933 | B17: ='Base de Datos'!E18 -> 3.6978034 | C17: ='Base de Datos'!J18 -> 3.7950559 | D17: ='Base de Datos'!L18 -> 3.1286761 | E17: ='Base de Datos'!O18 -> 1.9264177 | F17: ='Base de Datos'!R18 -> 2.527883
A18: ='Base de Datos'!A19 -> 1934 | B18: ='Base de Datos'!E19 -> 3.7630999 | C18: ='Base de Datos'!J19 -> 3.8185523 | D18: ='Base de Datos'!L19 -> 3.1823378 | E18: ='Base de Datos'!O19 -> 2.0562928 | F18: ='Base de Datos'!R19 -> 2.8141294
A19: ='Base de Datos'!A20 -> 1935 | B19: ='Base de Datos'!E20 -> 3.834784 | C19: ='Base de Datos'!J20 -> 3.8488236 | D19: ='Base de Datos'!L20 -> 3.1792545 | E19: ='Base de Datos'!O20 -> 2.1519914 | F19: ='Base de Datos'!R20 -> 3.0092991
A20: ='Base de Datos'!A21 -> 1936 | B20: ='Base de Datos'!E21 -> 3.9115661 | C20: ='Base de Datos'!J21 -> 3.884632 | D20: ='Base de Datos'!L21 -> 3.2402631 | E20: ='Base de Datos'!O21 -> 2.3471748 | F20: ='Base de Datos'!R21 -> 3.1427196
A21: ='Base de Datos'!A22 -> 1937 | B21: ='Base de Datos'!E22 -> 3.9441278 | C21: ='Base de Datos'!J22 -> 3.9247232 | D21: ='Base de Datos'!L22 -> 3.4093265 | E21: ='Base de Datos'!O22 -> 2.4045994 | F21: ='Base de Datos'!R22 -> 3.4230044
A22: ='Base de Datos'!A23 -> 1938 | B22: ='Base de Datos'!E23 -> 3.9602028 | C22: ='Base de Datos'!J23 -> 3.9682356 | D22: ='Base de Datos'!L23 -> 3.4701738 | E22: ='Base de Datos'!O23 -> 2.5104123 | F22: ='Base de Datos'!R23 -> 2.9777791
A23: ='Base de Datos'!A24 -> 1939 | B23: ='Base de Datos'!E24 -> 4.0125731 | C23: ='Base de Datos'!J24 -> 4.0146257 | D23: ='Base de Datos'!L24 -> 3.4756334 | E23: ='Base de Datos'!O24 -> 2.6911497 | F23: ='Base de Datos'!R24 -> 3.1372743
A24: ='Base de Datos'!A25 -> 1940 | B24: ='Base de Datos'!E25 -> 4.026278 | C24: ='Base de Datos'!J25 -> 4.063393 | D24: ='Base de Datos'!L25 -> 3.490895 | E24: ='Base de Datos'!O25 -> 2.8757337 | F24: ='Base de Datos'!R25 -> 3.1695104
A25: ='Base de Datos'!A26 -> 1941 | B25: ='Base de Datos'!E26 -> 4.1192185 | C25: ='Base de Datos'!J26 -> 4.1141406 | D25: ='Base de Datos'!L26 -> 3.554651 | E25: ='Base de Datos'!O26 -> 3.0530206 | F25: ='Base de Datos'!R26 -> 3.579497
A26: ='Base de Datos'!A27 -> 1942 | B26: ='Base de Datos'!E27 -> 4.1738033 | C26: ='Base de Datos'!J27 -> 4.1662238 | D26: ='Base de Datos'!L27 -> 3.6532554 | E26: ='Base de Datos'!O27 -> 3.3751955 | F26: ='Base de Datos'!R27 -> 3.4323393
A27: ='Base de Datos'!A28 -> 1943 | B27: ='Base de Datos'!E28 -> 4.2101687 | C27: ='Base de Datos'!J28 -> 4.2191725 | D27: ='Base de Datos'!L28 -> 3.8422568 | E27: ='Base de Datos'!O28 -> 3.798407 | F27: ='Base de Datos'!R28 -> 3.641212
A28: ='Base de Datos'!A29 -> 1944 | B28: ='Base de Datos'!E29 -> 4.288639 | C28: ='Base de Datos'!J29 -> 4.2727162 | D28: ='Base de Datos'!L29 -> 4.0452957 | E28: ='Base de Datos'!O29 -> 4.0122258 | F28: ='Base de Datos'!R29 -> 4.0234756
... A66: ='Base de Datos'!A67 -> 1982 | B66: ='Base de Datos'!E67 -> 6.5597167 | C66: ='Base de Datos'!J67 -> 6.4992497 | D66: ='Base de Datos'!L67 -> 7.7168326 | E66: ='Base de Datos'!O67 -> 9.7163104 | F66: ='Base de Datos'!R67 -> 8.0252765
A67: ='Base de Datos'!A68 -> 1983 | B67: ='Base de Datos'!E68 -> 6.5151065 | C67: ='Base de Datos'!J68 -> 6.527899 | D67: ='Base de Datos'!L68 -> 8.4193107 | E67: - | F67: ='Base de Datos'!R68 -> 7.6636208
A68: ='Base de Datos'!A69 -> 1984 | B68: ='Base de Datos'!E69 -> 6.5493795 | C68: ='Base de Datos'!J69 -> 6.5514135 | D68: ='Base de Datos'!L69 -> 8.9228024 | E68: - | F68: ='Base de Datos'!R69 -> 7.9587753
A69: ='Base de Datos'!A70 -> 1985 | B69: ='Base de Datos'!E70 -> 6.567991 | C69: ='Base de Datos'!J70 -> 6.5709541 | D69: ='Base de Datos'!L70 -> 9.3786339 | E69: - | F69: ='Base de Datos'!R70 -> 8.1015632
A70: ='Base de Datos'!A71 -> 1986 | B70: ='Base de Datos'!E71 -> 6.5302027 | C70: ='Base de Datos'!J71 -> 6.587785 | D70: ='Base de Datos'!L71 -> 10.000464 | E70: - | F70: ='Base de Datos'!R71 -> 8.0118576
A71: ='Base de Datos'!A72 -> 1987 | B71: ='Base de Datos'!E72 -> 6.5506947 | C71: ='Base de Datos'!J72 -> 6.6032647 | D71: ='Base de Datos'!L72 -> 10.841287 | E71: - | F71: ='Base de Datos'!R72 -> 8.1259556
A72: ='Base de Datos'!A73 -> 1988 | B72: ='Base de Datos'!E73 -> 6.5634052 | C72: ='Base de Datos'!J73 -> 6.6182993 | D72: ='Base de Datos'!L73 -> 11.602851 | E72: - | F72: ='Base de Datos'!R73 -> 8.5265657
A73: ='Base de Datos'!A74 -> 1989 | B73: ='Base de Datos'!E74 -> 6.5993027 | C73: ='Base de Datos'!J74 -> 6.6333932 | D73: ='Base de Datos'!L74 -> 11.785238 | E73: - | F73: ='Base de Datos'!R74 -> 8.7400778
A74: ='Base de Datos'!A75 -> 1990 | B74: ='Base de Datos'!E75 -> 6.6500759 | C74: ='Base de Datos'!J75 -> 6.6486252 | D74: ='Base de Datos'!L75 -> 12.021508 | E74: - | F74: ='Base de Datos'!R75 -> 8.9193759
