Workbook
Name \A: #REF!
Name \A: #REF!
Name \A: #REF!
Name \A: #REF!
Name \A: #REF!
Name \A: #REF!
Name \A: #REF!
Name \A: #REF!
Name \A: #REF!
Name \A: #REF!
Name \g: #REF!
Name \g: #REF!
Name \g: #REF!
Name \g: #REF!
Name \g: #REF!
Name \g: #REF!
Name \g: #REF!
Name \g: #REF!
Name \g: #REF!
Name \g: #REF!
Name \S: #REF!
Name \S: #REF!
Name \S: #REF!
Name \S: #REF!
Name \S: #REF!
Name \S: #REF!
Name \S: #REF!
Name \S: #REF!
Name \S: #REF!
Name \S: #REF!
Name ACTIVATE: #REF!
Name ACTIVATE: #REF!
Name ACTIVATE: #REF!
Name ACTIVATE: #REF!
Name ACTIVATE: #REF!
Name ACTIVATE: #REF!
Name ACTIVATE: #REF!
Name ACTIVATE: #REF!
Name ACTIVATE: #REF!
Name ACTIVATE: #REF!
Name ASSUMPT: #REF!
Name ASSUMPT: #REF!
Name ASSUMPT: #REF!
Name ASSUMPT: #REF!
Name ASSUMPT: #REF!
Name ASSUMPT: #REF!
Name ASSUMPT: #REF!
Name ASSUMPT: #REF!
Name ASSUMPT: #REF!
Name ASSUMPT: #REF!
Name ASSUMPTIONS: #REF!
Name ASSUMPTIONS: #REF!
Name ASSUMPTIONS: #REF!
Name ASSUMPTIONS: #REF!
Name ASSUMPTIONS: #REF!
Name ASSUMPTIONS: #REF!
Name ASSUMPTIONS: #REF!
Name ASSUMPTIONS: #REF!
Name ASSUMPTIONS: #REF!
Name ASSUMPTIONS: #REF!

Sheet Datos
A1: Versión 06 | B1: A.1 Estados Unidos: PIB nominal y real, deflactor, PIB per cápita | J1: Estados Unidos Indice de precios mayoreo | N1: Estados Unidos Indice de precios consumidor | R1: A.3 Estados Unidos: Tasas de interes | V1: A. 4 Estados Unidos: Fiscal | W1: A.5 UK: Precio del petróleo | Y1: B. Indicadores demográficos; México | AG1: C.1 PIB real en millones de pesos de 1950 y Deflactor del PIB | AK1: C.2 PIB nominal mp | AM1: C.3 Productividad | AN1: C.4 PIB Potencial y brecha del producto | AR1: C.5 PIB nominal y per cápita en dólares | AV1: C.6 Coeficiente incremental capital-producto (ICOR) | AX1: C.7.1 Ahorro e Inversión (Con Gobierno Federal) | BM1: C7.2 Ahorro e inversión (Con Sector Público) | BV1: D.1 Precios mayoreo/consumidor y Costo de la vida obrera | CB1: D.3 Tasa de interés | CC1: D.4 Tipo de cambio | CK1: D.5 Salarios | CP1: D.6 Términos de intercambio | CR1: E. Balanza de pagos en m/d | DR1: F.1 Finanzas públicas del Gobierno Federal | DX1: F.2 Finanzas públicas del Sector Público | ED1: F.3 Deuda externa | EG1: Base monetaria | EZ1: Financiamiento por fuente y destino, sin banca | FL1: Oferta monetaria, M1 y M2, Multiplicador bancario, Inversa de la velocidad del dinero y su inversa | FX1: Base monetaria con ajuste de valores encaje | GF1: Reservas Internacionales
A2: Año | B2: Población personas | C2: PIB Real Base 2012 | D2: PIB Real % | E2: PIB Nominal md | F2: PIB Nominal % | G2: Deflactor del PIB (2012=100) | H2: Deflactor del PIB % | I2: PIB per cápita US dollars | J2: IPM Inf prom 1950=100 | K2: IPM Inf % prom 1950=100 | L2: IPM Inf fin 1950=100 | M2: IPM Inf % fin 1950=100 | N2: IPC promedio 1950=100 | O2: IPC % promedio 1950=101 | P2: IPC fin 1950=100 | Q2: IPC % fin 1950=10 | R2: Prime Fin | S2: Prime Prom | T2: 3M Treasury Fin | U2: 3M Treasury prom | V2: Balance fiscal % del PIB | W2: Barril de petróleo en US$ | X2: Petróleo UK % | Y2: Población personas | Z2: Población personas % | AA2: Población urbana personas | AB2: Población urbana en % del total | AC2: Población rural personas | AD2: Población rural en % del total | AE2: Población Ocupada/Distinta de PEA | AF2: Población Ocupada/Distinta de PEA | AG2: PIB real en m/p de 1950 | AH2: PIB real t/c | AI2: PIB Deflactor 1950=100 | AJ2: PIB Deflactor % | AK2: PIB Nominal en m/p | AL2: PIB Nominal t/c | AM2: Productividad: PIB real/Pob ocupada= m/p por persona | AN2: 1929-1982 PIB Potencial Base 1950 | AO2: PIB Potencial Índice 1950=100 | AP2: PIB Potencial t/c | AQ2: Brecha del producto (potencial-obs) | AR2: PIB Nominal en m/d | AS2: PIB Nominal en dólares t/c | AT2: PIB per cápita en dólares | AU2: PIB per cápita en dólares t/c | AV2: Coeficiente incremental capital producto (ICOR) | AW2: Coeficiente incremental capital producto (ICOR) ajustada HP | AX2: Inversión nominal en mp | AY2: Inversión nominal en t/c | AZ2: Inversión privada nominal en mp | BA2: Inversión privada nominal en t/c | BB2: Inversión nominal gobierno en mp | BC2: Inversión nominal gobierno en t/c | BD2: Inversión nominal en % del PIB | BE2: Ahorro externo % del PIB | BF2: Ahorro interno % del PIB | BG2: Ahorro privado % del PIB | BH2: Ahorro público % del PIB | BI2: Balance privado % del PIB | BJ2: Balance público % del PIB | BK2: Inversión gobierno nominal en % del PIB | BL2: Inversión privada nominal en % del PIB | BM2: Inversión total con inventarios Aspe (1993) | BN2: Ahorro externo | BO2: Ahorro interno | BP2: Ahorro privado | BQ2: Balance privado | BR2: Ahorro público | BS2: Balance público | BT2: Inversión privada | BU2: Inversión pública; Aspe (1993) | BV2: IPC 1950=100 Promedio | BW2: IPC t/c | BX2: IPC Fin | BY2: IPC t/c | BZ2: Indice del costo de la vida obrera (ICVO); 1950=100 | CA2: Indice del costo de la vida obrera (ICVO); Tasa % | CB2: Tasa de interés pasiva Bonos hipotecarios y CPP | CC2: Tipo de cambio promedio pesos | CD2: Tipo de cambio t/c | CE2: Tipo de Cambio fin pesos | CF2: Tipo de cambio t/c | CG2: Índice de Valuación prom 1964=100 | CH2: Índice de Valuación prom t/c | CI2: Índice de Valuación fin 1964=100 | CJ2: Índice de Valuación fin t/c | CK2: Salario Mínimo en pesos | CL2: Salario Mínimo t/c | CM2: Indice del salario mínimo 1950=100 (Serie ajustada nominal) | CN2: Indice del mínimo real-IPC | CO2: Indice del salario industrial real -Índice Bortz | CP2: Términos de intercambio en dólares Índice 1950=100 | CQ2: Términos de intercambio % | CR2: I. Cuenta corriente | CS2: A. Ingresos | CT2: 1. Bienes | CU2: 2. Servicios | CV2: 3. Renta y otros | CW2: 4. Transferencias | CX2: B. Egresos | CY2: 1. Bienes | CZ2: 2. Servicios | DA2: 3. Renta y otros | DB2: 4. Transferencias | DC2: II. Cuenta financiera | DD2: III. Derechos especiales de giro | DE2: IV. Errores y omisiones | DF2: V. Variación de la reserva internacional bruta (I + II + III + IV) | DG2: Ajustes por valoración | DH2: IED en md | DI2: IED % del PIB | DJ2: Apertura de la economía % del PIB | DK2: Balanza comercial en md | DL2: Balanza comercial en % del PIB | DM2: Exportaciones % | DN2: Importaciones % | DO2: I. Cuenta corriente en % del PIB | DP2: II. Cuenta financiera en % del PIB | DQ2: Exportaciones de petroleo md | DR2: Ingreso Gob Federal | DS2: Ingreso % del PIB | DT2: Gasto Gob Federal | DU2: Gasto % del PIB | DV2: Balance Gob Federal | DW2: Balance % del PIB | DX2: Ingreso Sector Público mp | DY2: Ingreso Sector Público % del PIB | DZ2: Egreso Sector Público mp | EA2: Egresos Sector Público % del PIB | EB2: Requerimientos Financieros del SP m/p | EC2: Requerimientos Financieros del SP % del PIB | ED2: Deuda externa en m/d fusión | EE2: Deuda externa en % del PIB fusión | EG2: Base Monetaria | EH2: Base Monetaria % del PIB | EI2: Base Monetaria en % | EJ2: Componente externo | EM2: Componente interno | EP2: Crédito al gobierno | ES2: Crédito a la banca | EV2: Crédito a las empresas y particulares | EZ2: Fin Inst de Crédito sin banca | FB2: Fin sin banca BM | FD2: Fin sin banca BN | FF2: Fin sin banca BP | FH2: Fin de la BN al GF | FJ2: Fin de la BP al GF | FL2: Oferta Monetaria diciembre (M1) | FO2: Oferta monetaria promedio | FR2: M2 | FU2: Multiplicador monetario | FV2: Inversa de la velocidad del dinero | FW2: Velocidad del dinero | FX2: Base monetaria con ajuste valores encaje | GA2: Componente interno con ajuste valores encaje | GD2: Financiamiento al gobierno vía encaje legal | GE2: Financiamiento total al gobierno incluye encaje legal | GF2: RI (md) | GG2: RI % del PIB | GH2: RIs md (variación anual) | GI2: RI variación anual en % del PIB | GJ2: RI mp | GK2: RI mp en % | GL2: RI meses de importaciones
AV3: Relación marginal capital producto (ICOR) | AW3: Relación marginal capital producto (ICOR) | BZ3: Año | CA3: Año | EJ3: En millones de pesos | EK3: En % del PIB | EL3: En % | EM3: En millones de pesos | EN3: En % del PIB | EO3: En % | EP3: En millones de pesos | EQ3: En % del PIB | ER3: En % | ES3: En millones de pesos | ET3: En % del PIB | EU3: En % | EV3: En millones de pesos | EW3: En % del PIB | EX3: En % | EZ3: En millones de pesos | FA3: En % del PIB | FB3: En millones de pesos | FC3: En % del PIB | FD3: En millones de pesos | FE3: En % del PIB | FF3: En millones de pesos | FG3: En % del PIB | FH3: En millones de pesos | FI3: En % del PIB | FJ3: En millones de pesos | FK3: En % del PIB | FL3: En millones de pesos | FM3: En % del PIB | FN3: En % | FO3: En millones de pesos | FP3: En % del PIB | FQ3: En % | FR3: En millones de pesos | FS3: En % del PIB | FT3: En % | FX3: En millones de pesos | FY3: En % del PIB | FZ3: En % | GA3: En millones de pesos | GB3: En % del PIB | GC3: En %
AN4: - | AO4: - | AP4: - | AV4: Relación marginal capital producto (ICOR) | AW4: Relación marginal capital producto (ICOR)
A5: 1920 | B5: ='[14]EU Pob'!B5 -> - | C5: ='[14]EU PIB'!B5 -> 774.9761 | D5: ='[14]EU PIB'!C5 -> -2.1297574 | E5: ='[14]EU PIB'!D5 -> 87.790813 | F5: ='[14]EU PIB'!E5 -> 12.975913 | G5: ='[14]EU PIB'!F5 -> 11.328196 | H5: ='[14]EU PIB'!G5 -> 0 | I5: ='[14]EU PIB'!H5 -> - | J5: ='[14]EU INF A'!$J5 -> 97.378848 | K5: - | L5: ='[14]EU INF A'!$L5 -> 76.074368 | M5: - | N5: ='[14]EU INF A'!$F5 -> 83.275623 | O5: - | P5: ='[14]EU INF A'!$H5 -> 77.6 | Q5: - | R5: - | S5: - | T5: - | U5: - | V5: - | W5: ='[14]UK Pet'!B64 -> 3.07 | X5: ='[14]UK Pet'!C64 -> 52.736318 | Y5: - | Z5: - | AA5: - | AB5: - | AC5: - | AD5: - | AE5: - | AF5: - | AG5: - | AH5: - | AI5: - | AJ5: - | AK5: - | AL5: - | AM5: - | AN5: - | AO5: - | AP5: - | AQ5: - | AR5: - | AS5: - | AT5: - | AU5: - | AV5: - | AW5: - | AX5: - | AY5: - | AZ5: - | BA5: - | BB5: - | BC5: - | BD5: - | BE5: - | BF5: - | BG5: - | BH5: - | BI5: - | BJ5: - | BK5: - | BL5: - | BM5: - | BN5: - | BO5: - | BP5: - | BQ5: - | BR5: - | BS5: - | BT5: - | BU5: - | BV5: ='[15]Precios M Anual'!B5 -> 40.395932 | BW5: 4.8 | BX5: ='[15]Precios M Anual'!D5 -> 35.988234 | BY5: 4.7 | BZ5: - | CA5: - | CB5: - | CC5: - | CD5: - | CE5: - | CF5: - | CG5: - | CH5: - | CI5: - | CJ5: - | CK5: - | CL5: - | CM5: - | CN5: - | CO5: - | CP5: - | CQ5: - | CR5: - | CS5: - | CT5: =[16]bp!$I5 -> 425.4 | CU5: - | CV5: - | CW5: - | CX5: - | CY5: =[16]bp!N5 -> 197.5 | CZ5: - | DA5: - | DB5: - | DC5: - | DD5: - | DE5: - | DF5: - | DG5: - | DH5: - | DI5: - | DJ5: - | DK5: =CT5-CY5 -> 227.9 | DM5: - | DN5: - | DO5: - | DP5: - | DQ5: - | DR5: - | DS5: - | DT5: - | DU5: - | DV5: - | DW5: - | DX5: - | DY5: - | DZ5: - | EA5: - | EB5: - | EC5: - | ED5: - | EE5: - | EF5: - | EG5: - | EH5: - | EI5: - | EJ5: - | EK5: - | EL5: - | EM5: - | EN5: - | EO5: - | EP5: - | EQ5: - | ER5: - | ES5: - | ET5: - | EU5: - | EV5: - | EW5: - | EX5: - | EZ5: - | FA5: - | FB5: - | FC5: - | FD5: - | FE5: - | FF5: - | FG5: - | FH5: - | FI5: - | FJ5: - | FK5: - | FL5: - | FM5: - | FN5: - | FO5: - | FP5: - | FQ5: - | FR5: - | FS5: - | FT5: - | FU5: - | FV5: - | FW5: - | FX5: - | FY5: - | FZ5: - | GA5: - | GB5: - | GC5: - | GD5: - | GE5: - | GF5: - | GG5: - | GH5: - | GI5: - | GJ5: - | GK5: - | GL5: -
A6: 1921 | B6: ='[14]EU Pob'!B6 -> - | C6: ='[14]EU PIB'!B6 -> 747.64972 | D6: ='[14]EU PIB'!C6 -> -3.5260931 | E6: ='[14]EU PIB'!D6 -> 73.732609 | F6: ='[14]EU PIB'!E6 -> -16.013297 | G6: ='[14]EU PIB'!F6 -> 9.861919 | H6: ='[14]EU PIB'!G6 -> -12.943607 | I6: ='[14]EU PIB'!H6 -> - | J6: ='[14]EU INF A'!$J6 -> 61.505639 | K6: =((J6/J5)-1)*100 -> -36.838811 | L6: ='[14]EU INF A'!$L6 -> 58.518744 | M6: =((L6/L5)-1)*100 -> -23.076923 | N6: ='[14]EU INF A'!$F6 -> 74.168975 | O6: =((N6/N5)-1)*100 -> -10.935551 | P6: ='[14]EU INF A'!$H6 -> 69.2 | Q6: =((P6/P5)-1)*100 -> -10.824742 | R6: - | S6: - | T6: - | U6: - | V6: - | W6: ='[14]UK Pet'!B65 -> 1.73 | X6: ='[14]UK Pet'!C65 -> -43.648208 | Y6: =[17]POBLACIÓN!$E6 -> 14334780 | AA6: =[17]POBLACIÓN!$F6 -> 4465503 | AB6: =(AA6/Y6)*100 -> 31.151528 | AC6: =[17]POBLACIÓN!$G6 -> 9869277 | AD6: =(AC6/Y6)*100 -> 68.848472 | AE6: =[17]POBLACIÓN!$M6 -> 4883561 | AF6: =(AE6/Y6)*100 -> 34.067917 | AG6: =[18]PIB!D6 -> 17117.41 | AH6: =[18]PIB!E6 -> 0.7 | AI6: =[18]PIB!H6 -> 31.86814 | AJ6: - | AK6: =[18]PIB!B6 -> 5455 | AL6: =[18]PIB!C6 -> -8.8 | AM6: =(AG6*1000)/AE6 -> 3.5051082 | AN6: - | AO6: - | AP6: - | AQ6: - | AR6: =(AK6)/CC6 -> 2674.0196 | AS6: - | AT6: =(AR6*1000000)/Y6 -> 186.54068 | AU6: - | AV6: - | AW6: - | AX6: - | AY6: - | AZ6: - | BA6: - | BB6: - | BC6: - | BD6: - | BE6: - | BF6: - | BG6: - | BH6: - | BI6: - | BJ6: - | BK6: - | BL6: - | BM6: - | BN6: - | BO6: - | BP6: - | BQ6: - | BR6: - | BS6: - | BT6: - | BU6: - | BV6: ='[15]Precios M Anual'!B6 -> 36.173618 | BW6: =((BV6/BV5)-1)*100 -> -10.452325 | BX6: ='[15]Precios M Anual'!D6 -> 29.297059 | BY6: =((BX6/BX5)-1)*100 -> -18.592676 | BZ6: - | CA6: - | CB6: - | CC6: ='[19]TCA B64'!$B6 -> 2.04 | CD6: - | CE6: =[19]TCA!$D6 -> 2.06 | CF6: - | CG6: - | CH6: - | CI6: - | CJ6: - | CK6: - | CL6: - | CM6: - | CN6: - | CO6: - | CP6: - | CQ6: - | CR6: - | CS6: - | CT6: =[16]bp!$I6 -> 376 | CU6: - | CV6: - | CW6: - | CX6: - | CY6: =[16]bp!N6 -> 241.7 | CZ6: - | DA6: - | DB6: - | DC6: - | DD6: - | DE6: - | DF6: - | DG6: - | DH6: - | DI6: - | DJ6: =((CT6+CY6)/AR6)*100 -> 23.100055 | DK6: =CT6-CY6 -> 134.3 | DL6: =(DK6/AR6)*100 -> 5.0224015 | DM6: - | DN6: - | DO6: - | DP6: - | DQ6: - | DR6: - | DS6: - | DT6: - | DU6: - | DV6: - | DW6: - | DX6: - | DY6: - | DZ6: - | EA6: - | EB6: - | EC6: - | ED6: ='[20]Deuda Ext'!K6 -> 280.30931 | EE6: =(ED6/AR6)*100 -> 10.482695 | EF6: - | EG6: - | EH6: - | EI6: - | EJ6: - | EK6: - | EL6: - | EM6: - | EN6: - | EO6: - | EP6: - | EQ6: - | ER6: - | ES6: - | ET6: - | EU6: - | EV6: - | EW6: - | EX6: - | EZ6: - | FA6: - | FB6: - | FC6: - | FD6: - | FE6: - | FF6: - | FG6: - | FH6: - | FI6: - | FJ6: - | FK6: - | FL6: - | FM6: - | FN6: - | FO6: - | FP6: - | FQ6: - | FR6: - | FS6: - | FT6: - | FU6: - | FV6: - | FW6: - | FX6: - | FY6: - | FZ6: - | GA6: - | GB6: - | GC6: - | GD6: - | GE6: - | GF6: - | GG6: - | GH6: - | GI6: - | GJ6: - | GK6: - | GL6: -
A7: 1922 | B7: ='[14]EU Pob'!B7 -> - | C7: ='[14]EU PIB'!B7 -> 801.36557 | D7: ='[14]EU PIB'!C7 -> 7.1846282 | E7: ='[14]EU PIB'!D7 -> 73.450842 | F7: ='[14]EU PIB'!E7 -> -0.38214822 | G7: ='[14]EU PIB'!F7 -> 9.1657097 | H7: ='[14]EU PIB'!G7 -> -7.0595724 | I7: ='[14]EU PIB'!H7 -> - | J7: ='[14]EU INF A'!$J7 -> 60.957025 | K7: =((J7/J6)-1)*100 -> -0.89197225 | L7: ='[14]EU INF A'!$L7 -> 63.273392 | M7: =((L7/L6)-1)*100 -> 8.125 | N7: ='[14]EU INF A'!$F7 -> 69.598338 | O7: =((N7/N6)-1)*100 -> -6.162465 | P7: ='[14]EU INF A'!$H7 -> 67.6 | Q7: =((P7/P6)-1)*100 -> -2.3121387 | R7: - | S7: - | T7: - | U7: - | V7: - | W7: ='[14]UK Pet'!B66 -> 1.61 | X7: ='[14]UK Pet'!C66 -> -6.9364162 | Y7: =[17]POBLACIÓN!$E7 -> 14565983 | Z7: =((Y7/Y6)-1)*100 -> 1.6128841 | AA7: =[17]POBLACIÓN!$F7 -> 4573832.4 | AB7: =(AA7/Y7)*100 -> 31.40078 | AC7: =[17]POBLACIÓN!$G7 -> 9992151 | AD7: =(AC7/Y7)*100 -> 68.59922 | AE7: =[17]POBLACIÓN!$M7 -> 4914143.8 | AF7: =(AE7/Y7)*100 -> 33.737124 | AG7: =[18]PIB!D7 -> 17516.471 | AH7: =[18]PIB!E7 -> 2.3313198 | AI7: =[18]PIB!H7 -> 26.203908 | AJ7: =[18]PIB!I7 -> -17.773964 | AK7: =[18]PIB!B7 -> 4590 | AL7: =[18]PIB!C7 -> -15.857012 | AM7: =(AG7*1000)/AE7 -> 3.5645011 | AN7: ='[18]PIB POT'!F7 -> 14617.87 | AO7: ='[18]PIB POT'!G7 -> 34.900433 | AP7: ='[18]PIB POT'!H7 -> - | AQ7: - | AR7: =(AK7)/CC7 -> 2239.0244 | AS7: =((AR7/AR6)-1)*100 -> -16.267466 | AT7: =(AR7*1000000)/Y7 -> 153.71598 | AU7: =((AT7/AT6)-1)*100 -> -17.596538 | AV7: - | AW7: - | AX7: - | AY7: - | AZ7: - | BA7: - | BB7: - | BC7: - | BD7: - | BE7: - | BF7: - | BG7: - | BH7: - | BI7: - | BJ7: - | BK7: - | BL7: - | BM7: - | BN7: - | BO7: - | BP7: - | BQ7: - | BR7: - | BS7: - | BT7: - | BU7: - | BV7: ='[15]Precios M Anual'!B7 -> 28.839061 | BW7: =((BV7/BV6)-1)*100 -> -20.275985 | BX7: ='[15]Precios M Anual'!D7 -> 22.850071 | BY7: =((BX7/BX6)-1)*100 -> -22.005581 | BZ7: - | CA7: - | CB7: - | CC7: ='[19]TCA B64'!$B7 -> 2.05 | CD7: =((CC7/CC6)-1)*100 -> 0.49019608 | CE7: =[19]TCA!$D7 -> 2.045 | CF7: =((CE7/CE6)-1)*100 -> -0.72815534 | CG7: ='[19]TCA B64'!$I7 -> 122.91351 | CH7: - | CI7: - | CJ7: - | CK7: - | CL7: - | CM7: - | CN7: - | CO7: - | CP7: - | CQ7: - | CR7: - | CS7: - | CT7: =[16]bp!$I7 -> 314.1 | CU7: - | CV7: - | CW7: - | CX7: - | CY7: =[16]bp!N7 -> 150.7 | CZ7: - | DA7: - | DB7: - | DC7: - | DD7: - | DE7: - | DF7: - | DG7: - | DH7: - | DI7: - | DJ7: =((CT7+CY7)/AR7)*100 -> 20.759041 | DK7: =CT7-CY7 -> 163.4 | DL7: =(DK7/AR7)*100 -> 7.2978214 | DM7: - | DN7: - | DO7: - | DP7: - | DQ7: - | DR7: - | DS7: - | DT7: - | DU7: - | DV7: - | DW7: - | DX7: - | DY7: - | DZ7: - | EA7: - | EB7: - | EC7: - | ED7: ='[20]Deuda Ext'!K7 -> 724.42927 | EE7: =(ED7/AR7)*100 -> 32.354684 | EF7: - | EG7: - | EH7: - | EI7: - | EJ7: - | EK7: - | EL7: - | EM7: - | EN7: - | EO7: - | EP7: - | EQ7: - | ER7: - | ES7: - | ET7: - | EU7: - | EV7: - | EW7: - | EX7: - | EZ7: - | FA7: - | FB7: - | FC7: - | FD7: - | FE7: - | FF7: - | FG7: - | FH7: - | FI7: - | FJ7: - | FK7: - | FL7: - | FM7: - | FN7: - | FO7: - | FP7: - | FQ7: - | FR7: - | FS7: - | FT7: - | FU7: - | FV7: - | FW7: - | FX7: - | FY7: - | FZ7: - | GA7: - | GB7: - | GC7: - | GD7: - | GE7: - | GF7: - | GG7: - | GH7: - | GI7: - | GJ7: - | GK7: - | GL7: -
A8: 1923 | B8: ='[14]EU Pob'!B8 -> - | C8: ='[14]EU PIB'!B8 -> 913.4818 | D8: ='[14]EU PIB'!C8 -> 13.990647 | E8: ='[14]EU PIB'!D8 -> 86.160584 | F8: ='[14]EU PIB'!E8 -> 17.30374 | G8: ='[14]EU PIB'!F8 -> 9.4321074 | H8: ='[14]EU PIB'!G8 -> 2.9064607 | I8: ='[14]EU PIB'!H8 -> - | J8: ='[14]EU INF A'!$J8 -> 63.456263 | K8: =((J8/J7)-1)*100 -> 4.1 | L8: ='[14]EU INF A'!$L8 -> 61.810424 | M8: =((L8/L7)-1)*100 -> -2.3121387 | N8: ='[14]EU INF A'!$F8 -> 70.844875 | O8: =((N8/N7)-1)*100 -> 1.7910448 | P8: ='[14]EU INF A'!$H8 -> 69.2 | Q8: =((P8/P7)-1)*100 -> 2.3668639 | R8: - | S8: - | T8: - | U8: - | V8: - | W8: ='[14]UK Pet'!B67 -> 1.34 | X8: ='[14]UK Pet'!C67 -> -16.770186 | Y8: =[17]POBLACIÓN!$E8 -> 14800689 | Z8: =((Y8/Y7)-1)*100 -> 1.6113247 | AA8: =[17]POBLACIÓN!$F8 -> 4684789.8 | AB8: =(AA8/Y8)*100 -> 31.652512 | AC8: =[17]POBLACIÓN!$G8 -> 10115899 | AD8: =(AC8/Y8)*100 -> 68.347488 | AE8: =[17]POBLACIÓN!$M8 -> 4944918.2 | AF8: =(AE8/Y8)*100 -> 33.410055 | AG8: =[18]PIB!D8 -> 18118.274 | AH8: =[18]PIB!E8 -> 3.4356373 | AI8: =[18]PIB!H8 -> 27.673718 | AJ8: =[18]PIB!I8 -> 5.6091263 | AK8: =[18]PIB!B8 -> 5014 | AL8: =[18]PIB!C8 -> 9.2374728 | AM8: =(AG8*1000)/AE8 -> 3.6640189 | AN8: ='[18]PIB POT'!F8 -> 14764.782 | AO8: ='[18]PIB POT'!G8 -> 35.251188 | AP8: ='[18]PIB POT'!H8 -> 1.0050167 | AQ8: =(((1+(AH8/100))/(1+(AP8/100)))-1)*100 -> 2.4064355 | AR8: =(AK8)/CC8 -> 2433.9806 | AS8: =((AR8/AR7)-1)*100 -> 8.7071938 | AT8: =(AR8*1000000)/Y8 -> 164.4505 | AU8: =((AT8/AT7)-1)*100 -> 6.9833448 | AV8: - | AW8: - | AX8: - | AY8: - | AZ8: - | BA8: - | BB8: - | BC8: - | BD8: - | BE8: - | BF8: - | BG8: - | BH8: - | BI8: - | BJ8: - | BK8: - | BL8: - | BM8: - | BN8: - | BO8: - | BP8: - | BQ8: - | BR8: - | BS8: - | BT8: - | BU8: - | BV8: ='[15]Precios M Anual'!B8 -> 25.899425 | BW8: =((BV8/BV7)-1)*100 -> -10.193243 | BX8: ='[15]Precios M Anual'!D8 -> 25.627704 | BY8: =((BX8/BX7)-1)*100 -> 12.155909 | BZ8: - | CA8: - | CB8: - | CC8: ='[19]TCA B64'!$B8 -> 2.06 | CD8: =((CC8/CC7)-1)*100 -> 0.48780488 | CE8: =[19]TCA!$D8 -> 2.055 | CF8: =((CE8/CE7)-1)*100 -> 0.48899756 | CG8: ='[19]TCA B64'!$I8 -> 125.85901 | CH8: =((CG8/CG7)-1)*100 -> 2.3963983 | CI8: - | CJ8: - | CK8: - | CL8: - | CM8: - | CN8: - | CO8: - | CP8: - | CQ8: - | CR8: - | CS8: - | CT8: =[16]bp!$I8 -> 275.7 | CU8: - | CV8: - | CW8: - | CX8: - | CY8: =[16]bp!N8 -> 152.9 | CZ8: - | DA8: - | DB8: - | DC8: - | DD8: - | DE8: - | DF8: - | DG8: - | DH8: - | DI8: - | DJ8: =((CT8+CY8)/AR8)*100 -> 17.609015 | DK8: =CT8-CY8 -> 122.8 | DL8: =(DK8/AR8)*100 -> 5.0452333 | DM8: - | DN8: - | DO8: - | DP8: - | DQ8: - | DR8: =[20]GobFed!$W8 -> - | DS8: =[20]GobFed!$W77 -> - | DT8: =[20]GobFed!$AN8 -> - | DU8: - | DV8: - | DW8: =[20]GobFed!$BF77 -> - | DX8: - | DY8: - | DZ8: - | EA8: - | EB8: - | EC8: - | ED8: ='[20]Deuda Ext'!K8 -> 738.14903 | EE8: =(ED8/AR8)*100 -> 30.326825 | EF8: - | EG8: - | EH8: - | EI8: - | EJ8: - | EK8: - | EL8: - | EM8: - | EN8: - | EO8: - | EP8: - | EQ8: - | ER8: - | ES8: - | ET8: - | EU8: - | EV8: - | EW8: - | EX8: - | EZ8: - | FA8: - | FB8: - | FC8: - | FD8: - | FE8: - | FF8: - | FG8: - | FH8: - | FI8: - | FJ8: - | FK8: - | FL8: - | FM8: - | FN8: - | FO8: - | FP8: - | FQ8: - | FR8: - | FS8: - | FT8: - | FU8: - | FV8: - | FW8: - | FX8: - | FY8: - | FZ8: - | GA8: - | GB8: - | GC8: - | GD8: - | GE8: - | GF8: - | GG8: - | GH8: - | GI8: - | GJ8: - | GK8: - | GL8: -
A9: 1924 | B9: ='[14]EU Pob'!B9 -> - | C9: ='[14]EU PIB'!B9 -> 937.68516 | D9: ='[14]EU PIB'!C9 -> 2.6495726 | E9: ='[14]EU PIB'!D9 -> 88.465043 | F9: ='[14]EU PIB'!E9 -> 2.6746087 | G9: ='[14]EU PIB'!F9 -> 9.4344079 | H9: ='[14]EU PIB'!G9 -> 0.02438986 | I9: ='[14]EU PIB'!H9 -> - | J9: ='[14]EU INF A'!$J9 -> 61.68851 | K9: =((J9/J8)-1)*100 -> -2.7857829 | L9: ='[14]EU INF A'!$L9 -> 64.004877 | M9: =((L9/L8)-1)*100 -> 3.5502959 | N9: ='[14]EU INF A'!$F9 -> 71.15651 | O9: =((N9/N8)-1)*100 -> 0.4398827 | P9: ='[14]EU INF A'!$H9 -> 69.2 | Q9: =((P9/P8)-1)*100 -> 0 | R9: - | S9: - | T9: - | U9: - | V9: - | W9: ='[14]UK Pet'!B68 -> 1.43 | X9: ='[14]UK Pet'!C68 -> 6.7164179 | Y9: =[17]POBLACIÓN!$E9 -> 15039176 | Z9: =((Y9/Y8)-1)*100 -> 1.6113247 | AA9: =[17]POBLACIÓN!$F9 -> 4798438.9 | AB9: =(AA9/Y9)*100 -> 31.906262 | AC9: =[17]POBLACIÓN!$G9 -> 10240737 | AD9: =(AC9/Y9)*100 -> 68.093738 | AE9: =[17]POBLACIÓN!$M9 -> 4975885.3 | AF9: =(AE9/Y9)*100 -> 33.086157 | AG9: =[18]PIB!D9 -> 17825.313 | AH9: =[18]PIB!E9 -> -1.616934 | AI9: =[18]PIB!H9 -> 25.991128 | AJ9: =[18]PIB!I9 -> -6.0801008 | AK9: =[18]PIB!B9 -> 4633 | AL9: =[18]PIB!C9 -> -7.5987236 | AM9: =(AG9*1000)/AE9 -> 3.58234 | AN9: ='[18]PIB POT'!F9 -> 14868.498 | AO9: ='[18]PIB POT'!G9 -> 35.498812 | AP9: ='[18]PIB POT'!H9 -> 0.70245573 | AQ9: =(((1+(AH9/100))/(1+(AP9/100)))-1)*100 -> -2.3032107 | AR9: =(AK9)/CC9 -> 2238.1643 | AS9: =((AR9/AR8)-1)*100 -> -8.0451066 | AT9: =(AR9*1000000)/Y9 -> 148.82227 | AU9: =((AT9/AT8)-1)*100 -> -9.5033022 | AV9: - | AW9: - | AX9: - | AY9: - | AZ9: - | BA9: - | BB9: - | BC9: - | BD9: - | BE9: - | BF9: - | BG9: - | BH9: - | BI9: - | BJ9: - | BK9: - | BL9: - | BM9: - | BN9: - | BO9: - | BP9: - | BQ9: - | BR9: - | BS9: - | BT9: - | BU9: - | BV9: ='[15]Precios M Anual'!B9 -> 27.010085 | BW9: =((BV9/BV8)-1)*100 -> 4.2883571 | BX9: ='[15]Precios M Anual'!D9 -> 23.178198 | BY9: =((BX9/BX8)-1)*100 -> -9.5580416 | BZ9: - | CA9: - | CB9: - | CC9: ='[19]TCA B64'!$B9 -> 2.07 | CD9: =((CC9/CC8)-1)*100 -> 0.48543689 | CE9: =[19]TCA!$D9 -> 2.065 | CF9: =((CE9/CE8)-1)*100 -> 0.486618 | CG9: ='[19]TCA B64'!$I9 -> 123.49167 | CH9: =((CG9/CG8)-1)*100 -> -1.8809449 | CI9: - | CJ9: - | CK9: - | CL9: - | CM9: - | CN9: - | CO9: - | CP9: - | CQ9: - | CR9: - | CS9: - | CT9: =[16]bp!$I9 -> 297.1 | CU9: - | CV9: - | CW9: - | CX9: - | CY9: =[16]bp!N9 -> 155.1 | CZ9: - | DA9: - | DB9: - | DC9: - | DD9: - | DE9: - | DF9: - | DG9: - | DH9: - | DI9: - | DJ9: =((CT9+CY9)/AR9)*100 -> 20.204058 | DK9: =CT9-CY9 -> 142 | DL9: =(DK9/AR9)*100 -> 6.3444852 | DM9: - | DN9: - | DO9: - | DP9: - | DQ9: - | DR9: =[20]GobFed!$W9 -> - | DS9: =[20]GobFed!$W78 -> - | DT9: =[20]GobFed!$AN9 -> - | DU9: - | DV9: - | DW9: =[20]GobFed!$BF78 -> - | DX9: - | DY9: - | DZ9: - | EA9: - | EB9: - | EC9: - | ED9: ='[20]Deuda Ext'!K9 -> 772.92415 | EE9: =(ED9/AR9)*100 -> 34.533844 | EF9: - | EG9: - | EH9: - | EI9: - | EJ9: - | EK9: - | EL9: - | EM9: - | EN9: - | EO9: - | EP9: - | EQ9: - | ER9: - | ES9: - | ET9: - | EU9: - | EV9: - | EW9: - | EX9: - | EZ9: - | FA9: - | FB9: - | FC9: - | FD9: - | FE9: - | FF9: - | FG9: - | FH9: - | FI9: - | FJ9: - | FK9: - | FL9: - | FM9: - | FN9: - | FO9: - | FP9: - | FQ9: - | FR9: - | FS9: - | FT9: - | FU9: - | FV9: - | FW9: - | FX9: - | FY9: - | FZ9: - | GA9: - | GB9: - | GC9: - | GD9: - | GE9: - | GF9: - | GG9: - | GH9: - | GI9: - | GJ9: - | GK9: - | GL9: -
A10: 1925 | B10: ='[14]EU Pob'!B10 -> - | C10: ='[14]EU PIB'!B10 -> 958.92166 | D10: ='[14]EU PIB'!C10 -> 2.2647794 | E10: ='[14]EU PIB'!D10 -> 92.067646 | F10: ='[14]EU PIB'!E10 -> 4.0723467 | G10: ='[14]EU PIB'!F10 -> 9.6011645 | H10: ='[14]EU PIB'!G10 -> 1.7675366 | I10: ='[14]EU PIB'!H10 -> - | J10: ='[14]EU INF A'!$J10 -> 65.071625 | K10: =((J10/J9)-1)*100 -> 5.4841897 | L10: ='[14]EU INF A'!$L10 -> 65.102103 | M10: =((L10/L9)-1)*100 -> 1.7142857 | N10: ='[14]EU INF A'!$F10 -> 72.887812 | O10: =((N10/N9)-1)*100 -> 2.43309 | P10: ='[14]EU INF A'!$H10 -> 71.6 | Q10: =((P10/P9)-1)*100 -> 3.4682081 | R10: - | S10: - | T10: - | U10: - | V10: - | W10: ='[14]UK Pet'!B69 -> 1.68 | X10: ='[14]UK Pet'!C69 -> 17.482517 | Y10: =[17]POBLACIÓN!$E10 -> 15281506 | Z10: =((Y10/Y9)-1)*100 -> 1.6113247 | AA10: =[17]POBLACIÓN!$F10 -> 4914845 | AB10: =(AA10/Y10)*100 -> 32.162047 | AC10: =[17]POBLACIÓN!$G10 -> 10366661 | AD10: =(AC10/Y10)*100 -> 67.837953 | AE10: =[17]POBLACIÓN!$M10 -> 5007046.3 | AF10: =(AE10/Y10)*100 -> 32.765399 | AG10: =[18]PIB!D10 -> 18930.589 | AH10: =[18]PIB!E10 -> 6.2005952 | AI10: =[18]PIB!H10 -> 27.674787 | AJ10: =[18]PIB!I10 -> 6.4778191 | AK10: =[18]PIB!B10 -> 5239 | AL10: =[18]PIB!C10 -> 13.080078 | AM10: =(AG10*1000)/AE10 -> 3.7807896 | AN10: ='[18]PIB POT'!F10 -> 14889.979 | AO10: ='[18]PIB POT'!G10 -> 35.550099 | AP10: ='[18]PIB POT'!H10 -> 0.1444766 | AQ10: =(((1+(AH10/100))/(1+(AP10/100)))-1)*100 -> 6.0473816 | AR10: =(AK10)/CC10 -> 2557.6892 | AS10: =((AR10/AR9)-1)*100 -> 14.276205 | AT10: =(AR10*1000000)/Y10 -> 167.37154 | AU10: =((AT10/AT9)-1)*100 -> 12.464045 | AV10: - | AW10: - | AX10: ='[18]Inv Nom'!C10 -> 211 | AY10: - | AZ10: ='[18]Inv Nom'!D10 -> 129 | BA10: - | BB10: ='[18]Inv Nom'!E10 -> 82 | BC10: - | BD10: =(AX10/AK10)*100 -> 4.0274862 | BE10: =-DL10 -> -5.6066234 | BF10: =BD10-BE10 -> 9.6341096 | BG10: =BF10-BH10 -> 7.5153846 | BH10: =BJ10+BK10 -> 2.1187249 | BI10: =BG10-BL10 -> 5.0530826 | BJ10: =DW10 -> 0.55354075 | BK10: =(BB10/AK10)*100 -> 1.5651842 | BL10: =(AZ10/AK10)*100 -> 2.462302 | BM10: - | BN10: - | BO10: - | BP10: - | BQ10: - | BR10: - | BS10: - | BT10: - | BU10: - | BV10: ='[15]Precios M Anual'!B10 -> 30.997444 | BW10: =((BV10/BV9)-1)*100 -> 14.762483 | BX10: ='[15]Precios M Anual'!D10 -> 28.69313 | BY10: =((BX10/BX9)-1)*100 -> 23.793622 | BZ10: - | CA10: - | CB10: - | CC10: ='[19]TCA B64'!$B10 -> 2.0483333 | CD10: =((CC10/CC9)-1)*100 -> -1.0466989 | CE10: =[19]TCA!$D10 -> 2.07 | CF10: =((CE10/CE9)-1)*100 -> 0.24213075 | CG10: ='[19]TCA B64'!$I10 -> 124.11691 | CH10: =((CG10/CG9)-1)*100 -> 0.50630158 | CI10: - | CJ10: - | CK10: - | CL10: - | CM10: - | CN10: - | CO10: - | CP10: ='[15]Terminos de Int'!B10 -> 98.331751 | CQ10: - | CR10: - | CS10: - | CT10: =[16]bp!$I10 -> 336 | CU10: - | CV10: - | CW10: - | CX10: - | CY10: =[16]bp!N10 -> 192.6 | CZ10: - | DA10: - | DB10: - | DC10: - | DD10: - | DE10: - | DF10: - | DG10: - | DH10: - | DI10: - | DJ10: =((CT10+CY10)/AR10)*100 -> 20.667093 | DK10: =CT10-CY10 -> 143.4 | DL10: =(DK10/AR10)*100 -> 5.6066234 | DM10: =((CT10/CT9)-1)*100 -> 13.093235 | DN10: =((CY10/CY9)-1)*100 -> 24.17795 | DO10: - | DP10: - | DQ10: - | DR10: =[20]GobFed!$X10 -> 322 | DS10: =[20]GobFed!$X79 -> 6.1462111 | DT10: =[20]GobFed!$AO10 -> 293 | DU10: =[20]GobFed!$AO79 -> 5.5926704 | DV10: =[20]GobFed!$BG10 -> 29 | DW10: =[20]GobFed!$BG79 -> 0.55354075 | DX10: - | DY10: - | DZ10: - | EA10: - | EB10: - | EC10: - | ED10: ='[20]Deuda Ext'!K10 -> 418.35964 | EE10: =(ED10/AR10)*100 -> 16.356938 | EF10: - | EG10: - | EH10: - | EI10: - | EJ10: - | EK10: - | EL10: - | EM10: - | EN10: - | EO10: - | EP10: - | EQ10: - | ER10: - | ES10: - | ET10: - | EU10: - | EV10: - | EW10: - | EX10: - | EZ10: - | FA10: - | FB10: - | FC10: - | FD10: - | FE10: - | FF10: - | FG10: - | FH10: - | FI10: - | FJ10: - | FK10: - | FL10: - | FM10: - | FN10: - | FO10: - | FP10: - | FQ10: - | FR10: - | FS10: - | FT10: - | FU10: - | FV10: - | FW10: - | FX10: - | FY10: - | FZ10: - | GA10: - | GB10: - | GC10: - | GD10: - | GE10: - | GF10: ='[21]Reservas Int'!C10 -> 27.4 | GG10: =(GF10/(AR10))*100 -> 1.0712795 | GH10: - | GI10: - | GJ10: =(GF10*CE10) -> 56.718 | GK10: - | GL10: =GF10/(CY10/12) -> 1.7071651
A11: 1926 | B11: ='[14]EU Pob'!B11 -> - | C11: ='[14]EU PIB'!B11 -> 1016.5413 | D11: ='[14]EU PIB'!C11 -> 6.0087934 | E11: ='[14]EU PIB'!D11 -> 98.135718 | F11: ='[14]EU PIB'!E11 -> 6.5908842 | G11: ='[14]EU PIB'!F11 -> 9.6538842 | H11: ='[14]EU PIB'!G11 -> 0.5490968 | I11: ='[14]EU PIB'!H11 -> - | J11: ='[14]EU INF A'!$J11 -> 63.090521 | K11: =((J11/J10)-1)*100 -> -3.0444965 | L11: ='[14]EU INF A'!$L11 -> 61.810424 | M11: =((L11/L10)-1)*100 -> -5.0561798 | N11: ='[14]EU INF A'!$F11 -> 73.545706 | O11: =((N11/N10)-1)*100 -> 0.90261283 | P11: ='[14]EU INF A'!$H11 -> 70.8 | Q11: =((P11/P10)-1)*100 -> -1.1173184 | R11: - | S11: - | T11: - | U11: - | V11: - | W11: ='[14]UK Pet'!B70 -> 1.88 | X11: ='[14]UK Pet'!C70 -> 11.904762 | Y11: =[17]POBLACIÓN!$E11 -> 15527740 | Z11: =((Y11/Y10)-1)*100 -> 1.6113247 | AA11: =[17]POBLACIÓN!$F11 -> 5034075.1 | AB11: =(AA11/Y11)*100 -> 32.419882 | AC11: =[17]POBLACIÓN!$G11 -> 10493665 | AD11: =(AC11/Y11)*100 -> 67.580118 | AE11: =[17]POBLACIÓN!$M11 -> 5038402.4 | AF11: =(AE11/Y11)*100 -> 32.44775 | AG11: =[18]PIB!D11 -> 20066.275 | AH11: =[18]PIB!E11 -> 5.9992146 | AI11: =[18]PIB!H11 -> 27.254684 | AJ11: =[18]PIB!I11 -> -1.517996 | AK11: =[18]PIB!B11 -> 5469 | AL11: =[18]PIB!C11 -> 4.3901508 | AM11: =(AG11*1000)/AE11 -> 3.9826662 | AN11: ='[18]PIB POT'!F11 -> 15255.927 | AO11: ='[18]PIB POT'!G11 -> 36.423807 | AP11: ='[18]PIB POT'!H11 -> 2.4576803 | AQ11: =(((1+(AH11/100))/(1+(AP11/100)))-1)*100 -> 3.4565826 | AR11: =(AK11)/CC11 -> 2566.6015 | AS11: =((AR11/AR10)-1)*100 -> 0.34845156 | AT11: =(AR11*1000000)/Y11 -> 165.29137 | AU11: =((AT11/AT10)-1)*100 -> -1.2428468 | AV11: - | AW11: - | AX11: ='[18]Inv Nom'!C11 -> 231 | AY11: =((AX11/AX10)-1)*100 -> 9.478673 | AZ11: ='[18]Inv Nom'!D11 -> 129 | BA11: =((AZ11/AZ10)-1)*100 -> 0 | BB11: ='[18]Inv Nom'!E11 -> 102 | BC11: =((BB11/BB10)-1)*100 -> 24.390244 | BD11: =(AX11/AK11)*100 -> 4.2238069 | BE11: =-DL11 -> -5.8520967 | BF11: =BD11-BE11 -> 10.075904 | BG11: =BF11-BH11 -> 8.1742762 | BH11: =BJ11+BK11 -> 1.9016274 | BI11: =BG11-BL11 -> 5.8155269 | BJ11: =DW11 -> 0.036569757 | BK11: =(BB11/AK11)*100 -> 1.8650576 | BL11: =(AZ11/AK11)*100 -> 2.3587493 | BM11: - | BN11: - | BO11: - | BP11: - | BQ11: - | BR11: - | BS11: - | BT11: - | BU11: - | BV11: ='[15]Precios M Anual'!B11 -> 31.173096 | BW11: =((BV11/BV10)-1)*100 -> 0.56666466 | BX11: ='[15]Precios M Anual'!D11 -> 28.397707 | BY11: =((BX11/BX10)-1)*100 -> -1.0295961 | BZ11: - | CA11: - | CB11: - | CC11: ='[19]TCA B64'!$B11 -> 2.1308333 | CD11: =((CC11/CC10)-1)*100 -> 4.0276648 | CE11: =[19]TCA!$D11 -> 2.32 | CF11: =((CE11/CE10)-1)*100 -> 12.077295 | CG11: ='[19]TCA B64'!$I11 -> 120.79999 | CH11: =((CG11/CG10)-1)*100 -> -2.6724112 | CI11: - | CJ11: - | CK11: - | CL11: - | CM11: - | CN11: - | CO11: - | CP11: ='[15]Terminos de Int'!B11 -> 92.164772 | CQ11: ='[15]Terminos de Int'!C11 -> -6.2716049 | CR11: - | CS11: - | CT11: =[16]bp!$I11 -> 334.3 | CU11: - | CV11: - | CW11: - | CX11: - | CY11: =[16]bp!N11 -> 184.1 | CZ11: - | DA11: - | DB11: - | DC11: - | DD11: - | DE11: - | DF11: - | DG11: - | DH11: - | DI11: - | DJ11: =((CT11+CY11)/AR11)*100 -> 20.197916 | DK11: =CT11-CY11 -> 150.2 | DL11: =(DK11/AR11)*100 -> 5.8520967 | DM11: =((CT11/CT10)-1)*100 -> -0.50595238 | DN11: =((CY11/CY10)-1)*100 -> -4.4132918 | DO11: - | DP11: - | DQ11: - | DR11: =[20]GobFed!$X11 -> 309 | DS11: =[20]GobFed!$X80 -> 5.6500274 | DT11: =[20]GobFed!$AO11 -> 307 | DU11: =[20]GobFed!$AO80 -> 5.6134577 | DV11: =[20]GobFed!$BG11 -> 2 | DW11: =[20]GobFed!$BG80 -> 0.036569757 | DX11: - | DY11: - | DZ11: - | EA11: - | EB11: - | EC11: - | ED11: ='[20]Deuda Ext'!K11 -> 410.99601 | EE11: =(ED11/AR11)*100 -> 16.013238 | EF11: - | EG11: - | EH11: - | EI11: - | EJ11: - | EK11: - | EL11: - | EM11: - | EN11: - | EO11: - | EP11: - | EQ11: - | ER11: - | ES11: - | ET11: - | EU11: - | EV11: - | EW11: - | EX11: - | EZ11: - | FA11: - | FB11: - | FC11: - | FD11: - | FE11: - | FF11: - | FG11: - | FH11: - | FI11: - | FJ11: - | FK11: - | FL11: - | FM11: - | FN11: - | FO11: - | FP11: - | FQ11: - | FR11: - | FS11: - | FT11: - | FU11: - | FV11: - | FW11: - | FX11: - | FY11: - | FZ11: - | GA11: - | GB11: - | GC11: - | GD11: - | GE11: - | GF11: ='[21]Reservas Int'!C11 -> 17.7 | GG11: =(GF11/(AR11))*100 -> 0.6896279 | GH11: =GF11-GF10 -> -9.7 | GI11: =(GH11/AR11)*100 -> -0.37793168 | GJ11: =(GF11*CE11) -> 41.064 | GK11: =((GJ11/GJ10)-1)*100 -> -27.599704 | GL11: =GF11/(CY11/12) -> 1.1537208
A12: 1927 | B12: ='[14]EU Pob'!B12 -> - | C12: ='[14]EU PIB'!B12 -> 1022.1627 | D12: ='[14]EU PIB'!C12 -> 0.55299539 | E12: ='[14]EU PIB'!D12 -> 96.948268 | F12: ='[14]EU PIB'!E12 -> -1.2100082 | G12: ='[14]EU PIB'!F12 -> 9.4846219 | H12: ='[14]EU PIB'!G12 -> -1.7533079 | I12: ='[14]EU PIB'!H12 -> - | J12: ='[14]EU INF A'!$J12 -> 60.134105 | K12: =((J12/J11)-1)*100 -> -4.6859903 | L12: ='[14]EU INF A'!$L12 -> 60.713197 | M12: =((L12/L11)-1)*100 -> -1.7751479 | N12: ='[14]EU INF A'!$F12 -> 72.126039 | O12: =((N12/N11)-1)*100 -> -1.9303202 | P12: ='[14]EU INF A'!$H12 -> 69.2 | Q12: =((P12/P11)-1)*100 -> -2.259887 | R12: - | S12: - | T12: - | U12: - | V12: - | W12: ='[14]UK Pet'!B71 -> 1.3 | X12: ='[14]UK Pet'!C71 -> -30.851064 | Y12: =[17]POBLACIÓN!$E12 -> 15777943 | Z12: =((Y12/Y11)-1)*100 -> 1.6113247 | AA12: =[17]POBLACIÓN!$F12 -> 5156197.6 | AB12: =(AA12/Y12)*100 -> 32.679784 | AC12: =[17]POBLACIÓN!$G12 -> 10621745 | AD12: =(AC12/Y12)*100 -> 67.320216 | AE12: =[17]POBLACIÓN!$M12 -> 5069954.9 | AF12: =(AE12/Y12)*100 -> 32.133181 | AG12: =[18]PIB!D12 -> 19183.677 | AH12: =[18]PIB!E12 -> -4.3984171 | AI12: =[18]PIB!H12 -> 25.996059 | AJ12: =[18]PIB!I12 -> -4.6180138 | AK12: =[18]PIB!B12 -> 4987 | AL12: =[18]PIB!C12 -> -8.8133114 | AM12: =(AG12*1000)/AE12 -> 3.7837963 | AN12: ='[18]PIB POT'!F12 -> 15630.869 | AO12: ='[18]PIB POT'!G12 -> 37.318988 | AP12: ='[18]PIB POT'!H12 -> 2.4576803 | AQ12: =(((1+(AH12/100))/(1+(AP12/100)))-1)*100 -> -6.6916383 | AR12: =(AK12)/CC12 -> 2179.3154 | AS12: =((AR12/AR11)-1)*100 -> -15.089453 | AT12: =(AR12*1000000)/Y12 -> 138.12418 | AU12: =((AT12/AT11)-1)*100 -> -16.435941 | AV12: - | AW12: - | AX12: ='[18]Inv Nom'!C12 -> 221 | AY12: =((AX12/AX11)-1)*100 -> -4.3290043 | AZ12: ='[18]Inv Nom'!D12 -> 124 | BA12: =((AZ12/AZ11)-1)*100 -> -3.875969 | BB12: ='[18]Inv Nom'!E12 -> 97 | BC12: =((BB12/BB11)-1)*100 -> -4.9019608 | BD12: =(AX12/AK12)*100 -> 4.431522 | BE12: =-DL12 -> -6.2359033 | BF12: =BD12-BE12 -> 10.667425 | BG12: =BF12-BH12 -> 8.7825246 | BH12: =BJ12+BK12 -> 1.8849007 | BI12: =BG12-BL12 -> 6.2960598 | BJ12: =DW12 -> -0.060156407 | BK12: =(BB12/AK12)*100 -> 1.9450571 | BL12: =(AZ12/AK12)*100 -> 2.4864648 | BM12: - | BN12: - | BO12: - | BP12: - | BQ12: - | BR12: - | BS12: - | BT12: - | BU12: - | BV12: ='[15]Precios M Anual'!B12 -> 29.031207 | BW12: =((BV12/BV11)-1)*100 -> -6.8709527 | BX12: ='[15]Precios M Anual'!D12 -> 26.03432 | BY12: =((BX12/BX11)-1)*100 -> -8.3224568 | BZ12: - | CA12: - | CB12: - | CC12: ='[19]TCA B64'!$B12 -> 2.2883333 | CD12: =((CC12/CC11)-1)*100 -> 7.3914744 | CE12: =[19]TCA!$D12 -> 2.19 | CF12: =((CE12/CE11)-1)*100 -> -5.6034483 | CG12: ='[19]TCA B64'!$I12 -> 115.25848 | CH12: =((CG12/CG11)-1)*100 -> -4.5873478 | CI12: - | CJ12: - | CK12: - | CL12: - | CM12: - | CN12: - | CO12: - | CP12: ='[15]Terminos de Int'!B12 -> 96.329911 | CQ12: ='[15]Terminos de Int'!C12 -> 4.5192308 | CR12: - | CS12: - | CT12: =[16]bp!$I12 -> 299.1 | CU12: - | CV12: - | CW12: - | CX12: - | CY12: =[16]bp!N12 -> 163.2 | CZ12: - | DA12: - | DB12: - | DC12: - | DD12: - | DE12: - | DF12: - | DG12: - | DH12: - | DI12: - | DJ12: =((CT12+CY12)/AR12)*100 -> 21.213084 | DK12: =CT12-CY12 -> 135.9 | DL12: =(DK12/AR12)*100 -> 6.2359033 | DM12: =((CT12/CT11)-1)*100 -> -10.529465 | DN12: =((CY12/CY11)-1)*100 -> -11.352526 | DO12: - | DP12: - | DQ12: - | DR12: =[20]GobFed!$X12 -> 307 | DS12: =[20]GobFed!$X81 -> 6.1560056 | DT12: =[20]GobFed!$AO12 -> 310 | DU12: =[20]GobFed!$AO81 -> 6.216162 | DV12: =[20]GobFed!$BG12 -> -3 | DW12: =[20]GobFed!$BG81 -> -0.060156407 | DX12: - | DY12: - | DZ12: - | EA12: - | EB12: - | EC12: - | ED12: ='[20]Deuda Ext'!K12 -> 419.84312 | EE12: =(ED12/AR12)*100 -> 19.264909 | EF12: - | EG12: - | EH12: - | EI12: - | EJ12: - | EK12: - | EL12: - | EM12: - | EN12: - | EO12: - | EP12: - | EQ12: - | ER12: - | ES12: - | ET12: - | EU12: - | EV12: - | EW12: - | EX12: - | EZ12: - | FA12: - | FB12: - | FC12: - | FD12: - | FE12: - | FF12: - | FG12: - | FH12: - | FI12: - | FJ12: - | FK12: - | FL12: - | FM12: - | FN12: - | FO12: - | FP12: - | FQ12: - | FR12: - | FS12: - | FT12: - | FU12: - | FV12: - | FW12: - | FX12: - | FY12: - | FZ12: - | GA12: - | GB12: - | GC12: - | GD12: - | GE12: - | GF12: ='[21]Reservas Int'!C12 -> 16.2 | GG12: =(GF12/(AR12))*100 -> 0.74335272 | GH12: =GF12-GF11 -> -1.5 | GI12: =(GH12/AR12)*100 -> -0.068828955 | GJ12: =(GF12*CE12) -> 35.478 | GK12: =((GJ12/GJ11)-1)*100 -> -13.603156 | GL12: =GF12/(CY12/12) -> 1.1911765
A13: 1928 | B13: ='[14]EU Pob'!B13 -> - | C13: ='[14]EU PIB'!B13 -> 1041.0569 | D13: ='[14]EU PIB'!C13 -> 1.8484571 | E13: ='[14]EU PIB'!D13 -> 97.934455 | F13: ='[14]EU PIB'!E13 -> 1.0172306 | G13: ='[14]EU PIB'!F13 -> 9.407214 | H13: ='[14]EU PIB'!G13 -> -0.81614043 | I13: ='[14]EU PIB'!H13 -> - | J13: ='[14]EU INF A'!$J13 -> 60.987504 | K13: =((J13/J12)-1)*100 -> 1.4191586 | L13: ='[14]EU INF A'!$L13 -> 60.347455 | M13: =((L13/L12)-1)*100 -> -0.60240964 | N13: ='[14]EU INF A'!$F13 -> 71.295014 | O13: =((N13/N12)-1)*100 -> -1.1521843 | P13: ='[14]EU INF A'!$H13 -> 68.4 | Q13: =((P13/P12)-1)*100 -> -1.1560694 | R13: - | S13: - | T13: - | U13: - | V13: - | W13: ='[14]UK Pet'!B72 -> 1.17 | X13: ='[14]UK Pet'!C72 -> -10 | Y13: =[17]POBLACIÓN!$E13 -> 16032177 | Z13: =((Y13/Y12)-1)*100 -> 1.6113247 | AA13: =[17]POBLACIÓN!$F13 -> 5281282.6 | AB13: =(AA13/Y13)*100 -> 32.941769 | AC13: =[17]POBLACIÓN!$G13 -> 10750894 | AD13: =(AC13/Y13)*100 -> 67.058231 | AE13: =[17]POBLACIÓN!$M13 -> 5101705 | AF13: =(AE13/Y13)*100 -> 31.821662 | AG13: =[18]PIB!D13 -> 19302.618 | AH13: =[18]PIB!E13 -> 0.62001303 | AI13: =[18]PIB!H13 -> 25.996474 | AJ13: =[18]PIB!I13 -> 0.0015932892 | AK13: =[18]PIB!B13 -> 5018 | AL13: =[18]PIB!C13 -> 0.6216162 | AM13: =(AG13*1000)/AE13 -> 3.7835621 | AN13: ='[18]PIB POT'!F13 -> 16015.026 | AO13: ='[18]PIB POT'!G13 -> 38.236169 | AP13: ='[18]PIB POT'!H13 -> 2.4576803 | AQ13: =(((1+(AH13/100))/(1+(AP13/100)))-1)*100 -> -1.7935866 | AR13: =(AK13)/CC13 -> 2329.4391 | AS13: =((AR13/AR12)-1)*100 -> 6.8885718 | AT13: =(AR13*1000000)/Y13 -> 145.29774 | AU13: =((AT13/AT12)-1)*100 -> 5.193562 | AV13: - | AW13: - | AX13: ='[18]Inv Nom'!C13 -> 281 | AY13: =((AX13/AX12)-1)*100 -> 27.149321 | AZ13: ='[18]Inv Nom'!D13 -> 182 | BA13: =((AZ13/AZ12)-1)*100 -> 46.774194 | BB13: ='[18]Inv Nom'!E13 -> 99 | BC13: =((BB13/BB12)-1)*100 -> 2.0618557 | BD13: =(AX13/AK13)*100 -> 5.5998406 | BE13: =-DL13 -> -4.8294888 | BF13: =BD13-BE13 -> 10.429329 | BG13: =BF13-BH13 -> 7.9781536 | BH13: =BJ13+BK13 -> 2.4511758 | BI13: =BG13-BL13 -> 4.3512106 | BJ13: =DW13 -> 0.4782782 | BK13: =(BB13/AK13)*100 -> 1.9728976 | BL13: =(AZ13/AK13)*100 -> 3.626943 | BM13: - | BN13: - | BO13: - | BP13: - | BQ13: - | BR13: - | BS13: - | BT13: - | BU13: - | BV13: ='[15]Precios M Anual'!B13 -> 26.058385 | BW13: =((BV13/BV12)-1)*100 -> -10.24009 | BX13: ='[15]Precios M Anual'!D13 -> 23.446368 | BY13: =((BX13/BX12)-1)*100 -> -9.940541 | BZ13: - | CA13: - | CB13: - | CC13: ='[19]TCA B64'!$B13 -> 2.1541667 | CD13: =((CC13/CC12)-1)*100 -> -5.8630736 | CE13: =[19]TCA!$D13 -> 2.16 | CF13: =((CE13/CE12)-1)*100 -> -1.369863 | CG13: ='[19]TCA B64'!$I13 -> 115.87173 | CH13: =((CG13/CG12)-1)*100 -> 0.53206993 | CI13: - | CJ13: - | CK13: - | CL13: - | CM13: - | CN13: - | CO13: - | CP13: ='[15]Terminos de Int'!B13 -> 100.49505 | CQ13: ='[15]Terminos de Int'!C13 -> 4.323827 | CR13: - | CS13: - | CT13: =[16]bp!$I13 -> 284.6 | CU13: - | CV13: - | CW13: - | CX13: - | CY13: =[16]bp!N13 -> 172.1 | CZ13: - | DA13: - | DB13: - | DC13: - | DD13: - | DE13: - | DF13: - | DG13: - | DH13: - | DI13: - | DJ13: =((CT13+CY13)/AR13)*100 -> 19.605578 | DK13: =CT13-CY13 -> 112.5 | DL13: =(DK13/AR13)*100 -> 4.8294888 | DM13: =((CT13/CT12)-1)*100 -> -4.847877 | DN13: =((CY13/CY12)-1)*100 -> 5.4534314 | DO13: - | DP13: - | DQ13: - | DR13: =[20]GobFed!$X13 -> 311 | DS13: =[20]GobFed!$X82 -> 6.1976883 | DT13: =[20]GobFed!$AO13 -> 287 | DU13: =[20]GobFed!$AO82 -> 5.7194101 | DV13: =[20]GobFed!$BG13 -> 24 | DW13: =[20]GobFed!$BG82 -> 0.4782782 | DX13: - | DY13: - | DZ13: - | EA13: - | EB13: - | EC13: - | ED13: ='[20]Deuda Ext'!K13 -> 458.46963 | EE13: =(ED13/AR13)*100 -> 19.681546 | EF13: - | EG13: - | EH13: - | EI13: - | EJ13: - | EK13: - | EL13: - | EM13: - | EN13: - | EO13: - | EP13: - | EQ13: - | ER13: - | ES13: - | ET13: - | EU13: - | EV13: - | EW13: - | EX13: - | EZ13: - | FA13: - | FB13: - | FC13: - | FD13: - | FE13: - | FF13: - | FG13: - | FH13: - | FI13: - | FJ13: - | FK13: - | FL13: - | FM13: - | FN13: - | FO13: - | FP13: - | FQ13: - | FR13: - | FS13: - | FT13: - | FU13: - | FV13: - | FW13: - | FX13: - | FY13: - | FZ13: - | GA13: - | GB13: - | GC13: - | GD13: - | GE13: - | GF13: ='[21]Reservas Int'!C13 -> 19.8 | GG13: =(GF13/(AR13))*100 -> 0.84999004 | GH13: =GF13-GF12 -> 3.6 | GI13: =(GH13/AR13)*100 -> 0.15454364 | GJ13: =(GF13*CE13) -> 42.768 | GK13: =((GJ13/GJ12)-1)*100 -> 20.547945 | GL13: =GF13/(CY13/12) -> 1.3805927
A14: 1929 | B14: ='[14]EU Pob'!C14 -> 121878000 | C14: ='[14]EU PIB'!B14 -> 1109.448 | D14: ='[14]EU PIB'!C14 -> 6.5693862 | E14: ='[14]EU PIB'!D14 -> 104.556 | F14: ='[14]EU PIB'!E14 -> 6.7612002 | G14: ='[14]EU PIB'!F14 -> 9.4241461 | H14: ='[14]EU PIB'!G14 -> 0.17998975 | I14: ='[14]EU PIB'!H14 -> 857.87427 | J14: ='[14]EU INF A'!$J14 -> 60.073148 | K14: =((J14/J13)-1)*100 -> -1.4992504 | L14: ='[14]EU INF A'!$L14 -> 58.884486 | M14: =((L14/L13)-1)*100 -> -2.4242424 | N14: ='[14]EU INF A'!$F14 -> 71.295014 | O14: =((N14/N13)-1)*100 -> 2.220446e-14 | P14: ='[14]EU INF A'!$H14 -> 68.8 | Q14: =((P14/P13)-1)*100 -> 0.58479532 | R14: - | S14: - | T14: - | U14: - | V14: ='[14]EU Bal Fis'!B14 -> 0.70172 | W14: ='[14]UK Pet'!B73 -> 1.27 | X14: ='[14]UK Pet'!C73 -> 8.5470085 | Y14: =[17]POBLACIÓN!$E14 -> 16290507 | Z14: =((Y14/Y13)-1)*100 -> 1.6113247 | AA14: =[17]POBLACIÓN!$F14 -> 5409402.2 | AB14: =(AA14/Y14)*100 -> 33.205855 | AC14: =[17]POBLACIÓN!$G14 -> 10881105 | AD14: =(AC14/Y14)*100 -> 66.794145 | AE14: =[17]POBLACIÓN!$M14 -> 5133654 | AF14: =(AE14/Y14)*100 -> 31.513163 | AG14: =[18]PIB!D14 -> 18555.856 | AH14: =[18]PIB!E14 -> -3.868709 | AI14: =[18]PIB!H14 -> 26.20736 | AJ14: =[18]PIB!I14 -> 0.81121239 | AK14: =[18]PIB!B14 -> 4863 | AL14: =[18]PIB!C14 -> -3.08888 | AM14: =(AG14*1000)/AE14 -> 3.6145513 | AN14: ='[18]PIB POT'!F14 -> 16421.708 | AO14: ='[18]PIB POT'!G14 -> 39.20713 | AP14: ='[18]PIB POT'!H14 -> 2.5393783 | AQ14: =(((1+(AH14/100))/(1+(AP14/100)))-1)*100 -> -6.2493916 | AR14: =(AK14)/CC14 -> 2266.2524 | AS14: =((AR14/AR13)-1)*100 -> -2.7125262 | AT14: =(AR14*1000000)/Y14 -> 139.11491 | AU14: =((AT14/AT13)-1)*100 -> -4.2552844 | AV14: - | AW14: - | AX14: ='[18]Inv Nom'!C14 -> 249 | AY14: =((AX14/AX13)-1)*100 -> -11.3879 | AZ14: ='[18]Inv Nom'!D14 -> 151 | BA14: =((AZ14/AZ13)-1)*100 -> -17.032967 | BB14: ='[18]Inv Nom'!E14 -> 98 | BC14: =((BB14/BB13)-1)*100 -> -1.010101 | BD14: =(AX14/AK14)*100 -> 5.1202961 | BE14: =-DL14 -> -4.2890191 | BF14: =BD14-BE14 -> 9.4093152 | BG14: =BF14-BH14 -> 6.4481801 | BH14: =BJ14+BK14 -> 2.9611351 | BI14: =BG14-BL14 -> 3.343101 | BJ14: =DW14 -> 0.94591816 | BK14: =(BB14/AK14)*100 -> 2.0152169 | BL14: =(AZ14/AK14)*100 -> 3.1050792 | BM14: - | BN14: - | BO14: - | BP14: - | BQ14: - | BR14: - | BS14: - | BT14: - | BU14: - | BV14: ='[15]Precios M Anual'!B14 -> 26.420587 | BW14: =((BV14/BV13)-1)*100 -> 1.3899617 | BX14: ='[15]Precios M Anual'!D14 -> 23.987069 | BY14: =((BX14/BX13)-1)*100 -> 2.3061187 | BZ14: - | CA14: - | CB14: - | CC14: ='[19]TCA B64'!$B14 -> 2.1458333 | CD14: =((CC14/CC13)-1)*100 -> -0.3868472 | CE14: =[19]TCA!$D14 -> 2.16 | CF14: =((CE14/CE13)-1)*100 -> 0 | CG14: ='[19]TCA B64'!$I14 -> 117.739 | CH14: =((CG14/CG13)-1)*100 -> 1.611496 | CI14: - | CJ14: - | CK14: - | CL14: - | CM14: - | CN14: - | CO14: - | CP14: ='[15]Terminos de Int'!B14 -> 110.74965 | CQ14: ='[15]Terminos de Int'!C14 -> 10.204082 | CR14: - | CS14: - | CT14: =[16]bp!$I14 -> 274.9 | CU14: - | CV14: - | CW14: - | CX14: - | CY14: =[16]bp!N14 -> 177.7 | CZ14: - | DA14: - | DB14: - | DC14: - | DD14: - | DE14: - | DF14: - | DG14: - | DH14: - | DI14: - | DJ14: =((CT14+CY14)/AR14)*100 -> 19.971297 | DK14: =CT14-CY14 -> 97.2 | DL14: =(DK14/AR14)*100 -> 4.2890191 | DM14: =((CT14/CT13)-1)*100 -> -3.4082923 | DN14: =((CY14/CY13)-1)*100 -> 3.2539221 | DO14: - | DP14: - | DQ14: - | DR14: =[20]GobFed!$X14 -> 322 | DS14: =[20]GobFed!$X83 -> 6.6214271 | DT14: =[20]GobFed!$AO14 -> 276 | DU14: =[20]GobFed!$AO83 -> 5.6755089 | DV14: =[20]GobFed!$BG14 -> 46 | DW14: =[20]GobFed!$BG83 -> 0.94591816 | DX14: - | DY14: - | DZ14: - | EA14: - | EB14: - | EC14: - | ED14: ='[20]Deuda Ext'!K14 -> 472.00497 | EE14: =(ED14/AR14)*100 -> 20.827555 | EF14: - | EG14: - | EH14: - | EI14: - | EJ14: - | EK14: - | EL14: - | EM14: - | EN14: - | EO14: - | EP14: - | EQ14: - | ER14: - | ES14: - | ET14: - | EU14: - | EV14: - | EW14: - | EX14: - | EZ14: - | FA14: - | FB14: - | FC14: - | FD14: - | FE14: - | FF14: - | FG14: - | FH14: - | FI14: - | FJ14: - | FK14: - | FL14: - | FM14: - | FN14: - | FO14: - | FP14: - | FQ14: - | FR14: - | FS14: - | FT14: - | FU14: - | FV14: - | FW14: - | FX14: - | FY14: - | FZ14: - | GA14: - | GB14: - | GC14: - | GD14: - | GE14: - | GF14: ='[21]Reservas Int'!C14 -> 25 | GG14: =(GF14/(AR14))*100 -> 1.1031428 | GH14: =GF14-GF13 -> 5.2 | GI14: =(GH14/AR14)*100 -> 0.2294537 | GJ14: =(GF14*CE14) -> 54 | GK14: =((GJ14/GJ13)-1)*100 -> 26.262626 | GL14: =GF14/(CY14/12) -> 1.6882386
A15: 1930 | B15: ='[14]EU Pob'!C15 -> 123188000 | C15: ='[14]EU PIB'!B15 -> 1015.058 | D15: ='[14]EU PIB'!C15 -> -8.5 | E15: ='[14]EU PIB'!D15 -> 92.16 | F15: ='[14]EU PIB'!E15 -> -3.659344 | G15: ='[14]EU PIB'!F15 -> 9.0792841 | H15: ='[14]EU PIB'!G15 -> -3.659344 | I15: ='[14]EU PIB'!H15 -> 748.12482 | J15: ='[14]EU INF A'!$J15 -> 54.373667 | K15: =((J15/J14)-1)*100 -> -9.4875698 | L15: ='[14]EU INF A'!$L15 -> 50.106675 | M15: =((L15/L14)-1)*100 -> -14.906832 | N15: ='[14]EU INF A'!$F15 -> 69.390582 | O15: =((N15/N14)-1)*100 -> -2.6711996 | P15: ='[14]EU INF A'!$H15 -> 64.4 | Q15: =((P15/P14)-1)*100 -> -6.3953488 | R15: - | S15: - | T15: - | U15: - | V15: ='[14]EU Bal Fis'!B15 -> 0.80043 | W15: ='[14]UK Pet'!B74 -> 1.19 | X15: ='[14]UK Pet'!C74 -> -6.2992126 | Y15: =[17]POBLACIÓN!$E15 -> 16553000 | Z15: =((Y15/Y14)-1)*100 -> 1.6113247 | AA15: =[17]POBLACIÓN!$F15 -> 5540629.8 | AB15: =(AA15/Y15)*100 -> 33.472058 | AC15: =[17]POBLACIÓN!$G15 -> 11012370 | AD15: =(AC15/Y15)*100 -> 66.527942 | AE15: =[17]POBLACIÓN!$M15 -> 5165803 | AF15: =(AE15/Y15)*100 -> 31.207654 | AG15: =[18]PIB!D15 -> 17392.799 | AH15: =[18]PIB!E15 -> -6.2678685 | AI15: =[18]PIB!H15 -> 26.838693 | AJ15: =[18]PIB!I15 -> 2.4089904 | AK15: =[18]PIB!B15 -> 4668 | AL15: =[18]PIB!C15 -> -4.0098705 | AM15: =(AG15*1000)/AE15 -> 3.3669111 | AN15: ='[18]PIB POT'!F15 -> 16801.263 | AO15: ='[18]PIB POT'!G15 -> 40.113325 | AP15: ='[18]PIB POT'!H15 -> 2.3113012 | AQ15: =(((1+(AH15/100))/(1+(AP15/100)))-1)*100 -> -8.3853589 | AR15: =(AK15)/CC15 -> 2076.2046 | AS15: =((AR15/AR14)-1)*100 -> -8.3859957 | AT15: =(AR15*1000000)/Y15 -> 125.42769 | AU15: =((AT15/AT14)-1)*100 -> -9.8387856 | AV15: - | AW15: - | AX15: ='[18]Inv Nom'!C15 -> 310 | AY15: =((AX15/AX14)-1)*100 -> 24.497992 | AZ15: ='[18]Inv Nom'!D15 -> 207 | BA15: =((AZ15/AZ14)-1)*100 -> 37.086093 | BB15: ='[18]Inv Nom'!E15 -> 103 | BC15: =((BB15/BB14)-1)*100 -> 5.1020408 | BD15: =(AX15/AK15)*100 -> 6.6409597 | BE15: =-DL15 -> -2.3215438 | BF15: =BD15-BE15 -> 8.9625036 | BG15: =BF15-BH15 -> 6.5417666 | BH15: =BJ15+BK15 -> 2.4207369 | BI15: =BG15-BL15 -> 2.1073193 | BJ15: =DW15 -> 0.21422451 | BK15: =(BB15/AK15)*100 -> 2.2065124 | BL15: =(AZ15/AK15)*100 -> 4.4344473 | BM15: - | BN15: - | BO15: - | BP15: - | BQ15: - | BR15: - | BS15: - | BT15: - | BU15: - | BV15: ='[15]Precios M Anual'!B15 -> 26.229603 | BW15: =((BV15/BV14)-1)*100 -> -0.72286024 | BX15: ='[15]Precios M Anual'!D15 -> 22.504585 | BY15: =((BX15/BX14)-1)*100 -> -6.1803445 | BZ15: - | CA15: - | CB15: - | CC15: ='[19]TCA B64'!$B15 -> 2.2483333 | CD15: =((CC15/CC14)-1)*100 -> 4.776699 | CE15: =[19]TCA!$D15 -> 2.5 | CF15: =((CE15/CE14)-1)*100 -> 15.740741 | CG15: ='[19]TCA B64'!$I15 -> 124.3985 | CH15: =((CG15/CG14)-1)*100 -> 5.6561506 | CI15: - | CJ15: - | CK15: - | CL15: - | CM15: - | CN15: - | CO15: - | CP15: ='[15]Terminos de Int'!B15 -> 121.00424 | CQ15: ='[15]Terminos de Int'!C15 -> 9.2592593 | CR15: - | CS15: - | CT15: =[16]bp!$I15 -> 203.1 | CU15: - | CV15: - | CW15: - | CX15: - | CY15: =[16]bp!N15 -> 154.9 | CZ15: - | DA15: - | DB15: - | DC15: - | DD15: - | DE15: - | DF15: - | DG15: - | DH15: - | DI15: - | DJ15: =((CT15+CY15)/AR15)*100 -> 17.243002 | DK15: =CT15-CY15 -> 48.2 | DL15: =(DK15/AR15)*100 -> 2.3215438 | DM15: =((CT15/CT14)-1)*100 -> -26.118589 | DN15: =((CY15/CY14)-1)*100 -> -12.830613 | DO15: - | DP15: - | DQ15: - | DR15: =[20]GobFed!$X15 -> 289 | DS15: =[20]GobFed!$X84 -> 6.1910883 | DT15: =[20]GobFed!$AO15 -> 279 | DU15: =[20]GobFed!$AO84 -> 5.9768638 | DV15: =[20]GobFed!$BG15 -> 10 | DW15: =[20]GobFed!$BG84 -> 0.21422451 | DX15: - | DY15: - | DZ15: - | EA15: - | EB15: - | EC15: - | ED15: ='[20]Deuda Ext'!K15 -> 461.54455 | EE15: =(ED15/AR15)*100 -> 22.230206 | EF15: - | EG15: - | EH15: - | EI15: - | EJ15: - | EK15: - | EL15: - | EM15: - | EN15: - | EO15: - | EP15: - | EQ15: - | ER15: - | ES15: - | ET15: - | EU15: - | EV15: - | EW15: - | EX15: - | EZ15: - | FA15: - | FB15: - | FC15: - | FD15: - | FE15: - | FF15: - | FG15: - | FH15: - | FI15: - | FJ15: - | FK15: - | FL15: - | FM15: - | FN15: - | FO15: - | FP15: - | FQ15: - | FR15: - | FS15: - | FT15: - | FU15: - | FV15: - | FW15: - | FX15: - | FY15: - | FZ15: - | GA15: - | GB15: - | GC15: - | GD15: - | GE15: - | GF15: ='[21]Reservas Int'!C15 -> 13.6 | GG15: =(GF15/(AR15))*100 -> 0.65504142 | GH15: =GF15-GF14 -> -11.4 | GI15: =(GH15/AR15)*100 -> -0.54907883 | GJ15: =(GF15*CE15) -> 34 | GK15: =((GJ15/GJ14)-1)*100 -> -37.037037 | GL15: =GF15/(CY15/12) -> 1.053583
A16: 1931 | B16: ='[14]EU Pob'!C16 -> 124149000 | C16: ='[14]EU PIB'!B16 -> 950.037 | D16: ='[14]EU PIB'!C16 -> -6.4 | E16: ='[14]EU PIB'!D16 -> 77.391 | F16: ='[14]EU PIB'!E16 -> -10.278127 | G16: ='[14]EU PIB'!F16 -> 8.1461038 | H16: ='[14]EU PIB'!G16 -> -10.278127 | I16: ='[14]EU PIB'!H16 -> 623.37192 | J16: ='[14]EU INF A'!$J16 -> 45.961597 | K16: =((J16/J15)-1)*100 -> -15.470852 | L16: ='[14]EU INF A'!$L16 -> 43.157574 | M16: =((L16/L15)-1)*100 -> -13.868613 | N16: ='[14]EU INF A'!$F16 -> 63.192521 | O16: =((N16/N15)-1)*100 -> -8.9321357 | P16: ='[14]EU INF A'!$H16 -> 58.4 | Q16: =((P16/P15)-1)*100 -> -9.3167702 | R16: - | S16: - | T16: - | U16: - | V16: ='[14]EU Bal Fis'!B16 -> -0.5969 | W16: ='[14]UK Pet'!B75 -> 0.65 | X16: ='[14]UK Pet'!C75 -> -45.378151 | Y16: =[17]POBLACIÓN!$E16 -> 16839606 | Z16: =((Y16/Y15)-1)*100 -> 1.7314451 | AA16: =[17]POBLACIÓN!$F16 -> 5663222.6 | AB16: =(AA16/Y16)*100 -> 33.630374 | AC16: =[17]POBLACIÓN!$G16 -> 11176384 | AD16: =(AC16/Y16)*100 -> 66.369626 | AE16: =[17]POBLACIÓN!$M16 -> 5231182.3 | AF16: =(AE16/Y16)*100 -> 31.064754 | AG16: =[18]PIB!D16 -> 17969.259 | AH16: =[18]PIB!E16 -> 3.314359 | AI16: =[18]PIB!H16 -> 23.473422 | AJ16: =[18]PIB!I16 -> -12.538878 | AK16: =[18]PIB!B16 -> 4218 | AL16: =[18]PIB!C16 -> -9.6401028 | AM16: =(AG16*1000)/AE16 -> 3.4350283 | AN16: ='[18]PIB POT'!F16 -> 17205.695 | AO16: ='[18]PIB POT'!G16 -> 41.078913 | AP16: ='[18]PIB POT'!H16 -> 2.407151 | AQ16: =(((1+(AH16/100))/(1+(AP16/100)))-1)*100 -> 0.8858834 | AR16: =(AK16)/CC16 -> 1566.0891 | AS16: =((AR16/AR15)-1)*100 -> -24.569616 | AT16: =(AR16*1000000)/Y16 -> 93.000341 | AU16: =((AT16/AT15)-1)*100 -> -25.853423 | AV16: - | AW16: - | AX16: ='[18]Inv Nom'!C16 -> 199 | AY16: =((AX16/AX15)-1)*100 -> -35.806452 | AZ16: ='[18]Inv Nom'!D16 -> 108 | BA16: =((AZ16/AZ15)-1)*100 -> -47.826087 | BB16: ='[18]Inv Nom'!E16 -> 91 | BC16: =((BB16/BB15)-1)*100 -> -11.650485 | BD16: =(AX16/AK16)*100 -> 4.7178758 | BE16: =-DL16 -> -4.4058796 | BF16: =BD16-BE16 -> 9.1237553 | BG16: =BF16-BH16 -> 6.2788051 | BH16: =BJ16+BK16 -> 2.8449502 | BI16: =BG16-BL16 -> 3.7183499 | BJ16: =DW16 -> 0.68752963 | BK16: =(BB16/AK16)*100 -> 2.1574206 | BL16: =(AZ16/AK16)*100 -> 2.5604552 | BM16: - | BN16: - | BO16: - | BP16: - | BQ16: - | BR16: - | BS16: - | BT16: - | BU16: - | BV16: ='[15]Precios M Anual'!B16 -> 23.642322 | BW16: =((BV16/BV15)-1)*100 -> -9.863974 | BX16: ='[15]Precios M Anual'!D16 -> 18.883437 | BY16: =((BX16/BX15)-1)*100 -> -16.090713 | BZ16: - | CA16: - | CB16: - | CC16: ='[19]TCA B64'!$B16 -> 2.6933333 | CD16: =((CC16/CC15)-1)*100 -> 19.792439 | CE16: =[19]TCA!$D16 -> 2.57 | CF16: =((CE16/CE15)-1)*100 -> 2.8 | CG16: ='[19]TCA B64'!$I16 -> 110.34535 | CH16: =((CG16/CG15)-1)*100 -> -11.296881 | CI16: - | CJ16: - | CK16: - | CL16: - | CM16: - | CN16: - | CO16: - | CP16: ='[15]Terminos de Int'!B16 -> 152.9907 | CQ16: ='[15]Terminos de Int'!C16 -> 26.434159 | CR16: - | CS16: - | CT16: =[16]bp!$I16 -> 150.9 | CU16: - | CV16: - | CW16: - | CX16: - | CY16: =[16]bp!N16 -> 81.9 | CZ16: - | DA16: - | DB16: - | DC16: - | DD16: - | DE16: - | DF16: - | DG16: - | DH16: - | DI16: - | DJ16: =((CT16+CY16)/AR16)*100 -> 14.865055 | DK16: =CT16-CY16 -> 69 | DL16: =(DK16/AR16)*100 -> 4.4058796 | DM16: =((CT16/CT15)-1)*100 -> -25.701625 | DN16: =((CY16/CY15)-1)*100 -> -47.127179 | DO16: - | DP16: - | DQ16: - | DR16: =[20]GobFed!$X16 -> 256 | DS16: =[20]GobFed!$X85 -> 6.0692271 | DT16: =[20]GobFed!$AO16 -> 227 | DU16: =[20]GobFed!$AO85 -> 5.3816975 | DV16: =[20]GobFed!$BG16 -> 29 | DW16: =[20]GobFed!$BG85 -> 0.68752963 | DX16: - | DY16: - | DZ16: - | EA16: - | EB16: - | EC16: - | ED16: ='[20]Deuda Ext'!K16 -> 394.40272 | EE16: =(ED16/AR16)*100 -> 25.183926 | EF16: - | EG16: - | EH16: - | EI16: - | EJ16: - | EK16: - | EL16: - | EM16: - | EN16: - | EO16: - | EP16: - | EQ16: - | ER16: - | ES16: - | ET16: - | EU16: - | EV16: - | EW16: - | EX16: - | EZ16: - | FA16: - | FB16: - | FC16: - | FD16: - | FE16: - | FF16: - | FG16: - | FH16: - | FI16: - | FJ16: - | FK16: - | FL16: - | FM16: - | FN16: - | FO16: - | FP16: - | FQ16: - | FR16: - | FS16: - | FT16: - | FU16: - | FV16: - | FW16: - | FX16: - | FY16: - | FZ16: - | GA16: - | GB16: - | GC16: - | GD16: - | GE16: - | GF16: ='[21]Reservas Int'!C16 -> 9.7 | GG16: =(GF16/(AR16))*100 -> 0.61937727 | GH16: =GF16-GF15 -> -3.9 | GI16: =(GH16/AR16)*100 -> -0.24902798 | GJ16: =(GF16*CE16) -> 24.929 | GK16: =((GJ16/GJ15)-1)*100 -> -26.679412 | GL16: =GF16/(CY16/12) -> 1.4212454
A17: 1932 | B17: ='[14]EU Pob'!C17 -> 124949000 | C17: ='[14]EU PIB'!B17 -> 827.495 | D17: ='[14]EU PIB'!C17 -> -12.9 | E17: ='[14]EU PIB'!D17 -> 59.522 | F17: ='[14]EU PIB'!E17 -> -11.699696 | G17: ='[14]EU PIB'!F17 -> 7.1930344 | H17: ='[14]EU PIB'!G17 -> -11.699696 | I17: ='[14]EU PIB'!H17 -> 476.37036 | J17: ='[14]EU INF A'!$J17 -> 40.932642 | K17: =((J17/J16)-1)*100 -> -10.941645 | L17: ='[14]EU INF A'!$L17 -> 39.500152 | M17: =((L17/L16)-1)*100 -> -8.4745763 | N17: ='[14]EU INF A'!$F17 -> 56.682825 | O17: =((N17/N16)-1)*100 -> -10.30137 | P17: ='[14]EU INF A'!$H17 -> 52.4 | Q17: =((P17/P16)-1)*100 -> -10.273973 | R17: - | S17: - | T17: - | U17: - | V17: ='[14]EU Bal Fis'!B17 -> -4.59664 | W17: ='[14]UK Pet'!B76 -> 0.87 | X17: ='[14]UK Pet'!C76 -> 33.846154 | Y17: =[17]POBLACIÓN!$E17 -> 17131175 | Z17: =((Y17/Y16)-1)*100 -> 1.7314451 | AA17: =[17]POBLACIÓN!$F17 -> 5788527.9 | AB17: =(AA17/Y17)*100 -> 33.78944 | AC17: =[17]POBLACIÓN!$G17 -> 11342647 | AD17: =(AC17/Y17)*100 -> 66.21056 | AE17: =[17]POBLACIÓN!$M17 -> 5297389 | AF17: =(AE17/Y17)*100 -> 30.922509 | AG17: =[18]PIB!D17 -> 15289.025 | AH17: =[18]PIB!E17 -> -14.915662 | AI17: =[18]PIB!H17 -> 20.96929 | AJ17: =[18]PIB!I17 -> -10.667946 | AK17: =[18]PIB!B17 -> 3206 | AL17: =[18]PIB!C17 -> -23.992413 | AM17: =(AG17*1000)/AE17 -> 2.8861435 | AN17: ='[18]PIB POT'!F17 -> 17665.393 | AO17: ='[18]PIB POT'!G17 -> 42.17645 | AP17: ='[18]PIB POT'!H17 -> 2.6717764 | AQ17: =(((1+(AH17/100))/(1+(AP17/100)))-1)*100 -> -17.129769 | AR17: =(AK17)/CC17 -> 1013.7549 | AS17: =((AR17/AR16)-1)*100 -> -35.268374 | AT17: =(AR17*1000000)/Y17 -> 59.176032 | AU17: =((AT17/AT16)-1)*100 -> -36.370091 | AV17: - | AW17: - | AX17: ='[18]Inv Nom'!C17 -> 140 | AY17: =((AX17/AX16)-1)*100 -> -29.648241 | AZ17: ='[18]Inv Nom'!D17 -> 67 | BA17: =((AZ17/AZ16)-1)*100 -> -37.962963 | BB17: ='[18]Inv Nom'!E17 -> 73 | BC17: =((BB17/BB16)-1)*100 -> -19.78022 | BD17: =(AX17/AK17)*100 -> 4.3668122 | BE17: =-DL17 -> -3.8668122 | BF17: =BD17-BE17 -> 8.2336245 | BG17: =BF17-BH17 -> 5.9566438 | BH17: =BJ17+BK17 -> 2.2769807 | BI17: =BG17-BL17 -> 3.8668122 | BJ17: =DW17 -> 0 | BK17: =(BB17/AK17)*100 -> 2.2769807 | BL17: =(AZ17/AK17)*100 -> 2.0898316 | BM17: - | BN17: - | BO17: - | BP17: - | BQ17: - | BR17: - | BS17: - | BT17: - | BU17: - | BV17: ='[15]Precios M Anual'!B17 -> 21.144786 | BW17: =((BV17/BV16)-1)*100 -> -10.563837 | BX17: ='[15]Precios M Anual'!D17 -> 19.734043 | BY17: =((BX17/BX16)-1)*100 -> 4.5045045 | BZ17: - | CA17: - | CB17: - | CC17: ='[19]TCA B64'!$B17 -> 3.1625 | CD17: =((CC17/CC16)-1)*100 -> 17.419554 | CE17: =[19]TCA!$D17 -> 3.09 | CF17: =((CE17/CE16)-1)*100 -> 20.233463 | CG17: ='[19]TCA B64'!$I17 -> 117.33936 | CH17: =((CG17/CG16)-1)*100 -> 6.3382939 | CI17: =[19]TCA!$H17 -> 133.30249 | CK17: - | CL17: - | CM17: - | CN17: - | CO17: - | CP17: ='[15]Terminos de Int'!B17 -> 184.97715 | CQ17: ='[15]Terminos de Int'!C17 -> 20.90745 | CR17: - | CS17: - | CT17: =[16]bp!$I17 -> 96.5 | CU17: - | CV17: - | CW17: - | CX17: - | CY17: =[16]bp!N17 -> 57.3 | CZ17: - | DA17: - | DB17: - | DC17: - | DD17: - | DE17: - | DF17: - | DG17: - | DH17: - | DI17: - | DJ17: =((CT17+CY17)/AR17)*100 -> 15.171319 | DK17: =CT17-CY17 -> 39.2 | DL17: =(DK17/AR17)*100 -> 3.8668122 | DM17: =((CT17/CT16)-1)*100 -> -36.050364 | DN17: =((CY17/CY16)-1)*100 -> -30.03663 | DO17: - | DP17: - | DQ17: - | DR17: =[20]GobFed!$X17 -> 212 | DS17: =[20]GobFed!$X86 -> 6.6126014 | DT17: =[20]GobFed!$AO17 -> 212 | DU17: =[20]GobFed!$AO86 -> 6.6126014 | DV17: =[20]GobFed!$BG17 -> 0 | DW17: =[20]GobFed!$BG86 -> 0 | DX17: - | DY17: - | DZ17: - | EA17: - | EB17: - | EC17: - | ED17: ='[20]Deuda Ext'!K17 -> 340.58498 | EE17: =(ED17/AR17)*100 -> 33.596382 | EF17: - | EG17: - | EH17: - | EI17: - | EJ17: - | EK17: - | EL17: - | EM17: - | EN17: - | EO17: - | EP17: - | EQ17: - | ER17: - | ES17: - | ET17: - | EU17: - | EV17: - | EW17: - | EX17: - | EZ17: - | FA17: - | FB17: - | FC17: - | FD17: - | FE17: - | FF17: - | FG17: - | FH17: - | FI17: - | FJ17: - | FK17: - | FL17: - | FM17: - | FN17: - | FO17: - | FP17: - | FQ17: - | FR17: - | FS17: - | FT17: - | FU17: - | FV17: - | FW17: - | FX17: - | FY17: - | FZ17: - | GA17: - | GB17: - | GC17: - | GD17: - | GE17: - | GF17: ='[21]Reservas Int'!C17 -> 31.2 | GG17: =(GF17/(AR17))*100 -> 3.0776669 | GH17: =GF17-GF16 -> 21.5 | GI17: =(GH17/AR17)*100 -> 2.1208281 | GJ17: =(GF17*CE17) -> 96.408 | GK17: =((GJ17/GJ16)-1)*100 -> 286.73031 | GL17: =GF17/(CY17/12) -> 6.5340314
