Workbook
Name \A: #REF!
Name \g: #REF!
Name \S: #REF!
Name ACTIVATE: #REF!
Name ASSUMPT: #REF!
Name ASSUMPTIONS: #REF!
Name basicdata1: #REF!
Name basicdata2: #REF!
Name BCA_NGDP: [5]Q6!$E$10:$AH$10
Name BMG: [5]Q6!$E$27:$AH$27
Name BOP: #REF!
Name BXG: [5]Q6!$E$19:$AH$19
Name CAPITAL: #REF!
Name CARGO_BY_TYPE: '[6]Table No.18-Exports goods+servi'!#REF!
Name CCode: [7]Codes!$A$2
Name CENTRALG: #REF!
Name CFLOW: #REF!
Name chart1: #REF!
Name Chart11: #REF!
Name chart2: #REF!
Name Chart22: #REF!
Name COUNTER: #REF!
Name CurrVintage: [8]Current!$D$66
Name Date: [7]Current!$D$67
Name DEBT: #REF!
Name Discount_NC: [9]NPV_base!#REF!
Name DiscountRate: #REF!
Name empty: [1]Micro!#REF!
Name EX_IMP: #REF!
Name GCB_NGDP: [5]Q4!$E$19:$AH$19
Name GGB_NGDP: [5]Q4!$E$41:$AH$41
Name Grace_NC: [9]NPV_base!#REF!
Name IMPORT: #REF!
Name IN_OUT: #REF!
Name IN1_: #REF!
Name Interest_NC: [9]NPV_base!#REF!
Name InterestRate: #REF!
Name LUR: [5]Q3!$E$16:$AH$16
Name MACRO: #REF!
Name Maturity_NC: [9]NPV_base!#REF!
Name MCV: [10]Q2!$E$101:$AH$101
Name MIDDLE: #REF!
Name NGDP: [10]Q2!$E$54:$AH$54
Name NGDP_RG: [5]Q1!$E$51:$AH$51
Name OnShow: [0]!OnShow
Name PCPIG: [5]Q3!$E$26:$AH$26
Name PRICES: #REF!
Name Print_Area: #N/A
Name PSECTOR: #REF!
Name REDB1: #REF!
Name REDB2: #REF!
Name REDB3: #REF!
Name REDB4: #REF!
Name REDB5: #REF!
Name REDB6: #REF!
Name REDB7: #REF!
Name REDB8: #REF!
Name REDB9: #REF!
Name REDF1: #REF!
Name REDF2: #REF!

Sheet bp
B1: Balanza de Pagos | G1: Serie fusionada, 1939-1990 | X1: II. Presentación Nacional Financiera, 1939-1949, NAFINSA (1974, p. 365) | AP1: III. Presentación INEGI Estadísticas históricas, 1950-1981, de Banco de México, Indicadores Económicos. | BH1: IV. Presentación histórica, NAFINSA (1995, pp. 311-314 ), 1980-1995, de Banco de México, Indicadores económicos.
A2: Año | B2: Comprobación | G2: I. Cuenta corriente | H2: A. Ingresos | I2: 1. Bienes | J2: 2. Servicios | K2: 3. Renta y otros | L2: 4. Transferencias | M2: B. Egresos | N2: 1. Bienes | O2: 2. Servicios | P2: 3. Renta y otros | Q2: 4. Transferencias | R2: II. Cuenta financiera | S2: III. Derechos especiales de giro | T2: IV. Errores y omisiones | U2: V. Variación de la reserva internacional bruta (I + II + III + IV) | V2: Ajustes por valoración | X2: Año | Y2: I. Cuenta corriente | Z2: A. Ingresos | AA2: 1. Exp bienes (Incluye oro-plata) | AB2: 2. Exp. Servicios | AC2: 3. Exp: Turismo y otros servicios | AD2: 4. Transferencias | AE2: B. Egresos | AF2: 1. Imp bienes | AG2: 2. Servicios: turismo y otros servicios | AH2: 3. Imp renta y otros | AI2: 4. Transferencias | AJ2: II. Cuenta financiera | AK2: III. Derechos especiales de giro | AL2: IV. Errores y omisiones | AM2: V. Variación de la reserva internacional bruta (I + II + III + IV) | AN2: Ajustes por valoración | AP2: Año | AQ2: I. Cuenta corriente | AR2: A. Ingresos | AS2: 1. Exp bienes (Incluye oro-plata) | AT2: 2. Exp. Servicios | AU2: 3. Exp: Turismo y otros servicios | AV2: 4. Transferencias | AW2: B. Egresos | AX2: 1. Imp bienes | AY2: 2. Servicios: turismo y otros servicios | AZ2: 3. Imp renta y otros | BA2: 4. Transferencias | BB2: II. Cuenta financiera | BC2: III. Derechos especiales de giro | BD2: IV. Errores y omisiones | BE2: V. Variación de la reserva internacional bruta (I + II + III + IV) | BF2: Ajustes por valoración
BH3: Año | BI3: I. Cuenta corriente | BJ3: A. Ingresos | BK3: 1. Exp bienes | BL3: 2. Exp. Servicios | BM3: 3. Exp renta y otros | BN3: 4. Transferencias | BO3: B. Egresos | BP3: 1. Imp bienes | BQ3: 2. Servicios | BR3: 3. Imp renta y otros | BS3: 4. Transferencias | BT3: II. Cuenta financiera | BU3: III. Derechos especiales de giro | BV3: IV. Errores y omisiones | BW3: V. Variación de la reserva internacional bruta (I + II + III + IV) | BX3: Ajustes por valoración
A5: 1920 | B5: - | C5: - | D5: - | E5: - | F5: - | G5: - | H5: - | I5: =bc!B5 -> 425.4 | J5: - | K5: - | L5: - | M5: - | N5: 197.5 | O5: - | P5: - | Q5: - | R5: - | S5: - | T5: - | U5: - | V5: - | X5: 1920 | Y5: - | Z5: - | AA5: - | AB5: - | AC5: - | AD5: - | AE5: - | AF5: - | AG5: - | AH5: - | AI5: - | AJ5: - | AK5: - | AL5: - | AM5: - | AN5: - | AP5: 1920 | AQ5: - | AR5: - | AS5: - | AT5: - | AU5: - | AV5: - | AW5: - | AX5: - | AY5: - | BA5: - | BB5: - | BC5: - | BD5: - | BE5: - | BF5: - | BH5: 1920 | BI5: - | BJ5: - | BK5: - | BL5: - | BM5: - | BN5: - | BO5: - | BP5: - | BQ5: - | BR5: - | BS5: - | BT5: - | BU5: - | BV5: - | BW5: - | BX5: -
A6: 1921 | B6: - | C6: - | D6: - | E6: - | F6: - | G6: - | H6: - | I6: =bc!B6 -> 376 | J6: - | K6: - | L6: - | M6: - | N6: 241.7 | O6: - | P6: - | Q6: - | R6: - | S6: - | T6: - | U6: - | V6: - | X6: 1921 | Y6: - | Z6: - | AA6: - | AB6: - | AC6: - | AD6: - | AE6: - | AF6: - | AG6: - | AH6: - | AI6: - | AJ6: - | AK6: - | AL6: - | AM6: - | AN6: - | AP6: 1921 | AQ6: - | AR6: - | AS6: - | AT6: - | AU6: - | AV6: - | AW6: - | AX6: - | AY6: - | BA6: - | BB6: - | BC6: - | BD6: - | BE6: - | BF6: - | BH6: 1921 | BI6: - | BJ6: - | BK6: - | BL6: - | BM6: - | BN6: - | BO6: - | BP6: - | BQ6: - | BR6: - | BS6: - | BT6: - | BU6: - | BV6: - | BW6: - | BX6: -
A7: 1922 | B7: - | C7: - | D7: - | E7: - | F7: - | G7: - | H7: - | I7: =bc!B7 -> 314.1 | J7: - | K7: - | L7: - | M7: - | N7: 150.7 | O7: - | P7: - | Q7: - | R7: - | S7: - | T7: - | U7: - | V7: - | X7: 1922 | Y7: - | Z7: - | AA7: - | AB7: - | AC7: - | AD7: - | AE7: - | AF7: - | AG7: - | AH7: - | AI7: - | AJ7: - | AK7: - | AL7: - | AM7: - | AN7: - | AP7: 1922 | AQ7: - | AR7: - | AS7: - | AT7: - | AU7: - | AV7: - | AW7: - | AX7: - | AY7: - | BA7: - | BB7: - | BC7: - | BD7: - | BE7: - | BF7: - | BH7: 1922 | BI7: - | BJ7: - | BK7: - | BL7: - | BM7: - | BN7: - | BO7: - | BP7: - | BQ7: - | BR7: - | BS7: - | BT7: - | BU7: - | BV7: - | BW7: - | BX7: -
A8: 1923 | B8: - | C8: - | D8: - | E8: - | F8: - | G8: - | H8: - | I8: =bc!B8 -> 275.7 | J8: - | K8: - | L8: - | M8: - | N8: 152.9 | O8: - | P8: - | Q8: - | R8: - | S8: - | T8: - | U8: - | V8: - | X8: 1923 | Y8: - | Z8: - | AA8: - | AB8: - | AC8: - | AD8: - | AE8: - | AF8: - | AG8: - | AH8: - | AI8: - | AJ8: - | AK8: - | AL8: - | AM8: - | AN8: - | AP8: 1923 | AQ8: - | AR8: - | AS8: - | AT8: - | AU8: - | AV8: - | AW8: - | AX8: - | AY8: - | BA8: - | BB8: - | BC8: - | BD8: - | BE8: - | BF8: - | BH8: 1923 | BI8: - | BJ8: - | BK8: - | BL8: - | BM8: - | BN8: - | BO8: - | BP8: - | BQ8: - | BR8: - | BS8: - | BT8: - | BU8: - | BV8: - | BW8: - | BX8: -
A9: 1924 | B9: - | C9: - | D9: - | E9: - | F9: - | G9: - | H9: - | I9: =bc!B9 -> 297.1 | J9: - | K9: - | L9: - | M9: - | N9: 155.1 | O9: - | P9: - | Q9: - | R9: - | S9: - | T9: - | U9: - | V9: - | X9: 1924 | Y9: - | Z9: - | AA9: - | AB9: - | AC9: - | AD9: - | AE9: - | AF9: - | AG9: - | AH9: - | AI9: - | AJ9: - | AK9: - | AL9: - | AM9: - | AN9: - | AP9: 1924 | AQ9: - | AR9: - | AS9: - | AT9: - | AU9: - | AV9: - | AW9: - | AX9: - | AY9: - | BA9: - | BB9: - | BC9: - | BD9: - | BE9: - | BF9: - | BH9: 1924 | BI9: - | BJ9: - | BK9: - | BL9: - | BM9: - | BN9: - | BO9: - | BP9: - | BQ9: - | BR9: - | BS9: - | BT9: - | BU9: - | BV9: - | BW9: - | BX9: -
A10: 1925 | B10: - | C10: - | D10: - | E10: - | F10: - | G10: - | H10: - | I10: =bc!B10 -> 336 | J10: - | K10: - | L10: - | M10: - | N10: 192.6 | O10: - | P10: - | Q10: - | R10: - | S10: - | T10: - | U10: - | V10: - | X10: 1925 | Y10: - | Z10: - | AA10: - | AB10: - | AC10: - | AD10: - | AE10: - | AF10: - | AG10: - | AH10: - | AI10: - | AJ10: - | AK10: - | AL10: - | AM10: - | AN10: - | AP10: 1925 | AQ10: - | AR10: - | AS10: - | AT10: - | AU10: - | AV10: - | AW10: - | AX10: - | AY10: - | BA10: - | BB10: - | BC10: - | BD10: - | BE10: - | BF10: - | BH10: 1925 | BI10: - | BJ10: - | BK10: - | BL10: - | BM10: - | BN10: - | BO10: - | BP10: - | BQ10: - | BR10: - | BS10: - | BT10: - | BU10: - | BV10: - | BW10: - | BX10: -
A11: 1926 | B11: - | C11: - | D11: - | E11: - | F11: - | G11: - | H11: - | I11: =bc!B11 -> 334.3 | J11: - | K11: - | L11: - | M11: - | N11: 184.1 | O11: - | P11: - | Q11: - | R11: - | S11: - | T11: - | U11: - | V11: - | X11: 1926 | Y11: - | Z11: - | AA11: - | AB11: - | AC11: - | AD11: - | AE11: - | AF11: - | AG11: - | AH11: - | AI11: - | AJ11: - | AK11: - | AL11: - | AM11: - | AN11: - | AP11: 1926 | AQ11: - | AR11: - | AS11: - | AT11: - | AU11: - | AV11: - | AW11: - | AX11: - | AY11: - | BA11: - | BB11: - | BC11: - | BD11: - | BE11: - | BF11: - | BH11: 1926 | BI11: - | BJ11: - | BK11: - | BL11: - | BM11: - | BN11: - | BO11: - | BP11: - | BQ11: - | BR11: - | BS11: - | BT11: - | BU11: - | BV11: - | BW11: - | BX11: -
A12: 1927 | B12: - | C12: - | D12: - | E12: - | F12: - | G12: - | H12: - | I12: =bc!B12 -> 299.1 | J12: - | K12: - | L12: - | M12: - | N12: 163.2 | O12: - | P12: - | Q12: - | R12: - | S12: - | T12: - | U12: - | V12: - | X12: 1927 | Y12: - | Z12: - | AA12: - | AB12: - | AC12: - | AD12: - | AE12: - | AF12: - | AG12: - | AH12: - | AI12: - | AJ12: - | AK12: - | AL12: - | AM12: - | AN12: - | AP12: 1927 | AQ12: - | AR12: - | AS12: - | AT12: - | AU12: - | AV12: - | AW12: - | AX12: - | AY12: - | BA12: - | BB12: - | BC12: - | BD12: - | BE12: - | BF12: - | BH12: 1927 | BI12: - | BJ12: - | BK12: - | BL12: - | BM12: - | BN12: - | BO12: - | BP12: - | BQ12: - | BR12: - | BS12: - | BT12: - | BU12: - | BV12: - | BW12: - | BX12: -
A13: 1928 | B13: - | C13: - | D13: - | E13: - | F13: - | G13: - | H13: - | I13: =bc!B13 -> 284.6 | J13: - | K13: - | L13: - | M13: - | N13: 172.1 | O13: - | P13: - | Q13: - | R13: - | S13: - | T13: - | U13: - | V13: - | X13: 1928 | Y13: - | Z13: - | AA13: - | AB13: - | AC13: - | AD13: - | AE13: - | AF13: - | AG13: - | AH13: - | AI13: - | AJ13: - | AK13: - | AL13: - | AM13: - | AN13: - | AP13: 1928 | AQ13: - | AR13: - | AS13: - | AT13: - | AU13: - | AV13: - | AW13: - | AX13: - | AY13: - | BA13: - | BB13: - | BC13: - | BD13: - | BE13: - | BF13: - | BH13: 1928 | BI13: - | BJ13: - | BK13: - | BL13: - | BM13: - | BN13: - | BO13: - | BP13: - | BQ13: - | BR13: - | BS13: - | BT13: - | BU13: - | BV13: - | BW13: - | BX13: -
A14: 1929 | B14: - | C14: - | D14: - | E14: - | F14: - | G14: - | H14: - | I14: =bc!B14 -> 274.9 | J14: - | K14: - | L14: - | M14: - | N14: 177.7 | O14: - | P14: - | Q14: - | R14: - | S14: - | T14: - | U14: - | V14: - | X14: 1929 | Y14: - | Z14: - | AA14: - | AB14: - | AC14: - | AD14: - | AE14: - | AF14: - | AG14: - | AH14: - | AI14: - | AJ14: - | AK14: - | AL14: - | AM14: - | AN14: - | AP14: 1929 | AQ14: - | AR14: - | AS14: - | AT14: - | AU14: - | AV14: - | AW14: - | AX14: - | AY14: - | BA14: - | BB14: - | BC14: - | BD14: - | BE14: - | BF14: - | BH14: 1929 | BI14: - | BJ14: - | BK14: - | BL14: - | BM14: - | BN14: - | BO14: - | BP14: - | BQ14: - | BR14: - | BS14: - | BT14: - | BU14: - | BV14: - | BW14: - | BX14: -
A15: 1930 | B15: - | C15: - | D15: - | E15: - | F15: - | G15: - | H15: - | I15: =bc!B15 -> 203.1 | J15: - | K15: - | L15: - | M15: - | N15: 154.9 | O15: - | P15: - | Q15: - | R15: - | S15: - | T15: - | U15: - | V15: - | X15: 1930 | Y15: - | Z15: - | AA15: - | AB15: - | AC15: - | AD15: - | AE15: - | AF15: - | AG15: - | AH15: - | AI15: - | AJ15: - | AK15: - | AL15: - | AM15: - | AN15: - | AP15: 1930 | AQ15: - | AR15: - | AS15: - | AT15: - | AU15: - | AV15: - | AW15: - | AX15: - | AY15: - | BA15: - | BB15: - | BC15: - | BD15: - | BE15: - | BF15: - | BH15: 1930 | BI15: - | BJ15: - | BK15: - | BL15: - | BM15: - | BN15: - | BO15: - | BP15: - | BQ15: - | BR15: - | BS15: - | BT15: - | BU15: - | BV15: - | BW15: - | BX15: -
A16: 1931 | B16: - | C16: - | D16: - | E16: - | F16: - | G16: - | H16: - | I16: =bc!B16 -> 150.9 | J16: - | K16: - | L16: - | M16: - | N16: 81.9 | O16: - | P16: - | Q16: - | R16: - | S16: - | T16: - | U16: - | V16: - | X16: 1931 | Y16: - | Z16: - | AA16: - | AB16: - | AC16: - | AD16: - | AE16: - | AF16: - | AG16: - | AH16: - | AI16: - | AJ16: - | AK16: - | AL16: - | AM16: - | AN16: - | AP16: 1931 | AQ16: - | AR16: - | AS16: - | AT16: - | AU16: - | AV16: - | AW16: - | AX16: - | AY16: - | BA16: - | BB16: - | BC16: - | BD16: - | BE16: - | BF16: - | BH16: 1931 | BI16: - | BJ16: - | BK16: - | BL16: - | BM16: - | BN16: - | BO16: - | BP16: - | BQ16: - | BR16: - | BS16: - | BT16: - | BU16: - | BV16: - | BW16: - | BX16: -
... A23: 1938 | B23: - | C23: - | D23: - | E23: - | F23: - | G23: - | H23: - | I23: =bc!B23 -> 185.4 | J23: - | K23: - | L23: - | M23: - | N23: 109.3 | O23: - | P23: - | Q23: - | R23: - | S23: - | T23: - | U23: - | V23: - | X23: 1938 | Y23: - | Z23: - | AA23: - | AB23: - | AC23: - | AD23: - | AE23: - | AF23: - | AG23: - | AH23: - | AI23: - | AJ23: - | AK23: - | AL23: - | AM23: - | AN23: - | AP23: 1938 | AQ23: - | AR23: - | AS23: - | AT23: - | AU23: - | AV23: - | AW23: - | AX23: - | AY23: - | BA23: - | BB23: - | BC23: - | BD23: - | BE23: - | BF23: - | BH23: 1938 | BI23: - | BJ23: - | BK23: - | BL23: - | BM23: - | BN23: - | BO23: - | BP23: - | BQ23: - | BR23: - | BS23: - | BT23: - | BU23: - | BV23: - | BW23: - | BX23: -
A24: 1939 | B24: =G24+R24+T24+ S24-U24-V24 -> 1.1546319e-14 | C24: =H24-M24-G24 -> 0 | D24: =H24-I24-J24-K24-L24 -> 1.4210855e-14 | E24: =N24+O24+P24+Q24-M24 -> 0 | F24: =U24-G24-(R24+T24)-S24+V24 -> -7.1054274e-15 | G24: =Y24 -> 39.4 | H24: =Z24 -> 216.1 | I24: =AA24 -> 163.4 | J24: =AB24 -> 48.7 | K24: =AC24 -> 4 | L24: =AD24 -> 0 | M24: =AE24 -> 176.7 | N24: =AF24 -> 128.2 | ... P24: =AH24 -> 21.5 | Q24: 0 | R24: =AJ24 -> 39.5 | S24: 0 | T24: =AL24 -> -83.6 | U24: =AM24 -> -4.7 | V24: 0 | X24: 1939 | Y24: 39.4 | Z24: 216.1 | AA24: 163.4 | AB24: 48.7 | AC24: 4 | AD24: 0 | AE24: 176.7 | AF24: 128.2 | AG24: 27 | AH24: =AE24-AF24-AG24 -> 21.5 | AI24: - | AJ24: 39.5 | AK24: - | AL24: -83.6 | AM24: -4.7 | AN24: - | AP24: 1939 | AQ24: - | AR24: - | AS24: - | AT24: - | AU24: - | AV24: - | AW24: - | AX24: - | AY24: - | BA24: - | BB24: - | BC24: - | BD24: - | BE24: - | BF24: - | BH24: 1939 | BI24: - | BJ24: - | BK24: - | BL24: - | BM24: - | BN24: - | BO24: - | BP24: - | BQ24: - | BR24: - | BS24: - | BT24: - | BU24: - | BV24: - | BW24: - | BX24: -
A25: 1940 | B25: =G25+R25+T25+ S25-U25-V25 -> 3.5527137e-15 | C25: =H25-M25-G25 -> 0 | D25: =H25-I25-J25-K25-L25 -> -2.6645353e-15 | E25: =N25+O25+P25+Q25-M25 -> 0 | F25: =U25-G25-(R25+T25)-S25+V25 -> -2.6645353e-15 | G25: =Y25 -> 22.6 | H25: =Z25 -> 213.9 | I25: =AA25 -> 159.8 | J25: =AB25 -> 50.3 | K25: =AC25 -> 3.8 | L25: =AD25 -> 0 | M25: =AE25 -> 191.3 | N25: =AF25 -> 132.4 | ... P25: =AH25 -> 30.9 | Q25: 0 | R25: =AJ25 -> 2.5 | S25: 0 | T25: =AL25 -> 0.8 | U25: =AM25 -> 25.9 | V25: 0 | X25: 1940 | Y25: 22.6 | Z25: 213.9 | AA25: 159.8 | AB25: 50.3 | AC25: 3.8 | AD25: 0 | AE25: 191.3 | AF25: 132.4 | AG25: 28 | AH25: =AE25-AF25-AG25 -> 30.9 | AI25: - | AJ25: 2.5 | AK25: - | AL25: 0.8 | AM25: 25.9 | AN25: - | AP25: 1940 | AQ25: - | AR25: - | AS25: - | AT25: - | AU25: - | AV25: - | AW25: - | AX25: - | AY25: - | BA25: - | BB25: - | BC25: - | BD25: - | BE25: - | BF25: - | BH25: 1940 | BI25: - | BJ25: - | BK25: - | BL25: - | BM25: - | BN25: - | BO25: - | BP25: - | BQ25: - | BR25: - | BS25: - | BT25: - | BU25: - | BV25: - | BW25: - | BX25: -
A26: 1941 | B26: =G26+R26+T26+ S26-U26-V26 -> 2.6645353e-15 | C26: =H26-M26-G26 -> -3.5527137e-14 | D26: =H26-I26-J26-K26-L26 -> -8.437695e-15 | E26: =N26+O26+P26+Q26-M26 -> 0 | F26: =U26-G26-(R26+T26)-S26+V26 -> 0 | G26: =Y26 -> -28.9 | H26: =Z26 -> 243.2 | I26: =AA26 -> 176.5 | J26: =AB26 -> 62.8 | K26: =AC26 -> 3.9 | L26: =AD26 -> 0 | M26: =AE26 -> 272.1 | N26: =AF26 -> 199.5 | ... P26: =AH26 -> 41.3 | Q26: 0 | R26: =AJ26 -> 11.6 | S26: 0 | T26: =AL26 -> 15.1 | U26: =AM26 -> -2.2 | V26: 0 | X26: 1941 | Y26: -28.9 | Z26: 243.2 | AA26: 176.5 | AB26: 62.8 | AC26: 3.9 | AD26: 0 | AE26: 272.1 | AF26: 199.5 | AG26: 31.3 | AH26: =AE26-AF26-AG26 -> 41.3 | AI26: - | AJ26: 11.6 | AK26: - | AL26: 15.1 | AM26: -2.2 | AN26: - | AP26: 1941 | AQ26: - | AR26: - | AS26: - | AT26: - | AU26: - | AV26: - | AW26: - | AX26: - | AY26: - | BA26: - | BB26: - | BC26: - | BD26: - | BE26: - | BF26: - | BH26: 1941 | BI26: - | BJ26: - | BK26: - | BL26: - | BM26: - | BN26: - | BO26: - | BP26: - | BQ26: - | BR26: - | BS26: - | BT26: - | BU26: - | BV26: - | BW26: - | BX26: -
A27: 1942 | B27: =G27+R27+T27+ S27-U27-V27 -> 0 | C27: =H27-M27-G27 -> 0 | D27: =H27-I27-J27-K27-L27 -> 4.4408921e-15 | E27: =N27+O27+P27+Q27-M27 -> 0 | F27: =U27-G27-(R27+T27)-S27+V27 -> -3.5527137e-15 | G27: =Y27 -> 12.3 | H27: =Z27 -> 272.5 | I27: =AA27 -> 207.5 | J27: =AB27 -> 59.2 | K27: =AC27 -> 5.8 | L27: =AD27 -> 0 | M27: =AE27 -> 260.2 | N27: =AF27 -> 172.2 | ... P27: =AH27 -> 52.2 | Q27: 0 | R27: =AJ27 -> 18.2 | S27: 0 | T27: =AL27 -> 9.3 | U27: =AM27 -> 39.8 | V27: 0 | X27: 1942 | Y27: 12.3 | Z27: 272.5 | AA27: 207.5 | AB27: 59.2 | AC27: 5.8 | AD27: 0 | AE27: 260.2 | AF27: 172.2 | AG27: 35.8 | AH27: =AE27-AF27-AG27 -> 52.2 | AI27: - | AJ27: 18.2 | AK27: - | AL27: 9.3 | AM27: 39.8 | AN27: - | AP27: 1942 | AQ27: - | AR27: - | AS27: - | AT27: - | AU27: - | AV27: - | AW27: - | AX27: - | AY27: - | BA27: - | BB27: - | BC27: - | BD27: - | BE27: - | BF27: - | BH27: 1942 | BI27: - | BJ27: - | BK27: - | BL27: - | BM27: - | BN27: - | BO27: - | BP27: - | BQ27: - | BR27: - | BS27: - | BT27: - | BU27: - | BV27: - | BW27: - | BX27: -
A28: 1943 | B28: =G28+R28+T28+ S28-U28-V28 -> 0 | C28: =H28-M28-G28 -> 0 | D28: =H28-I28-J28-K28-L28 -> 5.6843419e-14 | E28: =N28+O28+P28+Q28-M28 -> 0 | F28: =U28-G28-(R28+T28)-S28+V28 -> -1.0658141e-14 | G28: =Y28 -> 109.8 | H28: =Z28 -> 410.1 | I28: =AA28 -> 291.6 | J28: =AB28 -> 73 | K28: =AC28 -> 9.2 | L28: =AD28 -> 36.3 | M28: =AE28 -> 300.3 | N28: =AF28 -> 212.2 | ... P28: =AH28 -> 50.4 | Q28: 0 | R28: =AJ28 -> -4.7 | S28: 0 | T28: =AL28 -> 35.1 | U28: =AM28 -> 140.2 | V28: 0 | X28: 1943 | Y28: 109.8 | Z28: 410.1 | AA28: 291.6 | AB28: 73 | AC28: 9.2 | AD28: 36.3 | AE28: 300.3 | AF28: 212.2 | AG28: 37.7 | AH28: =AE28-AF28-AG28 -> 50.4 | AI28: - | AJ28: -4.7 | AK28: - | AL28: 35.1 | AM28: 140.2 | AN28: - | AP28: 1943 | AQ28: - | AR28: - | AS28: - | AT28: - | AU28: - | AV28: - | AW28: - | AX28: - | AY28: - | BA28: - | BB28: - | BC28: - | BD28: - | BE28: - | BF28: - | BH28: 1943 | BI28: - | BJ28: - | BK28: - | BL28: - | BM28: - | BN28: - | BO28: - | BP28: - | BQ28: - | BR28: - | BS28: - | BT28: - | BU28: - | BV28: - | BW28: - | BX28: -
A29: 1944 | B29: =G29+R29+T29+ S29-U29-V29 -> 0 | C29: =H29-M29-G29 -> 0 | D29: =H29-I29-J29-K29-L29 -> 0 | E29: =N29+O29+P29+Q29-M29 -> 0 | F29: =U29-G29-(R29+T29)-S29+V29 -> 0 | G29: =Y29 -> 32.7 | H29: =Z29 -> 432.2 | I29: =AA29 -> 283.7 | J29: =AB29 -> 86 | K29: =AC29 -> 12.1 | L29: =AD29 -> 50.4 | M29: =AE29 -> 399.5 | N29: =AF29 -> 311 | ... P29: =AH29 -> 45 | Q29: 0 | R29: =AJ29 -> 28.5 | S29: 0 | T29: =AL29 -> -23.5 | U29: =AM29 -> 37.7 | V29: 0 | X29: 1944 | Y29: 32.7 | Z29: 432.2 | AA29: 283.7 | AB29: 86 | AC29: 12.1 | AD29: 50.4 | AE29: 399.5 | AF29: 311 | AG29: 43.5 | AH29: =AE29-AF29-AG29 -> 45 | AI29: - | AJ29: 28.5 | AK29: - | AL29: -23.5 | AM29: 37.7 | AN29: - | AP29: 1944 | AQ29: - | AR29: - | AS29: - | AT29: - | AU29: - | AV29: - | AW29: - | AX29: - | AY29: - | BA29: - | BB29: - | BC29: - | BD29: - | BE29: - | BF29: - | BH29: 1944 | BI29: - | BJ29: - | BK29: - | BL29: - | BM29: - | BN29: - | BO29: - | BP29: - | BQ29: - | BR29: - | BS29: - | BT29: - | BU29: - | BV29: - | BW29: - | BX29: -
A30: 1945 | B30: =G30+R30+T30+ S30-U30-V30 -> 0 | C30: =H30-M30-G30 -> -3.5527137e-14 | D30: =H30-I30-J30-K30-L30 -> 0 | E30: =N30+O30+P30+Q30-M30 -> 0 | F30: =U30-G30-(R30+T30)-S30+V30 -> 1.4210855e-14 | G30: =Y30 -> 22.1 | H30: =Z30 -> 500.7 | I30: =AA30 -> 320.8 | J30: =AB30 -> 110.7 | K30: =AC30 -> 14.1 | L30: =AD30 -> 55.1 | M30: =AE30 -> 478.6 | N30: =AF30 -> 372.5 | ... P30: =AH30 -> 46.3 | Q30: 0 | R30: =AJ30 -> 7.6 | S30: 0 | T30: =AL30 -> 61.7 | U30: =AM30 -> 91.4 | V30: 0 | X30: 1945 | Y30: 22.1 | Z30: 500.7 | AA30: 320.8 | AB30: 110.7 | AC30: 14.1 | AD30: 55.1 | AE30: 478.6 | AF30: 372.5 | AG30: 59.8 | AH30: =AE30-AF30-AG30 -> 46.3 | AI30: - | AJ30: 7.6 | AK30: - | AL30: 61.7 | AM30: 91.4 | AN30: - | AP30: 1945 | AQ30: - | AR30: - | AS30: - | AT30: - | AU30: - | AV30: - | AW30: - | AX30: - | AY30: - | BA30: - | BB30: - | BC30: - | BD30: - | BE30: - | BF30: - | BH30: 1945 | BI30: - | BJ30: - | BK30: - | BL30: - | BM30: - | BN30: - | BO30: - | BP30: - | BQ30: - | BR30: - | BS30: - | BT30: - | BU30: - | BV30: - | BW30: - | BX30: -
A31: 1946 | B31: =G31+R31+T31+ S31-U31-V31 -> 1.4210855e-14 | C31: =H31-M31-G31 -> 0 | D31: =H31-I31-J31-K31-L31 -> 0 | E31: =N31+O31+P31+Q31-M31 -> 0 | F31: =U31-G31-(R31+T31)-S31+V31 -> 0 | G31: =Y31 -> -160 | H31: =Z31 -> 570.1 | I31: =AA31 -> 368.5 | J31: =AB31 -> 151.6 | K31: =AC31 -> 16.1 | L31: =AD31 -> 33.9 | M31: =AE31 -> 730.1 | N31: =AF31 -> 600.6 | ... P31: =AH31 -> 64.7 | Q31: 0 | R31: =AJ31 -> 35.9 | S31: 0 | T31: =AL31 -> 23.7 | U31: =AM31 -> -100.4 | V31: 0 | X31: 1946 | Y31: -160 | Z31: 570.1 | AA31: 368.5 | AB31: 151.6 | AC31: 16.1 | AD31: 33.9 | AE31: 730.1 | AF31: 600.6 | AG31: 64.8 | AH31: =AE31-AF31-AG31 -> 64.7 | AI31: - | AJ31: 35.9 | AK31: - | AL31: 23.7 | AM31: -100.4 | AN31: - | AP31: 1946 | AQ31: - | AR31: - | AS31: - | AT31: - | AU31: - | AV31: - | AW31: - | AX31: - | AY31: - | BA31: - | BB31: - | BC31: - | BD31: - | BE31: - | BF31: - | BH31: 1946 | BI31: - | BJ31: - | BK31: - | BL31: - | BM31: - | BN31: - | BO31: - | BP31: - | BQ31: - | BR31: - | BS31: - | BT31: - | BU31: - | BV31: - | BW31: - | BX31: -
A32: 1947 | B32: =G32+R32+T32+ S32-U32-V32 -> 0 | C32: =H32-M32-G32 -> 0 | D32: =H32-I32-J32-K32-L32 -> -3.1974423e-14 | E32: =N32+O32+P32+Q32-M32 -> 0 | F32: =U32-G32-(R32+T32)-S32+V32 -> 0 | G32: =Y32 -> -147 | H32: =Z32 -> 713.9 | I32: =AA32 -> 483 | J32: =AB32 -> 147.3 | K32: =AC32 -> 54.4 | L32: =AD32 -> 29.2 | M32: =AE32 -> 860.9 | N32: =AF32 -> 720.3 | ... P32: =AH32 -> 75.6 | Q32: 0 | R32: =AJ32 -> 51.6 | S32: 0 | T32: =AL32 -> -15.1 | U32: =AM32 -> -110.5 | V32: 0 | X32: 1947 | Y32: -147 | Z32: 713.9 | AA32: 483 | AB32: 147.3 | AC32: 54.4 | AD32: 29.2 | AE32: 860.9 | AF32: 720.3 | AG32: 65 | AH32: =AE32-AF32-AG32 -> 75.6 | AI32: - | AJ32: 51.6 | AK32: - | AL32: -15.1 | AM32: -110.5 | AN32: - | AP32: 1947 | AQ32: - | AR32: - | AS32: - | AT32: - | AU32: - | AV32: - | AW32: - | AX32: - | AY32: - | BA32: - | BB32: - | BC32: - | BD32: - | BE32: - | BF32: - | BH32: 1947 | BI32: - | BJ32: - | BK32: - | BL32: - | BM32: - | BN32: - | BO32: - | BP32: - | BQ32: - | BR32: - | BS32: - | BT32: - | BU32: - | BV32: - | BW32: - | BX32: -
A33: 1948 | B33: =G33+R33+T33+ S33-U33-V33 -> -7.1054274e-15 | C33: =H33-M33-G33 -> 0 | D33: =H33-I33-J33-K33-L33 -> 0 | E33: =N33+O33+P33+Q33-M33 -> 0 | F33: =U33-G33-(R33+T33)-S33+V33 -> 0 | G33: =Y33 -> -49.6 | H33: =Z33 -> 715.5 | I33: =AA33 -> 473.1 | J33: =AB33 -> 194.7 | K33: =AC33 -> 26.1 | L33: =AD33 -> 21.6 | M33: =AE33 -> 765.1 | N33: =AF33 -> 591.4 | ... P33: =AH33 -> 82.6 | Q33: 0 | R33: =AJ33 -> 17.2 | S33: 0 | T33: =AL33 -> -8.2 | U33: =AM33 -> -40.6 | V33: 0 | X33: 1948 | Y33: -49.6 | Z33: 715.5 | AA33: 473.1 | AB33: 194.7 | AC33: 26.1 | AD33: 21.6 | AE33: 765.1 | AF33: 591.4 | AG33: 91.1 | AH33: =AE33-AF33-AG33 -> 82.6 | AI33: - | AJ33: 17.2 | AK33: - | AL33: -8.2 | AM33: -40.6 | AN33: - | AP33: 1948 | AQ33: - | AR33: - | AS33: - | AT33: - | AU33: - | AV33: - | AW33: - | AX33: - | AY33: - | BA33: - | BB33: - | BC33: - | BD33: - | BE33: - | BF33: - | BH33: 1948 | BI33: - | BJ33: - | BK33: - | BL33: - | BM33: - | BN33: - | BO33: - | BP33: - | BQ33: - | BR33: - | BS33: - | BT33: - | BU33: - | BV33: - | BW33: - | BX33: -
A34: 1949 | B34: =G34+R34+T34+ S34-U34-V34 -> -7.1054274e-15 | C34: =H34-M34-G34 -> 0 | D34: =H34-I34-J34-K34-L34 -> 3.5527137e-14 | E34: =N34+O34+P34+Q34-M34 -> 0 | F34: =U34-G34-(R34+T34)-S34+V34 -> 0 | G34: =Y34 -> 72.5 | H34: =Z34 -> 701.1 | I34: =AA34 -> 455.9 | J34: =AB34 -> 186.4 | K34: =AC34 -> 41.2 | L34: =AD34 -> 17.6 | M34: =AE34 -> 628.6 | N34: =AF34 -> 514.4 | ... P34: =AH34 -> 59.6 | Q34: 0 | R34: =AJ34 -> 17.6 | S34: 0 | T34: =AL34 -> -45.6 | U34: =AM34 -> 44.5 | V34: 0 | X34: 1949 | Y34: 72.5 | Z34: 701.1 | AA34: 455.9 | AB34: 186.4 | AC34: 41.2 | AD34: 17.6 | AE34: 628.6 | AF34: 514.4 | AG34: 54.6 | AH34: =AE34-AF34-AG34 -> 59.6 | AI34: - | AJ34: 17.6 | AK34: - | AL34: -45.6 | AM34: 44.5 | AN34: - | AP34: 1949 | AQ34: - | AR34: - | AS34: - | AT34: - | AU34: - | AV34: - | AW34: - | AX34: - | AY34: - | BA34: - | BB34: - | BC34: - | BD34: - | BE34: - | BF34: - | BH34: 1949 | BI34: - | BJ34: - | BK34: - | BL34: - | BM34: - | BN34: - | BO34: - | BP34: - | BQ34: - | BR34: - | BS34: - | BT34: - | BU34: - | BV34: - | BW34: - | BX34: -
A35: 1950 | B35: =G35+R35+T35+ S35-U35-V35 -> -2.8421709e-14 | C35: =H35-M35-G35 -> 0 | D35: =H35-I35-J35-K35-L35 -> 0 | E35: =N35+O35+P35+Q35-M35 -> 0 | F35: =U35-G35-(R35+T35)-S35+V35 -> 1.4210855e-14 | G35: =AQ35 -> 163.1 | H35: =AR35 -> 994.1 | I35: =AS35 -> 699.4 | J35: =AT35 -> 232.8 | K35: =AU35 -> 23.4 | L35: =AV35 -> 38.5 | M35: =AW35 -> 831 | N35: =AX35 -> 556.4 | ... U35: =BE35 -> 171.9 | V35: 0 | X35: 1950 | Y35: - | Z35: - | AA35: - | AB35: - | AC35: - | AD35: - | AE35: - | AF35: - | AG35: - | AH35: - | AI35: - | AJ35: - | AK35: - | AL35: - | AM35: - | AN35: - | AP35: 1950 | AQ35: 163.1 | AR35: 994.1 | AS35: 699.4 | AT35: 232.8 | AU35: 23.4 | AV35: 38.5 | AW35: 831 | AX35: 556.4 | AY35: 196.7 | AZ35: 72.4 | BA35: 5.5 | BB35: 53 | BC35: 0 | BD35: -44.2 | BE35: 171.9 | BF35: - | BH35: 1950 | BI35: - | BJ35: - | BK35: - | BL35: - | BM35: - | BN35: - | BO35: - | BP35: - | BQ35: - | BR35: - | BS35: - | BT35: - | BU35: - | BV35: - | BW35: - | BX35: -
A36: 1951 | B36: =G36+R36+T36+ S36-U36-V36 -> 0.1 | C36: =H36-M36-G36 -> 0.1 | D36: =H36-I36-J36-K36-L36 -> 0.1 | E36: =N36+O36+P36+Q36-M36 -> 0.1 | F36: =U36-G36-(R36+T36)-S36+V36 -> -0.1 | G36: =AQ36 -> -203.3 | H36: =AR36 -> 1042.6 | I36: =AS36 -> 720.1 | J36: =AT36 -> 259.2 | K36: =AU36 -> 22.3 | L36: =AV36 -> 40.9 | M36: =AW36 -> 1245.8 | N36: =AX36 -> 936 | ... U36: =BE36 -> -7.6 | V36: 0 | X36: 1951 | Y36: - | Z36: - | AA36: - | AB36: - | AC36: - | AD36: - | AE36: - | AF36: - | AG36: - | AH36: - | AI36: - | AJ36: - | AK36: - | AL36: - | AM36: - | AN36: - | AP36: 1951 | AQ36: -203.3 | AR36: 1042.6 | AS36: 720.1 | AT36: 259.2 | AU36: 22.3 | AV36: 40.9 | AW36: 1245.8 | AX36: 936 | AY36: 223.4 | AZ36: 80.8 | BA36: 5.7 | BB36: 55.2 | BC36: 0 | BD36: 140.6 | BE36: -7.6 | BF36: - | BH36: 1951 | BI36: - | BJ36: - | BK36: - | BL36: - | BM36: - | BN36: - | BO36: - | BP36: - | BQ36: - | BR36: - | BS36: - | BT36: - | BU36: - | BV36: - | BW36: - | BX36: -
A37: 1952 | B37: =G37+R37+T37+ S37-U37-V37 -> 0.1 | C37: =H37-M37-G37 -> -0.1 | D37: =H37-I37-J37-K37-L37 -> -0.1 | E37: =N37+O37+P37+Q37-M37 -> -0.1 | F37: =U37-G37-(R37+T37)-S37+V37 -> -0.1 | G37: =AQ37 -> -213.1 | H37: =AR37 -> 1070.8 | I37: =AS37 -> 729.4 | J37: =AT37 -> 278 | K37: =AU37 -> 27.1 | L37: =AV37 -> 36.4 | M37: =AW37 -> 1284 | N37: =AX37 -> 945.7 | ... U37: =BE37 -> -20.6 | V37: 0 | X37: 1952 | Y37: - | Z37: - | AA37: - | AB37: - | AC37: - | AD37: - | AE37: - | AF37: - | AG37: - | AH37: - | AI37: - | AJ37: - | AK37: - | AL37: - | AM37: - | AN37: - | AP37: 1952 | AQ37: -213.1 | AR37: 1070.8 | AS37: 729.4 | AT37: 278 | AU37: 27.1 | AV37: 36.4 | AW37: 1284 | AX37: 945.7 | AY37: 233.2 | AZ37: 99.2 | BA37: 5.8 | BB37: 35.4 | BC37: 0 | BD37: 157.2 | BE37: -20.6 | BF37: - | BH37: 1952 | BI37: - | BJ37: - | BK37: - | BL37: - | BM37: - | BN37: - | BO37: - | BP37: - | BQ37: - | BR37: - | BS37: - | BT37: - | BU37: - | BV37: - | BW37: - | BX37: -
A38: 1953 | B38: =G38+R38+T38+ S38-U38-V38 -> 0.1 | C38: =H38-M38-G38 -> -0.1 | D38: =H38-I38-J38-K38-L38 -> -0.1 | E38: =N38+O38+P38+Q38-M38 -> -0.1 | F38: =U38-G38-(R38+T38)-S38+V38 -> -0.1 | G38: =AQ38 -> -204.4 | H38: =AR38 -> 1016.1 | I38: =AS38 -> 638.1 | J38: =AT38 -> 310.6 | K38: =AU38 -> 25.5 | L38: =AV38 -> 42 | M38: =AW38 -> 1220.6 | N38: =AX38 -> 835.8 | ... U38: =BE38 -> -41.8 | V38: 0 | X38: 1953 | Y38: - | Z38: - | AA38: - | AB38: - | AC38: - | AD38: - | AE38: - | AF38: - | AG38: - | AH38: - | AI38: - | AJ38: - | AK38: - | AL38: - | AM38: - | AN38: - | AP38: 1953 | AQ38: -204.4 | AR38: 1016.1 | AS38: 638.1 | AT38: 310.6 | AU38: 25.5 | AV38: 42 | AW38: 1220.6 | AX38: 835.8 | AY38: 265 | AZ38: 112.7 | BA38: 7 | BB38: 35.2 | BC38: 0 | BD38: 127.5 | BE38: -41.8 | BF38: - | BH38: 1953 | BI38: - | BJ38: - | BK38: - | BL38: - | BM38: - | BN38: - | BO38: - | BP38: - | BQ38: - | BR38: - | BS38: - | BT38: - | BU38: - | BV38: - | BW38: - | BX38: -
A39: 1954 | B39: =G39+R39+T39+ S39-U39-V39 -> -0.1 | C39: =H39-M39-G39 -> 0 | D39: =H39-I39-J39-K39-L39 -> 1.1368684e-13 | E39: =N39+O39+P39+Q39-M39 -> 0 | F39: =U39-G39-(R39+T39)-S39+V39 -> 0.1 | G39: =AQ39 -> -227.5 | H39: =AR39 -> 1092 | I39: =AS39 -> 674.1 | J39: =AT39 -> 332.4 | K39: =AU39 -> 48 | L39: =AV39 -> 37.5 | M39: =AW39 -> 1319.5 | N39: =AX39 -> 894.3 | ... U39: =BE39 -> -26 | V39: 0 | X39: 1954 | Y39: - | Z39: - | AA39: - | AB39: - | AC39: - | AD39: - | AE39: - | AF39: - | AG39: - | AH39: - | AI39: - | AJ39: - | AK39: - | AL39: - | AM39: - | AN39: - | AP39: 1954 | AQ39: -227.5 | AR39: 1092 | AS39: 674.1 | AT39: 332.4 | AU39: 48 | AV39: 37.5 | AW39: 1319.5 | AX39: 894.3 | AY39: 295.7 | AZ39: 116.9 | BA39: 12.6 | BB39: 28.9 | BC39: 0 | BD39: 172.5 | BE39: -26 | BF39: - | BH39: 1954 | BI39: - | BJ39: - | BK39: - | BL39: - | BM39: - | BN39: - | BO39: - | BP39: - | BQ39: - | BR39: - | BS39: - | BT39: - | BU39: - | BV39: - | BW39: - | BX39: -
A40: 1955 | B40: =G40+R40+T40+ S40-U40-V40 -> 0.1 | C40: =H40-M40-G40 -> 4.5519144e-14 | D40: =H40-I40-J40-K40-L40 -> -0.1 | E40: =N40+O40+P40+Q40-M40 -> 0.1 | F40: =U40-G40-(R40+T40)-S40+V40 -> -0.1 | G40: =AQ40 -> 1.7 | H40: =AR40 -> 1329 | I40: =AS40 -> 859.5 | J40: =AT40 -> 379.8 | K40: =AU40 -> 57.7 | L40: =AV40 -> 32.1 | M40: =AW40 -> 1327.3 | N40: =AX40 -> 883.9 | ... U40: =BE40 -> 201.5 | V40: 0 | X40: 1955 | Y40: - | Z40: - | AA40: - | AB40: - | AC40: - | AD40: - | AE40: - | AF40: - | AG40: - | AH40: - | AI40: - | AJ40: - | AK40: - | AL40: - | AM40: - | AN40: - | AP40: 1955 | AQ40: 1.7 | AR40: 1329 | AS40: 859.5 | AT40: 379.8 | AU40: 57.7 | AV40: 32.1 | AW40: 1327.3 | AX40: 883.9 | AY40: 291.2 | AZ40: 143.5 | BA40: 8.8 | BB40: 163.2 | BC40: 0 | BD40: 36.7 | BE40: 201.5 | BF40: - | BH40: 1955 | BI40: - | BJ40: - | BK40: - | BL40: - | BM40: - | BN40: - | BO40: - | BP40: - | BQ40: - | BR40: - | BS40: - | BT40: - | BU40: - | BV40: - | BW40: - | BX40: -
A41: 1956 | B41: =G41+R41+T41+ S41-U41-V41 -> 0.1 | C41: =H41-M41-G41 -> 0 | D41: =H41-I41-J41-K41-L41 -> -0.1 | E41: =N41+O41+P41+Q41-M41 -> -0.1 | F41: =U41-G41-(R41+T41)-S41+V41 -> -0.1 | G41: =AQ41 -> -183.1 | H41: =AR41 -> 1395.2 | I41: =AS41 -> 874.6 | J41: =AT41 -> 411.5 | K41: =AU41 -> 63.4 | L41: =AV41 -> 45.8 | M41: =AW41 -> 1578.3 | N41: =AX41 -> 1071.6 | ... U41: =BE41 -> 61.2 | V41: 0 | X41: 1956 | Y41: - | Z41: - | AA41: - | AB41: - | AC41: - | AD41: - | AE41: - | AF41: - | AG41: - | AH41: - | AI41: - | AJ41: - | AK41: - | AL41: - | AM41: - | AN41: - | AP41: 1956 | AQ41: -183.1 | AR41: 1395.2 | AS41: 874.6 | AT41: 411.5 | AU41: 63.4 | AV41: 45.8 | AW41: 1578.3 | AX41: 1071.6 | AY41: 328 | AZ41: 169.7 | BA41: 8.9 | BB41: 82.6 | BC41: 0 | BD41: 161.8 | BE41: 61.2 | BF41: - | BH41: 1956 | BI41: - | BJ41: - | BK41: - | BL41: - | BM41: - | BN41: - | BO41: - | BP41: - | BQ41: - | BR41: - | BS41: - | BT41: - | BU41: - | BV41: - | BW41: - | BX41: -
A42: 1957 | B42: =G42+R42+T42+ S42-U42-V42 -> -0.1 | C42: =H42-M42-G42 -> 0.1 | D42: =H42-I42-J42-K42-L42 -> 0.1 | E42: =N42+O42+P42+Q42-M42 -> 0 | F42: =U42-G42-(R42+T42)-S42+V42 -> 0.1 | G42: =AQ42 -> -359.9 | H42: =AR42 -> 1326.9 | I42: =AS42 -> 777.4 | J42: =AT42 -> 442.1 | K42: =AU42 -> 66.1 | L42: =AV42 -> 41.2 | M42: =AW42 -> 1686.7 | N42: =AX42 -> 1161.5 | ... U42: =BE42 -> -13.5 | V42: 0 | X42: 1957 | Y42: - | Z42: - | AA42: - | AB42: - | AC42: - | AD42: - | AE42: - | AF42: - | AG42: - | AH42: - | AI42: - | AJ42: - | AK42: - | AL42: - | AM42: - | AN42: - | AP42: 1957 | AQ42: -359.9 | AR42: 1326.9 | AS42: 777.4 | AT42: 442.1 | AU42: 66.1 | AV42: 41.2 | AW42: 1686.7 | AX42: 1161.5 | AY42: 353.5 | AZ42: 166.9 | BA42: 4.8 | BB42: 163.7 | BC42: 0 | BD42: 182.6 | BE42: -13.5 | BF42: - | BH42: 1957 | BI42: - | BJ42: - | BK42: - | BL42: - | BM42: - | BN42: - | BO42: - | BP42: - | BQ42: - | BR42: - | BS42: - | BT42: - | BU42: - | BV42: - | BW42: - | BX42: -
A43: 1958 | B43: =G43+R43+T43+ S43-U43-V43 -> -0.1 | C43: =H43-M43-G43 -> 0 | D43: =H43-I43-J43-K43-L43 -> -7.8159701e-14 | E43: =N43+O43+P43+Q43-M43 -> 0.1 | F43: =U43-G43-(R43+T43)-S43+V43 -> 0.1 | G43: =AQ43 -> -385.5 | H43: =AR43 -> 1320.8 | I43: =AS43 -> 758.2 | J43: =AT43 -> 449.7 | K43: =AU43 -> 68.5 | L43: =AV43 -> 44.4 | M43: =AW43 -> 1706.3 | N43: =AX43 -> 1164.9 | ... U43: =BE43 -> -77.2 | V43: 0 | X43: 1958 | Y43: - | Z43: - | AA43: - | AB43: - | AC43: - | AD43: - | AE43: - | AF43: - | AG43: - | AH43: - | AI43: - | AJ43: - | AK43: - | AL43: - | AM43: - | AN43: - | AP43: 1958 | AQ43: -385.5 | AR43: 1320.8 | AS43: 758.2 | AT43: 449.7 | AU43: 68.5 | AV43: 44.4 | AW43: 1706.3 | AX43: 1164.9 | AY43: 352.3 | AZ43: 182.9 | BA43: 6.3 | BB43: 98.7 | BC43: 0 | BD43: 209.5 | BE43: -77.2 | BF43: - | BH43: 1958 | BI43: - | BJ43: - | BK43: - | BL43: - | BM43: - | BN43: - | BO43: - | BP43: - | BQ43: - | BR43: - | BS43: - | BT43: - | BU43: - | BV43: - | BW43: - | BX43: -
A44: 1959 | B44: =G44+R44+T44+ S44-U44-V44 -> 1.4210855e-14 | C44: =H44-M44-G44 -> 0 | D44: =H44-I44-J44-K44-L44 -> 0 | E44: =N44+O44+P44+Q44-M44 -> -0.1 | F44: =U44-G44-(R44+T44)-S44+V44 -> 0 | G44: =AQ44 -> -232.1 | H44: =AR44 -> 1402.7 | I44: =AS44 -> 780.7 | J44: =AT44 -> 499.1 | K44: =AU44 -> 75.8 | L44: =AV44 -> 47.1 | M44: =AW44 -> 1634.8 | N44: =AX44 -> 1035.3 | ... U44: =BE44 -> 56 | V44: 0 | X44: 1959 | Y44: - | Z44: - | AA44: - | AB44: - | AC44: - | AD44: - | AE44: - | AF44: - | AG44: - | AH44: - | AI44: - | AJ44: - | AK44: - | AL44: - | AM44: - | AN44: - | AP44: 1959 | AQ44: -232.1 | AR44: 1402.7 | AS44: 780.7 | AT44: 499.1 | AU44: 75.8 | AV44: 47.1 | AW44: 1634.8 | AX44: 1035.3 | AY44: 380.7 | AZ44: 210.1 | BA44: 8.6 | BB44: 114.8 | BC44: 0 | BD44: 173.3 | BE44: 56 | BF44: - | BH44: 1959 | BI44: - | BJ44: - | BK44: - | BL44: - | BM44: - | BN44: - | BO44: - | BP44: - | BQ44: - | BR44: - | BS44: - | BT44: - | BU44: - | BV44: - | BW44: - | BX44: -
A45: 1960 | B45: =G45+R45+T45+ S45-U45-V45 -> 3.375078e-14 | C45: =H45-M45-G45 -> 0 | D45: =H45-I45-J45-K45-L45 -> -0.1 | E45: =N45+O45+P45+Q45-M45 -> 0 | F45: =U45-G45-(R45+T45)-S45+V45 -> -5.6843419e-14 | G45: =AQ45 -> -419.7 | H45: =AR45 -> 1444 | I45: =AS45 -> 805.7 | J45: =AT45 -> 518.2 | K45: =AU45 -> 71.3 | L45: =AV45 -> 48.9 | M45: =AW45 -> 1863.7 | N45: =AX45 -> 1211.3 | ... U45: =BE45 -> -8.6 | V45: 0 | X45: 1960 | Y45: - | Z45: - | AA45: - | AB45: - | AC45: - | AD45: - | AE45: - | AF45: - | AG45: - | AH45: - | AI45: - | AJ45: - | AK45: - | AL45: - | AM45: - | AN45: - | AP45: 1960 | AQ45: -419.7 | AR45: 1444 | AS45: 805.7 | AT45: 518.2 | AU45: 71.3 | AV45: 48.9 | AW45: 1863.7 | AX45: 1211.3 | AY45: 398.9 | AZ45: 237.6 | BA45: 15.9 | BB45: 275.6 | BC45: 0 | BD45: 135.5 | BE45: -8.6 | BF45: - | BH45: 1960 | BI45: - | BJ45: - | BK45: - | BL45: - | BM45: - | BN45: - | BO45: - | BP45: - | BQ45: - | BR45: - | BS45: - | BT45: - | BU45: - | BV45: - | BW45: - | BX45: -
A46: 1961 | B46: =G46+R46+T46+ S46-U46-V46 -> 1.4210855e-14 | C46: =H46-M46-G46 -> 0 | D46: =H46-I46-J46-K46-L46 -> -0.1 | E46: =N46+O46+P46+Q46-M46 -> -0.1 | F46: =U46-G46-(R46+T46)-S46+V46 -> 0 | G46: =AQ46 -> -343.7 | H46: =AR46 -> 1508.5 | I46: =AS46 -> 842.8 | J46: =AT46 -> 545.4 | K46: =AU46 -> 75.1 | L46: =AV46 -> 45.3 | M46: =AW46 -> 1852.2 | N46: =AX46 -> 1165.2 | ... U46: =BE46 -> -21.5 | V46: 0 | X46: 1961 | Y46: - | Z46: - | AA46: - | AB46: - | AC46: - | AD46: - | AE46: - | AF46: - | AG46: - | AH46: - | AI46: - | AJ46: - | AK46: - | AL46: - | AM46: - | AN46: - | AP46: 1961 | AQ46: -343.7 | AR46: 1508.5 | AS46: 842.8 | AT46: 545.4 | AU46: 75.1 | AV46: 45.3 | AW46: 1852.2 | AX46: 1165.2 | AY46: 424.9 | AZ46: 238 | BA46: 24 | BB46: 217.4 | BC46: 0 | BD46: 104.8 | BE46: -21.5 | BF46: - | BH46: 1961 | BI46: - | BJ46: - | BK46: - | BL46: - | BM46: - | BN46: - | BO46: - | BP46: - | BQ46: - | BR46: - | BS46: - | BT46: - | BU46: - | BV46: - | BW46: - | BX46: -
... A64: 1979 | B64: =G64+R64+T64+ S64-U64-V64 -> -1 | C64: =H64-M64-G64 -> 0 | D64: =H64-I64-J64-K64-L64 -> 7 | E64: =N64+O64+P64+Q64-M64 -> 0 | F64: =U64-G64-(R64+T64)-S64+V64 -> 1 | G64: =AQ64 -> -4870.5 | H64: =AR64 -> 16263.5 | I64: =AS64 -> 9943.3 | J64: =AT64 -> 4675.2 | K64: =AU64 -> 1381.6 | L64: =AV64 -> 256.4 | M64: =AW64 -> 21134 | N64: =AX64 -> 12131.5 | ... U64: =BE64 -> 419 | V64: 1 | X64: 1979 | Y64: - | Z64: - | AA64: - | AB64: - | AC64: - | AD64: - | AE64: - | AF64: - | AG64: - | AH64: - | AI64: - | AJ64: - | AK64: - | AL64: - | AM64: - | AN64: - | AP64: 1979 | AQ64: -4870.5 | AR64: 16263.5 | AS64: 9943.3 | AT64: 4675.2 | AU64: 1381.6 | AV64: 256.4 | AW64: 21134 | AX64: 12131.5 | AY64: 4051.1 | AZ64: 4918.9 | BA64: 32.5 | BB64: 4533.3 | BC64: 70 | BD64: 686.2 | BE64: 419 | BF64: - | BH64: 1979 | BI64: - | BJ64: - | BK64: - | BL64: - | BM64: - | BN64: - | BO64: - | BP64: - | BQ64: - | BR64: - | BS64: - | BT64: - | BU64: - | BV64: - | BW64: - | BX64: -
...

Sheet bc
B1: Balanza comercial
B3: Exp de bienes | C3: Imp de bienes | D3: Balanza comercial | F3: Exp de bienes | G3: Imp de bienes
A5: 1920 | B5: 425.4 | C5: 197.5 | D5: =B5-C5 -> 227.9 | E5: NAFINSA (1974, p. 373)
A6: 1921 | B6: 376 | C6: 241.7 | D6: =B6-C6 -> 134.3 | F6: =((B6/B5)-1)*100 -> -11.6126 | G6: =((C6/C5)-1)*100 -> 22.379747
A7: 1922 | B7: 314.1 | C7: 150.7 | D7: =B7-C7 -> 163.4 | F7: =((B7/B6)-1)*100 -> -16.462766 | G7: =((C7/C6)-1)*100 -> -37.649979
A8: 1923 | B8: 275.7 | C8: 152.9 | D8: =B8-C8 -> 122.8 | F8: =((B8/B7)-1)*100 -> -12.225406 | G8: =((C8/C7)-1)*100 -> 1.459854
A9: 1924 | B9: 297.1 | C9: 155.1 | D9: =B9-C9 -> 142 | F9: =((B9/B8)-1)*100 -> 7.7620602 | G9: =((C9/C8)-1)*100 -> 1.4388489
A10: 1925 | B10: 336 | C10: 192.6 | D10: =B10-C10 -> 143.4 | F10: =((B10/B9)-1)*100 -> 13.093235 | G10: =((C10/C9)-1)*100 -> 24.17795
A11: 1926 | B11: 334.3 | C11: 184.1 | D11: =B11-C11 -> 150.2 | F11: =((B11/B10)-1)*100 -> -0.50595238 | G11: =((C11/C10)-1)*100 -> -4.4132918
A12: 1927 | B12: 299.1 | C12: 163.2 | D12: =B12-C12 -> 135.9 | F12: =((B12/B11)-1)*100 -> -10.529465 | G12: =((C12/C11)-1)*100 -> -11.352526
A13: 1928 | B13: 284.6 | C13: 172.1 | D13: =B13-C13 -> 112.5 | F13: =((B13/B12)-1)*100 -> -4.847877 | G13: =((C13/C12)-1)*100 -> 5.4534314
A14: 1929 | B14: 274.9 | C14: 177.7 | D14: =B14-C14 -> 97.2 | F14: =((B14/B13)-1)*100 -> -3.4082923 | G14: =((C14/C13)-1)*100 -> 3.2539221
A15: 1930 | B15: 203.1 | C15: 154.9 | D15: =B15-C15 -> 48.2 | F15: =((B15/B14)-1)*100 -> -26.118589 | G15: =((C15/C14)-1)*100 -> -12.830613
A16: 1931 | B16: 150.9 | C16: 81.9 | D16: =B16-C16 -> 69 | F16: =((B16/B15)-1)*100 -> -25.701625 | G16: =((C16/C15)-1)*100 -> -47.127179
A17: 1932 | B17: 96.5 | C17: 57.3 | D17: =B17-C17 -> 39.2 | F17: =((B17/B16)-1)*100 -> -36.050364 | G17: =((C17/C16)-1)*100 -> -30.03663
... A23: 1938 | B23: 185.4 | C23: 109.3 | D23: =B23-C23 -> 76.1 | F23: =((B23/B22)-1)*100 -> -25.211779 | G23: =((C23/C22)-1)*100 -> -35.932005
A24: 1939 | B24: 163.4 | C24: 128.2 | D24: =B24-C24 -> 35.2 | E24: NAFINSA (1974, pp. 365-372) | F24: =((B24/B23)-1)*100 -> -11.866235 | G24: =((C24/C23)-1)*100 -> 17.291857
A25: 1940 | B25: 159.8 | C25: 132.4 | D25: =B25-C25 -> 27.4 | F25: =((B25/B24)-1)*100 -> -2.2031824 | G25: =((C25/C24)-1)*100 -> 3.276131
A26: 1941 | B26: 176.5 | C26: 199.5 | D26: =B26-C26 -> -23 | F26: =((B26/B25)-1)*100 -> 10.450563 | G26: =((C26/C25)-1)*100 -> 50.679758
A27: 1942 | B27: 207.5 | C27: 172.2 | D27: =B27-C27 -> 35.3 | F27: =((B27/B26)-1)*100 -> 17.563739 | G27: =((C27/C26)-1)*100 -> -13.684211
A28: 1943 | B28: 291.6 | C28: 212.2 | D28: =B28-C28 -> 79.4 | F28: =((B28/B27)-1)*100 -> 40.53012 | G28: =((C28/C27)-1)*100 -> 23.228804
A29: 1944 | B29: 283.7 | C29: 311 | D29: =B29-C29 -> -27.3 | F29: =((B29/B28)-1)*100 -> -2.7091907 | G29: =((C29/C28)-1)*100 -> 46.559849
A30: 1945 | B30: 320.8 | C30: 372.5 | D30: =B30-C30 -> -51.7 | F30: =((B30/B29)-1)*100 -> 13.077194 | G30: =((C30/C29)-1)*100 -> 19.77492
A31: 1946 | B31: 368.5 | C31: 600.6 | D31: =B31-C31 -> -232.1 | F31: =((B31/B30)-1)*100 -> 14.869077 | G31: =((C31/C30)-1)*100 -> 61.234899
A32: 1947 | B32: 483 | C32: 720.3 | D32: =B32-C32 -> -237.3 | F32: =((B32/B31)-1)*100 -> 31.071913 | G32: =((C32/C31)-1)*100 -> 19.93007
A33: 1948 | B33: 473.1 | C33: 591.4 | D33: =B33-C33 -> -118.3 | F33: =((B33/B32)-1)*100 -> -2.0496894 | G33: =((C33/C32)-1)*100 -> -17.895321
A34: 1949 | B34: 455.9 | C34: 514.4 | D34: =B34-C34 -> -58.5 | F34: =((B34/B33)-1)*100 -> -3.635595 | G34: =((C34/C33)-1)*100 -> -13.019953
A35: 1950 | B35: 699.4 | C35: 556.4 | D35: =B35-C35 -> 143 | F35: =((B35/B34)-1)*100 -> 53.410836 | G35: =((C35/C34)-1)*100 -> 8.1648523
A36: 1951 | B36: 720.1 | C36: 936 | D36: =B36-C36 -> -215.9 | F36: =((B36/B35)-1)*100 -> 2.9596797 | G36: =((C36/C35)-1)*100 -> 68.224299
... A75: 1990 | B75: 40710.936 | C75: 41593.252 | D75: =B75-C75 -> -882.316 | F75: =((B75/B74)-1)*100 -> 15.75128 | G75: =((C75/C74)-1)*100 -> 19.63774
A76: Fuente: Nacional Financiera (1974), 1920-1949; Banxico, Balanza de pagos, Presentación Histórica, 1950-1979; INEGI, Presentación histórica, 1980-1990; INEGI, Presentación actual, 1991-2016

Sheet XM Men
A1: Observaciones mensuales, 1932-1953. El Banco de México dejo de publicar en sus Informes Anuales las estadísticas mensuales de comercio exterior a partir de 1954. | P1: Observaciones anuales para verificar las observaciones mensuales | Z1: Balanza comercial mensual y anual
B2: Exportaciones mp | C2: Tipo de cambio | D2: Exportaciones md | E2: Participación % de las exportaciones md | F2: Discrepancia mensual ponderada md | G2: Exportaciones ajuste con anual md | I2: Importaciones mp | J2: Tipo de cambio | K2: Importaciones md | L2: Participación % de las importaciones md | M2: Discrepancia mensual ponderada md | N2: Importaciones ajuste con anual md | O2: Balanza comercial ajuste con anual md | Q2: Exportaciones md (Mensual) | R2: Exportaciones con ajuste md (Mensual) | S2: Exportaciones md (Anual) | T2: Exportaciones md (Discrepancia) | V2: Importaciones md (Mensual) | W2: Importaciones md (Mensual) | X2: Importaciones md (Anual) | Y2: Importaciones md (Discrepancia) | Z2: Balanza comercial mensual md | AA2: Balanza comercial anual md
A6: 11689 | B6: 23.337 | C6: 2.55 | D6: =B6/C6 -> 9.1517647 | E6: =D6/Q$6 -> 0.093371795 | F6: =E6*T$6 -> -0.14138647 | G6: =D6+F6 -> 9.0103782 | I6: 11.792 | J6: 2.55 | K6: =I6/J6 -> 4.6243137 | L6: =K6/V$6 -> 0.080554655 | M6: =L6*Y$6 -> -0.0085319925 | N6: =K6+M6 -> 4.6157817 | O6: =G6-N6 -> 4.3945965 | P6: 1932 | Q6: =SUM(D6:D17) -> 98.014231 | R6: =SUM(G6:G17) -> 96.5 | S6: 96.5 | T6: =S6-Q6 -> -1.514231 | V6: =SUM(K6:K17) -> 57.405916 | W6: =SUM(N6:N17) -> 57.3 | X6: 57.3 | Y6: =X6-V6 -> -0.10591557 | Z6: =SUM(O6:O17) -> 39.2 | AA6: 39.2
A7: 11720 | B7: 26.915 | C7: 2.67 | D7: =B7/C7 -> 10.080524 | E7: =D7/Q$6 -> 0.10284756 | F7: =E7*T$6 -> -0.15573496 | G7: =D7+F7 -> 9.9247894 | I7: 12.71 | J7: 2.67 | K7: =I7/J7 -> 4.7602996 | L7: =K7/V$6 -> 0.082923503 | M7: =L7*Y$6 -> -0.0087828904 | N7: =K7+M7 -> 4.7515167 | O7: =G7-N7 -> 5.1732726 | P7: 1933 | Q7: =SUM(D18:D29) -> 109.37587 | R7: =SUM(G18:G29) -> 104.3 | S7: 104.3 | T7: =S7-Q7 -> -5.0758676 | V7: =SUM(K18:K29) -> 69.207374 | W7: =SUM(N18:N29) -> 69.7 | X7: 69.7 | Y7: =X7-V7 -> 0.49262641 | Z7: =SUM(O18:O29) -> 34.6 | AA7: 34.6
A8: 11749 | B8: 33.203 | C8: 2.96 | D8: =B8/C8 -> 11.21723 | E8: =D8/Q$6 -> 0.11444491 | F8: =E8*T$6 -> -0.17329603 | G8: =D8+F8 -> 11.043934 | I8: 14.613 | J8: 2.96 | K8: =I8/J8 -> 4.9368243 | L8: =K8/V$6 -> 0.08599853 | M8: =L8*Y$6 -> -0.0091085836 | N8: =K8+M8 -> 4.9277157 | O8: =G8-N8 -> 6.116218 | P8: 1934 | Q8: =SUM(D30:D41) -> 178.16694 | R8: =SUM(G30:G41) -> 178.9 | S8: 178.9 | T8: =S8-Q8 -> 0.73305556 | V8: =SUM(K30:K41) -> 92.770556 | W8: =SUM(N30:N41) -> 92.8 | X8: 92.8 | Y8: =X8-V8 -> 0.029444444 | Z8: =SUM(O30:O41) -> 86.1 | AA8: 86.1
A9: 11780 | B9: 35.922 | C9: 2.97 | D9: =B9/C9 -> 12.094949 | E9: =D9/Q$6 -> 0.12339993 | F9: =E9*T$6 -> -0.18685601 | G9: =D9+F9 -> 11.908093 | I9: 17.108 | J9: 2.97 | K9: =I9/J9 -> 5.7602694 | L9: =K9/V$6 -> 0.10034278 | M9: =L9*Y$6 -> -0.010627863 | N9: =K9+M9 -> 5.7496415 | O9: =G9-N9 -> 6.158452 | P9: 1935 | Q9: =SUM(D42:D53) -> 196.01639 | R9: =SUM(G42:G53) -> 208.3 | S9: 208.3 | T9: =S9-Q9 -> 12.283611 | V9: =SUM(K42:K53) -> 104.45444 | W9: =SUM(N42:N53) -> 112.8 | X9: 112.8 | Y9: =X9-V9 -> 8.3455556 | Z9: =SUM(O42:O53) -> 95.5 | AA9: 95.5
A10: 11810 | B10: 27.143 | C10: 3.3 | D10: =B10/C10 -> 8.2251515 | E10: =D10/Q$6 -> 0.083917931 | F10: =E10*T$6 -> -0.12707114 | G10: =D10+F10 -> 8.0980804 | I10: 15.838 | J10: 3.3 | K10: =I10/J10 -> 4.7993939 | L10: =K10/V$6 -> 0.083604519 | M10: =L10*Y$6 -> -0.0088550206 | N10: =K10+M10 -> 4.7905389 | O10: =G10-N10 -> 3.3075415 | P10: 1936 | Q10: =SUM(D54:D65) -> 197.12278 | R10: =SUM(G54:G65) -> 215.2 | S10: 215.2 | T10: =S10-Q10 -> 18.077222 | V10: =SUM(K54:K65) -> 128.933 | W10: =SUM(N54:N65) -> 128.9 | X10: 128.9 | Y10: =X10-V10 -> -0.033 | Z10: =SUM(O54:O65) -> 86.3 | AA10: 86.3
A11: 11841 | B11: 23.009 | C11: 3.71 | D11: =B11/C11 -> 6.2018868 | E11: =D11/Q$6 -> 0.063275371 | F11: =E11*T$6 -> -0.09581353 | G11: =D11+F11 -> 6.1060733 | I11: 16.483 | J11: 3.71 | K11: =I11/J11 -> 4.4428571 | L11: =K11/V$6 -> 0.077393716 | M11: =L11*Y$6 -> -0.0081971999 | N11: =K11+M11 -> 4.4346599 | O11: =G11-N11 -> 1.6714133 | P11: 1937 | Q11: =SUM(D66:D77) -> 234.05811 | R11: =SUM(G66:G77) -> 247.9 | S11: 247.9 | T11: =S11-Q11 -> 13.841889 | V11: =SUM(K66:K77) -> 169.376 | W11: =SUM(N66:N77) -> 170.6 | X11: 170.6 | Y11: =X11-V11 -> 1.224 | Z11: =SUM(O66:O77) -> 77.3 | AA11: 77.3
A12: 11871 | B12: 20.976 | C12: 3.59 | D12: =B12/C12 -> 5.8428969 | E12: =D12/Q$6 -> 0.059612741 | F12: =E12*T$6 -> -0.090267462 | G12: =D12+F12 -> 5.7526295 | I12: 15.945 | J12: 3.59 | K12: =I12/J12 -> 4.4415042 | L12: =K12/V$6 -> 0.077370148 | M12: =L12*Y$6 -> -0.0081947036 | N12: =K12+M12 -> 4.4333095 | O12: =G12-N12 -> 1.31932 | P12: 1938 | Q12: =SUM(D78:D89) -> 188.899 | R12: =SUM(G78:G89) -> 185.4 | S12: 185.4 | T12: =S12-Q12 -> -3.499 | V12: =SUM(K78:K89) -> 111.024 | W12: =SUM(N78:N89) -> 109.3 | X12: 109.3 | Y12: =X12-V12 -> -1.724 | Z12: =SUM(O78:O89) -> 76.1 | AA12: 76.1
A13: 11902 | B13: 24.48 | C13: 3.49 | D13: =B13/C13 -> 7.0143266 | E13: =D13/Q$6 -> 0.07156437 | F13: =E13*T$6 -> -0.10836499 | G13: =D13+F13 -> 6.9059617 | I13: 15.608 | J13: 3.49 | K13: =I13/J13 -> 4.4722063 | L13: =K13/V$6 -> 0.077904973 | M13: =L13*Y$6 -> -0.0082513499 | N13: =K13+M13 -> 4.463955 | O13: =G13-N13 -> 2.4420067 | P13: 1939 | Q13: =SUM(D90:D101) -> 174.60548 | R13: =SUM(G90:G101) -> 163.4 | S13: 163.4 | T13: =S13-Q13 -> -11.205475 | V13: =SUM(K90:K101) -> 121.02814 | W13: =SUM(N90:N101) -> 128.2 | X13: 128.2 | Y13: =X13-V13 -> 7.171857 | Z13: =SUM(O90:O101) -> 35.2 | AA13: 35.2
A14: 11933 | B14: 24.398 | C14: 3.32 | D14: =B14/C14 -> 7.3487952 | E14: =D14/Q$6 -> 0.074976818 | F14: =E14*T$6 -> -0.11353222 | G14: =D14+F14 -> 7.235263 | I14: 14.379 | J14: 3.32 | K14: =I14/J14 -> 4.3310241 | L14: =K14/V$6 -> 0.075445606 | M14: =L14*Y$6 -> -0.0079908647 | N14: =K14+M14 -> 4.3230332 | O14: =G14-N14 -> 2.9122297 | P14: 1940 | Q14: =SUM(D102:D113) -> 177.51691 | R14: =SUM(G102:G113) -> 159.8 | S14: 159.8 | T14: =S14-Q14 -> -17.716909 | V14: =SUM(K102:K113) -> 124.05696 | W14: =SUM(N102:N113) -> 132.4 | X14: 132.4 | Y14: =X14-V14 -> 8.3430424 | Z14: =SUM(O102:O113) -> 27.4 | AA14: 27.4
A15: 11963 | B15: 24.786 | C15: 3.21 | D15: =B15/C15 -> 7.7214953 | E15: =D15/Q$6 -> 0.078779329 | F15: =E15*T$6 -> -0.1192901 | G15: =D15+F15 -> 7.6022052 | I15: 15.782 | J15: 3.21 | K15: =I15/J15 -> 4.9165109 | L15: =K15/V$6 -> 0.085644674 | M15: =L15*Y$6 -> -0.0090711047 | N15: =K15+M15 -> 4.9074398 | O15: =G15-N15 -> 2.6947654 | P15: 1941 | Q15: =SUM(D114:D125) -> 150.298 | R15: =SUM(G114:G125) -> 176.5 | S15: 176.5 | T15: =S15-Q15 -> 26.202 | V15: =SUM(K114:K125) -> 188.2396 | W15: =SUM(N114:N125) -> 199.5 | X15: 199.5 | Y15: =X15-V15 -> 11.2604 | Z15: =SUM(O114:O125) -> -23 | AA15: -23
A16: 11994 | B16: 21.343 | C16: 3.09 | D16: =B16/C16 -> 6.9071197 | E16: =D16/Q$6 -> 0.07047058 | F16: =E16*T$6 -> -0.10670874 | G16: =D16+F16 -> 6.800411 | I16: 15.384 | J16: 3.09 | K16: =I16/J16 -> 4.9786408 | L16: =K16/V$6 -> 0.086726964 | M16: =L16*Y$6 -> -0.0091857362 | N16: =K16+M16 -> 4.969455 | O16: =G16-N16 -> 1.830956 | P16: 1942 | Q16: =SUM(D126:D137) -> 193.788 | R16: =SUM(G126:G137) -> 207.5 | S16: 207.5 | T16: =S16-Q16 -> 13.712 | V16: =SUM(K126:K137) -> 154.962 | W16: =SUM(N126:N137) -> 172.2 | X16: 172.2 | Y16: =X16-V16 -> 17.238 | Z16: =SUM(O126:O137) -> 35.3 | AA16: 35.3
A17: 12024 | B17: 19.183 | C17: 3.09 | D17: =B17/C17 -> 6.2080906 | E17: =D17/Q$6 -> 0.063338666 | F17: =E17*T$6 -> -0.095909373 | G17: =D17+F17 -> 6.1121812 | I17: 15.271 | J17: 3.09 | K17: =I17/J17 -> 4.9420712 | L17: =K17/V$6 -> 0.086089929 | M17: =L17*Y$6 -> -0.0091182642 | N17: =K17+M17 -> 4.9329529 | O17: =G17-N17 -> 1.1792283 | P17: 1943 | Q17: =SUM(D138:D149) -> 222.525 | R17: =SUM(G138:G149) -> 291.6 | S17: 291.6 | T17: =S17-Q17 -> 69.075 | V17: =SUM(K138:K149) -> 177.418 | W17: =SUM(N138:N149) -> 212.2 | X17: 212.2 | Y17: =X17-V17 -> 34.782 | Z17: =SUM(O138:O149) -> 79.4 | AA17: 79.4
A18: 12055 | B18: 22.238 | C18: 3.3 | D18: =B18/C18 -> 6.7387879 | E18: =D18/Q$7 -> 0.061611286 | F18: =E18*T$7 -> -0.31273073 | G18: =D18+F18 -> 6.4260571 | I18: 15.178 | J18: =C18 -> 3.3 | K18: =I18/J18 -> 4.5993939 | L18: =K18/V$7 -> 0.066458149 | M18: =L18*Y$7 -> 0.032739039 | N18: =K18+M18 -> 4.632133 | O18: =G18-N18 -> 1.7939242 | P18: 1944 | Q18: =SUM(D150:D161) -> 214.533 | R18: =SUM(G150:G161) -> 283.7 | S18: 283.7 | T18: =S18-Q18 -> 69.167 | V18: =SUM(K150:K161) -> 277.793 | W18: =SUM(N150:N161) -> 311 | X18: 311 | Y18: =X18-V18 -> 33.207 | Z18: =SUM(O150:O161) -> -27.3 | AA18: -27.3
A19: 12086 | B19: 22.646 | C19: 3.52 | D19: 6.4335227 | E19: =D19/Q$7 -> 0.058820313 | F19: =E19*T$7 -> -0.29856412 | G19: =D19+F19 -> 6.1349586 | I19: 13.55 | J19: =C19 -> 3.52 | K19: =I19/J19 -> 3.8494318 | L19: =K19/V$7 -> 0.055621701 | M19: =L19*Y$7 -> 0.027400719 | N19: =K19+M19 -> 3.8768325 | O19: =G19-N19 -> 2.2581261 | P19: 1945 | Q19: =SUM(D162:D173) -> 261.184 | R19: =SUM(G162:G173) -> 320.8 | S19: 320.8 | T19: =S19-Q19 -> 59.616 | V19: =SUM(K162:K173) -> 330.336 | W19: =SUM(N162:N173) -> 372.5 | X19: 372.5 | Y19: =X19-V19 -> 42.164 | Z19: =SUM(O162:O173) -> -51.7 | AA19: -51.7
A20: 12114 | B20: 25.531 | C20: 3.47 | D20: 7.3576369 | E20: =D20/Q$7 -> 0.067269289 | F20: =E20*T$7 -> -0.34145001 | G20: =D20+F20 -> 7.0161869 | I20: 18.603 | J20: =C20 -> 3.47 | K20: =I20/J20 -> 5.3610951 | L20: =K20/V$7 -> 0.077464218 | M20: =L20*Y$7 -> 0.03816092 | N20: =K20+M20 -> 5.399256 | O20: =G20-N20 -> 1.6169309 | P20: 1946 | Q20: =SUM(D174:D185) -> 344.71738 | R20: =SUM(G174:G185) -> 368.5 | S20: 368.5 | T20: =S20-Q20 -> 23.782622 | V20: =SUM(K174:K185) -> 543.002 | W20: =SUM(N174:N185) -> 599.49329 | X20: 600.6 | Y20: =X20-V20 -> 57.598 | Z20: =SUM(O174:O185) -> -230.99329 | AA20: -232.1
A21: 12145 | B21: 27.509 | C21: 3.57 | D21: 7.7056022 | E21: =D21/Q$7 -> 0.070450662 | F21: =E21*T$7 -> -0.35759823 | G21: =D21+F21 -> 7.348004 | I21: 15 | J21: =C21 -> 3.57 | K21: =I21/J21 -> 4.2016807 | L21: =K21/V$7 -> 0.06071146 | M21: =L21*Y$7 -> 0.029908068 | N21: =K21+M21 -> 4.2315887 | O21: =G21-N21 -> 3.1164153 | P21: 1947 | Q21: =SUM(D186:D197) -> 375.47289 | R21: =SUM(G186:G197) -> 483 | S21: 483 | T21: =S21-Q21 -> 107.52711 | V21: =SUM(K186:K197) -> 660.2666 | W21: =SUM(N186:N197) -> 720.3 | X21: 720.3 | Y21: =X21-V21 -> 60.0334 | Z21: =SUM(O186:O197) -> -237.3 | AA21: -237.3
A22: 12175 | B22: 24.108 | C22: 3.47 | D22: 6.9475504 | E22: =D22/Q$7 -> 0.063519957 | F22: =E22*T$7 -> -0.32241889 | G22: =D22+F22 -> 6.6251315 | I22: 22.318 | J22: =C22 -> 3.47 | K22: =I22/J22 -> 6.4317003 | L22: =K22/V$7 -> 0.092933743 | M22: =L22*Y$7 -> 0.045781616 | N22: =K22+M22 -> 6.4774819 | O22: =G22-N22 -> 0.14764964 | P22: 1948 | Q22: =SUM(D198:D209) -> 427.453 | R22: =SUM(G198:G209) -> 473.1 | S22: 473.1 | T22: =S22-Q22 -> 45.647 | V22: =SUM(K198:K209) -> 519.8259 | W22: =SUM(N198:N209) -> 591.4 | X22: 591.4 | Y22: =X22-V22 -> 71.5741 | Z22: =SUM(O198:O209) -> -118.3 | AA22: -118.3
A23: 12206 | B23: 25.063 | C23: 3.6 | D23: 6.9619444 | E23: =D23/Q$7 -> 0.063651559 | F23: =E23*T$7 -> -0.32308688 | G23: =D23+F23 -> 6.6388576 | I23: 21.692 | J23: =C23 -> 3.6 | K23: =I23/J23 -> 6.0255556 | L23: =K23/V$7 -> 0.087065225 | M23: =L23*Y$7 -> 0.042890629 | N23: =K23+M23 -> 6.0684462 | O23: =G23-N23 -> 0.57041138 | P23: 1949 | Q23: =SUM(D210:D221) -> 369.799 | R23: =SUM(G210:G221) -> 455.9 | S23: 455.9 | T23: =S23-Q23 -> 86.101 | V23: =SUM(K210:K221) -> 445.619 | W23: =SUM(N210:N221) -> 514.4 | X23: 514.4 | Y23: =X23-V23 -> 68.781 | Z23: =SUM(O210:O221) -> -58.5 | AA23: -58.5
A24: 12236 | B24: 30.343 | C24: 3.56 | D24: 8.5233146 | E24: =D24/Q$7 -> 0.07792683 | F24: =E24*T$7 -> -0.39554627 | G24: =D24+F24 -> 8.1277683 | I24: 21.275 | J24: =C24 -> 3.56 | K24: =I24/J24 -> 5.9761236 | L24: =K24/V$7 -> 0.086350966 | M24: =L24*Y$7 -> 0.042538767 | N24: =K24+M24 -> 6.0186624 | O24: =G24-N24 -> 2.109106 | P24: 1950 | Q24: =SUM(D222:D233) -> 427.34491 | R24: =SUM(G222:G233) -> 699.4 | S24: 699.4 | T24: =S24-Q24 -> 272.05509 | V24: =SUM(K222:K233) -> 509.34572 | W24: =SUM(N222:N233) -> 556.4 | X24: 556.4 | Y24: =X24-V24 -> 47.054284 | Z24: =SUM(O222:O233) -> 143 | AA24: 143
A25: 12267 | B25: 38.022 | C25: 3.55 | D25: 10.710423 | E25: =D25/Q$7 -> 0.097923086 | F25: =E25*T$7 -> -0.49704462 | G25: =D25+F25 -> 10.213378 | I25: 21.393 | J25: =C25 -> 3.55 | K25: =I25/J25 -> 6.0261972 | L25: =K25/V$7 -> 0.087074496 | M25: =L25*Y$7 -> 0.042895196 | N25: =K25+M25 -> 6.0690924 | O25: =G25-N25 -> 4.1442855 | P25: 1951 | Q25: =SUM(D234:D245) -> 570.458 | R25: =SUM(G234:G245) -> 720.1 | S25: 720.1 | T25: =S25-Q25 -> 149.642 | V25: =SUM(K234:K245) -> 760.681 | W25: =SUM(N234:N245) -> 936 | X25: 936 | Y25: =X25-V25 -> 175.319 | Z25: =SUM(O234:O245) -> -215.9 | AA25: -215.9
A26: 12298 | B26: 21.185 | C26: 3.54 | D26: 5.9844633 | E26: =D26/Q$7 -> 0.054714659 | F26: =E26*T$7 -> -0.27772436 | G26: =D26+F26 -> 5.7067389 | I26: 18.325 | J26: =C26 -> 3.54 | K26: =I26/J26 -> 5.1765537 | L26: =K26/V$7 -> 0.074797719 | M26: =L26*Y$7 -> 0.036847332 | N26: =K26+M26 -> 5.213401 | O26: =G26-N26 -> 0.49333791 | P26: 1952 | Q26: =SUM(D246:D257) -> 650.02 | R26: =SUM(G246:G257) -> 729.4 | S26: 729.4 | T26: =S26-Q26 -> 79.38 | V26: =SUM(K246:K257) -> 740.691 | W26: =SUM(N246:N257) -> 945.7 | X26: 945.7 | Y26: =X26-V26 -> 205.009 | Z26: =SUM(O246:O257) -> -216.3 | AA26: -216.3
A27: 12328 | B27: 48.656 | C27: 3.54 | D27: 13.744633 | E27: =D27/Q$7 -> 0.12566422 | F27: =E27*T$7 -> -0.63785493 | G27: =D27+F27 -> 13.106778 | I27: 23.435 | J27: =C27 -> 3.54 | K27: =I27/J27 -> 6.6200565 | L27: =K27/V$7 -> 0.095655364 | M27: =L27*Y$7 -> 0.047122358 | N27: =K27+M27 -> 6.6671789 | O27: =G27-N27 -> 6.439599 | P27: 1953 | Q27: =SUM(D258:D269) -> 538.384 | R27: =SUM(G258:G269) -> 638.1 | S27: 638.1 | T27: =S27-Q27 -> 99.716 | V27: =SUM(K258:K269) -> 737.304 | W27: =SUM(N258:N269) -> 835.8 | X27: 835.8 | Y27: =X27-V27 -> 98.496 | Z27: =SUM(O258:O269) -> -197.7 | AA27: -197.7
A28: 12359 | B28: 53.406 | C28: 3.59 | D28: 14.876323 | E28: =D28/Q$7 -> 0.13601102 | F28: =E28*T$7 -> -0.69037392 | G28: =D28+F28 -> 14.185949 | I28: 27.466 | J28: =C28 -> 3.59 | K28: =I28/J28 -> 7.6506964 | L28: =K28/V$7 -> 0.11054742 | M28: =L28*Y$7 -> 0.054458577 | N28: =K28+M28 -> 7.705155 | O28: =G28-N28 -> 6.4807942
A29: 12389 | B29: 48.21 | C29: 3.6 | D29: 13.391667 | E29: =D29/Q$7 -> 0.12243712 | F29: =E29*T$7 -> -0.62147463 | G29: =D29+F29 -> 12.770192 | I29: 26.24 | J29: =C29 -> 3.6 | K29: =I29/J29 -> 7.2888889 | L29: =K29/V$7 -> 0.10531954 | M29: =L29*Y$7 -> 0.051883188 | N29: =K29+M29 -> 7.3407721 | O29: =G29-N29 -> 5.42942
A30: 12420 | B30: 51.887 | C30: 3.6 | D30: 14.413056 | E30: =D30/Q$8 -> 0.08089635 | F30: =E30*T$8 -> 0.059301519 | G30: =D30+F30 -> 14.472357 | I30: 24.637 | J30: =C30 -> 3.6 | K30: =I30/J30 -> 6.8436111 | L30: =K30/V$8 -> 0.073769216 | M30: =L30*Y$8 -> 0.0021720936 | N30: =K30+M30 -> 6.8457832 | O30: =G30-N30 -> 7.6265739
A31: 12451 | B31: 41.55 | C31: 3.6 | D31: 11.541667 | E31: =D31/Q$8 -> 0.064780067 | F31: =E31*T$8 -> 0.047487388 | G31: =D31+F31 -> 11.589154 | I31: 24.073 | J31: =C31 -> 3.6 | K31: =I31/J31 -> 6.6869444 | L31: =K31/V$8 -> 0.072080461 | M31: =L31*Y$8 -> 0.0021223691 | N31: =K31+M31 -> 6.6890668 | O31: =G31-N31 -> 4.9000872
A32: 12479 | B32: 59.307 | C32: 3.6 | D32: 16.474167 | E32: =D32/Q$8 -> 0.092464776 | F32: =E32*T$8 -> 0.067781818 | G32: =D32+F32 -> 16.541948 | I32: 24.764 | J32: =C32 -> 3.6 | K32: =I32/J32 -> 6.8788889 | L32: =K32/V$8 -> 0.074149485 | M32: =L32*Y$8 -> 0.0021832904 | N32: =K32+M32 -> 6.8810722 | O32: =G32-N32 -> 9.6608763
A33: 12510 | B33: 47.631 | C33: 3.6 | D33: 13.230833 | E33: =D33/Q$8 -> 0.074260876 | F33: =E33*T$8 -> 0.054437348 | G33: =D33+F33 -> 13.285271 | I33: 30.805 | J33: =C33 -> 3.6 | K33: =I33/J33 -> 8.5569444 | L33: =K33/V$8 -> 0.092237719 | M33: =L33*Y$8 -> 0.0027158884 | N33: =K33+M33 -> 8.5596603 | O33: =G33-N33 -> 4.7256103
A34: 12540 | B34: 61.681 | C34: 3.6 | D34: 17.133611 | E34: =D34/Q$8 -> 0.096166049 | F34: =E34*T$8 -> 0.070495056 | G34: =D34+F34 -> 17.204106 | I34: 30.135 | J34: =C34 -> 3.6 | K34: =I34/J34 -> 8.3708333 | L34: =K34/V$8 -> 0.090231575 | M34: =L34*Y$8 -> 0.0026568186 | N34: =K34+M34 -> 8.3734902 | O34: =G34-N34 -> 8.830616
A35: 12571 | B35: 52.795 | C35: 3.6 | D35: 14.665278 | E35: =D35/Q$8 -> 0.082312001 | F35: =E35*T$8 -> 0.06033927 | G35: =D35+F35 -> 14.725617 | I35: 30.527 | J35: =C35 -> 3.6 | K35: =I35/J35 -> 8.4797222 | L35: =K35/V$8 -> 0.091405319 | M35: =L35*Y$8 -> 0.0026913788 | N35: =K35+M35 -> 8.4824136 | O35: =G35-N35 -> 6.2432034
A36: 12601 | B36: 51.637 | C36: 3.6 | D36: 14.343611 | E36: =D36/Q$8 -> 0.080506579 | F36: =E36*T$8 -> 0.059015795 | G36: =D36+F36 -> 14.402627 | I36: 28.122 | J36: =C36 -> 3.6 | K36: =I36/J36 -> 7.8116667 | L36: =K36/V$8 -> 0.08420416 | M36: =L36*Y$8 -> 0.0024793447 | N36: =K36+M36 -> 7.814146 | O36: =G36-N36 -> 6.5884809
A37: 12632 | B37: 58.647 | C37: 3.6 | D37: 16.290833 | E37: =D37/Q$8 -> 0.091435779 | F37: =E37*T$8 -> 0.067027506 | G37: =D37+F37 -> 16.357861 | I37: 27.456 | J37: =C37 -> 3.6 | K37: =I37/J37 -> 7.6266667 | L37: =K37/V$8 -> 0.082209992 | M37: =L37*Y$8 -> 0.0024206276 | N37: =K37+M37 -> 7.6290873 | O37: =G37-N37 -> 8.7287735
A38: 12663 | B38: 47.059 | C38: 3.6 | D38: 13.071944 | E38: =D38/Q$8 -> 0.073369078 | F38: =E38*T$8 -> 0.05378361 | G38: =D38+F38 -> 13.125728 | I38: 19.989 | J38: =C38 -> 3.6 | K38: =I38/J38 -> 5.5525 | L38: =K38/V$8 -> 0.059851965 | M38: =L38*Y$8 -> 0.0017623078 | N38: =K38+M38 -> 5.5542623 | O38: =G38-N38 -> 7.5714657
A39: 12693 | B39: 64.565 | C39: 3.6 | D39: 17.934722 | E39: =D39/Q$8 -> 0.10066246 | F39: =E39*T$8 -> 0.073791173 | G39: =D39+F39 -> 18.008513 | I39: 35.876 | J39: =C39 -> 3.6 | K39: =I39/J39 -> 9.9655556 | L39: =K39/V$8 -> 0.10742154 | M39: =L39*Y$8 -> 0.0031629674 | N39: =K39+M39 -> 9.9687185 | O39: =G39-N39 -> 8.0397949
A40: 12724 | B40: 43.965 | C40: 3.6 | D40: 12.2125 | E40: =D40/Q$8 -> 0.068545263 | F40: =E40*T$8 -> 0.050247486 | G40: =D40+F40 -> 12.262747 | I40: 28.024 | J40: =C40 -> 3.6 | K40: =I40/J40 -> 7.7844444 | L40: =K40/V$8 -> 0.083910724 | M40: =L40*Y$8 -> 0.0024707046 | N40: =K40+M40 -> 7.7869151 | O40: =G40-N40 -> 4.4758323
A41: 12754 | B41: 60.677 | C41: 3.6 | D41: 16.854722 | E41: =D41/Q$8 -> 0.094600726 | F41: =E41*T$8 -> 0.069347587 | G41: =D41+F41 -> 16.92407 | I41: 29.566 | J41: =C41 -> 3.6 | K41: =I41/J41 -> 8.2127778 | L41: =K41/V$8 -> 0.088527849 | M41: =L41*Y$8 -> 0.0026066533 | N41: =K41+M41 -> 8.2153844 | O41: =G41-N41 -> 8.7086854
