Workbook
Name \A: #REF!
Name \A: #REF!
Name \A: #REF!
Name \A: #REF!
Name \g: #REF!
Name \g: #REF!
Name \g: #REF!
Name \g: #REF!
Name \S: #REF!
Name \S: #REF!
Name \S: #REF!
Name \S: #REF!
Name ACTIVATE: #REF!
Name ACTIVATE: #REF!
Name ACTIVATE: #REF!
Name ACTIVATE: #REF!
Name ASSUMPT: #REF!
Name ASSUMPT: #REF!
Name ASSUMPT: #REF!
Name ASSUMPT: #REF!
Name ASSUMPTIONS: #REF!
Name ASSUMPTIONS: #REF!
Name ASSUMPTIONS: #REF!
Name ASSUMPTIONS: #REF!
Name basicdata1: #REF!
Name basicdata1: #REF!
Name basicdata1: #REF!
Name basicdata1: #REF!
Name basicdata2: #REF!
Name basicdata2: #REF!
Name basicdata2: #REF!
Name basicdata2: #REF!
Name BCA_NGDP: [5]Q6!$E$10:$AH$10
Name BMG: [5]Q6!$E$27:$AH$27
Name BOP: #REF!
Name BOP: #REF!
Name BOP: #REF!
Name BOP: #REF!
Name BXG: [5]Q6!$E$19:$AH$19
Name CAPITAL: #REF!
Name CAPITAL: #REF!
Name CAPITAL: #REF!
Name CAPITAL: #REF!
Name CARGO_BY_TYPE: '[6]Table No.18-Exports goods+servi'!#REF!
Name CARGO_BY_TYPE: '[6]Table No.18-Exports goods+servi'!#REF!
Name CARGO_BY_TYPE: '[6]Table No.18-Exports goods+servi'!#REF!
Name CARGO_BY_TYPE: '[6]Table No.18-Exports goods+servi'!#REF!
Name CCode: [7]Codes!$A$2
Name CENTRALG: #REF!
Name CENTRALG: #REF!
Name CENTRALG: #REF!
Name CENTRALG: #REF!
Name CFLOW: #REF!
Name CFLOW: #REF!
Name CFLOW: #REF!
Name CFLOW: #REF!
Name chart1: #REF!
Name chart1: #REF!
Name chart1: #REF!
Name chart1: #REF!

Sheet BPA
G1: Balanza de pagos, serie fusionada, 1939-2001 con exportaciones e importaciones de 1885 a 2001. | X1: II. Presentación Nacional Financiera, 1939-1949, NAFINSA (1974, p. 365) | AP1: III. Presentación INEGI Estadísticas históricas, 1950-1981, de Banco de México, Indicadores Económicos. | BH1: IV. Presentación Banco de México, 1980-2001, SIE
A2: Comprobación suma componentes | F2: Año | G2: Cuenta corriente | H2: CC Ingresos | I2: Ingresos de bienes | J2: Ingresos Servicios | K2: Ingresos Renta | L2: Ingresos Transferencias | M2: CC Egresos | N2: Egresos de bienes | O2: Egresos Servicios | P2: Egresos Renta | Q2: Egresos Transferencias | R2: Cuenta financiera o Cuenta de capital | S2: Derechos especiales de giro | T2: Errores y omisiones | U2: Variación de la reserva internacional bruta | V2: Ajustes por valoración | X2: Años | Y2: Cuenta corriente | Z2: CC Ingresos | AA2: Ingresos de bienes | AB2: Ingresos Servicios | AC2: Ingresos Renta | AD2: Ingresos Transferencias | AE2: CC Egresos | AF2: Egresos de bienes | AG2: Egresos Servicios | AH2: Egresos Renta | AI2: Egresos Transferencias | AJ2: Cuenta financiera o Cuenta de capital | AK2: Derechos especiales de giro | AL2: Errores y omisiones | AM2: Variación de la reserva internacional bruta | AN2: Ajustes por valoración | AP2: Años | AQ2: Cuenta corriente | AR2: CC Ingresos | AS2: Ingresos de bienes | AT2: Ingresos Servicios | AU2: Ingresos Renta | AV2: Ingresos Transferencias | AW2: CC Egresos | AX2: Egresos de bienes | AY2: Egresos Servicios | AZ2: Egresos Renta | BA2: Egresos Transferencias | BB2: Cuenta financiera o Cuenta de capital | BC2: Derechos especiales de giro | BD2: Errores y omisiones | BE2: Variación de la reserva internacional bruta | BF2: Ajustes por valoración | BH2: Años | BI2: Cuenta corriente | BJ2: CC Ingresos | BK2: Ingresos de bienes | BL2: Ingresos Servicios | BM2: Ingresos Renta | BN2: Ingresos Transferencias | BO2: CC Egresos | BP2: Egresos de bienes | BQ2: Egresos Servicios | BR2: Egresos Renta | BS2: Egresos Transferencias | BT2: Cuenta financiera o Cuenta de capital | BU2: Derechos especiales de giro | BV2: Errores y omisiones | BW2: Variación de la reserva internacional bruta | BX2: Ajustes por valoración
A5: - | B5: - | C5: - | D5: - | E5: - | F5: 1885 | G5: - | H5: - | I5: =BCA!B5 -> 33.497314 | J5: - | K5: - | L5: - | M5: - | N5: =BCA!E5 -> 16.247889 | O5: - | P5: - | Q5: - | R5: - | S5: - | T5: - | U5: - | V5: - | X5: 1885 | Y5: - | Z5: - | AA5: - | AB5: - | AC5: - | AD5: - | AE5: - | AF5: - | AG5: - | AH5: - | AI5: - | AJ5: - | AK5: - | AL5: - | AM5: - | AN5: - | AP5: 1885 | AQ5: - | AR5: - | AS5: - | AT5: - | AU5: - | AV5: - | AW5: - | AX5: - | AY5: - | AZ5: - | BA5: - | BB5: - | BC5: - | BD5: - | BE5: - | BF5: - | BH5: 1885 | BI5: - | BJ5: - | BK5: - | BL5: - | BM5: - | BN5: - | BO5: - | BP5: - | BQ5: - | BR5: - | BS5: - | BT5: - | BU5: - | BV5: - | BW5: - | BX5: -
A6: - | B6: - | C6: - | D6: - | E6: - | F6: 1886 | G6: - | H6: - | I6: =BCA!B6 -> 37.752111 | J6: - | K6: - | L6: - | M6: - | N6: =BCA!E6 -> nd | O6: - | P6: - | Q6: - | R6: - | S6: - | T6: - | U6: - | V6: - | X6: 1886 | Y6: - | Z6: - | AA6: - | AB6: - | AC6: - | AD6: - | AE6: - | AF6: - | AG6: - | AH6: - | AI6: - | AJ6: - | AK6: - | AL6: - | AM6: - | AN6: - | AP6: 1886 | AQ6: - | AR6: - | AS6: - | AT6: - | AU6: - | AV6: - | AW6: - | AX6: - | AY6: - | AZ6: - | BA6: - | BB6: - | BC6: - | BD6: - | BE6: - | BF6: - | BH6: 1886 | BI6: - | BJ6: - | BK6: - | BL6: - | BM6: - | BN6: - | BO6: - | BP6: - | BQ6: - | BR6: - | BS6: - | BT6: - | BU6: - | BV6: - | BW6: - | BX6: -
A7: - | B7: - | C7: - | D7: - | E7: - | F7: 1887 | G7: - | H7: - | I7: =BCA!B7 -> 37.222081 | J7: - | K7: - | L7: - | M7: - | N7: =BCA!E7 -> 27.879014 | O7: - | P7: - | Q7: - | R7: - | S7: - | T7: - | U7: - | V7: - | X7: 1887 | Y7: - | Z7: - | AA7: - | AB7: - | AC7: - | AD7: - | AE7: - | AF7: - | AG7: - | AH7: - | AI7: - | AJ7: - | AK7: - | AL7: - | AM7: - | AN7: - | AP7: 1887 | AQ7: - | AR7: - | AS7: - | AT7: - | AU7: - | AV7: - | AW7: - | AX7: - | AY7: - | AZ7: - | BA7: - | BB7: - | BC7: - | BD7: - | BE7: - | BF7: - | BH7: 1887 | BI7: - | BJ7: - | BK7: - | BL7: - | BM7: - | BN7: - | BO7: - | BP7: - | BQ7: - | BR7: - | BS7: - | BT7: - | BU7: - | BV7: - | BW7: - | BX7: -
A8: - | B8: - | C8: - | D8: - | E8: - | F8: 1888 | G8: - | H8: - | I8: =BCA!B8 -> 44.866128 | J8: - | K8: - | L8: - | M8: - | N8: =BCA!E8 -> 29.832194 | O8: - | P8: - | Q8: - | R8: - | S8: - | T8: - | U8: - | V8: - | X8: 1888 | Y8: - | Z8: - | AA8: - | AB8: - | AC8: - | AD8: - | AE8: - | AF8: - | AG8: - | AH8: - | AI8: - | AJ8: - | AK8: - | AL8: - | AM8: - | AN8: - | AP8: 1888 | AQ8: - | AR8: - | AS8: - | AT8: - | AU8: - | AV8: - | AW8: - | AX8: - | AY8: - | AZ8: - | BA8: - | BB8: - | BC8: - | BD8: - | BE8: - | BF8: - | BH8: 1888 | BI8: - | BJ8: - | BK8: - | BL8: - | BM8: - | BN8: - | BO8: - | BP8: - | BQ8: - | BR8: - | BS8: - | BT8: - | BU8: - | BV8: - | BW8: - | BX8: -
A9: - | B9: - | C9: - | D9: - | E9: - | F9: 1889 | G9: - | H9: - | I9: =BCA!B9 -> 45.955147 | J9: - | K9: - | L9: - | M9: - | N9: =BCA!E9 -> 38.235294 | O9: - | P9: - | Q9: - | R9: - | S9: - | T9: - | U9: - | V9: - | X9: 1889 | Y9: - | Z9: - | AA9: - | AB9: - | AC9: - | AD9: - | AE9: - | AF9: - | AG9: - | AH9: - | AI9: - | AJ9: - | AK9: - | AL9: - | AM9: - | AN9: - | AP9: 1889 | AQ9: - | AR9: - | AS9: - | AT9: - | AU9: - | AV9: - | AW9: - | AX9: - | AY9: - | AZ9: - | BA9: - | BB9: - | BC9: - | BD9: - | BE9: - | BF9: - | BH9: 1889 | BI9: - | BJ9: - | BK9: - | BL9: - | BM9: - | BN9: - | BO9: - | BP9: - | BQ9: - | BR9: - | BS9: - | BT9: - | BU9: - | BV9: - | BW9: - | BX9: -
A10: - | B10: - | C10: - | D10: - | E10: - | F10: 1890 | G10: - | H10: - | I10: =BCA!B10 -> 51.166577 | J10: - | K10: - | L10: - | M10: - | N10: =BCA!E10 -> nd | O10: - | P10: - | Q10: - | R10: - | S10: - | T10: - | U10: - | V10: - | X10: 1890 | Y10: - | Z10: - | AA10: - | AB10: - | AC10: - | AD10: - | AE10: - | AF10: - | AG10: - | AH10: - | AI10: - | AJ10: - | AK10: - | AL10: - | AM10: - | AN10: - | AP10: 1890 | AQ10: - | AR10: - | AS10: - | AT10: - | AU10: - | AV10: - | AW10: - | AX10: - | AY10: - | AZ10: - | BA10: - | BB10: - | BC10: - | BD10: - | BE10: - | BF10: - | BH10: 1890 | BI10: - | BJ10: - | BK10: - | BL10: - | BM10: - | BN10: - | BO10: - | BP10: - | BQ10: - | BR10: - | BS10: - | BT10: - | BU10: - | BV10: - | BW10: - | BX10: -
A11: - | B11: - | C11: - | D11: - | E11: - | F11: 1891 | G11: - | H11: - | I11: =BCA!B11 -> 57.755357 | J11: - | K11: - | L11: - | M11: - | N11: =BCA!E11 -> nd | O11: - | P11: - | Q11: - | R11: - | S11: - | T11: - | U11: - | V11: - | X11: 1891 | Y11: - | Z11: - | AA11: - | AB11: - | AC11: - | AD11: - | AE11: - | AF11: - | AG11: - | AH11: - | AI11: - | AJ11: - | AK11: - | AL11: - | AM11: - | AN11: - | AP11: 1891 | AQ11: - | AR11: - | AS11: - | AT11: - | AU11: - | AV11: - | AW11: - | AX11: - | AY11: - | AZ11: - | BA11: - | BB11: - | BC11: - | BD11: - | BE11: - | BF11: - | BH11: 1891 | BI11: - | BJ11: - | BK11: - | BL11: - | BM11: - | BN11: - | BO11: - | BP11: - | BQ11: - | BR11: - | BS11: - | BT11: - | BU11: - | BV11: - | BW11: - | BX11: -
A12: - | B12: - | C12: - | D12: - | E12: - | F12: 1892 | G12: - | H12: - | I12: =BCA!B12 -> 59.689988 | J12: - | K12: - | L12: - | M12: - | N12: =BCA!E12 -> 29.423729 | O12: - | P12: - | Q12: - | R12: - | S12: - | T12: - | U12: - | V12: - | X12: 1892 | Y12: - | Z12: - | AA12: - | AB12: - | AC12: - | AD12: - | AE12: - | AF12: - | AG12: - | AH12: - | AI12: - | AJ12: - | AK12: - | AL12: - | AM12: - | AN12: - | AP12: 1892 | AQ12: - | AR12: - | AS12: - | AT12: - | AU12: - | AV12: - | AW12: - | AX12: - | AY12: - | AZ12: - | BA12: - | BB12: - | BC12: - | BD12: - | BE12: - | BF12: - | BH12: 1892 | BI12: - | BJ12: - | BK12: - | BL12: - | BM12: - | BN12: - | BO12: - | BP12: - | BQ12: - | BR12: - | BS12: - | BT12: - | BU12: - | BV12: - | BW12: - | BX12: -
A13: - | B13: - | C13: - | D13: - | E13: - | F13: 1893 | G13: - | H13: - | I13: =BCA!B13 -> 48.445131 | J13: - | K13: - | L13: - | M13: - | N13: =BCA!E13 -> 18.326613 | O13: - | P13: - | Q13: - | R13: - | S13: - | T13: - | U13: - | V13: - | X13: 1893 | Y13: - | Z13: - | AA13: - | AB13: - | AC13: - | AD13: - | AE13: - | AF13: - | AG13: - | AH13: - | AI13: - | AJ13: - | AK13: - | AL13: - | AM13: - | AN13: - | AP13: 1893 | AQ13: - | AR13: - | AS13: - | AT13: - | AU13: - | AV13: - | AW13: - | AX13: - | AY13: - | AZ13: - | BA13: - | BB13: - | BC13: - | BD13: - | BE13: - | BF13: - | BH13: 1893 | BI13: - | BJ13: - | BK13: - | BL13: - | BM13: - | BN13: - | BO13: - | BP13: - | BQ13: - | BR13: - | BS13: - | BT13: - | BU13: - | BV13: - | BW13: - | BX13: -
A14: - | B14: - | C14: - | D14: - | E14: - | F14: 1894 | G14: - | H14: - | I14: =BCA!B14 -> 48.561248 | J14: - | K14: - | L14: - | M14: - | N14: =BCA!E14 -> 17.376491 | O14: - | P14: - | Q14: - | R14: - | S14: - | T14: - | U14: - | V14: - | X14: 1894 | Y14: - | Z14: - | AA14: - | AB14: - | AC14: - | AD14: - | AE14: - | AF14: - | AG14: - | AH14: - | AI14: - | AJ14: - | AK14: - | AL14: - | AM14: - | AN14: - | AP14: 1894 | AQ14: - | AR14: - | AS14: - | AT14: - | AU14: - | AV14: - | AW14: - | AX14: - | AY14: - | AZ14: - | BA14: - | BB14: - | BC14: - | BD14: - | BE14: - | BF14: - | BH14: 1894 | BI14: - | BJ14: - | BK14: - | BL14: - | BM14: - | BN14: - | BO14: - | BP14: - | BQ14: - | BR14: - | BS14: - | BT14: - | BU14: - | BV14: - | BW14: - | BX14: -
A15: - | B15: - | C15: - | D15: - | E15: - | F15: 1895 | G15: - | H15: - | I15: =BCA!B15 -> 57.729329 | J15: - | K15: - | L15: - | M15: - | N15: =BCA!E15 -> 22.195015 | O15: - | P15: - | Q15: - | R15: - | S15: - | T15: - | U15: - | V15: - | X15: 1895 | Y15: - | Z15: - | AA15: - | AB15: - | AC15: - | AD15: - | AE15: - | AF15: - | AG15: - | AH15: - | AI15: - | AJ15: - | AK15: - | AL15: - | AM15: - | AN15: - | AP15: 1895 | AQ15: - | AR15: - | AS15: - | AT15: - | AU15: - | AV15: - | AW15: - | AX15: - | AY15: - | AZ15: - | BA15: - | BB15: - | BC15: - | BD15: - | BE15: - | BF15: - | BH15: 1895 | BI15: - | BJ15: - | BK15: - | BL15: - | BM15: - | BN15: - | BO15: - | BP15: - | BQ15: - | BR15: - | BS15: - | BT15: - | BU15: - | BV15: - | BW15: - | BX15: -
A16: - | B16: - | C16: - | D16: - | E16: - | F16: 1896 | G16: - | H16: - | I16: =BCA!B16 -> 61.82892 | J16: - | K16: - | L16: - | M16: - | N16: =BCA!E16 -> 22.152231 | O16: - | P16: - | Q16: - | R16: - | S16: - | T16: - | U16: - | V16: - | X16: 1896 | Y16: - | Z16: - | AA16: - | AB16: - | AC16: - | AD16: - | AE16: - | AF16: - | AG16: - | AH16: - | AI16: - | AJ16: - | AK16: - | AL16: - | AM16: - | AN16: - | AP16: 1896 | AQ16: - | AR16: - | AS16: - | AT16: - | AU16: - | AV16: - | AW16: - | AX16: - | AY16: - | AZ16: - | BA16: - | BB16: - | BC16: - | BD16: - | BE16: - | BF16: - | BH16: 1896 | BI16: - | BJ16: - | BK16: - | BL16: - | BM16: - | BN16: - | BO16: - | BP16: - | BQ16: - | BR16: - | BS16: - | BT16: - | BU16: - | BV16: - | BW16: - | BX16: -
... A39: - | B39: - | C39: - | D39: - | E39: - | F39: 1919 | G39: - | H39: - | I39: =BCA!B39 -> 203.42065 | J39: - | K39: - | L39: - | M39: - | N39: =BCA!E39 -> 119.41478 | O39: - | P39: - | Q39: - | R39: - | S39: - | T39: - | U39: - | V39: - | X39: 1919 | Y39: - | Z39: - | AA39: - | AB39: - | AC39: - | AD39: - | AE39: - | AF39: - | AG39: - | AH39: - | AI39: - | AJ39: - | AK39: - | AL39: - | AM39: - | AN39: - | AP39: 1919 | AQ39: - | AR39: - | AS39: - | AT39: - | AU39: - | AV39: - | AW39: - | AX39: - | AY39: - | AZ39: - | BA39: - | BB39: - | BC39: - | BD39: - | BE39: - | BF39: - | BH39: 1919 | BI39: - | BJ39: - | BK39: - | BL39: - | BM39: - | BN39: - | BO39: - | BP39: - | BQ39: - | BR39: - | BS39: - | BT39: - | BU39: - | BV39: - | BW39: - | BX39: -
A40: - | B40: - | C40: - | D40: - | E40: - | F40: 1920 | G40: - | H40: - | I40: =BCA!B40 -> 425.4 | J40: - | K40: - | L40: - | M40: - | N40: =BCA!E40 -> 197.5 | O40: - | P40: - | Q40: - | R40: - | S40: - | T40: - | U40: - | V40: - | X40: 1920 | Y40: - | Z40: - | AA40: - | AB40: - | AC40: - | AD40: - | AE40: - | AF40: - | AG40: - | AH40: - | AI40: - | AJ40: - | AK40: - | AL40: - | AM40: - | AN40: - | AP40: 1920 | AQ40: - | AR40: - | AS40: - | AT40: - | AU40: - | AV40: - | AW40: - | AX40: - | AY40: - | BA40: - | BB40: - | BC40: - | BD40: - | BE40: - | BF40: - | BH40: 1920 | BI40: - | BJ40: - | BK40: - | BL40: - | BM40: - | BN40: - | BO40: - | BP40: - | BQ40: - | BR40: - | BS40: - | BT40: - | BU40: - | BV40: - | BW40: - | BX40: -
A41: - | B41: - | C41: - | D41: - | E41: - | F41: 1921 | G41: - | H41: - | I41: =BCA!B41 -> 376 | J41: - | K41: - | L41: - | M41: - | N41: =BCA!E41 -> 241.7 | O41: - | P41: - | Q41: - | R41: - | S41: - | T41: - | U41: - | V41: - | X41: 1921 | Y41: - | Z41: - | AA41: - | AB41: - | AC41: - | AD41: - | AE41: - | AF41: - | AG41: - | AH41: - | AI41: - | AJ41: - | AK41: - | AL41: - | AM41: - | AN41: - | AP41: 1921 | AQ41: - | AR41: - | AS41: - | AT41: - | AU41: - | AV41: - | AW41: - | AX41: - | AY41: - | BA41: - | BB41: - | BC41: - | BD41: - | BE41: - | BF41: - | BH41: 1921 | BI41: - | BJ41: - | BK41: - | BL41: - | BM41: - | BN41: - | BO41: - | BP41: - | BQ41: - | BR41: - | BS41: - | BT41: - | BU41: - | BV41: - | BW41: - | BX41: -
A42: - | B42: - | C42: - | D42: - | E42: - | F42: 1922 | G42: - | H42: - | I42: =BCA!B42 -> 314.1 | J42: - | K42: - | L42: - | M42: - | N42: =BCA!E42 -> 150.7 | O42: - | P42: - | Q42: - | R42: - | S42: - | T42: - | U42: - | V42: - | X42: 1922 | Y42: - | Z42: - | AA42: - | AB42: - | AC42: - | AD42: - | AE42: - | AF42: - | AG42: - | AH42: - | AI42: - | AJ42: - | AK42: - | AL42: - | AM42: - | AN42: - | AP42: 1922 | AQ42: - | AR42: - | AS42: - | AT42: - | AU42: - | AV42: - | AW42: - | AX42: - | AY42: - | BA42: - | BB42: - | BC42: - | BD42: - | BE42: - | BF42: - | BH42: 1922 | BI42: - | BJ42: - | BK42: - | BL42: - | BM42: - | BN42: - | BO42: - | BP42: - | BQ42: - | BR42: - | BS42: - | BT42: - | BU42: - | BV42: - | BW42: - | BX42: -
A43: - | B43: - | C43: - | D43: - | E43: - | F43: 1923 | G43: - | H43: - | I43: =BCA!B43 -> 275.7 | J43: - | K43: - | L43: - | M43: - | N43: =BCA!E43 -> 152.9 | O43: - | P43: - | Q43: - | R43: - | S43: - | T43: - | U43: - | V43: - | X43: 1923 | Y43: - | Z43: - | AA43: - | AB43: - | AC43: - | AD43: - | AE43: - | AF43: - | AG43: - | AH43: - | AI43: - | AJ43: - | AK43: - | AL43: - | AM43: - | AN43: - | AP43: 1923 | AQ43: - | AR43: - | AS43: - | AT43: - | AU43: - | AV43: - | AW43: - | AX43: - | AY43: - | BA43: - | BB43: - | BC43: - | BD43: - | BE43: - | BF43: - | BH43: 1923 | BI43: - | BJ43: - | BK43: - | BL43: - | BM43: - | BN43: - | BO43: - | BP43: - | BQ43: - | BR43: - | BS43: - | BT43: - | BU43: - | BV43: - | BW43: - | BX43: -
A44: - | B44: - | C44: - | D44: - | E44: - | F44: 1924 | G44: - | H44: - | I44: =BCA!B44 -> 297.1 | J44: - | K44: - | L44: - | M44: - | N44: =BCA!E44 -> 155.1 | O44: - | P44: - | Q44: - | R44: - | S44: - | T44: - | U44: - | V44: - | X44: 1924 | Y44: - | Z44: - | AA44: - | AB44: - | AC44: - | AD44: - | AE44: - | AF44: - | AG44: - | AH44: - | AI44: - | AJ44: - | AK44: - | AL44: - | AM44: - | AN44: - | AP44: 1924 | AQ44: - | AR44: - | AS44: - | AT44: - | AU44: - | AV44: - | AW44: - | AX44: - | AY44: - | BA44: - | BB44: - | BC44: - | BD44: - | BE44: - | BF44: - | BH44: 1924 | BI44: - | BJ44: - | BK44: - | BL44: - | BM44: - | BN44: - | BO44: - | BP44: - | BQ44: - | BR44: - | BS44: - | BT44: - | BU44: - | BV44: - | BW44: - | BX44: -
A45: - | B45: - | C45: - | D45: - | E45: - | F45: 1925 | G45: - | H45: - | I45: =BCA!B45 -> 336 | J45: - | K45: - | L45: - | M45: - | N45: =BCA!E45 -> 192.6 | O45: - | P45: - | Q45: - | R45: - | S45: - | T45: - | U45: - | V45: - | X45: 1925 | Y45: - | Z45: - | AA45: - | AB45: - | AC45: - | AD45: - | AE45: - | AF45: - | AG45: - | AH45: - | AI45: - | AJ45: - | AK45: - | AL45: - | AM45: - | AN45: - | AP45: 1925 | AQ45: - | AR45: - | AS45: - | AT45: - | AU45: - | AV45: - | AW45: - | AX45: - | AY45: - | BA45: - | BB45: - | BC45: - | BD45: - | BE45: - | BF45: - | BH45: 1925 | BI45: - | BJ45: - | BK45: - | BL45: - | BM45: - | BN45: - | BO45: - | BP45: - | BQ45: - | BR45: - | BS45: - | BT45: - | BU45: - | BV45: - | BW45: - | BX45: -
A46: - | B46: - | C46: - | D46: - | E46: - | F46: 1926 | G46: - | H46: - | I46: =BCA!B46 -> 334.3 | J46: - | K46: - | L46: - | M46: - | N46: =BCA!E46 -> 184.1 | O46: - | P46: - | Q46: - | R46: - | S46: - | T46: - | U46: - | V46: - | X46: 1926 | Y46: - | Z46: - | AA46: - | AB46: - | AC46: - | AD46: - | AE46: - | AF46: - | AG46: - | AH46: - | AI46: - | AJ46: - | AK46: - | AL46: - | AM46: - | AN46: - | AP46: 1926 | AQ46: - | AR46: - | AS46: - | AT46: - | AU46: - | AV46: - | AW46: - | AX46: - | AY46: - | BA46: - | BB46: - | BC46: - | BD46: - | BE46: - | BF46: - | BH46: 1926 | BI46: - | BJ46: - | BK46: - | BL46: - | BM46: - | BN46: - | BO46: - | BP46: - | BQ46: - | BR46: - | BS46: - | BT46: - | BU46: - | BV46: - | BW46: - | BX46: -
A47: - | B47: - | C47: - | D47: - | E47: - | F47: 1927 | G47: - | H47: - | I47: =BCA!B47 -> 299.1 | J47: - | K47: - | L47: - | M47: - | N47: =BCA!E47 -> 163.2 | O47: - | P47: - | Q47: - | R47: - | S47: - | T47: - | U47: - | V47: - | X47: 1927 | Y47: - | Z47: - | AA47: - | AB47: - | AC47: - | AD47: - | AE47: - | AF47: - | AG47: - | AH47: - | AI47: - | AJ47: - | AK47: - | AL47: - | AM47: - | AN47: - | AP47: 1927 | AQ47: - | AR47: - | AS47: - | AT47: - | AU47: - | AV47: - | AW47: - | AX47: - | AY47: - | BA47: - | BB47: - | BC47: - | BD47: - | BE47: - | BF47: - | BH47: 1927 | BI47: - | BJ47: - | BK47: - | BL47: - | BM47: - | BN47: - | BO47: - | BP47: - | BQ47: - | BR47: - | BS47: - | BT47: - | BU47: - | BV47: - | BW47: - | BX47: -
A48: - | B48: - | C48: - | D48: - | E48: - | F48: 1928 | G48: - | H48: - | I48: =BCA!B48 -> 284.6 | J48: - | K48: - | L48: - | M48: - | N48: =BCA!E48 -> 172.1 | O48: - | P48: - | Q48: - | R48: - | S48: - | T48: - | U48: - | V48: - | X48: 1928 | Y48: - | Z48: - | AA48: - | AB48: - | AC48: - | AD48: - | AE48: - | AF48: - | AG48: - | AH48: - | AI48: - | AJ48: - | AK48: - | AL48: - | AM48: - | AN48: - | AP48: 1928 | AQ48: - | AR48: - | AS48: - | AT48: - | AU48: - | AV48: - | AW48: - | AX48: - | AY48: - | BA48: - | BB48: - | BC48: - | BD48: - | BE48: - | BF48: - | BH48: 1928 | BI48: - | BJ48: - | BK48: - | BL48: - | BM48: - | BN48: - | BO48: - | BP48: - | BQ48: - | BR48: - | BS48: - | BT48: - | BU48: - | BV48: - | BW48: - | BX48: -
A49: - | B49: - | C49: - | D49: - | E49: - | F49: 1929 | G49: - | H49: - | I49: =BCA!B49 -> 274.9 | J49: - | K49: - | L49: - | M49: - | N49: =BCA!E49 -> 177.7 | O49: - | P49: - | Q49: - | R49: - | S49: - | T49: - | U49: - | V49: - | X49: 1929 | Y49: - | Z49: - | AA49: - | AB49: - | AC49: - | AD49: - | AE49: - | AF49: - | AG49: - | AH49: - | AI49: - | AJ49: - | AK49: - | AL49: - | AM49: - | AN49: - | AP49: 1929 | AQ49: - | AR49: - | AS49: - | AT49: - | AU49: - | AV49: - | AW49: - | AX49: - | AY49: - | BA49: - | BB49: - | BC49: - | BD49: - | BE49: - | BF49: - | BH49: 1929 | BI49: - | BJ49: - | BK49: - | BL49: - | BM49: - | BN49: - | BO49: - | BP49: - | BQ49: - | BR49: - | BS49: - | BT49: - | BU49: - | BV49: - | BW49: - | BX49: -
A50: - | B50: - | C50: - | D50: - | E50: - | F50: 1930 | G50: - | H50: - | I50: =BCA!B50 -> 203.1 | J50: - | K50: - | L50: - | M50: - | N50: =BCA!E50 -> 154.9 | O50: - | P50: - | Q50: - | R50: - | S50: - | T50: - | U50: - | V50: - | X50: 1930 | Y50: - | Z50: - | AA50: - | AB50: - | AC50: - | AD50: - | AE50: - | AF50: - | AG50: - | AH50: - | AI50: - | AJ50: - | AK50: - | AL50: - | AM50: - | AN50: - | AP50: 1930 | AQ50: - | AR50: - | AS50: - | AT50: - | AU50: - | AV50: - | AW50: - | AX50: - | AY50: - | BA50: - | BB50: - | BC50: - | BD50: - | BE50: - | BF50: - | BH50: 1930 | BI50: - | BJ50: - | BK50: - | BL50: - | BM50: - | BN50: - | BO50: - | BP50: - | BQ50: - | BR50: - | BS50: - | BT50: - | BU50: - | BV50: - | BW50: - | BX50: -
A51: - | B51: - | C51: - | D51: - | E51: - | F51: 1931 | G51: - | H51: - | I51: =BCA!B51 -> 150.9 | J51: - | K51: - | L51: - | M51: - | N51: =BCA!E51 -> 81.9 | O51: - | P51: - | Q51: - | R51: - | S51: - | T51: - | U51: - | V51: - | X51: 1931 | Y51: - | Z51: - | AA51: - | AB51: - | AC51: - | AD51: - | AE51: - | AF51: - | AG51: - | AH51: - | AI51: - | AJ51: - | AK51: - | AL51: - | AM51: - | AN51: - | AP51: 1931 | AQ51: - | AR51: - | AS51: - | AT51: - | AU51: - | AV51: - | AW51: - | AX51: - | AY51: - | BA51: - | BB51: - | BC51: - | BD51: - | BE51: - | BF51: - | BH51: 1931 | BI51: - | BJ51: - | BK51: - | BL51: - | BM51: - | BN51: - | BO51: - | BP51: - | BQ51: - | BR51: - | BS51: - | BT51: - | BU51: - | BV51: - | BW51: - | BX51: -
... A58: - | B58: - | C58: - | D58: - | E58: - | F58: 1938 | G58: - | H58: - | I58: =BCA!B58 -> 185.4 | J58: - | K58: - | L58: - | M58: - | N58: =BCA!E58 -> 109.3 | O58: - | P58: - | Q58: - | R58: - | S58: - | T58: - | U58: - | V58: - | X58: 1938 | Y58: - | Z58: - | AA58: - | AB58: - | AC58: - | AD58: - | AE58: - | AF58: - | AG58: - | AH58: - | AI58: - | AJ58: - | AK58: - | AL58: - | AM58: - | AN58: - | AP58: 1938 | AQ58: - | AR58: - | AS58: - | AT58: - | AU58: - | AV58: - | AW58: - | AX58: - | AY58: - | BA58: - | BB58: - | BC58: - | BD58: - | BE58: - | BF58: - | BH58: 1938 | BI58: - | BJ58: - | BK58: - | BL58: - | BM58: - | BN58: - | BO58: - | BP58: - | BQ58: - | BR58: - | BS58: - | BT58: - | BU58: - | BV58: - | BW58: - | BX58: -
A59: =G59+R59+T59+ S59-U59-V59 -> 1.1546319e-14 | B59: =H59-M59-G59 -> 0 | C59: =H59-I59-J59-K59-L59 -> 1.4210855e-14 | D59: =N59+O59+P59+Q59-M59 -> 0 | E59: =U59-G59-(R59+T59)-S59+V59 -> -7.1054274e-15 | F59: 1939 | G59: =Y59 -> 39.4 | H59: =Z59 -> 216.1 | I59: =AA59 -> 163.4 | J59: =AB59 -> 48.7 | K59: =AC59 -> 4 | L59: =AD59 -> 0 | M59: =AE59 -> 176.7 | N59: =AF59 -> 128.2 | ... P59: =AH59 -> 21.5 | Q59: 0 | R59: =AJ59 -> 39.5 | S59: 0 | T59: =AL59 -> -83.6 | U59: =AM59 -> -4.7 | V59: 0 | X59: 1939 | Y59: 39.4 | Z59: 216.1 | AA59: 163.4 | AB59: 48.7 | AC59: 4 | AD59: 0 | AE59: 176.7 | AF59: 128.2 | AG59: 27 | AH59: =AE59-AF59-AG59 -> 21.5 | AI59: - | AJ59: 39.5 | AK59: - | AL59: -83.6 | AM59: -4.7 | AN59: - | AP59: 1939 | AQ59: - | AR59: - | AS59: - | AT59: - | AU59: - | AV59: - | AW59: - | AX59: - | AY59: - | BA59: - | BB59: - | BC59: - | BD59: - | BE59: - | BF59: - | BH59: 1939 | BI59: - | BJ59: - | BK59: - | BL59: - | BM59: - | BN59: - | BO59: - | BP59: - | BQ59: - | BR59: - | BS59: - | BT59: - | BU59: - | BV59: - | BW59: - | BX59: -
A60: =G60+R60+T60+ S60-U60-V60 -> 3.5527137e-15 | B60: =H60-M60-G60 -> 0 | C60: =H60-I60-J60-K60-L60 -> -2.6645353e-15 | D60: =N60+O60+P60+Q60-M60 -> 0 | E60: =U60-G60-(R60+T60)-S60+V60 -> -2.6645353e-15 | F60: 1940 | G60: =Y60 -> 22.6 | H60: =Z60 -> 213.9 | I60: =AA60 -> 159.8 | J60: =AB60 -> 50.3 | K60: =AC60 -> 3.8 | L60: =AD60 -> 0 | M60: =AE60 -> 191.3 | N60: =AF60 -> 132.4 | ... P60: =AH60 -> 30.9 | Q60: 0 | R60: =AJ60 -> 2.5 | S60: 0 | T60: =AL60 -> 0.8 | U60: =AM60 -> 25.9 | V60: 0 | X60: 1940 | Y60: 22.6 | Z60: 213.9 | AA60: 159.8 | AB60: 50.3 | AC60: 3.8 | AD60: 0 | AE60: 191.3 | AF60: 132.4 | AG60: 28 | AH60: =AE60-AF60-AG60 -> 30.9 | AI60: - | AJ60: 2.5 | AK60: - | AL60: 0.8 | AM60: 25.9 | AN60: - | AP60: 1940 | AQ60: - | AR60: - | AS60: - | AT60: - | AU60: - | AV60: - | AW60: - | AX60: - | AY60: - | BA60: - | BB60: - | BC60: - | BD60: - | BE60: - | BF60: - | BH60: 1940 | BI60: - | BJ60: - | BK60: - | BL60: - | BM60: - | BN60: - | BO60: - | BP60: - | BQ60: - | BR60: - | BS60: - | BT60: - | BU60: - | BV60: - | BW60: - | BX60: -
A61: =G61+R61+T61+ S61-U61-V61 -> 2.6645353e-15 | B61: =H61-M61-G61 -> -3.5527137e-14 | C61: =H61-I61-J61-K61-L61 -> -8.437695e-15 | D61: =N61+O61+P61+Q61-M61 -> 0 | E61: =U61-G61-(R61+T61)-S61+V61 -> 0 | F61: 1941 | G61: =Y61 -> -28.9 | H61: =Z61 -> 243.2 | I61: =AA61 -> 176.5 | J61: =AB61 -> 62.8 | K61: =AC61 -> 3.9 | L61: =AD61 -> 0 | M61: =AE61 -> 272.1 | N61: =AF61 -> 199.5 | ... P61: =AH61 -> 41.3 | Q61: 0 | R61: =AJ61 -> 11.6 | S61: 0 | T61: =AL61 -> 15.1 | U61: =AM61 -> -2.2 | V61: 0 | X61: 1941 | Y61: -28.9 | Z61: 243.2 | AA61: 176.5 | AB61: 62.8 | AC61: 3.9 | AD61: 0 | AE61: 272.1 | AF61: 199.5 | AG61: 31.3 | AH61: =AE61-AF61-AG61 -> 41.3 | AI61: - | AJ61: 11.6 | AK61: - | AL61: 15.1 | AM61: -2.2 | AN61: - | AP61: 1941 | AQ61: - | AR61: - | AS61: - | AT61: - | AU61: - | AV61: - | AW61: - | AX61: - | AY61: - | BA61: - | BB61: - | BC61: - | BD61: - | BE61: - | BF61: - | BH61: 1941 | BI61: - | BJ61: - | BK61: - | BL61: - | BM61: - | BN61: - | BO61: - | BP61: - | BQ61: - | BR61: - | BS61: - | BT61: - | BU61: - | BV61: - | BW61: - | BX61: -
A62: =G62+R62+T62+ S62-U62-V62 -> 0 | B62: =H62-M62-G62 -> 0 | C62: =H62-I62-J62-K62-L62 -> 4.4408921e-15 | D62: =N62+O62+P62+Q62-M62 -> 0 | E62: =U62-G62-(R62+T62)-S62+V62 -> -3.5527137e-15 | F62: 1942 | G62: =Y62 -> 12.3 | H62: =Z62 -> 272.5 | I62: =AA62 -> 207.5 | J62: =AB62 -> 59.2 | K62: =AC62 -> 5.8 | L62: =AD62 -> 0 | M62: =AE62 -> 260.2 | N62: =AF62 -> 172.2 | ... P62: =AH62 -> 52.2 | Q62: 0 | R62: =AJ62 -> 18.2 | S62: 0 | T62: =AL62 -> 9.3 | U62: =AM62 -> 39.8 | V62: 0 | X62: 1942 | Y62: 12.3 | Z62: 272.5 | AA62: 207.5 | AB62: 59.2 | AC62: 5.8 | AD62: 0 | AE62: 260.2 | AF62: 172.2 | AG62: 35.8 | AH62: =AE62-AF62-AG62 -> 52.2 | AI62: - | AJ62: 18.2 | AK62: - | AL62: 9.3 | AM62: 39.8 | AN62: - | AP62: 1942 | AQ62: - | AR62: - | AS62: - | AT62: - | AU62: - | AV62: - | AW62: - | AX62: - | AY62: - | BA62: - | BB62: - | BC62: - | BD62: - | BE62: - | BF62: - | BH62: 1942 | BI62: - | BJ62: - | BK62: - | BL62: - | BM62: - | BN62: - | BO62: - | BP62: - | BQ62: - | BR62: - | BS62: - | BT62: - | BU62: - | BV62: - | BW62: - | BX62: -
A63: =G63+R63+T63+ S63-U63-V63 -> 0 | B63: =H63-M63-G63 -> 0 | C63: =H63-I63-J63-K63-L63 -> 5.6843419e-14 | D63: =N63+O63+P63+Q63-M63 -> 0 | E63: =U63-G63-(R63+T63)-S63+V63 -> -1.0658141e-14 | F63: 1943 | G63: =Y63 -> 109.8 | H63: =Z63 -> 410.1 | I63: =AA63 -> 291.6 | J63: =AB63 -> 73 | K63: =AC63 -> 9.2 | L63: =AD63 -> 36.3 | M63: =AE63 -> 300.3 | N63: =AF63 -> 212.2 | ... P63: =AH63 -> 50.4 | Q63: 0 | R63: =AJ63 -> -4.7 | S63: 0 | T63: =AL63 -> 35.1 | U63: =AM63 -> 140.2 | V63: 0 | X63: 1943 | Y63: 109.8 | Z63: 410.1 | AA63: 291.6 | AB63: 73 | AC63: 9.2 | AD63: 36.3 | AE63: 300.3 | AF63: 212.2 | AG63: 37.7 | AH63: =AE63-AF63-AG63 -> 50.4 | AI63: - | AJ63: -4.7 | AK63: - | AL63: 35.1 | AM63: 140.2 | AN63: - | AP63: 1943 | AQ63: - | AR63: - | AS63: - | AT63: - | AU63: - | AV63: - | AW63: - | AX63: - | AY63: - | BA63: - | BB63: - | BC63: - | BD63: - | BE63: - | BF63: - | BH63: 1943 | BI63: - | BJ63: - | BK63: - | BL63: - | BM63: - | BN63: - | BO63: - | BP63: - | BQ63: - | BR63: - | BS63: - | BT63: - | BU63: - | BV63: - | BW63: - | BX63: -
A64: =G64+R64+T64+ S64-U64-V64 -> 0 | B64: =H64-M64-G64 -> 0 | C64: =H64-I64-J64-K64-L64 -> 0 | D64: =N64+O64+P64+Q64-M64 -> 0 | E64: =U64-G64-(R64+T64)-S64+V64 -> 0 | F64: 1944 | G64: =Y64 -> 32.7 | H64: =Z64 -> 432.2 | I64: =AA64 -> 283.7 | J64: =AB64 -> 86 | K64: =AC64 -> 12.1 | L64: =AD64 -> 50.4 | M64: =AE64 -> 399.5 | N64: =AF64 -> 311 | ... P64: =AH64 -> 45 | Q64: 0 | R64: =AJ64 -> 28.5 | S64: 0 | T64: =AL64 -> -23.5 | U64: =AM64 -> 37.7 | V64: 0 | X64: 1944 | Y64: 32.7 | Z64: 432.2 | AA64: 283.7 | AB64: 86 | AC64: 12.1 | AD64: 50.4 | AE64: 399.5 | AF64: 311 | AG64: 43.5 | AH64: =AE64-AF64-AG64 -> 45 | AI64: - | AJ64: 28.5 | AK64: - | AL64: -23.5 | AM64: 37.7 | AN64: - | AP64: 1944 | AQ64: - | AR64: - | AS64: - | AT64: - | AU64: - | AV64: - | AW64: - | AX64: - | AY64: - | BA64: - | BB64: - | BC64: - | BD64: - | BE64: - | BF64: - | BH64: 1944 | BI64: - | BJ64: - | BK64: - | BL64: - | BM64: - | BN64: - | BO64: - | BP64: - | BQ64: - | BR64: - | BS64: - | BT64: - | BU64: - | BV64: - | BW64: - | BX64: -
A65: =G65+R65+T65+ S65-U65-V65 -> 0 | B65: =H65-M65-G65 -> -3.5527137e-14 | C65: =H65-I65-J65-K65-L65 -> 0 | D65: =N65+O65+P65+Q65-M65 -> 0 | E65: =U65-G65-(R65+T65)-S65+V65 -> 1.4210855e-14 | F65: 1945 | G65: =Y65 -> 22.1 | H65: =Z65 -> 500.7 | I65: =AA65 -> 320.8 | J65: =AB65 -> 110.7 | K65: =AC65 -> 14.1 | L65: =AD65 -> 55.1 | M65: =AE65 -> 478.6 | N65: =AF65 -> 372.5 | ... P65: =AH65 -> 46.3 | Q65: 0 | R65: =AJ65 -> 7.6 | S65: 0 | T65: =AL65 -> 61.7 | U65: =AM65 -> 91.4 | V65: 0 | X65: 1945 | Y65: 22.1 | Z65: 500.7 | AA65: 320.8 | AB65: 110.7 | AC65: 14.1 | AD65: 55.1 | AE65: 478.6 | AF65: 372.5 | AG65: 59.8 | AH65: =AE65-AF65-AG65 -> 46.3 | AI65: - | AJ65: 7.6 | AK65: - | AL65: 61.7 | AM65: 91.4 | AN65: - | AP65: 1945 | AQ65: - | AR65: - | AS65: - | AT65: - | AU65: - | AV65: - | AW65: - | AX65: - | AY65: - | BA65: - | BB65: - | BC65: - | BD65: - | BE65: - | BF65: - | BH65: 1945 | BI65: - | BJ65: - | BK65: - | BL65: - | BM65: - | BN65: - | BO65: - | BP65: - | BQ65: - | BR65: - | BS65: - | BT65: - | BU65: - | BV65: - | BW65: - | BX65: -
A66: =G66+R66+T66+ S66-U66-V66 -> 1.4210855e-14 | B66: =H66-M66-G66 -> 0 | C66: =H66-I66-J66-K66-L66 -> 0 | D66: =N66+O66+P66+Q66-M66 -> 0 | E66: =U66-G66-(R66+T66)-S66+V66 -> 0 | F66: 1946 | G66: =Y66 -> -160 | H66: =Z66 -> 570.1 | I66: =AA66 -> 368.5 | J66: =AB66 -> 151.6 | K66: =AC66 -> 16.1 | L66: =AD66 -> 33.9 | M66: =AE66 -> 730.1 | N66: =AF66 -> 600.6 | ... P66: =AH66 -> 64.7 | Q66: 0 | R66: =AJ66 -> 35.9 | S66: 0 | T66: =AL66 -> 23.7 | U66: =AM66 -> -100.4 | V66: 0 | X66: 1946 | Y66: -160 | Z66: 570.1 | AA66: 368.5 | AB66: 151.6 | AC66: 16.1 | AD66: 33.9 | AE66: 730.1 | AF66: 600.6 | AG66: 64.8 | AH66: =AE66-AF66-AG66 -> 64.7 | AI66: - | AJ66: 35.9 | AK66: - | AL66: 23.7 | AM66: -100.4 | AN66: - | AP66: 1946 | AQ66: - | AR66: - | AS66: - | AT66: - | AU66: - | AV66: - | AW66: - | AX66: - | AY66: - | BA66: - | BB66: - | BC66: - | BD66: - | BE66: - | BF66: - | BH66: 1946 | BI66: - | BJ66: - | BK66: - | BL66: - | BM66: - | BN66: - | BO66: - | BP66: - | BQ66: - | BR66: - | BS66: - | BT66: - | BU66: - | BV66: - | BW66: - | BX66: -
A67: =G67+R67+T67+ S67-U67-V67 -> 0 | B67: =H67-M67-G67 -> 0 | C67: =H67-I67-J67-K67-L67 -> -3.1974423e-14 | D67: =N67+O67+P67+Q67-M67 -> 0 | E67: =U67-G67-(R67+T67)-S67+V67 -> 0 | F67: 1947 | G67: =Y67 -> -147 | H67: =Z67 -> 713.9 | I67: =AA67 -> 483 | J67: =AB67 -> 147.3 | K67: =AC67 -> 54.4 | L67: =AD67 -> 29.2 | M67: =AE67 -> 860.9 | N67: =AF67 -> 720.3 | ... P67: =AH67 -> 75.6 | Q67: 0 | R67: =AJ67 -> 51.6 | S67: 0 | T67: =AL67 -> -15.1 | U67: =AM67 -> -110.5 | V67: 0 | X67: 1947 | Y67: -147 | Z67: 713.9 | AA67: 483 | AB67: 147.3 | AC67: 54.4 | AD67: 29.2 | AE67: 860.9 | AF67: 720.3 | AG67: 65 | AH67: =AE67-AF67-AG67 -> 75.6 | AI67: - | AJ67: 51.6 | AK67: - | AL67: -15.1 | AM67: -110.5 | AN67: - | AP67: 1947 | AQ67: - | AR67: - | AS67: - | AT67: - | AU67: - | AV67: - | AW67: - | AX67: - | AY67: - | BA67: - | BB67: - | BC67: - | BD67: - | BE67: - | BF67: - | BH67: 1947 | BI67: - | BJ67: - | BK67: - | BL67: - | BM67: - | BN67: - | BO67: - | BP67: - | BQ67: - | BR67: - | BS67: - | BT67: - | BU67: - | BV67: - | BW67: - | BX67: -
A68: =G68+R68+T68+ S68-U68-V68 -> -7.1054274e-15 | B68: =H68-M68-G68 -> 0 | C68: =H68-I68-J68-K68-L68 -> 0 | D68: =N68+O68+P68+Q68-M68 -> 0 | E68: =U68-G68-(R68+T68)-S68+V68 -> 0 | F68: 1948 | G68: =Y68 -> -49.6 | H68: =Z68 -> 715.5 | I68: =AA68 -> 473.1 | J68: =AB68 -> 194.7 | K68: =AC68 -> 26.1 | L68: =AD68 -> 21.6 | M68: =AE68 -> 765.1 | N68: =AF68 -> 591.4 | ... P68: =AH68 -> 82.6 | Q68: 0 | R68: =AJ68 -> 17.2 | S68: 0 | T68: =AL68 -> -8.2 | U68: =AM68 -> -40.6 | V68: 0 | X68: 1948 | Y68: -49.6 | Z68: 715.5 | AA68: 473.1 | AB68: 194.7 | AC68: 26.1 | AD68: 21.6 | AE68: 765.1 | AF68: 591.4 | AG68: 91.1 | AH68: =AE68-AF68-AG68 -> 82.6 | AI68: - | AJ68: 17.2 | AK68: - | AL68: -8.2 | AM68: -40.6 | AN68: - | AP68: 1948 | AQ68: - | AR68: - | AS68: - | AT68: - | AU68: - | AV68: - | AW68: - | AX68: - | AY68: - | BA68: - | BB68: - | BC68: - | BD68: - | BE68: - | BF68: - | BH68: 1948 | BI68: - | BJ68: - | BK68: - | BL68: - | BM68: - | BN68: - | BO68: - | BP68: - | BQ68: - | BR68: - | BS68: - | BT68: - | BU68: - | BV68: - | BW68: - | BX68: -
A69: =G69+R69+T69+ S69-U69-V69 -> -7.1054274e-15 | B69: =H69-M69-G69 -> 0 | C69: =H69-I69-J69-K69-L69 -> 3.5527137e-14 | D69: =N69+O69+P69+Q69-M69 -> 0 | E69: =U69-G69-(R69+T69)-S69+V69 -> 0 | F69: 1949 | G69: =Y69 -> 72.5 | H69: =Z69 -> 701.1 | I69: =AA69 -> 455.9 | J69: =AB69 -> 186.4 | K69: =AC69 -> 41.2 | L69: =AD69 -> 17.6 | M69: =AE69 -> 628.6 | N69: =AF69 -> 514.4 | ... P69: =AH69 -> 59.6 | Q69: 0 | R69: =AJ69 -> 17.6 | S69: 0 | T69: =AL69 -> -45.6 | U69: =AM69 -> 44.5 | V69: 0 | X69: 1949 | Y69: 72.5 | Z69: 701.1 | AA69: 455.9 | AB69: 186.4 | AC69: 41.2 | AD69: 17.6 | AE69: 628.6 | AF69: 514.4 | AG69: 54.6 | AH69: =AE69-AF69-AG69 -> 59.6 | AI69: - | AJ69: 17.6 | AK69: - | AL69: -45.6 | AM69: 44.5 | AN69: - | AP69: 1949 | AQ69: - | AR69: - | AS69: - | AT69: - | AU69: - | AV69: - | AW69: - | AX69: - | AY69: - | BA69: - | BB69: - | BC69: - | BD69: - | BE69: - | BF69: - | BH69: 1949 | BI69: - | BJ69: - | BK69: - | BL69: - | BM69: - | BN69: - | BO69: - | BP69: - | BQ69: - | BR69: - | BS69: - | BT69: - | BU69: - | BV69: - | BW69: - | BX69: -
A70: =G70+R70+T70+ S70-U70-V70 -> -2.8421709e-14 | B70: =H70-M70-G70 -> 0 | C70: =H70-I70-J70-K70-L70 -> 0 | D70: =N70+O70+P70+Q70-M70 -> 0 | E70: =U70-G70-(R70+T70)-S70+V70 -> 1.4210855e-14 | F70: 1950 | G70: =AQ70 -> 163.1 | H70: =AR70 -> 994.1 | I70: =AS70 -> 699.4 | J70: =AT70 -> 232.8 | K70: =AU70 -> 23.4 | L70: =AV70 -> 38.5 | M70: =AW70 -> 831 | N70: =AX70 -> 556.4 | ... U70: =BE70 -> 171.9 | V70: 0 | X70: 1950 | Y70: - | Z70: - | AA70: - | AB70: - | AC70: - | AD70: - | AE70: - | AF70: - | AG70: - | AH70: - | AI70: - | AJ70: - | AK70: - | AL70: - | AM70: - | AN70: - | AP70: 1950 | AQ70: 163.1 | AR70: 994.1 | AS70: 699.4 | AT70: 232.8 | AU70: 23.4 | AV70: 38.5 | AW70: 831 | AX70: 556.4 | AY70: 196.7 | AZ70: 72.4 | BA70: 5.5 | BB70: 53 | BC70: 0 | BD70: -44.2 | BE70: 171.9 | BF70: - | BH70: 1950 | BI70: - | BJ70: - | BK70: - | BL70: - | BM70: - | BN70: - | BO70: - | BP70: - | BQ70: - | BR70: - | BS70: - | BT70: - | BU70: - | BV70: - | BW70: - | BX70: -
...

Sheet BCA
A1: Serie de la balanza comercial combinada, 1885-2010 | L1: Variables auxiliares | O1: Fuente: INEGI, EH | S1: Fuente: INEGI, EH
A2: Años | B2: Exp de bienes | C2: Exp de bienes en % del PIB | D2: Exp de bienes en t/c | E2: Imp de bienes | F2: Imp de bienes en % del PIB | G2: Imp de bienes en t/c | H2: Balanza de bienes | I2: Balanza de bienes en % del PIB | J2: Fuentes por periodo | L2: PIB en millones de dólares | M2: Tipo de cambio promedio | O2: Exp de bienes en millones de pesos | P2: IMp de bienes en millones de pesos | Q2: Balanza de bienes | S2: Exp de bienes en millones de dólares | T2: Imp de bienes en millones de dólares | U2: Balanza de bienes
J4: Fuentes
A5: 1885 | B5: =S5 -> 33.497314 | C5: - | D5: - | E5: =T5 -> 16.247889 | F5: - | G5: - | H5: =U5 -> 17.249424 | I5: - | J5: Boletín de estadística fiscal. México. Varios años. | M5: 1.303 | O5: 43.647 | P5: 21.171 | Q5: =O5-P5 -> 22.476 | S5: =O5/$M5 -> 33.497314 | T5: =P5/$M5 -> 16.247889 | U5: =Q5/$M5 -> 17.249424
A6: 1886 | B6: =S6 -> 37.752111 | C6: - | D6: =((B6/B5)-1)*100 -> 12.701904 | E6: =T6 -> nd | F6: - | G6: - | H6: =U6 -> nd | I6: - | L6: - | M6: 1.303 | O6: 49.191 | P6: nd | Q6: nd | S6: =O6/$M6 -> 37.752111 | T6: nd | U6: nd
A7: 1887 | B7: =S7 -> 37.222081 | C7: - | D7: =((B7/B6)-1)*100 -> -1.4039726 | E7: =T7 -> 27.879014 | F7: - | G7: - | H7: =U7 -> 9.3430668 | I7: - | L7: - | M7: 1.3133333 | O7: 48.885 | P7: 36.614439 | Q7: =O7-P7 -> 12.270561 | S7: =O7/$M7 -> 37.222081 | T7: =P7/$M7 -> 27.879014 | U7: =Q7/$M7 -> 9.3430668
A8: 1888 | B8: =S8 -> 44.866128 | C8: - | D8: =((B8/B7)-1)*100 -> 20.536323 | E8: =T8 -> 29.832194 | F8: - | G8: =((E8/E7)-1)*100 -> 7.0059128 | H8: =U8 -> 15.033934 | I8: - | L8: - | M8: 1.3408333 | O8: 60.158 | P8: 40 | Q8: =O8-P8 -> 20.158 | S8: =O8/$M8 -> 44.866128 | T8: =P8/$M8 -> 29.832194 | U8: =Q8/$M8 -> 15.033934
A9: 1889 | B9: =S9 -> 45.955147 | C9: - | D9: =((B9/B8)-1)*100 -> 2.4272632 | E9: =T9 -> 38.235294 | F9: - | G9: =((E9/E8)-1)*100 -> 28.167892 | H9: =U9 -> 7.7198529 | I9: - | L9: - | M9: 1.36 | O9: 62.499 | P9: 52 | Q9: =O9-P9 -> 10.499 | S9: =O9/$M9 -> 45.955147 | T9: =P9/$M9 -> 38.235294 | U9: =Q9/$M9 -> 7.7198529
A10: 1890 | B10: =S10 -> 51.166577 | C10: - | D10: =((B10/B9)-1)*100 -> 11.340253 | E10: =T10 -> nd | F10: - | G10: - | H10: =U10 -> nd | I10: - | L10: - | M10: 1.2366667 | O10: 63.276 | P10: nd | Q10: nd | S10: =O10/$M10 -> 51.166577 | T10: nd | U10: nd
A11: 1891 | B11: =S11 -> 57.755357 | C11: - | D11: =((B11/B10)-1)*100 -> 12.877118 | E11: =T11 -> nd | F11: - | G11: - | H11: =U11 -> nd | I11: - | L11: - | M11: 1.3066667 | O11: 75.467 | P11: nd | Q11: nd | S11: =O11/$M11 -> 57.755357 | T11: nd | U11: nd
A12: 1892 | B12: =S12 -> 59.689988 | C12: - | D12: =((B12/B11)-1)*100 -> 3.3497002 | E12: =T12 -> 29.423729 | F12: - | G12: - | H12: =U12 -> 30.26626 | I12: - | L12: - | M12: 1.475 | O12: 88.042733 | P12: 43.4 | Q12: =O12-P12 -> 44.642733 | S12: =O12/$M12 -> 59.689988 | T12: =P12/$M12 -> 29.423729 | U12: =Q12/$M12 -> 30.26626
A13: 1893 | B13: =S13 -> 48.445131 | C13: - | D13: =((B13/B12)-1)*100 -> -18.838766 | E13: =T13 -> 18.326613 | F13: - | G13: =((E13/E12)-1)*100 -> -37.714852 | H13: =U13 -> 30.118518 | I13: - | L13: - | M13: 1.6533333 | O13: 80.09595 | P13: 30.3 | Q13: =O13-P13 -> 49.79595 | S13: =O13/$M13 -> 48.445131 | T13: =P13/$M13 -> 18.326613 | U13: =Q13/$M13 -> 30.118518
A14: 1894 | B14: =S14 -> 48.561248 | C14: - | D14: =((B14/B13)-1)*100 -> 0.23968835 | E14: =T14 -> 17.376491 | F14: - | G14: =((E14/E13)-1)*100 -> -5.1843856 | H14: =U14 -> 31.184758 | I14: - | L14: - | M14: 1.9566667 | O14: 95.018176 | P14: 34 | Q14: =O14-P14 -> 61.018176 | S14: =O14/$M14 -> 48.561248 | T14: =P14/$M14 -> 17.376491 | U14: =Q14/$M14 -> 31.184758
A15: 1895 | B15: =S15 -> 57.729329 | C15: =(B15/L15)*100 -> 12.913437 | D15: =((B15/B14)-1)*100 -> 18.879418 | E15: =T15 -> 22.195015 | F15: =(E15/L15)*100 -> 4.9647887 | G15: =((E15/E14)-1)*100 -> 27.730137 | H15: =U15 -> 35.534314 | I15: =(H15/L15)*100 -> 7.9486479 | L15: 447.04854 | M15: 1.9058333 | O15: 110.02248 | P15: 42.3 | Q15: =O15-P15 -> 67.72248 | S15: =O15/$M15 -> 57.729329 | T15: =P15/$M15 -> 22.195015 | U15: =Q15/$M15 -> 35.534314
A16: 1896 | B16: =S16 -> 61.82892 | C16: =(B16/L16)*100 -> 13.399783 | D16: =((B16/B15)-1)*100 -> 7.1013997 | E16: =T16 -> 22.152231 | F16: =(E16/L16)*100 -> 4.8009101 | G16: =((E16/E15)-1)*100 -> -0.1927655 | H16: =U16 -> 39.676689 | I16: =(H16/L16)*100 -> 8.5988728 | L16: 461.41732 | M16: 1.905 | O16: 117.78409 | P16: 42.2 | Q16: =O16-P16 -> 75.584092 | S16: =O16/$M16 -> 61.82892 | T16: =P16/$M16 -> 22.152231 | U16: =Q16/$M16 -> 39.676689
A17: 1897 | B17: =S17 -> 64.871654 | C17: =(B17/L17)*100 -> 11.720586 | D17: =((B17/B16)-1)*100 -> 4.9212157 | E17: =T17 -> 20.485513 | F17: =(E17/L17)*100 -> 3.7011885 | G17: =((E17/E16)-1)*100 -> -7.5239286 | H17: =U17 -> 44.386141 | I17: =(H17/L17)*100 -> 8.0193976 | L17: 553.48473 | M17: 2.1283333 | O17: 138.0685 | P17: 43.6 | Q17: =O17-P17 -> 94.468504 | S17: =O17/$M17 -> 64.871654 | T17: =P17/$M17 -> 20.485513 | U17: =Q17/$M17 -> 44.386141
A18: 1898 | B18: =S18 -> 68.150192 | C18: =(B18/L18)*100 -> 12.699216 | D18: =((B18/B17)-1)*100 -> 5.0538828 | E18: =T18 -> 23.366488 | F18: =(E18/L18)*100 -> 4.3541488 | G18: =((E18/E17)-1)*100 -> 14.063476 | H18: =U18 -> 44.783703 | I18: =(H18/L18)*100 -> 8.3450671 | L18: 536.64881 | M18: 2.1783333 | O18: 148.45383 | P18: 50.9 | Q18: =O18-P18 -> 97.553834 | S18: =O18/$M18 -> 68.150192 | T18: =P18/$M18 -> 23.366488 | U18: =Q18/$M18 -> 44.783703
A19: 1899 | B19: =S19 -> 75.386074 | C19: =(B19/L19)*100 -> 13.354256 | D19: =((B19/B18)-1)*100 -> 10.617552 | E19: =T19 -> 29.202064 | F19: =(E19/L19)*100 -> 5.1729958 | G19: =((E19/E18)-1)*100 -> 24.974126 | H19: =U19 -> 46.184009 | I19: =(H19/L19)*100 -> 8.1812602 | L19: 564.50973 | M19: 2.0991667 | O19: 158.24793 | P19: 61.3 | Q19: =O19-P19 -> 96.947933 | S19: =O19/$M19 -> 75.386074 | T19: =P19/$M19 -> 29.202064 | U19: =Q19/$M19 -> 46.184009
A20: 1900 | B20: =S20 -> 76.672618 | C20: =(B20/L20)*100 -> 11.997683 | D20: =((B20/B19)-1)*100 -> 1.7066075 | E20: =T20 -> 31.589163 | F20: =(E20/L20)*100 -> 4.9430524 | G20: =((E20/E19)-1)*100 -> 8.1744175 | H20: =U20 -> 45.083455 | I20: =(H20/L20)*100 -> 7.0546308 | L20: 639.06187 | M20: 2.0608333 | O20: 158.00949 | P20: 65.1 | Q20: =O20-P20 -> 92.909487 | S20: =O20/$M20 -> 76.672618 | T20: =P20/$M20 -> 31.589163 | U20: =Q20/$M20 -> 45.083455
A21: 1901 | B21: =S21 -> 80.363251 | C21: =(B21/L21)*100 -> 9.6830017 | D21: =((B21/B20)-1)*100 -> 4.813496 | E21: =T21 -> 30.97076 | F21: =(E21/L21)*100 -> 3.7316798 | G21: =((E21/E20)-1)*100 -> -1.957642 | H21: =U21 -> 49.392491 | I21: =(H21/L21)*100 -> 5.9513219 | L21: 829.94152 | M21: 2.1375 | O21: 171.77645 | P21: 66.2 | Q21: =O21-P21 -> 105.57645 | S21: =O21/$M21 -> 80.363251 | T21: =P21/$M21 -> 30.97076 | U21: =Q21/$M21 -> 49.392491
A22: 1902 | B22: =S22 -> 85.841101 | C22: =(B22/L22)*100 -> 12.402978 | D22: =((B22/B21)-1)*100 -> 6.8163612 | E22: =T22 -> 31.4198 | F22: =(E22/L22)*100 -> 4.5397727 | G22: =((E22/E21)-1)*100 -> 1.4498827 | H22: =U22 -> 54.421301 | I22: =(H22/L22)*100 -> 7.8632053 | L22: 692.10072 | M22: 2.4158333 | O22: 207.37779 | P22: 75.905 | Q22: =O22-P22 -> 131.47279 | S22: =O22/$M22 -> 85.841101 | T22: =P22/$M22 -> 31.4198 | U22: =Q22/$M22 -> 54.421301
A23: 1903 | B23: =S23 -> 88.614764 | C23: =(B23/L23)*100 -> 11.313199 | D23: =((B23/B22)-1)*100 -> 3.2311601 | E23: =T23 -> 33.017179 | F23: =(E23/L23)*100 -> 4.2152109 | G23: =((E23/E22)-1)*100 -> 5.083988 | H23: =U23 -> 55.597586 | I23: =(H23/L23)*100 -> 7.0979883 | L23: 783.28652 | M23: 2.3733333 | O23: 210.31237 | P23: 78.360771 | Q23: =O23-P23 -> 131.9516 | S23: =O23/$M23 -> 88.614764 | T23: =P23/$M23 -> 33.017179 | U23: =Q23/$M23 -> 55.597586
A24: 1904 | B24: =S24 -> 96.500016 | C24: =(B24/L24)*100 -> 11.357323 | D24: =((B24/B23)-1)*100 -> 8.8983496 | E24: =T24 -> 39.856055 | F24: =(E24/L24)*100 -> 4.6907567 | G24: =((E24/E23)-1)*100 -> 20.713086 | H24: =U24 -> 56.643961 | I24: =(H24/L24)*100 -> 6.6665663 | L24: 849.67219 | M24: 2.1608333 | O24: 208.52045 | P24: 86.122293 | Q24: =O24-P24 -> 122.39816 | S24: =O24/$M24 -> 96.500016 | T24: =P24/$M24 -> 39.856055 | U24: =Q24/$M24 -> 56.643961
A25: 1905 | B25: =S25 -> 114.89889 | C25: =(B25/L25)*100 -> 10.206775 | D25: =((B25/B24)-1)*100 -> 19.066183 | E25: =T25 -> 108.95584 | F25: =(E25/L25)*100 -> 9.6788385 | G25: =((E25/E24)-1)*100 -> 173.37337 | H25: =U25 -> 5.9430458 | I25: =(H25/L25)*100 -> 0.52793665 | L25: 1125.7119 | M25: 2.0191667 | O25: 232 | P25: 220 | Q25: =O25-P25 -> 12 | S25: =O25/$M25 -> 114.89889 | T25: =P25/$M25 -> 108.95584 | U25: =Q25/$M25 -> 5.9430458
A26: 1906 | B26: =S26 -> 118.18944 | C26: =(B26/L26)*100 -> 10.59991 | D26: =((B26/B25)-1)*100 -> 2.8638683 | E26: =T26 -> 116.78122 | F26: =(E26/L26)*100 -> 10.473613 | G26: =((E26/E25)-1)*100 -> 7.1821611 | H26: =U26 -> 1.4082146 | I26: =(H26/L26)*100 -> 0.1262968 | L26: 1115.0042 | M26: 1.9883333 | O26: 235 | P26: 232.2 | Q26: =O26-P26 -> 2.8 | S26: =O26/$M26 -> 118.18944 | T26: =P26/$M26 -> 116.78122 | U26: =Q26/$M26 -> 1.4082146
... A39: 1919 | B39: =S39 -> 203.42065 | C39: =(B39/L39)*100 -> 6.7053447 | D39: =((B39/B38)-1)*100 -> -1.9190868 | E39: =T39 -> 119.41478 | F39: =(E39/L39)*100 -> 3.9362635 | G39: =((E39/E38)-1)*100 -> -21.713758 | H39: =U39 -> 84.005871 | I39: =(H39/L39)*100 -> 2.7690812 | L39: 3033.7091 | M39: 1.985 | O39: 403.79 | P39: 237.03835 | Q39: =O39-P39 -> 166.75165 | S39: =O39/$M39 -> 203.42065 | T39: =P39/$M39 -> 119.41478 | U39: =Q39/$M39 -> 84.005871
A40: 1920 | B40: 425.4 | C40: =(B40/L40)*100 -> 12.469734 | D40: =((B40/B39)-1)*100 -> 109.12331 | E40: 197.5 | F40: =(E40/L40)*100 -> 5.7893098 | G40: =((E40/E39)-1)*100 -> 65.389906 | H40: =B40-E40 -> 227.9 | I40: =(H40/L40)*100 -> 6.6804238 | J40: NAFINSA (1974, p. 373) | L40: 3411.4602 | M40: 2.01 | O40: 855.09404 | P40: 396.68176 | Q40: =O40-P40 -> 458.41228 | S40: =O40/$M40 -> 425.41992 | T40: =P40/$M40 -> 197.35411 | U40: =Q40/$M40 -> 228.06581
A41: 1921 | B41: 376 | C41: =(B41/L41)*100 -> 14.055484 | D41: =((B41/B40)-1)*100 -> -11.6126 | E41: 241.7 | F41: =(E41/L41)*100 -> 9.0351344 | G41: =((E41/E40)-1)*100 -> 22.379747 | H41: =B41-E41 -> 134.3 | I41: =(H41/L41)*100 -> 5.0203498 | L41: 2675.1124 | M41: 2.0391667 | O41: 449.71256 | P41: 493.16174 | Q41: =O41-P41 -> -43.449179 | S41: =O41/$M41 -> 220.53742 | T41: =P41/$M41 -> 241.84474 | U41: =Q41/$M41 -> -21.307321
A42: 1922 | B42: 314.1 | C42: =(B42/L42)*100 -> 14.045539 | D42: =((B42/B41)-1)*100 -> -16.462766 | E42: 150.7 | F42: =(E42/L42)*100 -> 6.7388181 | G42: =((E42/E41)-1)*100 -> -37.649979 | H42: =B42-E42 -> 163.4 | I42: =(H42/L42)*100 -> 7.3067211 | L42: 2236.2972 | M42: 2.0525 | O42: 498.94786 | P42: 308.49961 | Q42: =O42-P42 -> 190.44825 | S42: =O42/$M42 -> 243.09274 | T42: =P42/$M42 -> 150.30432 | U42: =Q42/$M42 -> 92.788427
A43: 1923 | B43: 275.7 | C43: =(B43/L43)*100 -> 11.299631 | D43: =((B43/B42)-1)*100 -> -12.225406 | E43: 152.9 | F43: =(E43/L43)*100 -> 6.2666434 | G43: =((E43/E42)-1)*100 -> 1.459854 | H43: =B43-E43 -> 122.8 | I43: =(H43/L43)*100 -> 5.0329876 | L43: 2439.9027 | M43: 2.055 | O43: 489.71615 | P43: 315.10853 | Q43: =O43-P43 -> 174.60763 | S43: =O43/$M43 -> 238.3047 | T43: =P43/$M43 -> 153.33748 | U43: =Q43/$M43 -> 84.967215
A44: 1924 | B44: 297.1 | C44: =(B44/L44)*100 -> 13.252896 | D44: =((B44/B43)-1)*100 -> 7.7620602 | E44: 155.1 | F44: =(E44/L44)*100 -> 6.9186272 | G44: =((E44/E43)-1)*100 -> 1.4388489 | H44: =B44-E44 -> 142 | I44: =(H44/L44)*100 -> 6.3342687 | L44: 2241.7742 | M44: 2.0666667 | O44: 614.71252 | P44: 321.3716 | Q44: =O44-P44 -> 293.34091 | S44: =O44/$M44 -> 297.44154 | T44: =P44/$M44 -> 155.50239 | U44: =Q44/$M44 -> 141.93915
A45: 1925 | B45: 336 | C45: =(B45/L45)*100 -> 12.960489 | D45: =((B45/B44)-1)*100 -> 13.093235 | E45: 192.6 | F45: =(E45/L45)*100 -> 7.4291372 | G45: =((E45/E44)-1)*100 -> 24.17795 | H45: =B45-E45 -> 143.4 | I45: =(H45/L45)*100 -> 5.5313514 | L45: 2592.4948 | M45: 2.0208333 | O45: 682.48483 | P45: 390.99617 | Q45: =O45-P45 -> 291.48866 | S45: =O45/$M45 -> 337.72445 | T45: =P45/$M45 -> 193.48264 | U45: =Q45/$M45 -> 144.24181
A46: 1926 | B46: 334.3 | C46: =(B46/L46)*100 -> 12.617497 | D46: =((B46/B45)-1)*100 -> -0.50595238 | E46: 184.1 | F46: =(E46/L46)*100 -> 6.948493 | G46: =((E46/E45)-1)*100 -> -4.4132918 | H46: =B46-E46 -> 150.2 | I46: =(H46/L46)*100 -> 5.6690041 | L46: 2649.4954 | M46: 2.0641667 | O46: 691.75393 | P46: 381.26304 | Q46: =O46-P46 -> 310.49089 | S46: =O46/$M46 -> 335.12504 | T46: =P46/$M46 -> 184.70555 | U46: =Q46/$M46 -> 150.41949
A47: 1927 | B47: 299.1 | C47: =(B47/L47)*100 -> 12.674915 | D47: =((B47/B46)-1)*100 -> -10.529465 | E47: 163.2 | F47: =(E47/L47)*100 -> 6.9159013 | G47: =((E47/E46)-1)*100 -> -11.352526 | H47: =B47-E47 -> 135.9 | I47: =(H47/L47)*100 -> 5.7590134 | L47: 2359.7792 | M47: 2.1133333 | O47: 633.65885 | P47: 346.38727 | Q47: =O47-P47 -> 287.27158 | S47: =O47/$M47 -> 299.83857 | T47: =P47/$M47 -> 163.90565 | U47: =Q47/$M47 -> 135.93292
A48: 1928 | B48: 284.6 | C48: =(B48/L48)*100 -> 11.777986 | D48: =((B48/B47)-1)*100 -> -4.847877 | E48: 172.1 | F48: =(E48/L48)*100 -> 7.1222466 | G48: =((E48/E47)-1)*100 -> 5.4534314 | H48: =B48-E48 -> 112.5 | I48: =(H48/L48)*100 -> 4.6557393 | L48: 2416.3724 | M48: 2.0766667 | O48: 592.44405 | P48: 357.76236 | Q48: =O48-P48 -> 234.68169 | S48: =O48/$M48 -> 285.28606 | T48: =P48/$M48 -> 172.27722 | U48: =Q48/$M48 -> 113.00884
A49: 1929 | B49: 274.9 | C49: =(B49/L49)*100 -> 11.701481 | D49: =((B49/B48)-1)*100 -> -3.4082923 | E49: 177.7 | F49: =(E49/L49)*100 -> 7.5640345 | G49: =((E49/E48)-1)*100 -> 3.2539221 | H49: =B49-E49 -> 97.2 | I49: =(H49/L49)*100 -> 4.137446 | L49: 2349.2754 | M49: 2.07 | O49: 590.6586 | P49: 382.24764 | Q49: =O49-P49 -> 208.41097 | S49: =O49/$M49 -> 285.34232 | T49: =P49/$M49 -> 184.66069 | U49: =Q49/$M49 -> 100.68163
A50: 1930 | B50: 203.1 | C50: =(B50/L50)*100 -> 9.8149047 | D50: =((B50/B49)-1)*100 -> -26.118589 | E50: 154.9 | F50: =(E50/L50)*100 -> 7.4856166 | G50: =((E50/E49)-1)*100 -> -12.830613 | H50: =B50-E50 -> 48.2 | I50: =(H50/L50)*100 -> 2.3292881 | L50: 2069.3018 | M50: 2.2558333 | O50: 458.67449 | P50: 350.17842 | Q50: =O50-P50 -> 108.49607 | S50: =O50/$M50 -> 203.32818 | T50: =P50/$M50 -> 155.2324 | U50: =Q50/$M50 -> 48.095784
A51: 1931 | B51: 150.9 | C51: =(B51/L51)*100 -> 9.5937293 | D51: =((B51/B50)-1)*100 -> -25.701625 | E51: 81.9 | F51: =(E51/L51)*100 -> 5.2069346 | G51: =((E51/E50)-1)*100 -> -47.127179 | H51: =B51-E51 -> 69 | I51: =(H51/L51)*100 -> 4.3867947 | L51: 1572.9024 | M51: 2.6816667 | O51: 399.71131 | P51: 216.58542 | Q51: =O51-P51 -> 183.1259 | S51: =O51/$M51 -> 149.05332 | T51: =P51/$M51 -> 80.765227 | U51: =Q51/$M51 -> 68.288091
A52: 1932 | B52: 96.5 | C52: =(B52/L52)*100 -> 9.5190658 | D52: =((B52/B51)-1)*100 -> -36.050364 | E52: 57.3 | F52: =(E52/L52)*100 -> 5.6522536 | G52: =((E52/E51)-1)*100 -> -30.03663 | H52: =B52-E52 -> 39.2 | I52: =(H52/L52)*100 -> 3.8668122 | L52: 1013.7549 | M52: 3.1625 | O52: 304.69718 | P52: 180.91221 | Q52: =O52-P52 -> 123.78497 | S52: =O52/$M52 -> 96.346933 | T52: =P52/$M52 -> 57.205442 | U52: =Q52/$M52 -> 39.141491
... A58: 1938 | B58: 185.4 | C58: =(B58/L58)*100 -> 11.503152 | D58: =((B58/B57)-1)*100 -> -25.211779 | E58: 109.3 | F58: =(E58/L58)*100 -> 6.7815238 | G58: =((E58/E57)-1)*100 -> -35.932005 | H58: =B58-E58 -> 76.1 | I58: =(H58/L58)*100 -> 4.7216282 | L58: 1611.7322 | M58: 4.5175 | O58: 838.12796 | P58: 494.11813 | Q58: =O58-P58 -> 344.00983 | S58: =O58/$M58 -> 185.52915 | T58: =P58/$M58 -> 109.37867 | U58: =Q58/$M58 -> 76.150489
...

Sheet BPT
A1: Banco de México, SIE 1980-2001
A2: Trimestres | B2: Cuenta corriente | C2: CC Ingresos | D2: Ingresos de bienes | E2: Ingresos Servicios | F2: Ingresos Renta | G2: Ingresos Transferencias | H2: CC Egresos | I2: Egresos de bienes | J2: Egresos Servicios | K2: Egresos Renta | L2: Egresos Transferencias | M2: Cuenta financiera antes Cuenta de capital | N2: Errores y omisiones | O2: Variación de la reserva internacional bruta | P2: Ajustes por valoración
A5: 29221 | B5: -1335.579 | C5: 5810.919 | D5: 4016.123 | E5: 1229.964 | F5: 364.14 | G5: 200.692 | H5: 7146.498 | I5: 4152.316 | J5: 1336.421 | K5: 1625.847 | L5: 31.914 | M5: 2346.2295 | N5: -1018.4555 | O5: 158.992 | P5: -166.797
A6: 29312 | B6: -2554.38 | C6: 6059.947 | D6: 4427.124 | E6: 1075.368 | F6: 326.727 | G6: 230.728 | H6: 8614.327 | I6: 5032.765 | J6: 1556.886 | K6: 2021.835 | L6: 2.841 | M6: 2670.7961 | N6: 98.3909 | O6: 231.455 | P6: -16.648
A7: 29403 | B7: -3178.578 | C7: 6263.46 | D7: 4669.217 | E7: 1077.052 | F7: 286.131 | G7: 231.06 | H7: 9442.038 | I7: 5690.597 | J7: 1872.694 | K7: 1873.183 | L7: 5.564 | M7: 3614.4083 | N7: -243.3663 | O7: 226.162 | P7: -33.698
A8: 29495 | B8: -3365.608 | C8: 6726.346 | D8: 4918.576 | E8: 1205.107 | F8: 399.583 | G8: 203.08 | H8: 10091.954 | I8: 6213.682 | J8: 1881.74 | K8: 1992.727 | L8: 3.805 | M8: 2643.0761 | N8: 1021.2459 | O8: 299.5 | P8: -0.786
A9: 29587 | B9: -2584.688 | C9: 8156.337 | D9: 6190.696 | E9: 1283.895 | F9: 432.619 | G9: 249.127 | H9: 10741.025 | I9: 6600.821 | J9: 1809.901 | K9: 2294.502 | L9: 35.801 | M9: 2643.845 | N9: 154.841 | O9: 267.058 | P9: -53.06
A10: 29677 | B10: -3877.505 | C10: 8132.106 | D10: 6189.175 | E10: 1212.871 | F10: 446.91 | G10: 283.15 | H10: 12009.611 | I10: 6993.344 | J10: 2067.515 | K10: 2941.804 | L10: 6.948 | M10: 6508.215 | N10: -3183.94 | O10: -562.08 | P10: 8.85
A11: 29768 | B11: -5078.608 | C11: 6988.619 | D11: 5031.253 | E11: 1197.677 | F11: 476.406 | G11: 283.283 | H11: 12067.227 | I11: 6617.775 | J11: 2364.421 | K11: 3076.483 | L11: 8.548 | M11: 7455.655 | N11: -2127.425 | O11: 244.361 | P11: 5.261
A12: 29860 | B12: -4699.78 | C12: 7834.429 | D12: 5896.216 | E12: 1276.433 | F12: 412.385 | G12: 249.395 | H12: 12534.209 | I12: 6972.289 | J12: 2460.034 | K12: 3095.972 | L12: 5.914 | M12: 10008.614 | N12: -4064.547 | O12: 1082.035 | P12: 162.252
A13: 29952 | B13: -4093.6 | C13: 7018.254 | D13: 5161.55 | E13: 1098.021 | F13: 478.832 | G13: 279.851 | H13: 11111.854 | I13: 5783.137 | J13: 1646.095 | K13: 3663.039 | L13: 19.583 | M13: 2613.993 | N13: -83.521 | O13: -1702.971 | P13: 139.843
A14: 30042 | B14: -2523.667 | C14: 7708.698 | D14: 5873.051 | E14: 1017.455 | F14: 516.982 | G14: 301.21 | H14: 10232.365 | I14: 4799.323 | J14: 1658.562 | K14: 3767.467 | L14: 7.013 | M14: 3178.021 | N14: -1790.874 | O14: -1170.706 | P14: 34.186
A15: 30133 | B15: -375.059 | C15: 8038.145 | D15: 6329.668 | E15: 1014.931 | F15: 415.238 | G15: 278.308 | H15: 8413.204 | I15: 3741.406 | J15: 1542.855 | K15: 3127.494 | L15: 1.449 | M15: 2978.245 | N15: -3019.134 | O15: -205.263 | P15: -210.685
A16: 30225 | B16: 1102.205 | C16: 8206.955 | D16: 6690.945 | E16: 999.745 | F16: 311.41 | G16: 204.855 | H16: 7104.75 | I16: 2686.768 | J16: 1387.587 | K16: 3029.438 | L16: 0.957 | M16: 1207.341 | N16: -2512.173 | O16: -123.862 | P16: -78.765
... A92: 37165 | B92: -5768.8392 | C92: 45906.702 | D92: 39224.888 | E92: 3062.2635 | F92: 1270.684 | G92: 2348.8665 | H92: 51675.541 | I92: 43258.879 | J92: 4192.3618 | K92: 4215.6962 | L92: 8.603751 | M92: 9919.761 | N92: -2187.694 | O92: 1950.8 | P92: 12.427779

Sheet XM Men
A1: Observaciones mensuales, 1932-1953. El Banco de México dejo de publicar en sus Informes Anuales las estadísticas mensuales de comercio exterior a partir de 1954. | P1: Observaciones anuales para verificar las observaciones mensuales | Z1: Balanza comercial mensual y anual
B2: Exportaciones mp | C2: Tipo de cambio | D2: Exportaciones md | E2: Participación % de las exportaciones md | F2: Discrepancia mensual ponderada md | G2: Exportaciones ajuste con anual md | I2: Importaciones mp | J2: Tipo de cambio | K2: Importaciones md | L2: Participación % de las importaciones md | M2: Discrepancia mensual ponderada md | N2: Importaciones ajuste con anual md | O2: Balanza comercial ajuste con anual md | Q2: Exportaciones md (Mensual) | R2: Exportaciones con ajuste md (Mensual) | S2: Exportaciones md (Anual) | T2: Exportaciones md (Discrepancia) | V2: Importaciones md (Mensual) | W2: Importaciones md (Mensual) | X2: Importaciones md (Anual) | Y2: Importaciones md (Discrepancia) | Z2: Balanza comercial mensual md | AA2: Balanza comercial anual md
A6: 11689 | B6: 23.337 | C6: 2.55 | D6: =B6/C6 -> 9.1517647 | E6: =D6/Q$6 -> 0.093371795 | F6: =E6*T$6 -> -0.14138647 | G6: =D6+F6 -> 9.0103782 | I6: 11.792 | J6: 2.55 | K6: =I6/J6 -> 4.6243137 | L6: =K6/V$6 -> 0.080554655 | M6: =L6*Y$6 -> -0.0085319925 | N6: =K6+M6 -> 4.6157817 | O6: =G6-N6 -> 4.3945965 | P6: 1932 | Q6: =SUM(D6:D17) -> 98.014231 | R6: =SUM(G6:G17) -> 96.5 | S6: =BCA!B52 -> 96.5 | T6: =S6-Q6 -> -1.514231 | V6: =SUM(K6:K17) -> 57.405916 | W6: =SUM(N6:N17) -> 57.3 | X6: =BCA!E52 -> 57.3 | Y6: =X6-V6 -> -0.10591557 | Z6: =SUM(O6:O17) -> 39.2 | AA6: 39.2
A7: 11720 | B7: 26.915 | C7: 2.67 | D7: =B7/C7 -> 10.080524 | E7: =D7/Q$6 -> 0.10284756 | F7: =E7*T$6 -> -0.15573496 | G7: =D7+F7 -> 9.9247894 | I7: 12.71 | J7: 2.67 | K7: =I7/J7 -> 4.7602996 | L7: =K7/V$6 -> 0.082923503 | M7: =L7*Y$6 -> -0.0087828904 | N7: =K7+M7 -> 4.7515167 | O7: =G7-N7 -> 5.1732726 | P7: 1933 | Q7: =SUM(D18:D29) -> 109.37587 | R7: =SUM(G18:G29) -> 104.3 | S7: =BCA!B53 -> 104.3 | T7: =S7-Q7 -> -5.0758676 | V7: =SUM(K18:K29) -> 69.207374 | W7: =SUM(N18:N29) -> 69.7 | X7: =BCA!E53 -> 69.7 | Y7: =X7-V7 -> 0.49262641 | Z7: =SUM(O18:O29) -> 34.6 | AA7: 34.6
A8: 11749 | B8: 33.203 | C8: 2.96 | D8: =B8/C8 -> 11.21723 | E8: =D8/Q$6 -> 0.11444491 | F8: =E8*T$6 -> -0.17329603 | G8: =D8+F8 -> 11.043934 | I8: 14.613 | J8: 2.96 | K8: =I8/J8 -> 4.9368243 | L8: =K8/V$6 -> 0.08599853 | M8: =L8*Y$6 -> -0.0091085836 | N8: =K8+M8 -> 4.9277157 | O8: =G8-N8 -> 6.116218 | P8: 1934 | Q8: =SUM(D30:D41) -> 178.16694 | R8: =SUM(G30:G41) -> 178.9 | S8: =BCA!B54 -> 178.9 | T8: =S8-Q8 -> 0.73305556 | V8: =SUM(K30:K41) -> 92.770556 | W8: =SUM(N30:N41) -> 92.8 | X8: =BCA!E54 -> 92.8 | Y8: =X8-V8 -> 0.029444444 | Z8: =SUM(O30:O41) -> 86.1 | AA8: 86.1
A9: 11780 | B9: 35.922 | C9: 2.97 | D9: =B9/C9 -> 12.094949 | E9: =D9/Q$6 -> 0.12339993 | F9: =E9*T$6 -> -0.18685601 | G9: =D9+F9 -> 11.908093 | I9: 17.108 | J9: 2.97 | K9: =I9/J9 -> 5.7602694 | L9: =K9/V$6 -> 0.10034278 | M9: =L9*Y$6 -> -0.010627863 | N9: =K9+M9 -> 5.7496415 | O9: =G9-N9 -> 6.158452 | P9: 1935 | Q9: =SUM(D42:D53) -> 196.01639 | R9: =SUM(G42:G53) -> 208.3 | S9: =BCA!B55 -> 208.3 | T9: =S9-Q9 -> 12.283611 | V9: =SUM(K42:K53) -> 104.45444 | W9: =SUM(N42:N53) -> 112.8 | X9: =BCA!E55 -> 112.8 | Y9: =X9-V9 -> 8.3455556 | Z9: =SUM(O42:O53) -> 95.5 | AA9: 95.5
A10: 11810 | B10: 27.143 | C10: 3.3 | D10: =B10/C10 -> 8.2251515 | E10: =D10/Q$6 -> 0.083917931 | F10: =E10*T$6 -> -0.12707114 | G10: =D10+F10 -> 8.0980804 | I10: 15.838 | J10: 3.3 | K10: =I10/J10 -> 4.7993939 | L10: =K10/V$6 -> 0.083604519 | M10: =L10*Y$6 -> -0.0088550206 | N10: =K10+M10 -> 4.7905389 | O10: =G10-N10 -> 3.3075415 | P10: 1936 | Q10: =SUM(D54:D65) -> 197.12278 | R10: =SUM(G54:G65) -> 215.2 | S10: =BCA!B56 -> 215.2 | T10: =S10-Q10 -> 18.077222 | V10: =SUM(K54:K65) -> 128.933 | W10: =SUM(N54:N65) -> 128.9 | X10: =BCA!E56 -> 128.9 | Y10: =X10-V10 -> -0.033 | Z10: =SUM(O54:O65) -> 86.3 | AA10: 86.3
A11: 11841 | B11: 23.009 | C11: 3.71 | D11: =B11/C11 -> 6.2018868 | E11: =D11/Q$6 -> 0.063275371 | F11: =E11*T$6 -> -0.09581353 | G11: =D11+F11 -> 6.1060733 | I11: 16.483 | J11: 3.71 | K11: =I11/J11 -> 4.4428571 | L11: =K11/V$6 -> 0.077393716 | M11: =L11*Y$6 -> -0.0081971999 | N11: =K11+M11 -> 4.4346599 | O11: =G11-N11 -> 1.6714133 | P11: 1937 | Q11: =SUM(D66:D77) -> 234.05811 | R11: =SUM(G66:G77) -> 247.9 | S11: =BCA!B57 -> 247.9 | T11: =S11-Q11 -> 13.841889 | V11: =SUM(K66:K77) -> 169.376 | W11: =SUM(N66:N77) -> 170.6 | X11: =BCA!E57 -> 170.6 | Y11: =X11-V11 -> 1.224 | Z11: =SUM(O66:O77) -> 77.3 | AA11: 77.3
A12: 11871 | B12: 20.976 | C12: 3.59 | D12: =B12/C12 -> 5.8428969 | E12: =D12/Q$6 -> 0.059612741 | F12: =E12*T$6 -> -0.090267462 | G12: =D12+F12 -> 5.7526295 | I12: 15.945 | J12: 3.59 | K12: =I12/J12 -> 4.4415042 | L12: =K12/V$6 -> 0.077370148 | M12: =L12*Y$6 -> -0.0081947036 | N12: =K12+M12 -> 4.4333095 | O12: =G12-N12 -> 1.31932 | P12: 1938 | Q12: =SUM(D78:D89) -> 188.899 | R12: =SUM(G78:G89) -> 185.4 | S12: =BCA!B58 -> 185.4 | T12: =S12-Q12 -> -3.499 | V12: =SUM(K78:K89) -> 111.024 | W12: =SUM(N78:N89) -> 109.3 | X12: =BCA!E58 -> 109.3 | Y12: =X12-V12 -> -1.724 | Z12: =SUM(O78:O89) -> 76.1 | AA12: 76.1
