Workbook

Sheet EU Pob
A1: Versión 06
A2: Año | B2: Población miles de personas | C2: Población personas
A5: 1920 | B5: - | C5: -
A6: 1921 | B6: - | C6: -
A7: 1922 | B7: - | C7: -
A8: 1923 | B8: - | C8: -
A9: 1924 | B9: - | C9: -
A10: 1925 | B10: - | C10: -
A11: 1926 | B11: - | C11: -
A12: 1927 | B12: - | C12: -
A13: 1928 | B13: - | C13: -
A14: 1929 | B14: 121878 | C14: =B14*1000 -> 121878000
A15: 1930 | B15: 123188 | C15: =B15*1000 -> 123188000
A16: 1931 | B16: 124149 | C16: =B16*1000 -> 124149000
A17: 1932 | B17: 124949 | C17: =B17*1000 -> 124949000
A18: 1933 | B18: 125690 | C18: =B18*1000 -> 125690000
A19: 1934 | B19: 126485 | C19: =B19*1000 -> 126485000
A20: 1935 | B20: 127362 | C20: =B20*1000 -> 127362000
A21: 1936 | B21: 128181 | C21: =B21*1000 -> 128181000
A22: 1937 | B22: 128961 | C22: =B22*1000 -> 128961000
A23: 1938 | B23: 129969 | C23: =B23*1000 -> 129969000
A24: 1939 | B24: 131028 | C24: =B24*1000 -> 131028000
A25: 1940 | B25: 132122 | C25: =B25*1000 -> 132122000
... A75: 1990 | B75: 250181 | C75: =B75*1000 -> 250181000
A77: FRED Graph Observations
A78: Federal Reserve Economic Data
A79: Link: https://fred.stlouisfed.org
A80: Help: https://fredhelp.stlouisfed.org
A81: Economic Research Division
A82: Federal Reserve Bank of St. Louis

Sheet EU PIB
A2: Año | B2: PIB Real Base 2012 | C2: PIB Real t/c | D2: PIB Nominal | E2: PIB Nominal t/c | F2: Deflactor del PIB (2012=100) | G2: Deflactor del PIB t/c | H2: PIB per cápita, US dollars | K2: PIB Nominal | L2: PIB Nominal t/c | M2: PIB Real Base 2012 | N2: PIB Real t/c
A5: 1920 | B5: 774.9761 | C5: -2.1297574 | D5: =D6/(1+(E6/100)) -> 87.790813 | E5: 12.975913 | F5: =(D5/B5)*100 -> 11.328196 | H5: - | J5: 1895 | K5: 14.53 | L5: 10 | M5: 215.5 | N5: 11.7
A6: 1921 | B6: 747.64972 | C6: -3.5260931 | D6: =D7/(1+(E7/100)) -> 73.732609 | E6: -16.013297 | F6: =(D6/B6)*100 -> 9.861919 | G6: =((F6/F5)-1)*100 -> -12.943607 | H6: - | J6: 1896 | K6: 14.25 | L6: =((K6/K5)-1)*100 -> -1.9270475 | M6: 210.6 | N6: =((M6/M5)-1)*100 -> -2.2737819
A7: 1922 | B7: 801.36557 | C7: 7.1846282 | D7: =D8/(1+(E8/100)) -> 73.450842 | E7: -0.38214822 | F7: =(D7/B7)*100 -> 9.1657097 | G7: =((F7/F6)-1)*100 -> -7.0595724 | H7: - | J7: 1897 | K7: 15.18 | L7: =((K7/K6)-1)*100 -> 6.5263158 | M7: 227.8 | N7: =((M7/M6)-1)*100 -> 8.1671415
A8: 1923 | B8: 913.4818 | C8: 13.990647 | D8: =D9/(1+(E9/100)) -> 86.160584 | E8: 17.30374 | F8: =(D8/B8)*100 -> 9.4321074 | G8: =((F8/F7)-1)*100 -> 2.9064607 | H8: - | J8: 1898 | K8: 15.74 | L8: =((K8/K7)-1)*100 -> 3.6890646 | M8: 233.2 | N8: =((M8/M7)-1)*100 -> 2.3705004
A9: 1924 | B9: 937.68516 | C9: 2.6495726 | D9: =D10/(1+(E10/100)) -> 88.465043 | E9: 2.6746087 | F9: =(D9/B9)*100 -> 9.4344079 | G9: =((F9/F8)-1)*100 -> 0.02438986 | H9: - | J9: 1899 | K9: 17.85 | L9: =((K9/K8)-1)*100 -> 13.405337 | M9: 260.3 | N9: =((M9/M8)-1)*100 -> 11.620926
A10: 1925 | B10: 958.92166 | C10: 2.2647794 | D10: =D11/(1+(E11/100)) -> 92.067646 | E10: 4.0723467 | F10: =(D10/B10)*100 -> 9.6011645 | G10: =((F10/F9)-1)*100 -> 1.7675366 | H10: - | J10: 1900 | K10: 18.58 | L10: =((K10/K9)-1)*100 -> 4.0896359 | M10: 265.4 | N10: =((M10/M9)-1)*100 -> 1.9592778
A11: 1926 | B11: 1016.5413 | C11: 6.0087934 | D11: =D12/(1+(E12/100)) -> 98.135718 | E11: 6.5908842 | F11: =(D11/B11)*100 -> 9.6538842 | G11: =((F11/F10)-1)*100 -> 0.5490968 | H11: - | J11: 1901 | K11: 20.97 | L11: =((K11/K10)-1)*100 -> 12.863294 | M11: 297.9 | N11: =((M11/M10)-1)*100 -> 12.245667
A12: 1927 | B12: 1022.1627 | C12: 0.55299539 | D12: =D13/(1+(E13/100)) -> 96.948268 | E12: -1.2100082 | F12: =(D12/B12)*100 -> 9.4846219 | G12: =((F12/F11)-1)*100 -> -1.7533079 | H12: - | J12: 1902 | K12: 21.65 | L12: =((K12/K11)-1)*100 -> 3.2427277 | M12: 303 | N12: =((M12/M11)-1)*100 -> 1.7119839
A13: 1928 | B13: 1041.0569 | C13: 1.8484571 | D13: =D14/(1+(E14/100)) -> 97.934455 | E13: 1.0172306 | F13: =(D13/B13)*100 -> 9.407214 | G13: =((F13/F12)-1)*100 -> -0.81614043 | H13: - | J13: 1903 | K13: 22.85 | L13: =((K13/K12)-1)*100 -> 5.5427252 | M13: 311.7 | N13: =((M13/M12)-1)*100 -> 2.8712871
A14: 1929 | B14: 1109.448 | C14: 6.5693862 | D14: 104.556 | E14: 6.7612002 | F14: =(D14/B14)*100 -> 9.4241461 | G14: =((F14/F13)-1)*100 -> 0.17998975 | H14: =(D14*1000000000)/'EU Pob'!C14 -> 857.87427 | J14: 1904 | K14: 23.93 | L14: =((K14/K13)-1)*100 -> 4.726477 | M14: 323.5 | N14: =((M14/M13)-1)*100 -> 3.7856914
A15: 1930 | B15: 1015.058 | C15: -8.5 | D15: 92.16 | E15: =((F15/F14)-1)*100 -> -3.659344 | F15: =(D15/B15)*100 -> 9.0792841 | G15: =((F15/F14)-1)*100 -> -3.659344 | H15: =(D15*1000000000)/'EU Pob'!C15 -> 748.12482 | J15: 1905 | K15: 26.12 | L15: =((K15/K14)-1)*100 -> 9.1516924 | M15: 353.2 | N15: =((M15/M14)-1)*100 -> 9.1808346
A16: 1931 | B16: 950.037 | C16: -6.4 | D16: 77.391 | E16: =((F16/F15)-1)*100 -> -10.278127 | F16: =(D16/B16)*100 -> 8.1461038 | G16: =((F16/F15)-1)*100 -> -10.278127 | H16: =(D16*1000000000)/'EU Pob'!C16 -> 623.37192 | J16: 1906 | K16: 28.1 | L16: =((K16/K15)-1)*100 -> 7.5803982 | M16: 367.7 | N16: =((M16/M15)-1)*100 -> 4.1053228
A17: 1932 | B17: 827.495 | C17: -12.9 | D17: 59.522 | E17: =((F17/F16)-1)*100 -> -11.699696 | F17: =(D17/B17)*100 -> 7.1930344 | G17: =((F17/F16)-1)*100 -> -11.699696 | H17: =(D17*1000000000)/'EU Pob'!C17 -> 476.37036 | J17: 1907 | K17: 28.88 | L17: =((K17/K16)-1)*100 -> 2.7758007 | M17: 362 | N17: =((M17/M16)-1)*100 -> -1.5501768
A18: 1933 | B18: 817.265 | C18: -1.2 | D18: 57.154 | E18: =((F18/F17)-1)*100 -> -2.7764235 | F18: =(D18/B18)*100 -> 6.9933253 | G18: =((F18/F17)-1)*100 -> -2.7764235 | H18: =(D18*1000000000)/'EU Pob'!C18 -> 454.72193 | J18: 1908 | K18: 26.72 | L18: =((K18/K17)-1)*100 -> -7.4792244 | M18: 342.2 | N18: =((M18/M17)-1)*100 -> -5.4696133
A19: 1934 | B19: 905.594 | C19: 10.8 | D19: 66.8 | E19: =((F19/F18)-1)*100 -> 5.4773465 | F19: =(D19/B19)*100 -> 7.376374 | G19: =((F19/F18)-1)*100 -> 5.4773465 | H19: =(D19*1000000000)/'EU Pob'!C19 -> 528.12586 | J19: 1909 | K19: 29.88 | L19: =((K19/K18)-1)*100 -> 11.826347 | M19: 382.1 | N19: =((M19/M18)-1)*100 -> 11.659848
A20: 1935 | B20: 986.231 | C20: 8.9 | D20: 74.241 | E20: =((F20/F19)-1)*100 -> 2.0521685 | F20: =(D20/B20)*100 -> 7.5277496 | G20: =((F20/F19)-1)*100 -> 2.0521685 | H20: =(D20*1000000000)/'EU Pob'!C20 -> 582.91327 | J20: 1910 | K20: 31.24 | L20: =((K20/K19)-1)*100 -> 4.5515395 | M20: 383.8 | N20: =((M20/M19)-1)*100 -> 0.44490971
A21: 1936 | B21: 1113.291 | C21: 12.9 | D21: 84.83 | E21: =((F21/F20)-1)*100 -> 1.2221611 | F21: =(D21/B21)*100 -> 7.6197508 | G21: =((F21/F20)-1)*100 -> 1.2221611 | H21: =(D21*1000000000)/'EU Pob'!C21 -> 661.79855 | J21: 1911 | K21: 32.16 | L21: =((K21/K20)-1)*100 -> 2.9449424 | M21: 396 | N21: =((M21/M20)-1)*100 -> 3.1787389
A22: 1937 | B22: 1170.344 | C22: 5.1 | D22: 93.003 | E22: =((F22/F21)-1)*100 -> 4.2899973 | F22: =(D22/B22)*100 -> 7.9466379 | G22: =((F22/F21)-1)*100 -> 4.2899973 | H22: =(D22*1000000000)/'EU Pob'!C22 -> 721.17152 | J22: 1912 | K22: 34.85 | L22: =((K22/K21)-1)*100 -> 8.3644279 | M22: 418.9 | N22: =((M22/M21)-1)*100 -> 5.7828283
A23: 1938 | B23: 1131.564 | C23: -3.3 | D23: 87.352 | E23: =((F23/F22)-1)*100 -> -2.8572696 | F23: =(D23/B23)*100 -> 7.719581 | G23: =((F23/F22)-1)*100 -> -2.8572696 | H23: =(D23*1000000000)/'EU Pob'!C23 -> 672.09873 | J23: 1913 | K23: 36.56 | L23: =((K23/K22)-1)*100 -> 4.9067432 | M23: 435.4 | N23: =((M23/M22)-1)*100 -> 3.9388876
A24: 1939 | B24: 1222.375 | C24: 8 | D24: 93.437 | E24: =((F24/F23)-1)*100 -> -0.98050751 | F24: =(D24/B24)*100 -> 7.64389 | G24: =((F24/F23)-1)*100 -> -0.98050751 | H24: =(D24*1000000000)/'EU Pob'!C24 -> 713.10712 | J24: 1914 | K24: 34.25 | L24: =((K24/K23)-1)*100 -> -6.3183807 | M24: 402.4 | N24: =((M24/M23)-1)*100 -> -7.5792375
A25: 1940 | B25: 1330.151 | C25: 8.8 | D25: 102.899 | E25: =((F25/F24)-1)*100 -> 1.2035582 | F25: =(D25/B25)*100 -> 7.7358886 | G25: =((F25/F24)-1)*100 -> 1.2035582 | H25: =(D25*1000000000)/'EU Pob'!C25 -> 778.81806 | J25: 1915 | K25: 36.36 | L25: =((K25/K24)-1)*100 -> 6.1605839 | M25: 417.3 | N25: =((M25/M24)-1)*100 -> 3.7027833
A26: 1941 | B26: 1565.778 | C26: 17.7 | D26: 129.309 | E26: =((F26/F25)-1)*100 -> 6.7550326 | F26: =(D26/B26)*100 -> 8.2584504 | G26: =((F26/F25)-1)*100 -> 6.7550326 | H26: =(D26*1000000000)/'EU Pob'!C26 -> 969.3183 | J26: 1916 | K26: 46.02 | L26: =((K26/K25)-1)*100 -> 26.567657 | M26: 485 | N26: =((M26/M25)-1)*100 -> 16.223341
... A39: 1954 | B39: 2680.023 | C39: -0.6 | D39: 390.549 | E39: =((F39/F38)-1)*100 -> 0.92570587 | F39: =(D39/B39)*100 -> 14.572599 | G39: =((F39/F38)-1)*100 -> 0.92570587 | H39: =(D39*1000000000)/'EU Pob'!C39 -> 2404.9917 | J39: 1929 | K39: 103.9 | L39: =((K39/K38)-1)*100 -> 6.7612002 | M39: 709.6 | N39: =((M39/M38)-1)*100 -> 6.4346783
A40: 1955 | B40: 2871.198 | C40: 7.1 | D40: 425.478 | E40: =((F40/F39)-1)*100 -> 1.689698 | F40: =(D40/B40)*100 -> 14.818832 | G40: =((F40/F39)-1)*100 -> 1.689698 | H40: =(D40*1000000000)/'EU Pob'!C40 -> 2574.3639 | J40: Fuente: Balke & Gordon, 1988. The estimate of prewar GNP: Methodolody and new evidence. https://www.nber.org/papers/w2674 Price Index. Federal Reserve Bank of Minneapolis. https://www.minneapolisfed.org/community/financial-and-economic-education/cpi-calculator-information/consumer-price-index-1800
A41: 1956 | B41: 2932.388 | C41: 2.1 | D41: 449.353 | E41: =((F41/F40)-1)*100 -> 3.4075493 | F41: =(D41/B41)*100 -> 15.323791 | G41: =((F41/F40)-1)*100 -> 3.4075493 | H41: =(D41*1000000000)/'EU Pob'!C41 -> 2671.2063
A42: 1957 | B42: 2994.132 | C42: 2.1 | D42: 474.039 | E42: =((F42/F41)-1)*100 -> 3.3182208 | F42: =(D42/B42)*100 -> 15.832268 | G42: =((F42/F41)-1)*100 -> 3.3182208 | H42: =(D42*1000000000)/'EU Pob'!C42 -> 2767.7231
A43: 1958 | B43: 2971.951 | C43: -0.7 | D43: 481.229 | E43: =((F43/F42)-1)*100 -> 2.2744178 | F43: =(D43/B43)*100 -> 16.19236 | G43: =((F43/F42)-1)*100 -> 2.2744178 | H43: =(D43*1000000000)/'EU Pob'!C43 -> 2763.4446
A44: 1959 | B44: 3178.182 | C44: 6.9 | D44: 521.654 | E44: =((F44/F43)-1)*100 -> 1.3663087 | F44: =(D44/B44)*100 -> 16.413597 | G44: =((F44/F43)-1)*100 -> 1.3663087 | H44: =(D44*1000000000)/'EU Pob'!C44 -> 2945.0347
A45: 1960 | B45: 3259.971 | C45: 2.6 | D45: 542.382 | E45: =((F45/F44)-1)*100 -> 1.3649366 | F45: =(D45/B45)*100 -> 16.637633 | G45: =((F45/F44)-1)*100 -> 1.3649366 | H45: =(D45*1000000000)/'EU Pob'!C45 -> 3000.5643
A46: 1961 | B46: 3343.546 | C46: 2.6 | D46: 562.21 | E46: =((F46/F45)-1)*100 -> 1.0647561 | F46: =(D46/B46)*100 -> 16.814783 | G46: =((F46/F45)-1)*100 -> 1.0647561 | H46: =(D46*1000000000)/'EU Pob'!C46 -> 3059.7795
A47: 1962 | B47: 3548.409 | C47: 6.1 | D47: 603.921 | E47: =((F47/F46)-1)*100 -> 1.2174043 | F47: =(D47/B47)*100 -> 17.019487 | G47: =((F47/F46)-1)*100 -> 1.2174043 | H47: =(D47*1000000000)/'EU Pob'!C47 -> 3236.6204
A48: 1963 | B48: 3702.944 | C48: 4.4 | D48: 637.451 | E48: =((F48/F47)-1)*100 -> 1.1470459 | F48: =(D48/B48)*100 -> 17.214708 | G48: =((F48/F47)-1)*100 -> 1.1470459 | H48: =(D48*1000000000)/'EU Pob'!C48 -> 3367.4115
A49: 1964 | B49: 3916.28 | C49: 5.8 | D49: 684.46 | E49: =((F49/F48)-1)*100 -> 1.5253921 | F49: =(D49/B49)*100 -> 17.4773 | G49: =((F49/F48)-1)*100 -> 1.5253921 | H49: =(D49*1000000000)/'EU Pob'!C49 -> 3566.2518
A50: 1965 | B50: 4170.75 | C50: 6.5 | D50: 742.289 | E50: =((F50/F49)-1)*100 -> 1.8320597 | F50: =(D50/B50)*100 -> 17.797494 | G50: =((F50/F49)-1)*100 -> 1.8320597 | H50: =(D50*1000000000)/'EU Pob'!C50 -> 3819.4004
A51: 1966 | B51: 4445.853 | C51: 6.6 | D51: 813.414 | E51: =((F51/F50)-1)*100 -> 2.8010801 | F51: =(D51/B51)*100 -> 18.296017 | G51: =((F51/F50)-1)*100 -> 2.8010801 | H51: =(D51*1000000000)/'EU Pob'!C51 -> 4137.4269
A52: 1967 | B52: 4567.781 | C52: 2.7 | D52: 859.958 | E52: =((F52/F51)-1)*100 -> 2.9000115 | F52: =(D52/B52)*100 -> 18.826603 | G52: =((F52/F51)-1)*100 -> 2.9000115 | H52: =(D52*1000000000)/'EU Pob'!C52 -> 4326.7892
... A75: 1990 | B75: 9365.494 | C75: 1.9 | D75: 5963.144 | E75: =((F75/F74)-1)*100 -> 3.7433345 | F75: =(D75/B75)*100 -> 63.67143 | G75: =((F75/F74)-1)*100 -> 3.7433345 | H75: =(D75*1000000000)/'EU Pob'!C75 -> 23835.319
A76: * Miles de millones de dólares 2009=100 | B76: 18050.693
A77: **Miles de millones de dólares corrientes | B77: 18566.442
A78: *** Calculado PIB Nominal/PIB Real
A79: Fuente: Federal Reserve Economic Data, Federal Reserve Bank of St. Louis, Economic Research Division. Disponible en: https://fred.stlouisfed.org/series/GDPCA

Sheet EU INF A
B1: Precios consumidor promedio y fin (bases originales de la fuente) | F1: Precios consumidor base 1950=100 | J1: Precios mayoreobase 1950=100
A2: Año | B2: IPC Prom 1982-1984=100 | C2: IPC Prom t/c | D2: IPC Fin 1982-1984 =100 | E2: IPC Fin t/c | F2: IPC Inf prom 1950=100 | G2: IPC Inf prom t/c | H2: IPC Inf fin 1950=100 | I2: IPC Inf fin t/c | J2: IPM promedio 1950=100 | K2: IPM promedio t/c | L2: IPM fin 1950=100 | M2: IPM fin t/c
A5: 1920 | B5: 20.041667 | C5: - | D5: 19.4 | E5: - | F5: =F6/(1+(C6/100)) -> 83.275623 | H5: =H6/(1+(E6/100)) -> 77.6 | J5: ='EU INF M'!N5 -> 97.378848 | L5: ='EU INF M'!P5 -> 76.074368
A6: 1921 | B6: 17.85 | C6: =((B6/B5)-1)*100 -> -10.935551 | D6: 17.3 | E6: =((D6/D5)-1)*100 -> -10.824742 | F6: =F7/(1+(C7/100)) -> 74.168975 | G6: =((F6/F5)-1)*100 -> -10.935551 | H6: =H7/(1+(E7/100)) -> 69.2 | I6: =((H6/H5)-1)*100 -> -10.824742 | J6: ='EU INF M'!N6 -> 61.505639 | K6: ='EU INF M'!O6 -> 0 | L6: ='EU INF M'!P6 -> 58.518744 | M6: ='EU INF M'!Q6 -> 0
A7: 1922 | B7: 16.75 | C7: =((B7/B6)-1)*100 -> -6.162465 | D7: 16.9 | E7: =((D7/D6)-1)*100 -> -2.3121387 | F7: =F8/(1+(C8/100)) -> 69.598338 | G7: =((F7/F6)-1)*100 -> -6.162465 | H7: =H8/(1+(E8/100)) -> 67.6 | I7: =((H7/H6)-1)*100 -> -2.3121387 | J7: ='EU INF M'!N7 -> 60.957025 | K7: ='EU INF M'!O7 -> -0.89197225 | L7: ='EU INF M'!P7 -> 63.273392 | M7: ='EU INF M'!Q7 -> 8.125
A8: 1923 | B8: 17.05 | C8: =((B8/B7)-1)*100 -> 1.7910448 | D8: 17.3 | E8: =((D8/D7)-1)*100 -> 2.3668639 | F8: =F9/(1+(C9/100)) -> 70.844875 | G8: =((F8/F7)-1)*100 -> 1.7910448 | H8: =H9/(1+(E9/100)) -> 69.2 | I8: =((H8/H7)-1)*100 -> 2.3668639 | J8: ='EU INF M'!N8 -> 63.456263 | K8: ='EU INF M'!O8 -> 4.1 | L8: ='EU INF M'!P8 -> 61.810424 | M8: ='EU INF M'!Q8 -> -2.3121387
A9: 1924 | B9: 17.125 | C9: =((B9/B8)-1)*100 -> 0.4398827 | D9: 17.3 | E9: =((D9/D8)-1)*100 -> 0 | F9: =F10/(1+(C10/100)) -> 71.15651 | G9: =((F9/F8)-1)*100 -> 0.4398827 | H9: =H10/(1+(E10/100)) -> 69.2 | I9: =((H9/H8)-1)*100 -> 0 | J9: ='EU INF M'!N9 -> 61.68851 | K9: ='EU INF M'!O9 -> -2.7857829 | L9: ='EU INF M'!P9 -> 64.004877 | M9: ='EU INF M'!Q9 -> 3.5502959
A10: 1925 | B10: 17.541667 | C10: =((B10/B9)-1)*100 -> 2.43309 | D10: 17.9 | E10: =((D10/D9)-1)*100 -> 3.4682081 | F10: =F11/(1+(C11/100)) -> 72.887812 | G10: =((F10/F9)-1)*100 -> 2.43309 | H10: =H11/(1+(E11/100)) -> 71.6 | I10: =((H10/H9)-1)*100 -> 3.4682081 | J10: ='EU INF M'!N10 -> 65.071625 | K10: ='EU INF M'!O10 -> 5.4841897 | L10: ='EU INF M'!P10 -> 65.102103 | M10: ='EU INF M'!Q10 -> 1.7142857
A11: 1926 | B11: 17.7 | C11: =((B11/B10)-1)*100 -> 0.90261283 | D11: 17.7 | E11: =((D11/D10)-1)*100 -> -1.1173184 | F11: =F12/(1+(C12/100)) -> 73.545706 | G11: =((F11/F10)-1)*100 -> 0.90261283 | H11: =H12/(1+(E12/100)) -> 70.8 | I11: =((H11/H10)-1)*100 -> -1.1173184 | J11: ='EU INF M'!N11 -> 63.090521 | K11: ='EU INF M'!O11 -> -3.0444965 | L11: ='EU INF M'!P11 -> 61.810424 | M11: ='EU INF M'!Q11 -> -5.0561798
A12: 1927 | B12: 17.358333 | C12: =((B12/B11)-1)*100 -> -1.9303202 | D12: 17.3 | E12: =((D12/D11)-1)*100 -> -2.259887 | F12: =F13/(1+(C13/100)) -> 72.126039 | G12: =((F12/F11)-1)*100 -> -1.9303202 | H12: =H13/(1+(E13/100)) -> 69.2 | I12: =((H12/H11)-1)*100 -> -2.259887 | J12: ='EU INF M'!N12 -> 60.134105 | K12: ='EU INF M'!O12 -> -4.6859903 | L12: ='EU INF M'!P12 -> 60.713197 | M12: ='EU INF M'!Q12 -> -1.7751479
A13: 1928 | B13: 17.158333 | C13: =((B13/B12)-1)*100 -> -1.1521843 | D13: 17.1 | E13: =((D13/D12)-1)*100 -> -1.1560694 | F13: =F14/(1+(C14/100)) -> 71.295014 | G13: =((F13/F12)-1)*100 -> -1.1521843 | H13: =H14/(1+(E14/100)) -> 68.4 | I13: =((H13/H12)-1)*100 -> -1.1560694 | J13: ='EU INF M'!N13 -> 60.987504 | K13: ='EU INF M'!O13 -> 1.4191586 | L13: ='EU INF M'!P13 -> 60.347455 | M13: ='EU INF M'!Q13 -> -0.60240964
A14: 1929 | B14: 17.158333 | C14: =((B14/B13)-1)*100 -> 2.220446e-14 | D14: 17.2 | E14: =((D14/D13)-1)*100 -> 0.58479532 | F14: =F15/(1+(C15/100)) -> 71.295014 | G14: =((F14/F13)-1)*100 -> 2.220446e-14 | H14: =H15/(1+(E15/100)) -> 68.8 | I14: =((H14/H13)-1)*100 -> 0.58479532 | J14: ='EU INF M'!N14 -> 60.073148 | K14: ='EU INF M'!O14 -> -1.4992504 | L14: ='EU INF M'!P14 -> 58.884486 | M14: ='EU INF M'!Q14 -> -2.4242424
A15: 1930 | B15: 16.7 | C15: =((B15/B14)-1)*100 -> -2.6711996 | D15: 16.1 | E15: =((D15/D14)-1)*100 -> -6.3953488 | F15: =F16/(1+(C16/100)) -> 69.390582 | G15: =((F15/F14)-1)*100 -> -2.6711996 | H15: =H16/(1+(E16/100)) -> 64.4 | I15: =((H15/H14)-1)*100 -> -6.3953488 | J15: ='EU INF M'!N15 -> 54.373667 | K15: ='EU INF M'!O15 -> -9.4875698 | L15: ='EU INF M'!P15 -> 50.106675 | M15: ='EU INF M'!Q15 -> -14.906832
A16: 1931 | B16: 15.208333 | C16: =((B16/B15)-1)*100 -> -8.9321357 | D16: 14.6 | E16: =((D16/D15)-1)*100 -> -9.3167702 | F16: =F17/(1+(C17/100)) -> 63.192521 | G16: =((F16/F15)-1)*100 -> -8.9321357 | H16: =H17/(1+(E17/100)) -> 58.4 | I16: =((H16/H15)-1)*100 -> -9.3167702 | J16: ='EU INF M'!N16 -> 45.961597 | K16: ='EU INF M'!O16 -> -15.470852 | L16: ='EU INF M'!P16 -> 43.157574 | M16: ='EU INF M'!Q16 -> -13.868613
A17: 1932 | B17: 13.641667 | C17: =((B17/B16)-1)*100 -> -10.30137 | D17: 13.1 | E17: =((D17/D16)-1)*100 -> -10.273973 | F17: =F18/(1+(C18/100)) -> 56.682825 | G17: =((F17/F16)-1)*100 -> -10.30137 | H17: =H18/(1+(E18/100)) -> 52.4 | I17: =((H17/H16)-1)*100 -> -10.273973 | J17: ='EU INF M'!N17 -> 40.932642 | K17: ='EU INF M'!O17 -> -10.941645 | L17: ='EU INF M'!P17 -> 39.500152 | M17: ='EU INF M'!Q17 -> -8.4745763
... A34: 1949 | B34: 23.808333 | C34: =((B34/B33)-1)*100 -> -0.97053726 | D34: 23.6 | E34: =((D34/D33)-1)*100 -> -2.0746888 | F34: =F35/(1+(C35/100)) -> 98.926593 | G34: =((F34/F33)-1)*100 -> -0.97053726 | H34: =H35/(1+(E35/100)) -> 94.4 | I34: =((H34/H33)-1)*100 -> -2.0746888 | J34: ='EU INF M'!N34 -> 96.220664 | K34: ='EU INF M'!O34 -> -4.9668874 | L34: ='EU INF M'!P34 -> 94.727217 | M34: ='EU INF M'!Q34 -> -6.1594203
A35: 1950 | B35: 24.066667 | C35: =((B35/B34)-1)*100 -> 1.0850543 | D35: 25 | E35: =((D35/D34)-1)*100 -> 5.9322034 | F35: 100 | G35: =((F35/F34)-1)*100 -> 1.0850543 | H35: 100 | I35: =((H35/H34)-1)*100 -> 5.9322034 | J35: ='EU INF M'!N35 -> 100 | K35: ='EU INF M'!O35 -> 3.9277795 | L35: ='EU INF M'!P35 -> 108.62542 | M35: ='EU INF M'!Q35 -> 14.671815
A36: 1951 | B36: 25.958333 | C36: =((B36/B35)-1)*100 -> 7.8601108 | D36: 26.5 | E36: =((D36/D35)-1)*100 -> 6 | F36: =F35*(1+(C36/100)) -> 107.86011 | G36: =((F36/F35)-1)*100 -> 7.8601108 | H36: =H35*(1+(E36/100)) -> 106 | I36: =((H36/H35)-1)*100 -> 6 | J36: ='EU INF M'!N36 -> 111.27705 | K36: ='EU INF M'!O36 -> 11.27705 | L36: ='EU INF M'!P36 -> 110.08839 | M36: ='EU INF M'!Q36 -> 1.3468013
A37: 1952 | B37: 26.55 | C37: =((B37/B36)-1)*100 -> 2.2792937 | D37: 26.7 | E37: =((D37/D36)-1)*100 -> 0.75471698 | F37: =F36*(1+(C37/100)) -> 110.31856 | G37: =((F37/F36)-1)*100 -> 2.2792937 | H37: =H36*(1+(E37/100)) -> 106.8 | I37: =((H37/H36)-1)*100 -> 0.75471698 | J37: ='EU INF M'!N37 -> 108.25968 | K37: ='EU INF M'!O37 -> -2.7115859 | L37: ='EU INF M'!P37 -> 106.43097 | M37: ='EU INF M'!Q37 -> -3.3222591
A38: 1953 | B38: 26.766667 | C38: =((B38/B37)-1)*100 -> 0.81607031 | D38: 26.9 | E38: =((D38/D37)-1)*100 -> 0.74906367 | F38: =F37*(1+(C38/100)) -> 111.21884 | G38: =((F38/F37)-1)*100 -> 0.81607031 | H38: =H37*(1+(E38/100)) -> 107.6 | I38: =((H38/H37)-1)*100 -> 0.74906367 | J38: ='EU INF M'!N38 -> 106.70527 | K38: ='EU INF M'!O38 -> -1.4358108 | L38: ='EU INF M'!P38 -> 106.79671 | M38: ='EU INF M'!Q38 -> 0.34364261
A39: 1954 | B39: 26.85 | C39: =((B39/B38)-1)*100 -> 0.3113325 | D39: 26.7 | E39: =((D39/D38)-1)*100 -> -0.74349442 | F39: =F38*(1+(C39/100)) -> 111.5651 | G39: =((F39/F38)-1)*100 -> 0.3113325 | H39: =H38*(1+(E39/100)) -> 106.8 | I39: =((H39/H38)-1)*100 -> -0.74349442 | J39: ='EU INF M'!N39 -> 107.01006 | K39: ='EU INF M'!O39 -> 0.28563268 | L39: ='EU INF M'!P39 -> 106.06522 | M39: ='EU INF M'!Q39 -> -0.68493151
A40: 1955 | B40: 26.775 | C40: =((B40/B39)-1)*100 -> -0.27932961 | D40: 26.8 | E40: =((D40/D39)-1)*100 -> 0.37453184 | F40: =F39*(1+(C40/100)) -> 111.25346 | G40: =((F40/F39)-1)*100 -> -0.27932961 | H40: =H39*(1+(E40/100)) -> 107.2 | I40: =((H40/H39)-1)*100 -> 0.37453184 | J40: ='EU INF M'!N40 -> 107.3758 | K40: ='EU INF M'!O40 -> 0.34178297 | L40: ='EU INF M'!P40 -> 107.89393 | M40: ='EU INF M'!Q40 -> 1.7241379
A41: 1956 | B41: 27.183333 | C41: =((B41/B40)-1)*100 -> 1.5250545 | D41: 27.6 | E41: =((D41/D40)-1)*100 -> 2.9850746 | F41: =F40*(1+(C41/100)) -> 112.95014 | G41: =((F41/F40)-1)*100 -> 1.5250545 | H41: =H40*(1+(E41/100)) -> 110.4 | I41: =((H41/H40)-1)*100 -> 2.9850746 | J41: ='EU INF M'!N41 -> 110.75891 | K41: ='EU INF M'!O41 -> 3.1507238 | L41: ='EU INF M'!P41 -> 112.64858 | M41: ='EU INF M'!Q41 -> 4.4067797
A42: 1957 | B42: 28.091667 | C42: =((B42/B41)-1)*100 -> 3.3415083 | D42: 28.4 | E42: =((D42/D41)-1)*100 -> 2.8985507 | F42: =F41*(1+(C42/100)) -> 116.72438 | G42: =((F42/F41)-1)*100 -> 3.3415083 | H42: =H41*(1+(E42/100)) -> 113.6 | I42: =((H42/H41)-1)*100 -> 2.8985507 | J42: ='EU INF M'!N42 -> 114.02012 | K42: ='EU INF M'!O42 -> 2.9444139 | L42: ='EU INF M'!P42 -> 114.84304 | M42: ='EU INF M'!Q42 -> 1.9480519
A43: 1958 | B43: 28.858333 | C43: =((B43/B42)-1)*100 -> 2.7291605 | D43: 28.9 | E43: =((D43/D42)-1)*100 -> 1.7605634 | F43: =F42*(1+(C43/100)) -> 119.90997 | G43: =((F43/F42)-1)*100 -> 2.7291605 | H43: =H42*(1+(E43/100)) -> 115.6 | I43: =((H43/H42)-1)*100 -> 1.7605634 | J43: ='EU INF M'!N43 -> 115.54404 | K43: ='EU INF M'!O43 -> 1.336541 | L43: ='EU INF M'!P43 -> 115.57452 | M43: ='EU INF M'!Q43 -> 0.63694268
A44: 1959 | B44: 29.15 | C44: =((B44/B43)-1)*100 -> 1.0106844 | D44: 29.4 | E44: =((D44/D43)-1)*100 -> 1.7301038 | F44: =F43*(1+(C44/100)) -> 121.12188 | G44: =((F44/F43)-1)*100 -> 1.0106844 | H44: =H43*(1+(E44/100)) -> 117.6 | I44: =((H44/H43)-1)*100 -> 1.7301038 | J44: ='EU INF M'!N44 -> 115.81835 | K44: ='EU INF M'!O44 -> 0.23740438 | L44: ='EU INF M'!P44 -> 115.20878 | M44: ='EU INF M'!Q44 -> -0.3164557
A45: 1960 | B45: 29.575 | C45: =((B45/B44)-1)*100 -> 1.457976 | D45: 29.8 | E45: =((D45/D44)-1)*100 -> 1.3605442 | F45: =F44*(1+(C45/100)) -> 122.88781 | G45: =((F45/F44)-1)*100 -> 1.457976 | H45: =H44*(1+(E45/100)) -> 119.2 | I45: =((H45/H44)-1)*100 -> 1.3605442 | J45: ='EU INF M'!N45 -> 115.87931 | K45: ='EU INF M'!O45 -> 0.052631579 | L45: ='EU INF M'!P45 -> 115.94026 | M45: ='EU INF M'!Q45 -> 0.63492063
A46: 1961 | B46: 29.891667 | C46: =((B46/B45)-1)*100 -> 1.0707241 | D46: 30 | E46: =((D46/D45)-1)*100 -> 0.67114094 | F46: =F45*(1+(C46/100)) -> 124.2036 | G46: =((F46/F45)-1)*100 -> 1.0707241 | H46: =H45*(1+(E46/100)) -> 120 | I46: =((H46/H45)-1)*100 -> 0.67114094 | J46: ='EU INF M'!N46 -> 115.48308 | K46: ='EU INF M'!O46 -> -0.3419253 | L46: ='EU INF M'!P46 -> 115.57452 | M46: ='EU INF M'!Q46 -> -0.31545741
A47: 1962 | B47: 30.25 | C47: =((B47/B46)-1)*100 -> 1.1987733 | D47: 30.4 | E47: =((D47/D46)-1)*100 -> 1.3333333 | F47: =F46*(1+(C47/100)) -> 125.69252 | G47: =((F47/F46)-1)*100 -> 1.1987733 | H47: =H46*(1+(E47/100)) -> 121.6 | I47: =((H47/H46)-1)*100 -> 1.3333333 | J47: ='EU INF M'!N47 -> 115.75739 | K47: ='EU INF M'!O47 -> 0.23752969 | L47: ='EU INF M'!P47 -> 115.57452 | M47: ='EU INF M'!Q47 -> 0
... A75: 1990 | B75: 130.65833 | C75: =((B75/B74)-1)*100 -> 5.3979564 | D75: 133.8 | E75: =((D75/D74)-1)*100 -> 6.1062649 | F75: =F74*(1+(C75/100)) -> 542.90166 | G75: =((F75/F74)-1)*100 -> 5.3979564 | H75: =H74*(1+(E75/100)) -> 535.2 | I75: =((H75/H74)-1)*100 -> 6.1062649 | J75: ='EU INF M'!N75 -> 425.32764 | K75: ='EU INF M'!O75 -> 3.6082857 | L75: ='EU INF M'!P75 -> 434.13593 | M75: ='EU INF M'!Q75 -> 5.0442478
D76: Fuente: Federal Reserve Economic Data, Federal Reserve Bank of St. Louis, Economic Research Division. Disponible en: https://fred.stlouisfed.org

Sheet EU INF M
F1: =AVERAGE(B377:B388) -> 24.066667 | G1: =AVERAGE(D377:D388) -> 27.341667 | J1: Observaciones anuales calculadas a partir de las mensuales
A2: Período | B2: IPC 1982-1984=100 | C2: IPC t/c anual | D2: IPM 1982=100 | E2: IPM t/c anual | F2: IPC 1950=100 | G2: IPM 1950=100 | J2: IPC promedio 1950=100 | K2: IPC promedio t/c % | L2: IPC fin | M2: IPC fin t/c % | N2: IPM promedio 1950=100 | O2: IPM promedio % | P2: IPM fin | Q2: IPM fin %
A5: 6941 | B5: 16.5 | D5: 23.2 | F5: =(B5/F$1)*100 -> 68.559557 | G5: =(D5/G$1)*100 -> 84.852179 | I5: 1920 | J5: =AVERAGE(F17:F28) -> 83.275623 | L5: =F28 -> 80.609418 | N5: =AVERAGE(G17:G28) -> 97.378848 | P5: =G28 -> 76.074368
A6: 6972 | B6: 16.2 | D6: 22.4 | F6: =(B6/F$1)*100 -> 67.313019 | G6: =(D6/G$1)*100 -> 81.926242 | I6: 1921 | J6: =AVERAGE('EU INF M'!F29:F40) -> 74.168975 | K6: =((J6/J5)-1)*100 -> -10.935551 | L6: =F40 -> 71.883657 | M6: =((L6/L5)-1)*100 -> -10.824742 | N6: =AVERAGE('EU INF M'!G29:G40) -> 61.505639 | P6: =G40 -> 58.518744
A7: 7000 | B7: 16.4 | D7: 22.6 | F7: =(B7/F$1)*100 -> 68.144044 | G7: =(D7/G$1)*100 -> 82.657726 | I7: 1922 | J7: =AVERAGE('EU INF M'!F41:F52) -> 69.598338 | K7: =((J7/J6)-1)*100 -> -6.162465 | L7: =F52 -> 70.221607 | M7: =((L7/L6)-1)*100 -> -2.3121387 | N7: =AVERAGE('EU INF M'!G41:G52) -> 60.957025 | O7: =((N7/N6)-1)*100 -> -0.89197225 | P7: =G52 -> 63.273392 | Q7: =((P7/P6)-1)*100 -> 8.125
A8: 7031 | B8: 16.7 | D8: 22.9 | F8: =(B8/F$1)*100 -> 69.390582 | G8: =(D8/G$1)*100 -> 83.754953 | I8: 1923 | J8: =AVERAGE('EU INF M'!F53:F64) -> 70.844875 | K8: =((J8/J7)-1)*100 -> 1.7910448 | L8: =F64 -> 71.883657 | M8: =((L8/L7)-1)*100 -> 2.3668639 | N8: =AVERAGE('EU INF M'!G53:G64) -> 63.456263 | O8: =((N8/N7)-1)*100 -> 4.1 | P8: =G64 -> 61.810424 | Q8: =((P8/P7)-1)*100 -> -2.3121387
A9: 7061 | B9: 16.9 | D9: 23.3 | F9: =(B9/F$1)*100 -> 70.221607 | G9: =(D9/G$1)*100 -> 85.217921 | I9: 1924 | J9: =AVERAGE('EU INF M'!F65:F76) -> 71.15651 | K9: =((J9/J8)-1)*100 -> 0.4398827 | L9: =F76 -> 71.883657 | M9: =((L9/L8)-1)*100 -> 0 | N9: =AVERAGE('EU INF M'!G65:G76) -> 61.68851 | O9: =((N9/N8)-1)*100 -> -2.7857829 | P9: =G76 -> 64.004877 | Q9: =((P9/P8)-1)*100 -> 3.5502959
A10: 7092 | B10: 16.9 | D10: 23.4 | F10: =(B10/F$1)*100 -> 70.221607 | G10: =(D10/G$1)*100 -> 85.583664 | I10: 1925 | J10: =AVERAGE('EU INF M'!F77:F88) -> 72.887812 | K10: =((J10/J9)-1)*100 -> 2.43309 | L10: =F88 -> 74.376731 | M10: =((L10/L9)-1)*100 -> 3.4682081 | N10: =AVERAGE('EU INF M'!G77:G88) -> 65.071625 | O10: =((N10/N9)-1)*100 -> 5.4841897 | P10: =G88 -> 65.102103 | Q10: =((P10/P9)-1)*100 -> 1.7142857
A11: 7122 | B11: 17.4 | D11: 24.3 | F11: =(B11/F$1)*100 -> 72.299169 | G11: =(D11/G$1)*100 -> 88.875343 | I11: 1926 | J11: =AVERAGE('EU INF M'!F89:F100) -> 73.545706 | K11: =((J11/J10)-1)*100 -> 0.90261283 | L11: =F100 -> 73.545706 | M11: =((L11/L10)-1)*100 -> -1.1173184 | N11: =AVERAGE('EU INF M'!G89:G100) -> 63.090521 | O11: =((N11/N10)-1)*100 -> -3.0444965 | P11: =G100 -> 61.810424 | Q11: =((P11/P10)-1)*100 -> -5.0561798
A12: 7153 | B12: 17.7 | D12: 24.9 | F12: =(B12/F$1)*100 -> 73.545706 | G12: =(D12/G$1)*100 -> 91.069796 | I12: 1927 | J12: =AVERAGE('EU INF M'!F101:F112) -> 72.126039 | K12: =((J12/J11)-1)*100 -> -1.9303202 | L12: =F112 -> 71.883657 | M12: =((L12/L11)-1)*100 -> -2.259887 | N12: =AVERAGE('EU INF M'!G101:G112) -> 60.134105 | O12: =((N12/N11)-1)*100 -> -4.6859903 | P12: =G112 -> 60.713197 | Q12: =((P12/P11)-1)*100 -> -1.7751479
A13: 7184 | B13: 17.8 | D13: 24.3 | F13: =(B13/F$1)*100 -> 73.961219 | G13: =(D13/G$1)*100 -> 88.875343 | I13: 1928 | J13: =AVERAGE('EU INF M'!F113:F124) -> 71.295014 | K13: =((J13/J12)-1)*100 -> -1.1521843 | L13: =F124 -> 71.052632 | M13: =((L13/L12)-1)*100 -> -1.1560694 | N13: =AVERAGE('EU INF M'!G113:G124) -> 60.987504 | O13: =((N13/N12)-1)*100 -> 1.4191586 | P13: =G124 -> 60.347455 | Q13: =((P13/P12)-1)*100 -> -0.60240964
A14: 7214 | B14: 18.1 | D14: 24.4 | F14: =(B14/F$1)*100 -> 75.207756 | G14: =(D14/G$1)*100 -> 89.241085 | I14: 1929 | J14: =AVERAGE('EU INF M'!F125:F136) -> 71.295014 | K14: =((J14/J13)-1)*100 -> 0 | L14: =F136 -> 71.468144 | M14: =((L14/L13)-1)*100 -> 0.58479532 | N14: =AVERAGE('EU INF M'!G125:G136) -> 60.073148 | O14: =((N14/N13)-1)*100 -> -1.4992504 | P14: =G136 -> 58.884486 | Q14: =((P14/P13)-1)*100 -> -2.4242424
A15: 7245 | B15: 18.5 | D15: 24.9 | F15: =(B15/F$1)*100 -> 76.869806 | G15: =(D15/G$1)*100 -> 91.069796 | I15: 1930 | J15: =AVERAGE('EU INF M'!F137:F148) -> 69.390582 | K15: =((J15/J14)-1)*100 -> -2.6711996 | L15: =F148 -> 66.897507 | M15: =((L15/L14)-1)*100 -> -6.3953488 | N15: =AVERAGE('EU INF M'!G137:G148) -> 54.373667 | O15: =((N15/N14)-1)*100 -> -9.4875698 | P15: =G148 -> 50.106675 | Q15: =((P15/P14)-1)*100 -> -14.906832
A16: 7275 | B16: 18.9 | D16: 26 | F16: =(B16/F$1)*100 -> 78.531856 | G16: =(D16/G$1)*100 -> 95.092959 | I16: 1931 | J16: =AVERAGE('EU INF M'!F149:F160) -> 63.192521 | K16: =((J16/J15)-1)*100 -> -8.9321357 | L16: =F160 -> 60.66482 | M16: =((L16/L15)-1)*100 -> -9.3167702 | N16: =AVERAGE('EU INF M'!G149:G160) -> 45.961597 | O16: =((N16/N15)-1)*100 -> -15.470852 | P16: =G160 -> 43.157574 | Q16: =((P16/P15)-1)*100 -> -13.868613
A17: 7306 | B17: 19.3 | C17: =((B17/B5)-1)*100 -> 16.969697 | D17: 27.2 | E17: =((D17/D5)-1)*100 -> 17.241379 | F17: =(B17/F$1)*100 -> 80.193906 | G17: =(D17/G$1)*100 -> 99.481865 | I17: 1932 | J17: =AVERAGE('EU INF M'!F161:F172) -> 56.682825 | K17: =((J17/J16)-1)*100 -> -10.30137 | L17: =F172 -> 54.432133 | M17: =((L17/L16)-1)*100 -> -10.273973 | N17: =AVERAGE('EU INF M'!G161:G172) -> 40.932642 | O17: =((N17/N16)-1)*100 -> -10.941645 | P17: =G172 -> 39.500152 | Q17: =((P17/P16)-1)*100 -> -8.4745763
A18: 7337 | B18: 19.5 | C18: =((B18/B6)-1)*100 -> 20.37037 | D18: 27.1 | E18: =((D18/D6)-1)*100 -> 20.982143 | F18: =(B18/F$1)*100 -> 81.024931 | G18: =(D18/G$1)*100 -> 99.116123 | I18: 1933 | J18: =AVERAGE('EU INF M'!F173:F184) -> 53.739612 | K18: =((J18/J17)-1)*100 -> -5.1924252 | L18: =F184 -> 54.847645 | M18: =((L18/L17)-1)*100 -> 0.76335878 | N18: =AVERAGE('EU INF M'!G173:G184) -> 41.60317 | O18: =((N18/N17)-1)*100 -> 1.6381236 | P18: =G184 -> 44.620543 | Q18: =((P18/P17)-1)*100 -> 12.962963
A19: 7366 | B19: 19.7 | C19: =((B19/B7)-1)*100 -> 20.121951 | D19: 27.3 | E19: =((D19/D7)-1)*100 -> 20.79646 | F19: =(B19/F$1)*100 -> 81.855956 | G19: =(D19/G$1)*100 -> 99.847607 | I19: 1934 | J19: =AVERAGE('EU INF M'!F185:F196) -> 55.609418 | K19: =((J19/J18)-1)*100 -> 3.4793814 | L19: =F196 -> 55.67867 | M19: =((L19/L18)-1)*100 -> 1.5151515 | N19: =AVERAGE('EU INF M'!G185:G196) -> 47.33313 | O19: =((N19/N18)-1)*100 -> 13.772894 | P19: =G196 -> 48.643706 | Q19: =((P19/P18)-1)*100 -> 9.0163934
A20: 7397 | B20: 20.3 | C20: =((B20/B8)-1)*100 -> 21.556886 | D20: 28.5 | E20: =((D20/D8)-1)*100 -> 24.454148 | F20: =(B20/F$1)*100 -> 84.34903 | G20: =(D20/G$1)*100 -> 104.23651 | I20: 1935 | J20: =AVERAGE('EU INF M'!F197:F208) -> 57.029086 | K20: =((J20/J19)-1)*100 -> 2.5529265 | L20: =F208 -> 57.34072 | M20: =((L20/L19)-1)*100 -> 2.9850746 | N20: =AVERAGE('EU INF M'!G197:G208) -> 50.502895 | O20: =((N20/N19)-1)*100 -> 6.696716 | P20: =G208 -> 51.203901 | Q20: =((P20/P19)-1)*100 -> 5.2631579
A21: 7427 | B21: 20.6 | C21: =((B21/B9)-1)*100 -> 21.893491 | D21: 28.8 | E21: =((D21/D9)-1)*100 -> 23.60515 | F21: =(B21/F$1)*100 -> 85.595568 | G21: =(D21/G$1)*100 -> 105.33374 | I21: 1936 | J21: =AVERAGE('EU INF M'!F209:F220) -> 57.617729 | K21: =((J21/J20)-1)*100 -> 1.0321797 | L21: =F220 -> 58.171745 | M21: =((L21/L20)-1)*100 -> 1.4492754 | N21: =AVERAGE('EU INF M'!G209:G220) -> 50.899116 | O21: =((N21/N20)-1)*100 -> 0.78455039 | P21: =G220 -> 53.032612 | Q21: =((P21/P20)-1)*100 -> 3.5714286
A22: 7458 | B22: 20.9 | C22: =((B22/B10)-1)*100 -> 23.668639 | D22: 28.7 | E22: =((D22/D10)-1)*100 -> 22.649573 | F22: =(B22/F$1)*100 -> 86.842105 | G22: =(D22/G$1)*100 -> 104.968 | I22: 1937 | J22: =AVERAGE('EU INF M'!F221:F232) -> 59.764543 | K22: =((J22/J21)-1)*100 -> 3.7259615 | L22: =F232 -> 59.833795 | M22: =((L22/L21)-1)*100 -> 2.8571429 | N22: =AVERAGE('EU INF M'!G221:G232) -> 54.465102 | O22: =((N22/N21)-1)*100 -> 7.005988 | P22: =G232 -> 51.569643 | Q22: =((P22/P21)-1)*100 -> -2.7586207
A23: 7488 | B23: 20.8 | C23: =((B23/B11)-1)*100 -> 19.54023 | D23: 28.6 | E23: =((D23/D11)-1)*100 -> 17.695473 | F23: =(B23/F$1)*100 -> 86.426593 | G23: =(D23/G$1)*100 -> 104.60226 | I23: 1938 | J23: =AVERAGE('EU INF M'!F233:F244) -> 58.552632 | K23: =((J23/J22)-1)*100 -> -2.02781 | L23: =F244 -> 58.171745 | M23: =((L23/L22)-1)*100 -> -2.7777778 | N23: =AVERAGE('EU INF M'!G233:G244) -> 49.558062 | O23: =((N23/N22)-1)*100 -> -9.0095132 | P23: =G244 -> 48.643706 | Q23: =((P23/P22)-1)*100 -> -5.6737589
A24: 7519 | B24: 20.3 | C24: =((B24/B12)-1)*100 -> 14.689266 | D24: 27.8 | E24: =((D24/D12)-1)*100 -> 11.646586 | F24: =(B24/F$1)*100 -> 84.34903 | G24: =(D24/G$1)*100 -> 101.67632 | I24: 1939 | J24: =AVERAGE('EU INF M'!F245:F256) -> 57.790859 | K24: =((J24/J23)-1)*100 -> -1.3010053 | L24: =F256 -> 58.171745 | M24: =((L24/L23)-1)*100 -> 0 | N24: =AVERAGE('EU INF M'!G245:G256) -> 48.613228 | O24: =((N24/N23)-1)*100 -> -1.9065191 | P24: =G256 -> 50.106675 | Q24: =((P24/P23)-1)*100 -> 3.0075188
A25: 7550 | B25: 20 | C25: =((B25/B13)-1)*100 -> 12.359551 | D25: 26.8 | E25: =((D25/D13)-1)*100 -> 10.288066 | F25: =(B25/F$1)*100 -> 83.102493 | G25: =(D25/G$1)*100 -> 98.018897 | I25: 1940 | J25: =AVERAGE('EU INF M'!F257:F268) -> 58.206371 | K25: =((J25/J24)-1)*100 -> 0.71899341 | L25: =F268 -> 58.587258 | M25: =((L25/L24)-1)*100 -> 0.71428571 | N25: =AVERAGE('EU INF M'!G257:G268) -> 49.527583 | O25: =((N25/N24)-1)*100 -> 1.8808777 | P25: =G268 -> 50.472417 | Q25: =((P25/P24)-1)*100 -> 0.72992701
A26: 7580 | B26: 19.9 | C26: =((B26/B14)-1)*100 -> 9.9447514 | D26: 24.9 | E26: =((D26/D14)-1)*100 -> 2.0491803 | F26: =(B26/F$1)*100 -> 82.686981 | G26: =(D26/G$1)*100 -> 91.069796 | I26: 1941 | J26: =AVERAGE('EU INF M'!F269:F280) -> 61.184211 | K26: =((J26/J25)-1)*100 -> 5.1160024 | L26: =F280 -> 64.404432 | M26: =((L26/L25)-1)*100 -> 9.929078 | N26: =AVERAGE('EU INF M'!G269:G280) -> 55.013715 | O26: =((N26/N25)-1)*100 -> 11.076923 | P26: =G280 -> 59.250229 | Q26: =((P26/P25)-1)*100 -> 17.391304
A27: 7611 | B27: 19.8 | C27: =((B27/B15)-1)*100 -> 7.027027 | D27: 23 | E27: =((D27/D15)-1)*100 -> -7.6305221 | F27: =(B27/F$1)*100 -> 82.271468 | G27: =(D27/G$1)*100 -> 84.120695 | I27: 1942 | J27: =AVERAGE('EU INF M'!F281:F292) -> 67.867036 | K27: =((J27/J26)-1)*100 -> 10.922467 | L27: =F292 -> 70.221607 | M27: =((L27/L26)-1)*100 -> 9.0322581 | N27: =AVERAGE('EU INF M'!G281:G292) -> 62.237123 | O27: =((N27/N26)-1)*100 -> 13.130194 | P27: =G292 -> 63.639134 | Q27: =((P27/P26)-1)*100 -> 7.4074074
A28: 7641 | B28: 19.4 | C28: =((B28/B16)-1)*100 -> 2.6455026 | D28: 20.8 | E28: =((D28/D16)-1)*100 -> -20 | F28: =(B28/F$1)*100 -> 80.609418 | G28: =(D28/G$1)*100 -> 76.074368 | I28: 1943 | J28: =AVERAGE('EU INF M'!F293:F304) -> 71.918283 | K28: =((J28/J27)-1)*100 -> 5.9693878 | L28: =F304 -> 72.299169 | M28: =((L28/L27)-1)*100 -> 2.9585799 | N28: =AVERAGE('EU INF M'!G293:G304) -> 65.041146 | O28: =((N28/N27)-1)*100 -> 4.5053869 | P28: =G304 -> 65.102103 | Q28: =((P28/P27)-1)*100 -> 2.2988506
A29: 7672 | B29: 19 | C29: =((B29/B17)-1)*100 -> -1.5544041 | D29: 19.6 | E29: =((D29/D17)-1)*100 -> -27.941176 | F29: =(B29/F$1)*100 -> 78.947368 | G29: =(D29/G$1)*100 -> 71.685462 | I29: 1944 | J29: =AVERAGE('EU INF M'!F305:F316) -> 73.095568 | K29: =((J29/J28)-1)*100 -> 1.6369764 | L29: =F316 -> 73.961219 | M29: =((L29/L28)-1)*100 -> 2.2988506 | N29: =AVERAGE('EU INF M'!G305:G316) -> 65.498324 | O29: =((N29/N28)-1)*100 -> 0.70290534 | P29: =G316 -> 65.833587 | Q29: =((P29/P28)-1)*100 -> 1.1235955
A30: 7703 | B30: 18.4 | C30: =((B30/B18)-1)*100 -> -5.6410256 | D30: 18.1 | E30: =((D30/D18)-1)*100 -> -33.210332 | F30: =(B30/F$1)*100 -> 76.454294 | G30: =(D30/G$1)*100 -> 66.199329 | I30: 1945 | J30: =AVERAGE('EU INF M'!F317:F328) -> 74.757618 | K30: =((J30/J29)-1)*100 -> 2.2738039 | L30: =F328 -> 75.623269 | M30: =((L30/L29)-1)*100 -> 2.247191 | N30: =AVERAGE('EU INF M'!G317:G328) -> 66.656507 | O30: =((N30/N29)-1)*100 -> 1.7682643 | P30: =G328 -> 67.296556 | Q30: =((P30/P29)-1)*100 -> 2.2222222
A31: 7731 | B31: 18.3 | C31: =((B31/B19)-1)*100 -> -7.106599 | D31: 17.7 | E31: =((D31/D19)-1)*100 -> -35.164835 | F31: =(B31/F$1)*100 -> 76.038781 | G31: =(D31/G$1)*100 -> 64.736361 | I31: 1946 | J31: =AVERAGE('EU INF M'!F329:F340) -> 81.094183 | K31: =((J31/J30)-1)*100 -> 8.4761464 | L31: =F340 -> 89.33518 | M31: =((L31/L30)-1)*100 -> 18.131868 | N31: =AVERAGE('EU INF M'!G329:G340) -> 76.135325 | O31: =((N31/N30)-1)*100 -> 14.220393 | P31: =G340 -> 88.875343 | Q31: =((P31/P30)-1)*100 -> 32.065217
A32: 7762 | B32: 18.1 | C32: =((B32/B20)-1)*100 -> -10.837438 | D32: 17 | E32: =((D32/D20)-1)*100 -> -40.350877 | F32: =(B32/F$1)*100 -> 75.207756 | G32: =(D32/G$1)*100 -> 62.176166 | I32: 1947 | J32: =AVERAGE('EU INF M'!F341:F352) -> 92.763158 | K32: =((J32/J31)-1)*100 -> 14.389411 | L32: =F352 -> 97.229917 | M32: =((L32/L31)-1)*100 -> 8.8372093 | N32: =AVERAGE('EU INF M'!G341:G352) -> 93.538555 | O32: =((N32/N31)-1)*100 -> 22.858287 | P32: =G352 -> 99.481865 | Q32: =((P32/P31)-1)*100 -> 11.934156
A33: 7792 | B33: 17.7 | C33: =((B33/B21)-1)*100 -> -14.07767 | D33: 16.6 | E33: =((D33/D21)-1)*100 -> -42.361111 | F33: =(B33/F$1)*100 -> 73.545706 | G33: =(D33/G$1)*100 -> 60.713197 | I33: 1948 | J33: =AVERAGE('EU INF M'!F353:F364) -> 99.896122 | K33: =((J33/J32)-1)*100 -> 7.6894364 | L33: =F364 -> 100.1385 | M33: =((L33/L32)-1)*100 -> 2.991453 | N33: =AVERAGE('EU INF M'!G353:G364) -> 101.24962 | O33: =((N33/N32)-1)*100 -> 8.2437276 | P33: =G364 -> 100.94483 | Q33: =((P33/P32)-1)*100 -> 1.4705882
A34: 7823 | B34: 17.6 | C34: =((B34/B22)-1)*100 -> -15.789474 | D34: 16.1 | E34: =((D34/D22)-1)*100 -> -43.902439 | F34: =(B34/F$1)*100 -> 73.130194 | G34: =(D34/G$1)*100 -> 58.884486 | I34: 1949 | J34: =AVERAGE('EU INF M'!F365:F376) -> 98.926593 | K34: =((J34/J33)-1)*100 -> -0.97053726 | L34: =F376 -> 98.060942 | M34: =((L34/L33)-1)*100 -> -2.0746888 | N34: =AVERAGE('EU INF M'!G365:G376) -> 96.220664 | O34: =((N34/N33)-1)*100 -> -4.9668874 | P34: =G376 -> 94.727217 | Q34: =((P34/P33)-1)*100 -> -6.1594203
A35: 7853 | B35: 17.7 | C35: =((B35/B23)-1)*100 -> -14.903846 | D35: 16.1 | E35: =((D35/D23)-1)*100 -> -43.706294 | F35: =(B35/F$1)*100 -> 73.545706 | G35: =(D35/G$1)*100 -> 58.884486 | I35: 1950 | J35: =AVERAGE('EU INF M'!F377:F388) -> 100 | K35: =((J35/J34)-1)*100 -> 1.0850543 | L35: =F388 -> 103.87812 | M35: =((L35/L34)-1)*100 -> 5.9322034 | N35: =AVERAGE('EU INF M'!G377:G388) -> 100 | O35: =((N35/N34)-1)*100 -> 3.9277795 | P35: =G388 -> 108.62542 | Q35: =((P35/P34)-1)*100 -> 14.671815
A36: 7884 | B36: 17.7 | C36: =((B36/B24)-1)*100 -> -12.807882 | D36: 16.1 | E36: =((D36/D24)-1)*100 -> -42.086331 | F36: =(B36/F$1)*100 -> 73.545706 | G36: =(D36/G$1)*100 -> 58.884486 | I36: 1951 | J36: =AVERAGE('EU INF M'!F389:F400) -> 107.86011 | K36: =((J36/J35)-1)*100 -> 7.8601108 | L36: =F400 -> 110.1108 | M36: =((L36/L35)-1)*100 -> 6 | N36: =AVERAGE('EU INF M'!G389:G400) -> 111.27705 | O36: =((N36/N35)-1)*100 -> 11.27705 | P36: =G400 -> 110.08839 | Q36: =((P36/P35)-1)*100 -> 1.3468013
A37: 7915 | B37: 17.5 | C37: =((B37/B25)-1)*100 -> -12.5 | D37: 16.1 | E37: =((D37/D25)-1)*100 -> -39.925373 | F37: =(B37/F$1)*100 -> 72.714681 | G37: =(D37/G$1)*100 -> 58.884486 | I37: 1952 | J37: =AVERAGE('EU INF M'!F401:F412) -> 110.31856 | K37: =((J37/J36)-1)*100 -> 2.2792937 | L37: =F412 -> 110.94183 | M37: =((L37/L36)-1)*100 -> 0.75471698 | N37: =AVERAGE('EU INF M'!G401:G412) -> 108.25968 | O37: =((N37/N36)-1)*100 -> -2.7115859 | P37: =G412 -> 106.43097 | Q37: =((P37/P36)-1)*100 -> -3.3222591
A38: 7945 | B38: 17.5 | C38: =((B38/B26)-1)*100 -> -12.060302 | D38: 16.2 | E38: =((D38/D26)-1)*100 -> -34.939759 | F38: =(B38/F$1)*100 -> 72.714681 | G38: =(D38/G$1)*100 -> 59.250229 | I38: 1953 | J38: =AVERAGE('EU INF M'!F413:F424) -> 111.21884 | K38: =((J38/J37)-1)*100 -> 0.81607031 | L38: =F424 -> 111.77285 | M38: =((L38/L37)-1)*100 -> 0.74906367 | N38: =AVERAGE('EU INF M'!G413:G424) -> 106.70527 | O38: =((N38/N37)-1)*100 -> -1.4358108 | P38: =G424 -> 106.79671 | Q38: =((P38/P37)-1)*100 -> 0.34364261
A39: 7976 | B39: 17.4 | C39: =((B39/B27)-1)*100 -> -12.121212 | D39: 16.2 | E39: =((D39/D27)-1)*100 -> -29.565217 | F39: =(B39/F$1)*100 -> 72.299169 | G39: =(D39/G$1)*100 -> 59.250229 | I39: 1954 | J39: =AVERAGE('EU INF M'!F425:F436) -> 111.5651 | K39: =((J39/J38)-1)*100 -> 0.3113325 | L39: =F436 -> 110.94183 | M39: =((L39/L38)-1)*100 -> -0.74349442 | N39: =AVERAGE('EU INF M'!G425:G436) -> 107.01006 | O39: =((N39/N38)-1)*100 -> 0.28563268 | P39: =G436 -> 106.06522 | Q39: =((P39/P38)-1)*100 -> -0.68493151
A40: 8006 | B40: 17.3 | C40: =((B40/B28)-1)*100 -> -10.824742 | D40: 16 | E40: =((D40/D28)-1)*100 -> -23.076923 | F40: =(B40/F$1)*100 -> 71.883657 | G40: =(D40/G$1)*100 -> 58.518744 | I40: 1955 | J40: =AVERAGE('EU INF M'!F437:F448) -> 111.25346 | K40: =((J40/J39)-1)*100 -> -0.27932961 | L40: =F448 -> 111.35734 | M40: =((L40/L39)-1)*100 -> 0.37453184 | N40: =AVERAGE('EU INF M'!G437:G448) -> 107.3758 | O40: =((N40/N39)-1)*100 -> 0.34178297 | P40: =G448 -> 107.89393 | Q40: =((P40/P39)-1)*100 -> 1.7241379
A41: 8037 | B41: 16.9 | C41: =((B41/B29)-1)*100 -> -11.052632 | D41: 15.7 | E41: =((D41/D29)-1)*100 -> -19.897959 | F41: =(B41/F$1)*100 -> 70.221607 | G41: =(D41/G$1)*100 -> 57.421518 | I41: 1956 | J41: =AVERAGE('EU INF M'!F449:F460) -> 112.95014 | K41: =((J41/J40)-1)*100 -> 1.5250545 | L41: =F460 -> 114.68144 | M41: =((L41/L40)-1)*100 -> 2.9850746 | N41: =AVERAGE('EU INF M'!G449:G460) -> 110.75891 | O41: =((N41/N40)-1)*100 -> 3.1507238 | P41: =G460 -> 112.64858 | Q41: =((P41/P40)-1)*100 -> 4.4067797
A42: 8068 | B42: 16.9 | C42: =((B42/B30)-1)*100 -> -8.1521739 | D42: 16 | E42: =((D42/D30)-1)*100 -> -11.60221 | F42: =(B42/F$1)*100 -> 70.221607 | G42: =(D42/G$1)*100 -> 58.518744 | I42: 1957 | J42: =AVERAGE('EU INF M'!F461:F472) -> 116.72438 | K42: =((J42/J41)-1)*100 -> 3.3415083 | L42: =F472 -> 118.00554 | M42: =((L42/L41)-1)*100 -> 2.8985507 | N42: =AVERAGE('EU INF M'!G461:G472) -> 114.02012 | O42: =((N42/N41)-1)*100 -> 2.9444139 | P42: =G472 -> 114.84304 | Q42: =((P42/P41)-1)*100 -> 1.9480519
A43: 8096 | B43: 16.7 | C43: =((B43/B31)-1)*100 -> -8.7431694 | D43: 16 | E43: =((D43/D31)-1)*100 -> -9.6045198 | F43: =(B43/F$1)*100 -> 69.390582 | G43: =(D43/G$1)*100 -> 58.518744 | I43: 1958 | J43: =AVERAGE('EU INF M'!F473:F484) -> 119.90997 | K43: =((J43/J42)-1)*100 -> 2.7291605 | L43: =F484 -> 120.0831 | M43: =((L43/L42)-1)*100 -> 1.7605634 | N43: =AVERAGE('EU INF M'!G473:G484) -> 115.54404 | O43: =((N43/N42)-1)*100 -> 1.336541 | P43: =G484 -> 115.57452 | Q43: =((P43/P42)-1)*100 -> 0.63694268
A44: 8127 | B44: 16.7 | C44: =((B44/B32)-1)*100 -> -7.7348066 | D44: 16.1 | E44: =((D44/D32)-1)*100 -> -5.2941176 | F44: =(B44/F$1)*100 -> 69.390582 | G44: =(D44/G$1)*100 -> 58.884486 | I44: 1959 | J44: =AVERAGE('EU INF M'!F485:F496) -> 121.12188 | K44: =((J44/J43)-1)*100 -> 1.0106844 | L44: =F496 -> 122.16066 | M44: =((L44/L43)-1)*100 -> 1.7301038 | N44: =AVERAGE('EU INF M'!G485:G496) -> 115.81835 | O44: =((N44/N43)-1)*100 -> 0.23740438 | P44: =G496 -> 115.20878 | Q44: =((P44/P43)-1)*100 -> -0.3164557
A45: 8157 | B45: 16.7 | C45: =((B45/B33)-1)*100 -> -5.6497175 | D45: 16.6 | E45: =((D45/D33)-1)*100 -> 0 | F45: =(B45/F$1)*100 -> 69.390582 | G45: =(D45/G$1)*100 -> 60.713197 | I45: 1960 | J45: =AVERAGE('EU INF M'!F497:F508) -> 122.88781 | K45: =((J45/J44)-1)*100 -> 1.457976 | L45: =F508 -> 123.82271 | M45: =((L45/L44)-1)*100 -> 1.3605442 | N45: =AVERAGE('EU INF M'!G497:G508) -> 115.87931 | O45: =((N45/N44)-1)*100 -> 0.052631579 | P45: =G508 -> 115.94026 | Q45: =((P45/P44)-1)*100 -> 0.63492063
A46: 8188 | B46: 16.7 | C46: =((B46/B34)-1)*100 -> -5.1136364 | D46: 16.6 | E46: =((D46/D34)-1)*100 -> 3.1055901 | F46: =(B46/F$1)*100 -> 69.390582 | G46: =(D46/G$1)*100 -> 60.713197 | I46: 1961 | J46: =AVERAGE('EU INF M'!F509:F520) -> 124.2036 | K46: =((J46/J45)-1)*100 -> 1.0707241 | L46: =F520 -> 124.65374 | M46: =((L46/L45)-1)*100 -> 0.67114094 | N46: =AVERAGE('EU INF M'!G509:G520) -> 115.48308 | O46: =((N46/N45)-1)*100 -> -0.3419253 | P46: =G520 -> 115.57452 | Q46: =((P46/P45)-1)*100 -> -0.31545741
A47: 8218 | B47: 16.8 | C47: =((B47/B35)-1)*100 -> -5.0847458 | D47: 17.1 | E47: =((D47/D35)-1)*100 -> 6.2111801 | F47: =(B47/F$1)*100 -> 69.806094 | G47: =(D47/G$1)*100 -> 62.541908 | I47: 1962 | J47: =AVERAGE('EU INF M'!F521:F532) -> 125.69252 | K47: =((J47/J46)-1)*100 -> 1.1987733 | L47: =F532 -> 126.31579 | M47: =((L47/L46)-1)*100 -> 1.3333333 | N47: =AVERAGE('EU INF M'!G521:G532) -> 115.75739 | O47: =((N47/N46)-1)*100 -> 0.23752969 | P47: =G532 -> 115.57452 | Q47: =((P47/P46)-1)*100 -> 0
A48: 8249 | B48: 16.6 | C48: =((B48/B36)-1)*100 -> -6.2146893 | D48: 17 | E48: =((D48/D36)-1)*100 -> 5.5900621 | F48: =(B48/F$1)*100 -> 68.975069 | G48: =(D48/G$1)*100 -> 62.176166 | I48: 1963 | J48: =AVERAGE('EU INF M'!F533:F544) -> 127.25069 | K48: =((J48/J47)-1)*100 -> 1.2396694 | L48: =F544 -> 128.39335 | M48: =((L48/L47)-1)*100 -> 1.6447368 | N48: =AVERAGE('EU INF M'!G533:G544) -> 115.48308 | O48: =((N48/N47)-1)*100 -> -0.23696682 | P48: =G544 -> 115.57452 | Q48: =((P48/P47)-1)*100 -> 0
A49: 8280 | B49: 16.6 | C49: =((B49/B37)-1)*100 -> -5.1428571 | D49: 17.1 | E49: =((D49/D37)-1)*100 -> 6.2111801 | F49: =(B49/F$1)*100 -> 68.975069 | G49: =(D49/G$1)*100 -> 62.541908 | I49: 1964 | J49: =AVERAGE('EU INF M'!F545:F556) -> 128.87812 | K49: =((J49/J48)-1)*100 -> 1.2789116 | L49: =F556 -> 129.63989 | M49: =((L49/L48)-1)*100 -> 0.97087379 | N49: =AVERAGE('EU INF M'!G545:G556) -> 115.69643 | O49: =((N49/N48)-1)*100 -> 0.18474532 | P49: =G556 -> 115.94026 | Q49: =((P49/P48)-1)*100 -> 0.3164557
A50: 8310 | B50: 16.7 | C50: =((B50/B38)-1)*100 -> -4.5714286 | D50: 17.2 | E50: =((D50/D38)-1)*100 -> 6.1728395 | F50: =(B50/F$1)*100 -> 69.390582 | G50: =(D50/G$1)*100 -> 62.90765 | I50: 1965 | J50: =AVERAGE('EU INF M'!F557:F568) -> 130.92105 | K50: =((J50/J49)-1)*100 -> 1.5851693 | L50: =F568 -> 132.13296 | M50: =((L50/L49)-1)*100 -> 1.9230769 | N50: =AVERAGE('EU INF M'!G557:G568) -> 118.0128 | O50: =((N50/N49)-1)*100 -> 2.0021075 | P50: =G568 -> 119.96343 | Q50: =((P50/P49)-1)*100 -> 3.4700315
A51: 8341 | B51: 16.8 | C51: =((B51/B39)-1)*100 -> -3.4482759 | D51: 17.3 | E51: =((D51/D39)-1)*100 -> 6.7901235 | F51: =(B51/F$1)*100 -> 69.806094 | G51: =(D51/G$1)*100 -> 63.273392 | I51: 1966 | J51: =AVERAGE('EU INF M'!F569:F580) -> 134.86842 | K51: =((J51/J50)-1)*100 -> 3.0150754 | L51: =F580 -> 136.7036 | M51: =((L51/L50)-1)*100 -> 3.4591195 | N51: =AVERAGE('EU INF M'!G569:G580) -> 121.82262 | O51: =((N51/N50)-1)*100 -> 3.2283058 | P51: =G580 -> 121.79214 | Q51: =((P51/P50)-1)*100 -> 1.5243902
A52: 8371 | B52: 16.9 | C52: =((B52/B40)-1)*100 -> -2.3121387 | D52: 17.3 | E52: =((D52/D40)-1)*100 -> 8.125 | F52: =(B52/F$1)*100 -> 70.221607 | G52: =(D52/G$1)*100 -> 63.273392 | I52: 1967 | J52: =AVERAGE('EU INF M'!F581:F592) -> 138.60803 | K52: =((J52/J51)-1)*100 -> 2.7727856 | L52: =F592 -> 140.85873 | M52: =((L52/L51)-1)*100 -> 3.0395137 | N52: =AVERAGE('EU INF M'!G581:G592) -> 122.15788 | O52: =((N52/N51)-1)*100 -> 0.2752064 | P52: =G592 -> 123.25511 | Q52: =((P52/P51)-1)*100 -> 1.2012012
A53: 8402 | B53: 16.8 | C53: =((B53/B41)-1)*100 -> -0.59171598 | D53: 17.6 | E53: =((D53/D41)-1)*100 -> 12.101911 | F53: =(B53/F$1)*100 -> 69.806094 | G53: =(D53/G$1)*100 -> 64.370619 | I53: 1968 | J53: =AVERAGE('EU INF M'!F593:F604) -> 144.52909 | K53: =((J53/J52)-1)*100 -> 4.2717962 | L53: =F604 -> 147.50693 | M53: =((L53/L52)-1)*100 -> 4.719764 | N53: =AVERAGE('EU INF M'!G593:G604) -> 125.20573 | O53: =((N53/N52)-1)*100 -> 2.49501 | P53: =G604 -> 126.54678 | Q53: =((P53/P52)-1)*100 -> 2.6706231
A54: 8433 | B54: 16.8 | C54: =((B54/B42)-1)*100 -> -0.59171598 | D54: 17.8 | E54: =((D54/D42)-1)*100 -> 11.25 | F54: =(B54/F$1)*100 -> 69.806094 | G54: =(D54/G$1)*100 -> 65.102103 | I54: 1969 | J54: =AVERAGE('EU INF M'!F605:F616) -> 152.42382 | K54: =((J54/J53)-1)*100 -> 5.4623862 | L54: =F616 -> 156.6482 | M54: =((L54/L53)-1)*100 -> 6.1971831 | N54: =AVERAGE('EU INF M'!G605:G616) -> 130.17373 | O54: =((N54/N53)-1)*100 -> 3.9678676 | P54: =G616 -> 132.7644 | Q54: =((P54/P53)-1)*100 -> 4.9132948
A55: 8461 | B55: 16.8 | C55: =((B55/B43)-1)*100 -> 0.5988024 | D55: 18 | E55: =((D55/D43)-1)*100 -> 12.5 | F55: =(B55/F$1)*100 -> 69.806094 | G55: =(D55/G$1)*100 -> 65.833587 | I55: 1970 | J55: =AVERAGE('EU INF M'!F617:F628) -> 161.32271 | K55: =((J55/J54)-1)*100 -> 5.8382553 | L55: =F628 -> 165.37396 | M55: =((L55/L54)-1)*100 -> 5.5702918 | N55: =AVERAGE('EU INF M'!G617:G628) -> 134.95885 | O55: =((N55/N54)-1)*100 -> 3.6759541 | P55: =G628 -> 135.69034 | Q55: =((P55/P54)-1)*100 -> 2.2038567
A56: 8492 | B56: 16.9 | C56: =((B56/B44)-1)*100 -> 1.1976048 | D56: 17.9 | E56: =((D56/D44)-1)*100 -> 11.180124 | F56: =(B56/F$1)*100 -> 70.221607 | G56: =(D56/G$1)*100 -> 65.467845 | I56: 1971 | J56: =AVERAGE('EU INF M'!F629:F640) -> 168.24792 | K56: =((J56/J55)-1)*100 -> 4.2927667 | L56: =F640 -> 170.77562 | M56: =((L56/L55)-1)*100 -> 3.2663317 | N56: =AVERAGE('EU INF M'!G629:G640) -> 139.37824 | O56: =((N56/N55)-1)*100 -> 3.2746161 | P56: =G640 -> 141.17647 | Q56: =((P56/P55)-1)*100 -> 4.0431267
A57: 8522 | B57: 16.9 | C57: =((B57/B45)-1)*100 -> 1.1976048 | D57: 17.5 | E57: =((D57/D45)-1)*100 -> 5.4216867 | F57: =(B57/F$1)*100 -> 70.221607 | G57: =(D57/G$1)*100 -> 64.004877 | I57: 1972 | J57: =AVERAGE('EU INF M'!F641:F652) -> 173.75346 | K57: =((J57/J56)-1)*100 -> 3.2722782 | L57: =F652 -> 176.5928 | M57: =((L57/L56)-1)*100 -> 3.406326 | N57: =AVERAGE('EU INF M'!G641:G652) -> 145.5349 | O57: =((N57/N56)-1)*100 -> 4.4172316 | P57: =G652 -> 150.32002 | Q57: =((P57/P56)-1)*100 -> 6.4766839
A58: 8553 | B58: 17 | C58: =((B58/B46)-1)*100 -> 1.7964072 | D58: 17.3 | E58: =((D58/D46)-1)*100 -> 4.2168675 | F58: =(B58/F$1)*100 -> 70.637119 | G58: =(D58/G$1)*100 -> 63.273392 | I58: 1973 | J58: =AVERAGE('EU INF M'!F653:F664) -> 184.48753 | K58: =((J58/J57)-1)*100 -> 6.1777601 | L58: =F664 -> 191.96676 | M58: =((L58/L57)-1)*100 -> 8.7058824 | N58: =AVERAGE('EU INF M'!G653:G664) -> 164.6754 | O58: =((N58/N57)-1)*100 -> 13.151832 | P58: =G664 -> 173.36178 | Q58: =((P58/P57)-1)*100 -> 15.328467
A59: 8583 | B59: 17.2 | C59: =((B59/B47)-1)*100 -> 2.3809524 | D59: 17 | E59: =((D59/D47)-1)*100 -> -0.58479532 | F59: =(B59/F$1)*100 -> 71.468144 | G59: =(D59/G$1)*100 -> 62.176166 | I59: 1974 | J59: =AVERAGE('EU INF M'!F665:F676) -> 204.88227 | K59: =((J59/J58)-1)*100 -> 11.054805 | L59: =F676 -> 215.65097 | M59: =((L59/L58)-1)*100 -> 12.337662 | N59: =AVERAGE('EU INF M'!G665:G676) -> 195.61109 | O59: =((N59/N58)-1)*100 -> 18.78586 | P59: =G676 -> 209.57025 | Q59: =((P59/P58)-1)*100 -> 20.886076
A60: 8614 | B60: 17.1 | C60: =((B60/B48)-1)*100 -> 3.0120482 | D60: 16.9 | E60: =((D60/D48)-1)*100 -> -0.58823529 | F60: =(B60/F$1)*100 -> 71.052632 | G60: =(D60/G$1)*100 -> 61.810424 | I60: 1975 | J60: =AVERAGE('EU INF M'!F677:F688) -> 223.61496 | K60: =((J60/J59)-1)*100 -> 9.1431469 | L60: =F688 -> 230.60942 | M60: =((L60/L59)-1)*100 -> 6.9364162 | N60: =AVERAGE('EU INF M'!G677:G688) -> 213.65437 | O60: =((N60/N59)-1)*100 -> 9.2240573 | P60: =G688 -> 218.34806 | Q60: =((P60/P59)-1)*100 -> 4.1884817
A61: 8645 | B61: 17.2 | C61: =((B61/B49)-1)*100 -> 3.6144578 | D61: 17.2 | E61: =((D61/D49)-1)*100 -> 0.58479532 | F61: =(B61/F$1)*100 -> 71.468144 | G61: =(D61/G$1)*100 -> 62.90765 | I61: 1976 | J61: =AVERAGE('EU INF M'!F689:F700) -> 236.46122 | K61: =((J61/J60)-1)*100 -> 5.7448126 | L61: =F700 -> 241.82825 | M61: =((L61/L60)-1)*100 -> 4.8648649 | N61: =AVERAGE('EU INF M'!G689:G700) -> 223.59037 | O61: =((N61/N60)-1)*100 -> 4.6504993 | P61: =G700 -> 228.58884 | Q61: =((P61/P60)-1)*100 -> 4.6901173
A62: 8675 | B62: 17.3 | C62: =((B62/B50)-1)*100 -> 3.5928144 | D62: 17.1 | E62: =((D62/D50)-1)*100 -> -0.58139535 | F62: =(B62/F$1)*100 -> 71.883657 | G62: =(D62/G$1)*100 -> 62.541908 | I62: 1977 | J62: =AVERAGE('EU INF M'!F701:F712) -> 251.83518 | K62: =((J62/J61)-1)*100 -> 6.501684 | L62: =F712 -> 258.03324 | M62: =((L62/L61)-1)*100 -> 6.7010309 | N62: =AVERAGE('EU INF M'!G701:G712) -> 237.27522 | O62: =((N62/N61)-1)*100 -> 6.1205016 | P62: =G712 -> 242.1213 | Q62: =((P62/P61)-1)*100 -> 5.92
A63: 8706 | B63: 17.3 | C63: =((B63/B51)-1)*100 -> 2.9761905 | D63: 17 | E63: =((D63/D51)-1)*100 -> -1.734104 | F63: =(B63/F$1)*100 -> 71.883657 | G63: =(D63/G$1)*100 -> 62.176166 | I63: 1978 | J63: =AVERAGE('EU INF M'!F713:F724) -> 271.05263 | K63: =((J63/J62)-1)*100 -> 7.6309638 | L63: =F724 -> 281.30194 | M63: =((L63/L62)-1)*100 -> 9.0177134 | N63: =AVERAGE('EU INF M'!G713:G724) -> 255.80616 | O63: =((N63/N62)-1)*100 -> 7.8098908 | P63: =G724 -> 265.89454 | Q63: =((P63/P62)-1)*100 -> 9.8187311
A64: 8736 | B64: 17.3 | C64: =((B64/B52)-1)*100 -> 2.3668639 | D64: 16.9 | E64: =((D64/D52)-1)*100 -> -2.3121387 | F64: =(B64/F$1)*100 -> 71.883657 | G64: =(D64/G$1)*100 -> 61.810424 | I64: 1979 | J64: =AVERAGE('EU INF M'!F725:F736) -> 301.55817 | K64: =((J64/J63)-1)*100 -> 11.254471 | L64: =F736 -> 318.69806 | M64: =((L64/L63)-1)*100 -> 13.293944 | N64: =AVERAGE('EU INF M'!G725:G736) -> 287.93051 | O64: =((N64/N63)-1)*100 -> 12.558084 | P64: =G736 -> 305.02895 | Q64: =((P64/P63)-1)*100 -> 14.718019
A65: 8767 | B65: 17.3 | C65: =((B65/B53)-1)*100 -> 2.9761905 | D65: 17.2 | E65: =((D65/D53)-1)*100 -> -2.2727273 | F65: =(B65/F$1)*100 -> 71.883657 | G65: =(D65/G$1)*100 -> 62.90765 | I65: 1980 | J65: =AVERAGE('EU INF M'!F737:F748) -> 342.4169 | K65: =((J65/J64)-1)*100 -> 13.549202 | L65: =F748 -> 358.58726 | M65: =((L65/L64)-1)*100 -> 12.516297 | N65: =AVERAGE('EU INF M'!G737:G748) -> 328.46693 | O65: =((N65/N64)-1)*100 -> 14.078543 | P65: =G748 -> 343.06614 | Q65: =((P65/P64)-1)*100 -> 12.470024
A66: 8798 | B66: 17.2 | C66: =((B66/B54)-1)*100 -> 2.3809524 | D66: 17.2 | E66: =((D66/D54)-1)*100 -> -3.3707865 | F66: =(B66/F$1)*100 -> 71.468144 | G66: =(D66/G$1)*100 -> 62.90765 | I66: 1981 | J66: =AVERAGE('EU INF M'!F749:F760) -> 377.80471 | K66: =((J66/J65)-1)*100 -> 10.334715 | L66: =F760 -> 390.58172 | M66: =((L66/L65)-1)*100 -> 8.9223638 | N66: =AVERAGE('EU INF M'!G749:G760) -> 358.54922 | O66: =((N66/N65)-1)*100 -> 9.1583929 | P66: =G760 -> 361.35325 | Q66: =((P66/P65)-1)*100 -> 5.3304904
A67: 8827 | B67: 17.1 | C67: =((B67/B55)-1)*100 -> 1.7857143 | D67: 17 | E67: =((D67/D55)-1)*100 -> -5.5555556 | F67: =(B67/F$1)*100 -> 71.052632 | G67: =(D67/G$1)*100 -> 62.176166 | I67: 1982 | J67: =AVERAGE('EU INF M'!F761:F772) -> 400.96953 | K67: =((J67/J66)-1)*100 -> 6.131427 | L67: =F772 -> 405.54017 | M67: =((L67/L66)-1)*100 -> 3.8297872 | N67: =AVERAGE('EU INF M'!G761:G772) -> 365.80311 | O67: =((N67/N66)-1)*100 -> 2.0231214 | P67: =G772 -> 367.57086 | Q67: =((P67/P66)-1)*100 -> 1.7206478
A68: 8858 | B68: 17 | C68: =((B68/B56)-1)*100 -> 0.59171598 | D68: 16.7 | E68: =((D68/D56)-1)*100 -> -6.7039106 | F68: =(B68/F$1)*100 -> 70.637119 | G68: =(D68/G$1)*100 -> 61.078939 | I68: 1983 | J68: =AVERAGE('EU INF M'!F773:F784) -> 413.85042 | K68: =((J68/J67)-1)*100 -> 3.2124352 | L68: =F784 -> 420.91413 | M68: =((L68/L67)-1)*100 -> 3.7909836 | N68: =AVERAGE('EU INF M'!G773:G784) -> 370.31393 | O68: =((N68/N67)-1)*100 -> 1.2331278 | P68: =G784 -> 374.15422 | Q68: =((P68/P67)-1)*100 -> 1.7910448
A69: 8888 | B69: 17 | C69: =((B69/B57)-1)*100 -> 0.59171598 | D69: 16.5 | E69: =((D69/D57)-1)*100 -> -5.7142857 | F69: =(B69/F$1)*100 -> 70.637119 | G69: =(D69/G$1)*100 -> 60.347455 | I69: 1984 | J69: =AVERAGE('EU INF M'!F785:F796) -> 431.6482 | K69: =((J69/J68)-1)*100 -> 4.3005355 | L69: =F796 -> 437.53463 | M69: =((L69/L68)-1)*100 -> 3.9486673 | N69: =AVERAGE('EU INF M'!G785:G796) -> 379.18318 | O69: =((N69/N68)-1)*100 -> 2.3950617 | P69: =G796 -> 378.54313 | Q69: =((P69/P68)-1)*100 -> 1.1730205
A70: 8919 | B70: 17 | C70: =((B70/B58)-1)*100 -> 0 | D70: 16.4 | E70: =((D70/D58)-1)*100 -> -5.2023121 | F70: =(B70/F$1)*100 -> 70.637119 | G70: =(D70/G$1)*100 -> 59.981713 | I70: 1985 | J70: =AVERAGE('EU INF M'!F797:F808) -> 446.95291 | K70: =((J70/J69)-1)*100 -> 3.5456442 | L70: =F808 -> 454.15512 | M70: =((L70/L69)-1)*100 -> 3.7986705 | N70: =AVERAGE('EU INF M'!G797:G808) -> 377.26303 | O70: =((N70/N69)-1)*100 -> -0.50639016 | P70: =G808 -> 378.90887 | Q70: =((P70/P69)-1)*100 -> 0.096618357
A71: 8949 | B71: 17.1 | C71: =((B71/B59)-1)*100 -> -0.58139535 | D71: 16.5 | E71: =((D71/D59)-1)*100 -> -2.9411765 | F71: =(B71/F$1)*100 -> 71.052632 | G71: =(D71/G$1)*100 -> 60.347455 | I71: 1986 | J71: =AVERAGE('EU INF M'!F809:F820) -> 455.43629 | K71: =((J71/J70)-1)*100 -> 1.8980477 | L71: =F820 -> 459.14127 | M71: =((L71/L70)-1)*100 -> 1.0978957 | N71: =AVERAGE('EU INF M'!G809:G820) -> 366.35172 | O71: =((N71/N70)-1)*100 -> -2.8922281 | P71: =G820 -> 364.64493 | Q71: =((P71/P70)-1)*100 -> -3.7644788
A72: 8980 | B72: 17 | C72: =((B72/B60)-1)*100 -> -0.58479532 | D72: 16.7 | E72: =((D72/D60)-1)*100 -> -1.183432 | F72: =(B72/F$1)*100 -> 70.637119 | G72: =(D72/G$1)*100 -> 61.078939 | I72: 1987 | J72: =AVERAGE('EU INF M'!F821:F832) -> 472.12604 | K72: =((J72/J71)-1)*100 -> 3.6645632 | L72: =F832 -> 479.50139 | M72: =((L72/L71)-1)*100 -> 4.4343891 | N72: =AVERAGE('EU INF M'!G821:G832) -> 376.01341 | O72: =((N72/N71)-1)*100 -> 2.6372712 | P72: =G832 -> 381.10332 | Q72: =((P72/P71)-1)*100 -> 4.5135406
A73: 9011 | B73: 17.1 | C73: =((B73/B61)-1)*100 -> -0.58139535 | D73: 16.7 | E73: =((D73/D61)-1)*100 -> -2.9069767 | F73: =(B73/F$1)*100 -> 71.052632 | G73: =(D73/G$1)*100 -> 61.078939 | I73: 1988 | J73: =AVERAGE('EU INF M'!F833:F844) -> 491.37812 | K73: =((J73/J72)-1)*100 -> 4.0777411 | L73: =F844 -> 500.69252 | M73: =((L73/L72)-1)*100 -> 4.4194107 | N73: =AVERAGE('EU INF M'!G833:G844) -> 391.13075 | O73: =((N73/N72)-1)*100 -> 4.0204264 | P73: =G844 -> 398.65895 | Q73: =((P73/P72)-1)*100 -> 4.6065259
A74: 9041 | B74: 17.2 | C74: =((B74/B62)-1)*100 -> -0.57803468 | D74: 16.9 | E74: =((D74/D62)-1)*100 -> -1.1695906 | F74: =(B74/F$1)*100 -> 71.468144 | G74: =(D74/G$1)*100 -> 61.810424 | I74: 1989 | J74: =AVERAGE('EU INF M'!F845:F856) -> 515.09695 | K74: =((J74/J73)-1)*100 -> 4.827003 | L74: =F856 -> 523.96122 | M74: =((L74/L73)-1)*100 -> 4.6473029 | N74: =AVERAGE('EU INF M'!G845:G856) -> 410.51509 | O74: =((N74/N73)-1)*100 -> 4.9559729 | P74: =G856 -> 413.28863 | Q74: =((P74/P73)-1)*100 -> 3.6697248
A75: 9072 | B75: 17.2 | C75: =((B75/B63)-1)*100 -> -0.57803468 | D75: 17.1 | E75: =((D75/D63)-1)*100 -> 0.58823529 | F75: =(B75/F$1)*100 -> 71.468144 | G75: =(D75/G$1)*100 -> 62.541908 | I75: 1990 | J75: =AVERAGE('EU INF M'!F857:F868) -> 542.90166 | K75: =((J75/J74)-1)*100 -> 5.3979564 | L75: =F868 -> 555.95568 | M75: =((L75/L74)-1)*100 -> 6.1062649 | N75: =AVERAGE('EU INF M'!G857:G868) -> 425.32764 | O75: =((N75/N74)-1)*100 -> 3.6082857 | P75: =G868 -> 434.13593 | Q75: =((P75/P74)-1)*100 -> 5.0442478
A76: 9102 | B76: 17.3 | C76: =((B76/B64)-1)*100 -> 0 | D76: 17.5 | E76: =((D76/D64)-1)*100 -> 3.5502959 | F76: =(B76/F$1)*100 -> 71.883657 | G76: =(D76/G$1)*100 -> 64.004877
A77: 9133 | B77: 17.3 | C77: =((B77/B65)-1)*100 -> 0 | D77: 17.7 | E77: =((D77/D65)-1)*100 -> 2.9069767 | F77: =(B77/F$1)*100 -> 71.883657 | G77: =(D77/G$1)*100 -> 64.736361
A78: 9164 | B78: 17.2 | C78: =((B78/B66)-1)*100 -> 0 | D78: 17.9 | E78: =((D78/D66)-1)*100 -> 4.0697674 | F78: =(B78/F$1)*100 -> 71.468144 | G78: =(D78/G$1)*100 -> 65.467845
A79: 9192 | B79: 17.3 | C79: =((B79/B67)-1)*100 -> 1.1695906 | D79: 17.9 | E79: =((D79/D67)-1)*100 -> 5.2941176 | F79: =(B79/F$1)*100 -> 71.883657 | G79: =(D79/G$1)*100 -> 65.467845
A80: 9223 | B80: 17.2 | C80: =((B80/B68)-1)*100 -> 1.1764706 | D80: 17.5 | E80: =((D80/D68)-1)*100 -> 4.7904192 | F80: =(B80/F$1)*100 -> 71.468144 | G80: =(D80/G$1)*100 -> 64.004877
A81: 9253 | B81: 17.3 | C81: =((B81/B69)-1)*100 -> 1.7647059 | D81: 17.5 | E81: =((D81/D69)-1)*100 -> 6.0606061 | F81: =(B81/F$1)*100 -> 71.883657 | G81: =(D81/G$1)*100 -> 64.004877
A82: 9284 | B82: 17.5 | C82: =((B82/B70)-1)*100 -> 2.9411765 | D82: 17.7 | E82: =((D82/D70)-1)*100 -> 7.9268293 | F82: =(B82/F$1)*100 -> 72.714681 | G82: =(D82/G$1)*100 -> 64.736361
A83: 9314 | B83: 17.7 | C83: =((B83/B71)-1)*100 -> 3.5087719 | D83: 18 | E83: =((D83/D71)-1)*100 -> 9.0909091 | F83: =(B83/F$1)*100 -> 73.545706 | G83: =(D83/G$1)*100 -> 65.833587
A84: 9345 | B84: 17.7 | C84: =((B84/B72)-1)*100 -> 4.1176471 | D84: 17.9 | E84: =((D84/D72)-1)*100 -> 7.1856287 | F84: =(B84/F$1)*100 -> 73.545706 | G84: =(D84/G$1)*100 -> 65.467845
A85: 9376 | B85: 17.7 | C85: =((B85/B73)-1)*100 -> 3.5087719 | D85: 17.8 | E85: =((D85/D73)-1)*100 -> 6.5868263 | F85: =(B85/F$1)*100 -> 73.545706 | G85: =(D85/G$1)*100 -> 65.102103
A86: 9406 | B86: 17.7 | C86: =((B86/B74)-1)*100 -> 2.9069767 | D86: 17.8 | E86: =((D86/D74)-1)*100 -> 5.3254438 | F86: =(B86/F$1)*100 -> 73.545706 | G86: =(D86/G$1)*100 -> 65.102103
A87: 9437 | B87: 18 | C87: =((B87/B75)-1)*100 -> 4.6511628 | D87: 18 | E87: =((D87/D75)-1)*100 -> 5.2631579 | F87: =(B87/F$1)*100 -> 74.792244 | G87: =(D87/G$1)*100 -> 65.833587
... A868: 33208 | B868: 133.8 | C868: =((B868/B856)-1)*100 -> 6.1062649 | D868: 118.7 | E868: =((D868/D856)-1)*100 -> 5.0442478 | F868: =(B868/F$1)*100 -> 555.95568 | G868: =(D868/G$1)*100 -> 434.13593
B869: FRED Graph Observations
B870: Federal Reserve Economic Data
B871: Link: https://fred.stlouisfed.org
B872: Help: https://fred.stlouisfed.org/help-faq
B873: Economic Research Division
B874: Federal Reserve Bank of St. Louis

Sheet EU tasas
A2: Año | B2: Prime Fin | C2: Prime Prom | D2: 3M Treasury Fin | E2: 3M Treasury prom
A5: 1920 | B5: - | C5: - | D5: - | E5: -
A6: 1921 | B6: - | C6: - | D6: - | E6: -
A7: 1922 | B7: - | C7: - | D7: - | E7: -
A8: 1923 | B8: - | C8: - | D8: - | E8: -
A9: 1924 | B9: - | C9: - | D9: - | E9: -
A10: 1925 | B10: - | C10: - | D10: - | E10: -
A11: 1926 | B11: - | C11: - | D11: - | E11: -
A12: 1927 | B12: - | C12: - | D12: - | E12: -
A13: 1928 | B13: - | C13: - | D13: - | E13: -
A14: 1929 | B14: - | C14: - | D14: - | E14: -
A15: 1930 | B15: - | C15: - | D15: - | E15: -
A16: 1931 | B16: - | C16: - | D16: - | E16: -
... A18: 1933 | B18: - | C18: - | D18: - | E18: -
A19: 1934 | B19: - | C19: - | D19: 0.23 | E19: 0.27833333
A20: 1935 | B20: - | C20: - | D20: 0.15 | E20: 0.1675
A21: 1936 | B21: - | C21: - | D21: 0.12 | E21: 0.1725
A22: 1937 | B22: - | C22: - | D22: 0.11 | E22: 0.27583333
A23: 1938 | B23: - | C23: - | D23: 0.03 | E23: 0.065
A24: 1939 | B24: - | C24: - | D24: 0.04 | E24: 0.045833333
A25: 1940 | B25: - | C25: - | D25: 0.02 | E25: 0.035833333
A26: 1941 | B26: - | C26: - | D26: 0.33 | E26: 0.12916667
A27: 1942 | B27: - | C27: - | D27: 0.38 | E27: 0.3425
A28: 1943 | B28: - | C28: - | D28: 0.38 | E28: 0.38
A29: 1944 | B29: - | C29: - | D29: 0.38 | E29: 0.38
A30: 1945 | B30: - | C30: - | D30: 0.38 | E30: 0.38
... A33: 1948 | B33: - | C33: - | D33: 1.16 | E33: 1.045
A34: 1949 | B34: 2 | C34: 2 | D34: 1.1 | E34: 1.115
A35: 1950 | B35: 2.25 | C35: 2.0691667 | D35: 1.34 | E35: 1.2033333
A36: 1951 | B36: 2.85 | C36: 2.555 | D36: 1.73 | E36: 1.5175
A37: 1952 | B37: 3 | C37: 3 | D37: 2.09 | E37: 1.7225
A38: 1953 | B38: 3.25 | C38: 3.1691667 | D38: 1.6 | E38: 1.8908333
A39: 1954 | B39: 3 | C39: 3.0525 | D39: 1.15 | E39: 0.93833333
A40: 1955 | B40: 3.5 | C40: 3.1566667 | D40: 2.54 | E40: 1.725
A41: 1956 | B41: 4 | C41: 3.77 | D41: 3.21 | E41: 2.6275
A42: 1957 | B42: 4.5 | C42: 4.2016667 | D42: 3.04 | E42: 3.225
A43: 1958 | B43: 4 | C43: 3.8333333 | D43: 2.77 | E43: 1.7708333
A44: 1959 | B44: 5 | C44: 4.4775 | D44: 4.49 | E44: 3.3858333
A45: 1960 | B45: 4.5 | C45: 4.8208333 | D45: 2.25 | E45: 2.8833333
... A75: 1990 | B75: 10 | C75: 10.009167 | D75: 6.74 | E75: 7.4933333
A76: *Cifras en porcentajes, sin ajuste estacional.
A77: Fuente: Federal Reserve Economic Data, Federal Reserve Bank of St. Louis, Economic Research Division. Disponible en: https://fred.stlouisfed.org

Sheet EU Desempleo
B2: Tasa de desempleo | D2: Tasa de desempleo promedio | E2: Tasa de desempleo fin de periodo | G2: Fuente:
G3: Federal Reserve Economic Data
G4: Link: https://fred.stlouisfed.org
A5: 17533 | B5: 3.4 | C5: 1948 | D5: =AVERAGE('EU Desempleo'!B5:B16) -> 3.75 | E5: =B16 -> 4 | G5: Federal Reserve Bank of St. Louis
A6: 17564 | B6: 3.8 | C6: 1949 | D6: =AVERAGE('EU Desempleo'!B17:B28) -> 6.05 | E6: =B28 -> 6.6 | G6: Unemployment Rate, Percent, Monthly, Seasonally Adjusted
A7: 17593 | B7: 4 | C7: 1950 | D7: =AVERAGE('EU Desempleo'!B29:B40) -> 5.2083333 | E7: =B40 -> 4.3
A8: 17624 | B8: 3.9 | C8: 1951 | D8: =AVERAGE('EU Desempleo'!B41:B52) -> 3.2833333 | E8: =B52 -> 3.1
A9: 17654 | B9: 3.5 | C9: 1952 | D9: =AVERAGE('EU Desempleo'!B53:B64) -> 3.025 | E9: =B64 -> 2.7
A10: 17685 | B10: 3.6 | C10: 1953 | D10: =AVERAGE('EU Desempleo'!B65:B76) -> 2.925 | E10: =B76 -> 4.5
A11: 17715 | B11: 3.6 | C11: 1954 | D11: =AVERAGE('EU Desempleo'!B77:B88) -> 5.5916667 | E11: =B88 -> 5
A12: 17746 | B12: 3.9 | C12: 1955 | D12: =AVERAGE('EU Desempleo'!B89:B100) -> 4.3666667 | E12: =B100 -> 4.2
A13: 17777 | B13: 3.8 | C13: 1956 | D13: =AVERAGE('EU Desempleo'!B101:B112) -> 4.125 | E13: =B112 -> 4.2
A14: 17807 | B14: 3.7 | C14: 1957 | D14: =AVERAGE('EU Desempleo'!B113:B124) -> 4.3 | E14: =B124 -> 5.2
A15: 17838 | B15: 3.8 | C15: 1958 | D15: =AVERAGE('EU Desempleo'!B125:B136) -> 6.8416667 | E15: =B136 -> 6.2
A16: 17868 | B16: 4 | C16: 1959 | D16: =AVERAGE('EU Desempleo'!B137:B148) -> 5.45 | E16: =B148 -> 5.3
A17: 17899 | B17: 4.3 | C17: 1960 | D17: =AVERAGE('EU Desempleo'!B149:B160) -> 5.5416667 | E17: =B160 -> 6.6
A18: 17930 | B18: 4.7 | C18: 1961 | D18: =AVERAGE('EU Desempleo'!B161:B172) -> 6.6916667 | E18: =B172 -> 6
A19: 17958 | B19: 5 | C19: 1962 | D19: =AVERAGE('EU Desempleo'!B173:B184) -> 5.5666667 | E19: =B184 -> 5.5
A20: 17989 | B20: 5.3 | C20: 1963 | D20: =AVERAGE('EU Desempleo'!B185:B196) -> 5.6416667 | E20: =B196 -> 5.5
A21: 18019 | B21: 6.1 | C21: 1964 | D21: =AVERAGE('EU Desempleo'!B197:B208) -> 5.1583333 | E21: =B208 -> 5
A22: 18050 | B22: 6.2 | C22: 1965 | D22: =AVERAGE('EU Desempleo'!B209:B220) -> 4.5083333 | E22: =B220 -> 4
A23: 18080 | B23: 6.7 | C23: 1966 | D23: =AVERAGE('EU Desempleo'!B221:B232) -> 3.7916667 | E23: =B232 -> 3.8
A24: 18111 | B24: 6.8 | C24: 1967 | D24: =AVERAGE('EU Desempleo'!B233:B244) -> 3.8416667 | E24: =B244 -> 3.8
A25: 18142 | B25: 6.6 | C25: 1968 | D25: =AVERAGE('EU Desempleo'!B245:B256) -> 3.5583333 | E25: =B256 -> 3.4
A26: 18172 | B26: 7.9 | C26: 1969 | D26: =AVERAGE('EU Desempleo'!B257:B268) -> 3.4916667 | E26: =B268 -> 3.5
A27: 18203 | B27: 6.4 | C27: 1970 | D27: =AVERAGE('EU Desempleo'!B269:B280) -> 4.9833333 | E27: =B280 -> 6.1
A28: 18233 | B28: 6.6 | C28: 1971 | D28: =AVERAGE('EU Desempleo'!B281:B292) -> 5.95 | E28: =B292 -> 6
A29: 18264 | B29: 6.5 | C29: 1972 | D29: =AVERAGE('EU Desempleo'!B293:B304) -> 5.6 | E29: =B304 -> 5.2
A30: 18295 | B30: 6.4 | C30: 1973 | D30: =AVERAGE('EU Desempleo'!B305:B316) -> 4.8583333 | E30: =B316 -> 4.9
A31: 18323 | B31: 6.3 | C31: 1974 | D31: =AVERAGE('EU Desempleo'!B317:B328) -> 5.6416667 | E31: =B328 -> 7.2
A32: 18354 | B32: 5.8 | C32: 1975 | D32: =AVERAGE('EU Desempleo'!B329:B340) -> 8.475 | E32: =B340 -> 8.2
A33: 18384 | B33: 5.5 | C33: 1976 | D33: =AVERAGE('EU Desempleo'!B341:B352) -> 7.7 | E33: =B352 -> 7.8
A34: 18415 | B34: 5.4 | C34: 1977 | D34: =AVERAGE('EU Desempleo'!B353:B364) -> 7.05 | E34: =B364 -> 6.4
A35: 18445 | B35: 5 | C35: 1978 | D35: =AVERAGE('EU Desempleo'!B365:B376) -> 6.0666667 | E35: =B376 -> 6
A36: 18476 | B36: 4.5 | C36: 1979 | D36: =AVERAGE('EU Desempleo'!B377:B388) -> 5.85 | E36: =B388 -> 6
A37: 18507 | B37: 4.4 | C37: 1980 | D37: =AVERAGE('EU Desempleo'!B389:B400) -> 7.175 | E37: =B400 -> 7.2
A38: 18537 | B38: 4.2 | C38: 1981 | D38: =AVERAGE('EU Desempleo'!B401:B412) -> 7.6166667 | E38: =B412 -> 8.5
A39: 18568 | B39: 4.2 | C39: 1982 | D39: =AVERAGE('EU Desempleo'!B413:B424) -> 9.7083333 | E39: =B424 -> 10.8
A40: 18598 | B40: 4.3 | C40: 1983 | D40: =AVERAGE('EU Desempleo'!B425:B436) -> 9.6 | E40: =B436 -> 8.3
A41: 18629 | B41: 3.7 | C41: 1984 | D41: =AVERAGE('EU Desempleo'!B437:B448) -> 7.5083333 | E41: =B448 -> 7.3
A42: 18660 | B42: 3.4 | C42: 1985 | D42: =AVERAGE('EU Desempleo'!B449:B460) -> 7.1916667 | E42: =B460 -> 7
A43: 18688 | B43: 3.4 | C43: 1986 | D43: =AVERAGE('EU Desempleo'!B461:B472) -> 7 | E43: =B472 -> 6.6
A44: 18719 | B44: 3.1 | C44: 1987 | D44: =AVERAGE('EU Desempleo'!B473:B484) -> 6.175 | E44: =B484 -> 5.7
A45: 18749 | B45: 3 | C45: 1988 | D45: =AVERAGE('EU Desempleo'!B485:B496) -> 5.4916667 | E45: =B496 -> 5.3
A46: 18780 | B46: 3.2 | C46: 1989 | D46: =AVERAGE('EU Desempleo'!B497:B508) -> 5.2583333 | E46: =B508 -> 5.4
A47: 18810 | B47: 3.1 | C47: 1990 | D47: =AVERAGE('EU Desempleo'!B509:B520) -> 5.6166667 | E47: =B520 -> 6.3
A48: 18841 | B48: 3.1
A49: 18872 | B49: 3.3
A50: 18902 | B50: 3.5
A51: 18933 | B51: 3.5
A52: 18963 | B52: 3.1
A53: 18994 | B53: 3.2
A54: 19025 | B54: 3.1
A55: 19054 | B55: 2.9
A56: 19085 | B56: 2.9
A57: 19115 | B57: 3
A58: 19146 | B58: 3
A59: 19176 | B59: 3.2
... A520: 33208 | B520: 6.3
A521: 23377 | B521: =(#REF!/B$1)*100 -> #REF!
A522: 23408 | B522: =(#REF!/B$1)*100 -> #REF!
A523: 23437 | B523: =(#REF!/B$1)*100 -> #REF!
A524: 23468 | B524: =(#REF!/B$1)*100 -> #REF!
A525: 23498 | B525: =(#REF!/B$1)*100 -> #REF!
A526: 23529 | B526: =(#REF!/B$1)*100 -> #REF!
A527: 23559 | B527: =(#REF!/B$1)*100 -> #REF!
A528: 23590 | B528: =(#REF!/B$1)*100 -> #REF!
A529: 23621 | B529: =(#REF!/B$1)*100 -> #REF!
A530: 23651 | B530: =(#REF!/B$1)*100 -> #REF!
A531: 23682 | B531: =(#REF!/B$1)*100 -> #REF!
A532: 23712 | B532: =(#REF!/B$1)*100 -> #REF!
... A844: 33208 | B844: =(#REF!/B$1)*100 -> #REF!

Sheet EU PIB Tri
A2: Período | B2: PIB Real trimestral | C2: Tasa de crecimiento trimestral | D2: Tasa de crecimiento anual | G2: PIB Real anual | H2: PIB real t/c
F3: Período | G3: PIB Real anual
A5: 01 - 20 | B5: 227.51 | C5: - | F5: 1920 | G5: =AVERAGE(B5:B8) -> 214.215 | H5: -
A6: 02 - 20 | B6: 216.09 | C6: =((B6/B5)-1)*100 -> -5.0195596 | F6: 1921 | G6: =AVERAGE(B9:B12) -> 199.9375 | H6: =((G6/G5)-1)*100 -> -6.6650328
A7: 03 - 20 | B7: 212.44 | C7: =((B7/B6)-1)*100 -> -1.689111 | F7: 1922 | G7: =AVERAGE(B13:B16) -> 229.56 | H7: =((G7/G6)-1)*100 -> 14.81588
A8: 04 - 20 | B8: 200.82 | C8: =((B8/B7)-1)*100 -> -5.4697797 | F8: 1923 | G8: =AVERAGE(B17:B20) -> 254.09 | H8: =((G8/G7)-1)*100 -> 10.68566
A9: 01 - 21 | B9: 191.68 | C9: =((B9/B8)-1)*100 -> -4.5513395 | D9: =((B9/B5)-1)*100 -> -15.748758 | F9: 1924 | G9: =AVERAGE(B21:B24) -> 256.3875 | H9: =((G9/G8)-1)*100 -> 0.90420717
A10: 02 - 21 | B10: 196.63 | C10: =((B10/B9)-1)*100 -> 2.582429 | D10: =((B10/B6)-1)*100 -> -9.005507 | F10: 1925 | G10: =AVERAGE(B25:B28) -> 276.0325 | H10: =((G10/G9)-1)*100 -> 7.66223
A11: 03 - 21 | B11: 202.42 | C11: =((B11/B10)-1)*100 -> 2.9446168 | D11: =((B11/B7)-1)*100 -> -4.7166259 | F11: 1926 | G11: =AVERAGE(B29:B32) -> 291.815 | H11: =((G11/G10)-1)*100 -> 5.7176238
A12: 04 - 21 | B12: 209.02 | C12: =((B12/B11)-1)*100 -> 3.2605474 | D12: =((B12/B8)-1)*100 -> 4.0832586 | F12: 1927 | G12: =AVERAGE(B33:B36) -> 293.2575 | H12: =((G12/G11)-1)*100 -> 0.49432003
A13: 01 - 22 | B13: 216.05 | C13: =((B13/B12)-1)*100 -> 3.3633145 | D13: =((B13/B9)-1)*100 -> 12.713898 | F13: 1928 | G13: =AVERAGE(B37:B40) -> 296.2225 | H13: =((G13/G12)-1)*100 -> 1.0110568
A14: 02 - 22 | B14: 226.51 | C14: =((B14/B13)-1)*100 -> 4.8414719 | D14: =((B14/B10)-1)*100 -> 15.196054 | F14: 1929 | G14: =AVERAGE(B41:B44) -> 315.6825 | H14: =((G14/G13)-1)*100 -> 6.5693862
A15: 03 - 22 | B15: 233.41 | C15: =((B15/B14)-1)*100 -> 3.0462231 | D15: =((B15/B11)-1)*100 -> 15.309752 | F15: 1930 | G15: =AVERAGE(B45:B48) -> 285.52 | H15: =((G15/G14)-1)*100 -> -9.554695
A16: 04 - 22 | B16: 242.27 | C16: =((B16/B15)-1)*100 -> 3.7958956 | D16: =((B16/B12)-1)*100 -> 15.907569 | F16: 1931 | G16: =AVERAGE(B49:B52) -> 263.4425 | H16: =((G16/G15)-1)*100 -> -7.732383
A17: 01 - 23 | B17: 251.51 | C17: =((B17/B16)-1)*100 -> 3.8139266 | D17: =((B17/B13)-1)*100 -> 16.412867 | F17: 1932 | G17: =AVERAGE(B53:B56) -> 227.0425 | H17: =((G17/G16)-1)*100 -> -13.817057
A18: 02 - 23 | B18: 257.75 | C18: =((B18/B17)-1)*100 -> 2.4810147 | D18: =((B18/B14)-1)*100 -> 13.791886 | F18: 1933 | G18: =AVERAGE(B57:B60) -> 222.135 | H18: =((G18/G17)-1)*100 -> -2.1614896
A19: 03 - 23 | B19: 253.39 | C19: =((B19/B18)-1)*100 -> -1.6915616 | D19: =((B19/B15)-1)*100 -> 8.5600446 | F19: 1934 | G19: =AVERAGE(B61:B64) -> 239.09 | H19: =((G19/G18)-1)*100 -> 7.6327459
A20: 04 - 23 | B20: 253.71 | C20: =((B20/B19)-1)*100 -> 0.12628754 | D20: =((B20/B16)-1)*100 -> 4.7220044 | F20: 1935 | G20: =AVERAGE(B65:B68) -> 260.0425 | H20: =((G20/G19)-1)*100 -> 8.7634364
A21: 01 - 24 | B21: 260.65 | C21: =((B21/B20)-1)*100 -> 2.7354066 | D21: =((B21/B17)-1)*100 -> 3.6340503 | F21: 1936 | G21: =AVERAGE(B69:B72) -> 295.5675 | H21: =((G21/G20)-1)*100 -> 13.661228
A22: 02 - 24 | B22: 252.46 | C22: =((B22/B21)-1)*100 -> -3.1421446 | D22: =((B22/B18)-1)*100 -> -2.0523763 | F22: 1937 | G22: =AVERAGE(B73:B76) -> 310.1525 | H22: =((G22/G21)-1)*100 -> 4.934575
A23: 03 - 24 | B23: 249.84 | C23: =((B23/B22)-1)*100 -> -1.0377882 | D23: =((B23/B19)-1)*100 -> -1.4010024 | F23: 1938 | G23: =AVERAGE(B77:B80) -> 296.7675 | H23: =((G23/G22)-1)*100 -> -4.3156189
A24: 04 - 24 | B24: 262.6 | C24: =((B24/B23)-1)*100 -> 5.1072687 | D24: =((B24/B20)-1)*100 -> 3.5040006 | F24: 1939 | G24: =AVERAGE(B81:B84) -> 319.8525 | H24: =((G24/G23)-1)*100 -> 7.7788168
A25: 01 - 25 | B25: 268.68 | C25: =((B25/B24)-1)*100 -> 2.3153085 | D25: =((B25/B21)-1)*100 -> 3.0807596 | F25: 1940 | G25: =AVERAGE(B85:B88) -> 344.165 | H25: =((G25/G24)-1)*100 -> 7.6011599
A26: 02 - 25 | B26: 271.89 | C26: =((B26/B25)-1)*100 -> 1.1947298 | D26: =((B26/B22)-1)*100 -> 7.6962687 | F26: 1941 | G26: =AVERAGE(B89:B92) -> 400.515 | H26: =((G26/G25)-1)*100 -> 16.372961
A27: 03 - 25 | B27: 278.86 | C27: =((B27/B26)-1)*100 -> 2.5635367 | D27: =((B27/B23)-1)*100 -> 11.615434 | F27: 1942 | G27: =AVERAGE(B93:B96) -> 461.805 | H27: =((G27/G26)-1)*100 -> 15.302798
A28: 04 - 25 | B28: 284.7 | C28: =((B28/B27)-1)*100 -> 2.0942408 | D28: =((B28/B24)-1)*100 -> 8.4158416 | F28: 1943 | G28: =AVERAGE(B97:B100) -> 531.6825 | H28: =((G28/G27)-1)*100 -> 15.131387
A29: 01 - 26 | B29: 287.33 | C29: =((B29/B28)-1)*100 -> 0.92377942 | D29: =((B29/B25)-1)*100 -> 6.9413429 | F29: 1944 | G29: =AVERAGE(B101:B104) -> 569.135 | H29: =((G29/G28)-1)*100 -> 7.0441476
A30: 02 - 26 | B30: 288.21 | C30: =((B30/B29)-1)*100 -> 0.30626805 | D30: =((B30/B26)-1)*100 -> 6.0024275 | F30: 1945 | G30: =AVERAGE(B105:B108) -> 560.1675 | H30: =((G30/G29)-1)*100 -> -1.5756367
A31: 03 - 26 | B31: 295.01 | C31: =((B31/B30)-1)*100 -> 2.3593907 | D31: =((B31/B27)-1)*100 -> 5.7914366 | F31: 1946 | G31: =AVERAGE(B109:B112) -> 478.285 | H31: =((G31/G30)-1)*100 -> -14.617503
A32: 04 - 26 | B32: 296.71 | C32: =((B32/B31)-1)*100 -> 0.57625165 | D32: =((B32/B28)-1)*100 -> 4.2184756 | F32: 1947 | G32: =AVERAGE(B113:B116) -> 470.395 | H32: =((G32/G31)-1)*100 -> -1.649644
A33: 01 - 27 | B33: 295.63 | C33: =((B33/B32)-1)*100 -> -0.36399178 | D33: =((B33/B29)-1)*100 -> 2.8886646 | F33: 1948 | G33: =AVERAGE(B117:B120) -> 489.74 | H33: =((G33/G32)-1)*100 -> 4.1125012
A34: 02 - 27 | B34: 297.42 | C34: =((B34/B33)-1)*100 -> 0.60548659 | D34: =((B34/B30)-1)*100 -> 3.1955866 | F34: 1949 | G34: =AVERAGE(B121:B124) -> 492.235 | H34: =((G34/G33)-1)*100 -> 0.509454
A35: 03 - 27 | B35: 292.78 | C35: =((B35/B34)-1)*100 -> -1.5600834 | D35: =((B35/B31)-1)*100 -> -0.75590658 | F35: 1950 | G35: =AVERAGE(B125:B128) -> 534.565 | H35: =((G35/G34)-1)*100 -> 8.599551
A36: 04 - 27 | B36: 287.2 | C36: =((B36/B35)-1)*100 -> -1.9058679 | D36: =((B36/B32)-1)*100 -> -3.2051498 | F36: 1951 | G36: =AVERAGE(B129:B132) -> 579.1675 | H36: =((G36/G35)-1)*100 -> 8.3437
A37: 01 - 28 | B37: 289.4 | C37: =((B37/B36)-1)*100 -> 0.76601671 | D37: =((B37/B33)-1)*100 -> -2.1073639 | F37: 1952 | G37: =AVERAGE(B133:B136) -> 600.63 | H37: =((G37/G36)-1)*100 -> 3.7057501
A38: 02 - 28 | B38: 292.98 | C38: =((B38/B37)-1)*100 -> 1.2370422 | D38: =((B38/B34)-1)*100 -> -1.4928384 | F38: 1953 | G38: =AVERAGE(B137:B140) -> 623.4575 | H38: =((G38/G37)-1)*100 -> 3.8005927
A39: 03 - 28 | B39: 299.71 | C39: =((B39/B38)-1)*100 -> 2.2970851 | D39: =((B39/B35)-1)*100 -> 2.366965 | F39: 1954 | G39: =AVERAGE(B141:B144) -> 615.6375 | H39: =((G39/G38)-1)*100 -> -1.2542956
A40: 04 - 28 | B40: 302.8 | C40: =((B40/B39)-1)*100 -> 1.0309966 | D40: =((B40/B36)-1)*100 -> 5.4317549 | F40: 1955 | G40: =AVERAGE(B145:B148) -> 657.3725 | H40: =((G40/G39)-1)*100 -> 6.7791517
A41: 01 - 29 | B41: 308.94 | C41: =((B41/B40)-1)*100 -> 2.0277411 | D41: =((B41/B37)-1)*100 -> 6.7519005 | F41: 1956 | G41: =AVERAGE(B149:B152) -> 671.7225 | H41: =((G41/G40)-1)*100 -> 2.1829328
A42: 02 - 29 | B42: 321.65 | C42: =((B42/B41)-1)*100 -> 4.1140675 | D42: =((B42/B38)-1)*100 -> 9.7856509 | F42: 1957 | G42: =AVERAGE(B153:B156) -> 683.5675 | H42: =((G42/G41)-1)*100 -> 1.763377
A43: 03 - 29 | B43: 323.69 | C43: =((B43/B42)-1)*100 -> 0.63422975 | D43: =((B43/B39)-1)*100 -> 8.0010677 | F43: 1958 | G43: =AVERAGE(B157:B160) -> 680.88 | H43: =((G43/G42)-1)*100 -> -0.39315795
A44: 04 - 29 | B44: 308.45 | C44: =((B44/B43)-1)*100 -> -4.7082085 | D44: =((B44/B40)-1)*100 -> 1.8659181 | F44: 1959 | G44: =AVERAGE(B161:B164) -> 721.715 | H44: =((G44/G43)-1)*100 -> 5.9973857
A45: 01 - 30 | B45: 297.27 | C45: =((B45/B44)-1)*100 -> -3.6245745 | D45: =((B45/B41)-1)*100 -> -3.7774325 | F45: 1960 | G45: =AVERAGE(B165:B168) -> 737.005 | H45: =((G45/G44)-1)*100 -> 2.1185648
A46: 02 - 30 | B46: 295.58 | C46: =((B46/B45)-1)*100 -> -0.56850674 | D46: =((B46/B42)-1)*100 -> -8.1050832 | F46: 1961 | G46: =AVERAGE(B169:B172) -> 756.59 | H46: =((G46/G45)-1)*100 -> 2.6573768
A47: 03 - 30 | B47: 281.13 | C47: =((B47/B46)-1)*100 -> -4.8886934 | D47: =((B47/B43)-1)*100 -> -13.148383 | F47: 1962 | G47: =AVERAGE(B173:B176) -> 800.2925 | H47: =((G47/G46)-1)*100 -> 5.7762461
A48: 04 - 30 | B48: 268.1 | C48: =((B48/B47)-1)*100 -> -4.6348664 | D48: =((B48/B44)-1)*100 -> -13.081537 | F48: 1963 | G48: =AVERAGE(B177:B180) -> 832.2025 | H48: =((G48/G47)-1)*100 -> 3.9872921
A49: 01 - 31 | B49: 268.66 | C49: =((B49/B48)-1)*100 -> 0.20887728 | D49: =((B49/B45)-1)*100 -> -9.6242473 | F49: 1964 | G49: =AVERAGE(B181:B184) -> 875.96 | H49: =((G49/G48)-1)*100 -> 5.2580352
A50: 02 - 31 | B50: 273.35 | C50: =((B50/B49)-1)*100 -> 1.7457009 | D50: =((B50/B46)-1)*100 -> -7.5208065 | F50: 1965 | G50: =AVERAGE(B185:B188) -> 928.995 | H50: =((G50/G49)-1)*100 -> 6.0545002
A51: 03 - 31 | B51: 262.62 | C51: =((B51/B50)-1)*100 -> -3.9253704 | D51: =((B51/B47)-1)*100 -> -6.5841426 | F51: 1966 | G51: =AVERAGE(B189:B192) -> 984.6175 | H51: =((G51/G50)-1)*100 -> 5.9873842
A52: 04 - 31 | B52: 249.14 | C52: =((B52/B51)-1)*100 -> -5.1328916 | D52: =((B52/B48)-1)*100 -> -7.0719881 | F52: 1967 | G52: =AVERAGE(B193:B196) -> 1011.3775 | H52: =((G52/G51)-1)*100 -> 2.7178067
A53: 01 - 32 | B53: 240.16 | C53: =((B53/B52)-1)*100 -> -3.6043991 | D53: =((B53/B49)-1)*100 -> -10.608204 | F53: 1968 | G53: =AVERAGE(B197:B200) -> 1058.06 | H53: =((G53/G52)-1)*100 -> 4.6157345
A54: 02 - 32 | B54: 228.43 | C54: =((B54/B53)-1)*100 -> -4.8842438 | D54: =((B54/B50)-1)*100 -> -16.433144 | F54: 1969 | G54: =AVERAGE(B201:B204) -> 1087.5775 | H54: =((G54/G53)-1)*100 -> 2.7897756
A55: 03 - 32 | B55: 220.46 | C55: =((B55/B54)-1)*100 -> -3.4890338 | D55: =((B55/B51)-1)*100 -> -16.053614 | F55: 1970 | G55: =AVERAGE(B205:B208) -> 1085.575 | H55: =((G55/G54)-1)*100 -> -0.18412481
A56: 04 - 32 | B56: 219.12 | C56: =((B56/B55)-1)*100 -> -0.60782001 | D56: =((B56/B52)-1)*100 -> -12.04945 | F56: 1971 | G56: =AVERAGE(B209:B212) -> 1122.4225 | H56: =((G56/G55)-1)*100 -> 3.3942841
A57: 01 - 33 | B57: 206.38 | C57: =((B57/B56)-1)*100 -> -5.8141658 | D57: =((B57/B53)-1)*100 -> -14.065623 | F57: 1972 | G57: =AVERAGE(B213:B216) -> 1185.915 | H57: =((G57/G56)-1)*100 -> 5.656738
A58: 02 - 33 | B58: 221.26 | C58: =((B58/B57)-1)*100 -> 7.210001 | D58: =((B58/B54)-1)*100 -> -3.1388171 | F58: 1973 | G58: =AVERAGE(B217:B220) -> 1254.195 | H58: =((G58/G57)-1)*100 -> 5.7575796
A59: 03 - 33 | B59: 238.85 | C59: =((B59/B58)-1)*100 -> 7.9499232 | D59: =((B59/B55)-1)*100 -> 8.3416493 | F59: 1974 | G59: =AVERAGE(B221:B224) -> 1246.2975 | H59: =((G59/G58)-1)*100 -> -0.62968677
A60: 04 - 33 | B60: 222.05 | C60: =((B60/B59)-1)*100 -> -7.0337032 | D60: =((B60/B56)-1)*100 -> 1.3371668 | F60: 1975 | G60: =AVERAGE(B225:B228) -> 1231.61 | H60: =((G60/G59)-1)*100 -> -1.1784907
A61: 01 - 34 | B61: 234.29 | C61: =((B61/B60)-1)*100 -> 5.512272 | D61: =((B61/B57)-1)*100 -> 13.523597 | F61: 1976 | G61: =AVERAGE(B229:B232) -> 1298.1975 | H61: =((G61/G60)-1)*100 -> 5.406541
A62: 02 - 34 | B62: 247.72 | C62: =((B62/B61)-1)*100 -> 5.7322122 | D62: =((B62/B58)-1)*100 -> 11.958782 | F62: 1977 | G62: =AVERAGE(B233:B236) -> 1369.705 | H62: =((G62/G61)-1)*100 -> 5.5082143
A63: 03 - 34 | B63: 237.19 | C63: =((B63/B62)-1)*100 -> -4.250767 | D63: =((B63/B59)-1)*100 -> -0.69499686 | F63: 1978 | G63: =AVERAGE(B237:B240) -> 1438.55 | H63: =((G63/G62)-1)*100 -> 5.0262648
A64: 04 - 34 | B64: 237.16 | C64: =((B64/B63)-1)*100 -> -0.012648088 | D64: =((B64/B60)-1)*100 -> 6.8047737 | F64: 1979 | G64: =AVERAGE(B241:B244) -> 1479.435 | H64: =((G64/G63)-1)*100 -> 2.8420979
A65: 01 - 35 | B65: 252.31 | C65: =((B65/B64)-1)*100 -> 6.3880924 | D65: =((B65/B61)-1)*100 -> 7.6913227 | F65: 1980 | G65: =AVERAGE(B245:B248) -> 1474.975 | H65: =((G65/G64)-1)*100 -> -0.30146644
A66: 02 - 35 | B66: 253.14 | C66: =((B66/B65)-1)*100 -> 0.32896041 | D66: =((B66/B62)-1)*100 -> 2.1879541 | F66: 1981 | G66: =AVERAGE(B249:B252) -> 1512.15 | H66: =((G66/G65)-1)*100 -> 2.5203817
A67: 03 - 35 | B67: 260.14 | C67: =((B67/B66)-1)*100 -> 2.7652682 | D67: =((B67/B63)-1)*100 -> 9.6757873 | F67: 1982 | G67: =AVERAGE(B253:B256) -> 1479.975 | H67: =((G67/G66)-1)*100 -> -2.1277651
A68: 04 - 35 | B68: 274.58 | C68: =((B68/B67)-1)*100 -> 5.5508572 | D68: =((B68/B64)-1)*100 -> 15.778377 | F68: 1983 | G68: =AVERAGE(B257:B260) -> 1534.675 | H68: =((G68/G67)-1)*100 -> 3.6960084
A69: 01 - 36 | B69: 275.9 | C69: =((B69/B68)-1)*100 -> 0.48073421 | D69: =((B69/B65)-1)*100 -> 9.3496096 | F69: Fuente: Tables of quarterly data from Appendix B of "The American Business Cycle: Continuity and Change" Edited by Robert J. Gordon. National Bureau of Economic Research Studies in Business Cycles Volume 25, Univerisity of Chicago Press 1986. For information about sources and methods please see that volume.
A70: 02 - 36 | B70: 293.2 | C70: =((B70/B69)-1)*100 -> 6.2703878 | D70: =((B70/B66)-1)*100 -> 15.825235
A71: 03 - 36 | B71: 301.59 | C71: =((B71/B70)-1)*100 -> 2.861528 | D71: =((B71/B67)-1)*100 -> 15.933728
A72: 04 - 36 | B72: 311.58 | C72: =((B72/B71)-1)*100 -> 3.312444 | D72: =((B72/B68)-1)*100 -> 13.475126
A73: 01 - 37 | B73: 310.53 | C73: =((B73/B72)-1)*100 -> -0.3369921 | D73: =((B73/B69)-1)*100 -> 12.551649
A74: 02 - 37 | B74: 318.41 | C74: =((B74/B73)-1)*100 -> 2.537597 | D74: =((B74/B70)-1)*100 -> 8.5982265
A75: 03 - 37 | B75: 317.21 | C75: =((B75/B74)-1)*100 -> -0.37687259 | D75: =((B75/B71)-1)*100 -> 5.1792168
A76: 04 - 37 | B76: 294.46 | C76: =((B76/B75)-1)*100 -> -7.171905 | D76: =((B76/B72)-1)*100 -> -5.494576
A77: 01 - 38 | B77: 282.02 | C77: =((B77/B76)-1)*100 -> -4.2246825 | D77: =((B77/B73)-1)*100 -> -9.1810775
A78: 02 - 38 | B78: 286.48 | C78: =((B78/B77)-1)*100 -> 1.5814481 | D78: =((B78/B74)-1)*100 -> -10.027951
A79: 03 - 38 | B79: 303.22 | C79: =((B79/B78)-1)*100 -> 5.8433398 | D79: =((B79/B75)-1)*100 -> -4.4103275
A80: 04 - 38 | B80: 315.35 | C80: =((B80/B79)-1)*100 -> 4.0003958 | D80: =((B80/B76)-1)*100 -> 7.0943422
A81: 01 - 39 | B81: 312.34 | C81: =((B81/B80)-1)*100 -> -0.95449501 | D81: =((B81/B77)-1)*100 -> 10.751011
... A260: 04 - 83 | B260: 1572.7 | C260: =((B260/B259)-1)*100 -> 1.4514256 | D260: =((B260/B256)-1)*100 -> 6.349743
A261: Fuente: Tables of quarterly data from Appendix B of "The American Business Cycle: Continuity and Change" Edited by Robert J. Gordon. National Bureau of Economic Research Studies in Business Cycles Volume 25, Univerisity of Chicago Press 1986. For information about sources and methods please see that volume.

Sheet EU Bal Fis
A2: Año | B2: Balance fiscal (% del PIB)
A5: 1920 | B5: -
A6: 1921 | B6: -
A7: 1922 | B7: -
A8: 1923 | B8: -
A9: 1924 | B9: -
A10: 1925 | B10: -
A11: 1926 | B11: -
A12: 1927 | B12: -
A13: 1928 | B13: -
A14: 1929 | B14: 0.70172
A15: 1930 | B15: 0.80043
A16: 1931 | B16: -0.5969
A17: 1932 | B17: -4.59664
A18: 1933 | B18: -4.54895
A19: 1934 | B19: -5.36826
A20: 1935 | B20: -3.77254
A21: 1936 | B21: -5.06949
A22: 1937 | B22: -2.35806
A23: 1938 | B23: -0.10183
A24: 1939 | B24: -3.04385
A25: 1940 | B25: -2.83771
... A101: 2016 | B101: -3.13915
A102: Fuente: Federal Reserve Economic Data, Federal Reserve Bank of St. Louis, Economic Research Division. Disponible en: https://fred.stlouisfed.org

Sheet Plata-Oro
A1: Datos mensuales de la plata y el oro, 1915-1990 | G1: FRED Graph Observations
A2: Fuente: MacroTrends Data | G2: Federal Reserve Economic Data
A3: Nota: Las cifras reales de la plata y el oro fueron obtenidas con el Índice de precios al Consumidor (CPI) de Estados Unidos. | G3: Link: https://fred.stlouisfed.org
G4: Help: https://fredhelp.stlouisfed.org
A5: Fecha | B5: Plata | D5: Oro | G5: Economic Research Division
B6: Real | C6: Nominal | D6: Real | E6: Nominal | G6: Federal Reserve Bank of St. Louis
A7: 5480 | B7: 14.6 | C7: 0.51 | D7: 551.03 | E7: 19.25 | G7: Price of Bar Silver for London, Great Britain, Dollars per Fine Ounce, Annual, Not Seasonally Adjusted
A8: 5511 | B8: 14.74 | C8: 0.51 | D8: 556.54 | E8: 19.25
A9: 5539 | B9: 14.89 | C9: 0.51 | D9: 562.16 | E9: 19.25
A10: 5570 | B10: 14.74 | C10: 0.51 | D10: 556.54 | E10: 19.25
A11: 5600 | B11: 14.6 | C11: 0.51 | D11: 551.03 | E11: 19.25 | H11: Dólares/onza de plata | I11: TC en %
A12: 5631 | B12: 14.6 | C12: 0.51 | D12: 551.03 | E12: 19.25 | G12: 1833 | H12: 1.297
A13: 5661 | B13: 14.6 | C13: 0.51 | D13: 551.03 | E13: 19.25 | G13: 1834 | H13: 1.313 | I13: =((H13/H12)-1)*100 -> 1.233616
A14: 5692 | B14: 14.6 | C14: 0.51 | D14: 551.03 | E14: 19.25 | G14: 1835 | H14: 1.308 | I14: =((H14/H13)-1)*100 -> -0.38080731
A15: 5723 | B15: 14.6 | C15: 0.51 | D15: 551.03 | E15: 19.25 | G15: 1836 | H15: 1.315 | I15: =((H15/H14)-1)*100 -> 0.5351682
A16: 5753 | B16: 14.46 | C16: 0.51 | D16: 545.62 | E16: 19.25 | G16: 1837 | H16: 1.305 | I16: =((H16/H15)-1)*100 -> -0.76045627
A17: 5784 | B17: 14.32 | C17: 0.51 | D17: 540.33 | E17: 19.25 | G17: 1838 | H17: 1.304 | I17: =((H17/H16)-1)*100 -> -0.076628352
A18: 5814 | B18: 14.32 | C18: 0.51 | D18: 540.33 | E18: 19.25 | G18: 1839 | H18: 1.323 | I18: =((H18/H17)-1)*100 -> 1.4570552
A19: 5845 | B19: 18.63 | C19: 0.67 | D19: 541.25 | E19: 19.47 | G19: 1840 | H19: 1.323 | I19: =((H19/H18)-1)*100 -> 0
A20: 5876 | B20: 18.63 | C20: 0.67 | D20: 541.25 | E20: 19.47 | G20: 1841 | H20: 1.316 | I20: =((H20/H19)-1)*100 -> -0.52910053
A21: 5905 | B21: 18.45 | C21: 0.67 | D21: 536.09 | E21: 19.47 | G21: 1842 | H21: 1.303 | I21: =((H21/H20)-1)*100 -> -0.98784195
A22: 5936 | B22: 18.27 | C22: 0.67 | D22: 531.02 | E22: 19.47 | G22: 1843 | H22: 1.297 | I22: =((H22/H21)-1)*100 -> -0.46047583
A23: 5966 | B23: 18.1 | C23: 0.67 | D23: 526.08 | E23: 19.47 | G23: 1844 | H23: 1.304 | I23: =((H23/H22)-1)*100 -> 0.53970702
A24: 5997 | B24: 17.94 | C24: 0.67 | D24: 521.19 | E24: 19.47 | G24: 1845 | H24: 1.298 | I24: =((H24/H23)-1)*100 -> -0.4601227
... A112: 8675 | B112: 10.86 | C112: 0.65 | D112: 346.77 | E112: 20.75 | G112: 1933 | H112: 0.391 | I112: =((H112/H111)-1)*100 -> 0
A113: 8706 | B113: 10.86 | C113: 0.65 | D113: 346.77 | E113: 20.75
A114: 8736 | B114: 10.86 | C114: 0.65 | D114: 346.77 | E114: 20.75
A115: 8767 | B115: 11.2 | C115: 0.67 | D115: 347.28 | E115: 20.78
A116: 8798 | B116: 11.26 | C116: 0.67 | D116: 349.29 | E116: 20.78
A117: 8827 | B117: 11.33 | C117: 0.67 | D117: 351.33 | E117: 20.78
A118: 8858 | B118: 11.39 | C118: 0.67 | D118: 353.38 | E118: 20.78
A119: 8888 | B119: 11.39 | C119: 0.67 | D119: 353.38 | E119: 20.78
A120: 8919 | B120: 11.39 | C120: 0.67 | D120: 353.38 | E120: 20.78
A121: 8949 | B121: 11.33 | C121: 0.67 | D121: 351.33 | E121: 20.78
A122: 8980 | B122: 11.39 | C122: 0.67 | D122: 353.38 | E122: 20.78
A123: 9011 | B123: 11.33 | C123: 0.67 | D123: 351.33 | E123: 20.78
A124: 9041 | B124: 11.26 | C124: 0.67 | D124: 349.29 | E124: 20.78
... A918: 33208 | B918: 9.15 | C918: 4.236 | D918: 816.19 | E918: 377.69

Sheet UK Pet
A2: Años 1861-1990 | B2: Petróleo UK en US$ | C2: Petróleo UK t/c
A5: 1861 | B5: 0.49 | C5: -
A6: 1862 | B6: 1.05 | C6: =((B6/B5)-1)*100 -> 114.28571
A7: 1863 | B7: 3.15 | C7: =((B7/B6)-1)*100 -> 200
A8: 1864 | B8: 8.06 | C8: =((B8/B7)-1)*100 -> 155.87302
A9: 1865 | B9: 6.59 | C9: =((B9/B8)-1)*100 -> -18.238213
A10: 1866 | B10: 3.74 | C10: =((B10/B9)-1)*100 -> -43.247344
A11: 1867 | B11: 2.41 | C11: =((B11/B10)-1)*100 -> -35.561497
A12: 1868 | B12: 3.63 | C12: =((B12/B11)-1)*100 -> 50.622407
A13: 1869 | B13: 3.64 | C13: =((B13/B12)-1)*100 -> 0.27548209
A14: 1870 | B14: 3.86 | C14: =((B14/B13)-1)*100 -> 6.043956
A15: 1871 | B15: 4.34 | C15: =((B15/B14)-1)*100 -> 12.435233
A16: 1872 | B16: 3.64 | C16: =((B16/B15)-1)*100 -> -16.129032
A17: 1873 | B17: 1.83 | C17: =((B17/B16)-1)*100 -> -49.725275
... A134: 1990 | B134: 23.73 | C134: =((B134/B133)-1)*100 -> 30.170049
A135: *Cifras en dólares por barril, sin ajuste estacional.
A136: Fuente: Federal Reserve Economic Data, Federal Reserve Bank of St. Louis, Economic Research Division. Disponible en: https://fred.stlouisfed.org

Sheet US $ Pet
A2: Período 1946-1990 | B2: Precio spot del petróleo crudo: West Texas Intermediate en US$
A5: 16803 | B5: 1.17
A6: 16834 | B6: 1.17
A7: 16862 | B7: 1.17
A8: 16893 | B8: 1.27
A9: 16923 | B9: 1.27
A10: 16954 | B10: 1.27
A11: 16984 | B11: 1.27
A12: 17015 | B12: 1.52
A13: 17046 | B13: 1.52
A14: 17076 | B14: 1.52
A15: 17107 | B15: 1.52
A16: 17137 | B16: 1.62
... A544: 33208 | B544: 27.337
A545: *Cifras en dólares por barril, mensual, sin ajuste estacional.
A546: Fuente: Federal Reserve Economic Data, Federal Reserve Bank of St. Louis, Economic Research Division. Disponible en: https://fred.stlouisfed.org

Sheet Ciclos
A1: Fuente: National Bureau of Economic Research (NBER); en linea: https://www.nber.org/research/data/us-business-cycle-expansions-and-contractions
A3: Peak month | B3: Trough month | C3: Peak month number | D3: Trough month number | E3: Duration, peak to trough | F3: Duration, trough to peak | G3: Duration, peak to peak | H3: Duration, trough to trough
J5: Eventos
B6: December 1854 | D6: 660 | J6: Primera Guerra Mundial -Noviembre 1918
A7: June 1857 | B7: December 1858 | C7: 690 | D7: 708 | E7: =D7-C7 -> 18 | F7: =C7-D6 -> 30 | H7: =D7-D6 -> 48 | J7: Gran Depresión (Agosto 1929- marzo1933)
A8: October 1860 | B8: June 1861 | C8: 730 | D8: 738 | E8: =D8-C8 -> 8 | F8: =C8-D7 -> 22 | G8: =C8-C7 -> 40 | H8: =D8-D7 -> 30 | J8: New Deal-Franklin D. Roosevelt (1933-1937)
A9: April 1865 | B9: December 1867 | C9: 784 | D9: 816 | E9: =D9-C9 -> 32 | F9: =C9-D8 -> 46 | G9: =C9-C8 -> 54 | H9: =D9-D8 -> 78 | J9: Benito Mussolini en el poder 1922-1943
A10: June 1869 | B10: December 1870 | C10: 834 | D10: 852 | E10: =D10-C10 -> 18 | F10: =C10-D9 -> 18 | G10: =C10-C9 -> 50 | H10: =D10-D9 -> 36 | J10: Japón, ascenso y caida (1931-1945)
A11: October 1873 | B11: March 1879 | C11: 886 | D11: 951 | E11: =D11-C11 -> 65 | F11: =C11-D10 -> 34 | G11: =C11-C10 -> 52 | H11: =D11-D10 -> 99 | J11: Adolf Hitler en el poder (1933-1945)
A12: March 1882 | B12: May 1885 | C12: 987 | D12: 1025 | E12: =D12-C12 -> 38 | F12: =C12-D11 -> 36 | G12: =C12-C11 -> 101 | H12: =D12-D11 -> 74 | J12: Guerra Civil española (Julio 1936- abril 1939)
A13: March 1887 | B13: April 1888 | C13: 1047 | D13: 1060 | E13: =D13-C13 -> 13 | F13: =C13-D12 -> 22 | G13: =C13-C12 -> 60 | H13: =D13-D12 -> 35 | J13: Segunda Guerra Mundial (Septiembre 1939-Septiembre 1945)
A14: July 1890 | B14: May 1891 | C14: 1087 | D14: 1097 | E14: =D14-C14 -> 10 | F14: =C14-D13 -> 27 | G14: =C14-C13 -> 40 | H14: =D14-D13 -> 37 | J14: Estados Unidos entra a la Segunda Guerra Mundial Diciembre 1941
A15: January 1893 | B15: June 1894 | C15: 1117 | D15: 1134 | E15: =D15-C15 -> 17 | F15: =C15-D14 -> 20 | G15: =C15-C14 -> 30 | H15: =D15-D14 -> 37 | J15: Bretton Woods (julio de 1944)
A16: December 1895 | B16: June 1897 | C16: 1152 | D16: 1170 | E16: =D16-C16 -> 18 | F16: =C16-D15 -> 18 | G16: =C16-C15 -> 35 | H16: =D16-D15 -> 36 | J16: Plan Marshall 1948
A17: June 1899 | B17: December 1900 | C17: 1194 | D17: 1212 | E17: =D17-C17 -> 18 | F17: =C17-D16 -> 24 | G17: =C17-C16 -> 42 | H17: =D17-D16 -> 42 | J17: Guerra de Corea (Junio 1950-Julio 1953)
A18: September 1902 | B18: August 1904 | C18: 1233 | D18: 1256 | E18: =D18-C18 -> 23 | F18: =C18-D17 -> 21 | G18: =C18-C17 -> 39 | H18: =D18-D17 -> 44 | J18: Guerra Fría
A19: May 1907 | B19: June 1908 | C19: 1289 | D19: 1302 | E19: =D19-C19 -> 13 | F19: =C19-D18 -> 33 | G19: =C19-C18 -> 56 | H19: =D19-D18 -> 46 | J19: Aparente éxito de la planeación y resultados de la Unión Sovíetica
... A27: May 1937 | B27: June 1938 | C27: 1649 | D27: 1662 | E27: =D27-C27 -> 13 | F27: =C27-D26 -> 50 | G27: =C27-C26 -> 93 | H27: =D27-D26 -> 63 | J27: Ronald Reagan (1980-1988)
A28: February 1945 | B28: October 1945 | C28: 1742 | D28: 1750 | E28: =D28-C28 -> 8 | F28: =C28-D27 -> 80 | G28: =C28-C27 -> 93 | H28: =D28-D27 -> 88
A29: November 1948 | B29: October 1949 | C29: 1787 | D29: 1798 | E29: =D29-C29 -> 11 | F29: =C29-D28 -> 37 | G29: =C29-C28 -> 45 | H29: =D29-D28 -> 48
A30: July 1953 | B30: May 1954 | C30: 1843 | D30: 1853 | E30: =D30-C30 -> 10 | F30: =C30-D29 -> 45 | G30: =C30-C29 -> 56 | H30: =D30-D29 -> 55
A31: August 1957 | B31: April 1958 | C31: 1892 | D31: 1900 | E31: =D31-C31 -> 8 | F31: =C31-D30 -> 39 | G31: =C31-C30 -> 49 | H31: =D31-D30 -> 47
A32: April 1960 | B32: February 1961 | C32: 1924 | D32: 1934 | E32: =D32-C32 -> 10 | F32: =C32-D31 -> 24 | G32: =C32-C31 -> 32 | H32: =D32-D31 -> 34
A33: December 1969 | B33: November 1970 | C33: 2040 | D33: 2051 | E33: =D33-C33 -> 11 | F33: =C33-D32 -> 106 | G33: =C33-C32 -> 116 | H33: =D33-D32 -> 117
A34: November 1973 | B34: March 1975 | C34: 2087 | D34: 2103 | E34: =D34-C34 -> 16 | F34: =C34-D33 -> 36 | G34: =C34-C33 -> 47 | H34: =D34-D33 -> 52
A35: January 1980 | B35: July 1980 | C35: 2161 | D35: 2167 | E35: =D35-C35 -> 6 | F35: =C35-D34 -> 58 | G35: =C35-C34 -> 74 | H35: =D35-D34 -> 64
A36: July 1981 | B36: November 1982 | C36: 2179 | D36: 2195 | E36: =D36-C36 -> 16 | F36: =C36-D35 -> 12 | G36: =C36-C35 -> 18 | H36: =D36-D35 -> 28
A37: July 1990 | B37: March 1991 | C37: 2287 | D37: 2295 | E37: =D37-C37 -> 8 | F37: =C37-D36 -> 92 | G37: =C37-C36 -> 108 | H37: =D37-D36 -> 100
A38: March 2001 | B38: November 2001 | C38: 2415 | D38: 2423 | E38: =D38-C38 -> 8 | F38: =C38-D37 -> 120 | G38: =C38-C37 -> 128 | H38: =D38-D37 -> 128
A39: December 2007 | B39: June 2009 | C39: 2496 | D39: 2514 | E39: =D39-C39 -> 18 | F39: =C39-D38 -> 73 | G39: =C39-C38 -> 81 | H39: =D39-D38 -> 91
A41: 1854-2009 (33 cycles) | E41: =AVERAGE(E7:E39) -> 17.454545 | F41: =AVERAGE(F7:F39) -> 38.727273 | G41: =AVERAGE(G7:G39) -> 56.4375 | H41: =AVERAGE(H7:H39) -> 56.181818
A42: 1854-1919 (16 cycles) | E42: =AVERAGE(E7:E22) -> 21.5625 | F42: =AVERAGE(F7:F22) -> 26.625 | G42: =AVERAGE(G7:G22) -> 48.933333 | H42: =AVERAGE(H7:H22) -> 48.1875
A43: 1919-1945 (6 cycles) | E43: =AVERAGE(E23:E28) -> 18.166667 | F43: =AVERAGE(F23:F28) -> 35 | G43: =AVERAGE(G23:G28) -> 53 | H43: =AVERAGE(H23:H28) -> 53.166667
A44: 1945-2009 (11 cycles) | E44: =AVERAGE(E29:E39) -> 11.090909 | F44: =AVERAGE(F29:F39) -> 58.363636 | G44: =AVERAGE(G29:G39) -> 68.545455 | H44: =AVERAGE(H29:H39) -> 69.454545
A46: Note: Month numbers start in January 1800
