Workbook
Name \A: #REF!
Name \A: #REF!
Name \A: #REF!
Name \g: #REF!
Name \g: #REF!
Name \g: #REF!
Name \S: #REF!
Name \S: #REF!
Name \S: #REF!
Name ACTIVATE: #REF!
Name ACTIVATE: #REF!
Name ACTIVATE: #REF!
Name ASSUMPT: #REF!
Name ASSUMPT: #REF!
Name ASSUMPT: #REF!
Name ASSUMPTIONS: #REF!
Name ASSUMPTIONS: #REF!
Name ASSUMPTIONS: #REF!
Name basicdata1: #REF!
Name basicdata1: #REF!
Name basicdata1: #REF!
Name basicdata2: #REF!
Name basicdata2: #REF!
Name basicdata2: #REF!
Name BCA_NGDP: [5]Q6!$E$10:$AH$10
Name BMG: [5]Q6!$E$27:$AH$27
Name BOP: #REF!
Name BOP: #REF!
Name BOP: #REF!
Name BXG: [5]Q6!$E$19:$AH$19
Name CAPITAL: #REF!
Name CAPITAL: #REF!
Name CAPITAL: #REF!
Name CARGO_BY_TYPE: '[6]Table No.18-Exports goods+servi'!#REF!
Name CARGO_BY_TYPE: '[6]Table No.18-Exports goods+servi'!#REF!
Name CARGO_BY_TYPE: '[6]Table No.18-Exports goods+servi'!#REF!
Name CCode: [7]Codes!$A$2
Name CENTRALG: #REF!
Name CENTRALG: #REF!
Name CENTRALG: #REF!
Name CFLOW: #REF!
Name CFLOW: #REF!
Name CFLOW: #REF!
Name chart1: #REF!
Name chart1: #REF!
Name chart1: #REF!
Name Chart11: #REF!
Name Chart11: #REF!
Name Chart11: #REF!
Name chart2: #REF!
Name chart2: #REF!
Name chart2: #REF!
Name Chart22: #REF!
Name Chart22: #REF!
Name Chart22: #REF!
Name COUNTER: #REF!
Name COUNTER: #REF!
Name COUNTER: #REF!
Name CurrVintage: [8]Current!$D$66
Name Date: [7]Current!$D$67

Sheet Trans M-A
B2: Mes/Año | C2: Variable mensual | E2: Año | F2: Variable anual promedio | G2: Variable anual fin
B5: 1/1/1885 | C5: - | E5: - | F5: - | G5: -
B6: 2/1/1885 | C6: - | E6: 1886 | F6: =AVERAGE(C17:C28) -> #REF! | G6: =C28 -> #REF!
B7: 3/1/1885 | C7: - | E7: 1887 | F7: =AVERAGE(C29:C40) -> #REF! | G7: =C40 -> #REF!
B8: 4/1/1885 | C8: - | E8: 1888 | F8: =AVERAGE(C41:C52) -> #REF! | G8: =C52 -> #REF!
B9: 5/1/1885 | C9: - | E9: 1889 | F9: =AVERAGE(C53:C64) -> #REF! | G9: =C64 -> #REF!
B10: 6/1/1885 | C10: - | E10: 1890 | F10: =AVERAGE(C65:C76) -> #REF! | G10: =C76 -> #REF!
B11: 7/1/1885 | C11: - | E11: 1891 | F11: =AVERAGE(C77:C88) -> #REF! | G11: =C88 -> #REF!
B12: 8/1/1885 | C12: - | E12: 1892 | F12: =AVERAGE(C89:C100) -> #REF! | G12: =C100 -> #REF!
B13: 9/1/1885 | C13: - | E13: 1893 | F13: =AVERAGE(C101:C112) -> #REF! | G13: =C112 -> #REF!
B14: 10/1/1885 | C14: - | E14: 1894 | F14: =AVERAGE(C113:C124) -> #REF! | G14: =C124 -> #REF!
B15: 11/1/1885 | C15: - | E15: 1895 | F15: =AVERAGE(C125:C136) -> #REF! | G15: =C136 -> #REF!
B16: 12/1/1885 | C16: - | E16: 1896 | F16: =AVERAGE(C137:C148) -> #REF! | G16: =C148 -> #REF!
B17: 1/1/1886 | C17: - | E17: 1897 | F17: =AVERAGE(C149:C160) -> #REF! | G17: =C160 -> #REF!
B18: 2/1/1886 | C18: - | E18: 1898 | F18: =AVERAGE(C161:C172) -> #REF! | G18: =C172 -> #REF!
B19: 3/1/1886 | C19: - | E19: 1899 | F19: =AVERAGE(C173:C184) -> #REF! | G19: =C184 -> #REF!
B20: 4/1/1886 | C20: =#REF! -> #REF! | E20: 1900 | F20: =AVERAGE(C185:C196) -> #REF! | G20: =C196 -> #REF!
B21: 5/1/1886 | C21: =#REF! -> #REF! | E21: 1901 | F21: =AVERAGE(C197:C208) -> #REF! | G21: =C208 -> #REF!
B22: 6/1/1886 | C22: =#REF! -> #REF! | E22: 1902 | F22: =AVERAGE(C209:C220) -> #REF! | G22: =C220 -> #REF!
B23: 7/1/1886 | C23: =#REF! -> #REF! | E23: 1903 | F23: =AVERAGE(C221:C232) -> #REF! | G23: =C232 -> #REF!
B24: 8/1/1886 | C24: =#REF! -> #REF! | E24: 1904 | F24: =AVERAGE(C233:C244) -> #REF! | G24: =C244 -> #REF!
B25: 9/1/1886 | C25: =#REF! -> #REF! | E25: 1905 | F25: =AVERAGE(C245:C256) -> #REF! | G25: =C256 -> #REF!
B26: 10/1/1886 | C26: =#REF! -> #REF! | E26: 1906 | F26: =AVERAGE(C257:C268) -> #REF! | G26: =C268 -> #REF!
B27: 11/1/1886 | C27: =#REF! -> #REF! | E27: 1907 | F27: =AVERAGE(C269:C280) -> #REF! | G27: =C280 -> #REF!
B28: 12/1/1886 | C28: =#REF! -> #REF! | E28: 1908 | F28: =AVERAGE(C281:C292) -> #REF! | G28: =C292 -> #REF!
B29: 1/1/1887 | C29: =#REF! -> #REF! | E29: 1909 | F29: =AVERAGE(C293:C304) -> #REF! | G29: =C304 -> #REF!
B30: 2/1/1887 | C30: =#REF! -> #REF! | E30: 1910 | F30: =AVERAGE(C305:C316) -> #REF! | G30: =C316 -> #REF!
B31: 3/1/1887 | C31: =#REF! -> #REF! | E31: 1911 | F31: =AVERAGE(C317:C328) -> #REF! | G31: =C328 -> #REF!
B32: 4/1/1887 | C32: =#REF! -> #REF! | E32: 1912 | F32: =AVERAGE(C329:C340) -> #REF! | G32: =C340 -> #REF!
B33: 5/1/1887 | C33: =#REF! -> #REF! | E33: 1913 | F33: =AVERAGE(C341:C352) -> #REF! | G33: =C352 -> #REF!
B34: 6/1/1887 | C34: =#REF! -> #REF! | E34: 1914 | F34: =AVERAGE(C353:C364) -> #REF! | G34: =C364 -> #REF!
B35: 7/1/1887 | C35: =#REF! -> #REF! | E35: 1915 | F35: =AVERAGE(C365:C376) -> #REF! | G35: =C376 -> #REF!
B36: 8/1/1887 | C36: =#REF! -> #REF! | E36: 1916 | F36: =AVERAGE(C377:C388) -> #REF! | G36: =C388 -> #REF!
B37: 9/1/1887 | C37: =#REF! -> #REF! | E37: 1917 | F37: =AVERAGE(C389:C400) -> #REF! | G37: =C400 -> #REF!
B38: 10/1/1887 | C38: =#REF! -> #REF! | E38: 1918 | F38: =AVERAGE(C401:C412) -> #REF! | G38: =C412 -> #REF!
B39: 11/1/1887 | C39: =#REF! -> #REF! | E39: 1919 | F39: =AVERAGE(C413:C424) -> #REF! | G39: =C424 -> #REF!
B40: 12/1/1887 | C40: =#REF! -> #REF! | E40: 1920 | F40: =AVERAGE(C425:C436) -> #REF! | G40: =C436 -> #REF!
B41: 1/1/1888 | C41: =#REF! -> #REF! | E41: 1921 | F41: =AVERAGE(C437:C448) -> #REF! | G41: =C448 -> #REF!
B42: 2/1/1888 | C42: =#REF! -> #REF! | E42: 1922 | F42: =AVERAGE(C449:C460) -> #REF! | G42: =C460 -> #REF!
B43: 3/1/1888 | C43: =#REF! -> #REF! | E43: 1923 | F43: =AVERAGE(C461:C472) -> #REF! | G43: =C472 -> #REF!
...

Sheet EU Pob
A2: Año | B2: Población miles de personas | C2: t/c Población personas
A5: 1876 | B5: 46107 | C5: -
A6: 1877 | B6: 47141 | C6: =((B6/B5)-1)*100 -> 2.2426096
A7: 1878 | B7: 48174 | C7: =((B7/B6)-1)*100 -> 2.1912984
A8: 1879 | B8: 49208 | C8: =((B8/B7)-1)*100 -> 2.146386
A9: 1880 | B9: 50262 | C9: =((B9/B8)-1)*100 -> 2.1419281
A10: 1881 | B10: 51542 | C10: =((B10/B9)-1)*100 -> 2.5466555
A11: 1882 | B11: 52821 | C11: =((B11/B10)-1)*100 -> 2.4814714
A12: 1883 | B12: 54100 | C12: =((B12/B11)-1)*100 -> 2.4213854
A13: 1884 | B13: 55379 | C13: =((B13/B12)-1)*100 -> 2.3641405
A14: 1885 | B14: 56879 | C14: =((B14/B13)-1)*100 -> 2.708608
A15: 1886 | B15: 58164 | C15: =((B15/B14)-1)*100 -> 2.2591818
A16: 1887 | B16: 59448 | C16: =((B16/B15)-1)*100 -> 2.2075511
A17: 1888 | B17: 60732 | C17: =((B17/B16)-1)*100 -> 2.1598708
... A139: 2010 | B139: 309327.14 | C139: =((B139/B138)-1)*100 -> 0.83306753
A141: Fuente: (1930-2010) FRED Graph Observations
A142: Federal Reserve Bank of St. Louis
A143: Link: https://fred.stlouisfed.org
A145: Fuente: (1876-1929) Maddison Project Database (MPD) 2020

Sheet EU PIB
A2: Año | B2: PIB Real t/c Fuente= Fred | C2: PIB Real t/c Fuente= Gordon | D2: t/c PIB Real mixto | E2: PIB Real mixto 1950=100 Billions of US$ | F2: PIB Nominal Fuente = Fred | G2: PIB Nominal t/c Fuente Fred | H2: PIB Nominal Fuente = Gordon | I2: PIB Nominal t/c | J2: PIB Nominal mixto | K2: t/c PIB Nominal mixto | L2: Deflactor del PIB (1950=100)*** | M2: Deflactor del PIB t/c | N2: PIB per cápita en dólares | O2: PIB per cápita t/c
A5: 1876 | B5: - | C5: 4.7140153 | D5: =C5 -> 4.7140153 | E5: =E6/(1+(C6/100)) -> 22.805727 | F5: - | G5: - | H5: 7.2 | I5: - | J5: =H5 -> 7.2 | K5: =I5 -> - | L5: =(J5/E5)*100 -> 31.571018 | M5: - | N5: =(J5/'EU Pob'!B5)*1000000 -> 156.1585 | O5: -
A6: 1877 | B6: - | C6: 4.5617644 | D6: =C6 -> 4.5617644 | E6: =E7/(1+(C7/100)) -> 23.84607 | F6: - | G6: - | H6: 7.7 | I6: =((H6/H5)-1)*100 -> 6.9444444 | J6: =H6 -> 7.7 | K6: =I6 -> 6.9444444 | L6: =(J6/E6)*100 -> 32.290436 | M6: =((L6/L5)-1)*100 -> 2.2787297 | N6: =(J6/'EU Pob'!B6)*1000000 -> 163.33977 | O6: =((N6/N5)-1)*100 -> 4.5987039
A7: 1878 | B7: - | C7: 4.4095135 | D7: =C7 -> 4.4095135 | E7: =E8/(1+(C8/100)) -> 24.897566 | F7: - | G7: - | H7: 8.35 | I7: =((H7/H6)-1)*100 -> 8.4415584 | J7: =H7 -> 8.35 | K7: =I7 -> 8.4415584 | L7: =(J7/E7)*100 -> 33.537415 | M7: =((L7/L6)-1)*100 -> 3.8617601 | N7: =(J7/'EU Pob'!B7)*1000000 -> 173.33001 | O7: =((N7/N6)-1)*100 -> 6.116235
A8: 1879 | B8: - | C8: 4.2572626 | D8: =C8 -> 4.2572626 | E8: =E9/(1+(C9/100)) -> 25.957521 | F8: - | G8: - | H8: 9.1 | I8: =((H8/H7)-1)*100 -> 8.9820359 | J8: =H8 -> 9.1 | K8: =I8 -> 8.9820359 | L8: =(J8/E8)*100 -> 35.057277 | M8: =((L8/L7)-1)*100 -> 4.5318409 | N8: =(J8/'EU Pob'!B8)*1000000 -> 184.92928 | O8: =((N8/N7)-1)*100 -> 6.6920135
A9: 1880 | B9: - | C9: 3.1339031 | D9: =C9 -> 3.1339031 | E9: =E10/(1+(C10/100)) -> 26.771004 | F9: - | G9: - | H9: 9.625 | I9: =((H9/H8)-1)*100 -> 5.7692308 | J9: =H9 -> 9.625 | K9: =I9 -> 5.7692308 | L9: =(J9/E9)*100 -> 35.953078 | M9: =((L9/L8)-1)*100 -> 2.5552486 | N9: =(J9/'EU Pob'!B9)*1000000 -> 191.49656 | O9: =((N9/N8)-1)*100 -> 3.5512377
A10: 1881 | B10: - | C10: 3.5911602 | D10: =C10 -> 3.5911602 | E10: =E11/(1+(C11/100)) -> 27.732394 | F10: - | G10: - | H10: 10.15 | I10: =((H10/H9)-1)*100 -> 5.4545455 | J10: =H10 -> 10.15 | K10: =I10 -> 5.4545455 | L10: =(J10/E10)*100 -> 36.599798 | M10: =((L10/L9)-1)*100 -> 1.7987879 | N10: =(J10/'EU Pob'!B10)*1000000 -> 196.92678 | O10: =((N10/N9)-1)*100 -> 2.8356751
A11: 1882 | B11: - | C11: 2.6666667 | D11: =C11 -> 2.6666667 | E11: =E12/(1+(C12/100)) -> 28.471924 | F11: - | G11: - | H11: 10.675 | I11: =((H11/H10)-1)*100 -> 5.1724138 | J11: =H11 -> 10.675 | K11: =I11 -> 5.1724138 | L11: =(J11/E11)*100 -> 37.493075 | M11: =((L11/L10)-1)*100 -> 2.4406628 | N11: =(J11/'EU Pob'!B11)*1000000 -> 202.09765 | O11: =((N11/N10)-1)*100 -> 2.6257843
A12: 1883 | B12: - | C12: 4.6753247 | D12: =C12 -> 4.6753247 | E12: =E13/(1+(C13/100)) -> 29.803079 | F12: - | G12: - | H12: 11.2 | I12: =((H12/H11)-1)*100 -> 4.9180328 | J12: =H12 -> 11.2 | K12: =I12 -> 4.9180328 | L12: =(J12/E12)*100 -> 37.58001 | M12: =((L12/L11)-1)*100 -> 0.23186755 | N12: =(J12/'EU Pob'!B12)*1000000 -> 207.02403 | O12: =((N12/N11)-1)*100 -> 2.4376231
A13: 1884 | B13: - | C13: 5.2109181 | D13: =C13 -> 5.2109181 | E13: =E14/(1+(C14/100)) -> 31.356093 | F13: - | G13: - | H13: 11.5 | I13: =((H13/H12)-1)*100 -> 2.6785714 | J13: =H13 -> 11.5 | K13: =I13 -> 2.6785714 | L13: =(J13/E13)*100 -> 36.675487 | M13: =((L13/L12)-1)*100 -> -2.4069239 | N13: =(J13/'EU Pob'!B13)*1000000 -> 207.65994 | O13: =((N13/N12)-1)*100 -> 0.30716904
A14: 1885 | B14: - | C14: 4.009434 | D14: =C14 -> 4.009434 | E14: =E15/(1+(C15/100)) -> 32.613295 | F14: - | G14: - | H14: 11.71 | I14: =((H14/H13)-1)*100 -> 1.826087 | J14: =H14 -> 11.71 | K14: =I14 -> 1.826087 | L14: =(J14/E14)*100 -> 35.905602 | M14: =((L14/L13)-1)*100 -> -2.0991817 | N14: =(J14/'EU Pob'!B14)*1000000 -> 205.87563 | O14: =((N14/N13)-1)*100 -> -0.85924736
A15: 1886 | B15: - | C15: 3 | D15: =C15 -> 3 | E15: =E16/(1+(C16/100)) -> 33.591694 | F15: - | G15: - | H15: 12.06 | I15: =((H15/H14)-1)*100 -> 2.9888984 | J15: =H15 -> 12.06 | K15: =I15 -> 2.9888984 | L15: =(J15/E15)*100 -> 35.901732 | M15: =((L15/L14)-1)*100 -> -0.010778274 | N15: =(J15/'EU Pob'!B15)*1000000 -> 207.34475 | O15: =((N15/N14)-1)*100 -> 0.71359519
A16: 1887 | B16: - | C16: 4.5094455 | D16: =C16 -> 4.5094455 | E16: =E17/(1+(C17/100)) -> 35.106493 | F16: - | G16: - | H16: 12.61 | I16: =((H16/H15)-1)*100 -> 4.5605307 | J16: =H16 -> 12.61 | K16: =I16 -> 4.5605307 | L16: =(J16/E16)*100 -> 35.919281 | M16: =((L16/L15)-1)*100 -> 0.04888096 | N16: =(J16/'EU Pob'!B16)*1000000 -> 212.11815 | O16: =((N16/N15)-1)*100 -> 2.3021583
A17: 1888 | B17: - | C17: -0.4664723 | D17: =C17 -> -0.4664723 | E17: =E18/(1+(C18/100)) -> 34.942731 | F17: - | G17: - | H17: 12.75 | I17: =((H17/H16)-1)*100 -> 1.11023 | J17: =H17 -> 12.75 | K17: =I17 -> 1.11023 | L17: =(J17/E17)*100 -> 36.488276 | M17: =((L17/L16)-1)*100 -> 1.5840916 | N17: =(J17/'EU Pob'!B17)*1000000 -> 209.93875 | O17: =((N17/N16)-1)*100 -> -1.0274493
... A57: 1928 | B57: - | C57: 1.8484571 | D57: =C57 -> 1.8484571 | E57: =E58/(1+(C58/100)) -> 136.47521 | F57: - | G57: - | H57: 97.32 | I57: =((H57/H56)-1)*100 -> 1.0172306 | J57: =H57 -> 97.32 | K57: =I57 -> 1.0172306 | L57: =(J57/E57)*100 -> 71.309653 | M57: =((L57/L56)-1)*100 -> -0.81614043 | N57: =(J57/'EU Pob'!B57)*1000000 -> 804.49033 | O57: =((N57/N56)-1)*100 -> -0.20946263
A58: 1929 | B58: - | C58: 6.4346783 | D58: =C58 -> 6.4346783 | E58: =E59/(1+(C59/100)) -> 145.25695 | F58: 104.556 | H58: - | I58: - | J58: =F58 -> 104.556 | K58: =(K57+K59)/2 -> -5.4193085 | L58: =(J58/E58)*100 -> 71.980031 | M58: =((L58/L57)-1)*100 -> 0.94009477 | N58: =(J58/'EU Pob'!B58)*1000000 -> 855.29879 | O58: =((N58/N57)-1)*100 -> 6.3156076
A59: 1930 | B59: - | C59: -8.5 | D59: =C59 -> -8.5 | E59: =E60/(1+(C60/100)) -> 132.91011 | F59: 92.16 | G59: =((F59/F58)-1)*100 -> -11.855848 | H59: - | I59: - | J59: =F59 -> 92.16 | K59: =G59 -> -11.855848 | L59: =(J59/E59)*100 -> 69.340097 | M59: =((L59/L58)-1)*100 -> -3.667593 | N59: =(J59/'EU Pob'!B59)*1000000 -> 748.12482 | O59: =((N59/N58)-1)*100 -> -12.530588
A60: 1931 | B60: - | C60: -6.4 | D60: =C60 -> -6.4 | E60: =E61/(1+(C61/100)) -> 124.40386 | F60: 77.391 | G60: =((F60/F59)-1)*100 -> -16.025391 | H60: - | I60: - | J60: =F60 -> 77.391 | K60: =G60 -> -16.025391 | L60: =(J60/E60)*100 -> 62.209482 | M60: =((L60/L59)-1)*100 -> -10.283537 | N60: =(J60/'EU Pob'!B60)*1000000 -> 623.37192 | O60: =((N60/N59)-1)*100 -> -16.675413
A61: 1932 | B61: - | C61: -12.9 | D61: =C61 -> -12.9 | E61: =E62/(1+(C62/100)) -> 108.35577 | F61: 59.522 | G61: =((F61/F60)-1)*100 -> -23.089248 | H61: - | I61: - | J61: =F61 -> 59.522 | K61: =G61 -> -23.089248 | L61: =(J61/E61)*100 -> 54.93201 | M61: =((L61/L60)-1)*100 -> -11.698333 | N61: =(J61/'EU Pob'!B61)*1000000 -> 476.37036 | O61: =((N61/N60)-1)*100 -> -23.581678
A62: 1933 | B62: - | C62: -1.2 | D62: =C62 -> -1.2 | E62: =E63/(1+(C63/100)) -> 107.0555 | F62: 57.154 | G62: =((F62/F61)-1)*100 -> -3.9783609 | H62: - | I62: - | J62: =F62 -> 57.154 | K62: =G62 -> -3.9783609 | L62: =(J62/E62)*100 -> 53.387263 | M62: =((L62/L61)-1)*100 -> -2.8121062 | N62: =(J62/'EU Pob'!B62)*1000000 -> 454.72193 | O62: =((N62/N61)-1)*100 -> -4.5444524
A63: 1934 | B63: - | C63: 10.8 | D63: =C63 -> 10.8 | E63: =E64/(1+(C64/100)) -> 118.61749 | F63: 66.8 | G63: =((F63/F62)-1)*100 -> 16.877209 | H63: - | I63: - | J63: =F63 -> 66.8 | K63: =G63 -> 16.877209 | L63: =(J63/E63)*100 -> 56.315472 | M63: =((L63/L62)-1)*100 -> 5.4848456 | N63: =(J63/'EU Pob'!B63)*1000000 -> 528.12586 | O63: =((N63/N62)-1)*100 -> 16.142597
A64: 1935 | B64: - | C64: 8.9 | D64: =C64 -> 8.9 | E64: =E65/(1+(C65/100)) -> 129.17445 | F64: 74.241 | G64: =((F64/F63)-1)*100 -> 11.139222 | H64: - | I64: - | J64: =F64 -> 74.241 | K64: =G64 -> 11.139222 | L64: =(J64/E64)*100 -> 57.473441 | M64: =((L64/L63)-1)*100 -> 2.0562181 | N64: =(J64/'EU Pob'!B64)*1000000 -> 582.91327 | O64: =((N64/N63)-1)*100 -> 10.37393
A65: 1936 | B65: - | C65: 12.9 | D65: =C65 -> 12.9 | E65: =E66/(1+(C66/100)) -> 145.83795 | F65: 84.83 | G65: =((F65/F64)-1)*100 -> 14.263008 | H65: - | I65: - | J65: =F65 -> 84.83 | K65: =G65 -> 14.263008 | L65: =(J65/E65)*100 -> 58.167301 | M65: =((L65/L64)-1)*100 -> 1.2072704 | N65: =(J65/'EU Pob'!B65)*1000000 -> 661.79855 | O65: =((N65/N64)-1)*100 -> 13.532936
A66: 1937 | B66: - | C66: 5.1 | D66: =C66 -> 5.1 | E66: =E67/(1+(C67/100)) -> 153.27569 | F66: 93.003 | G66: =((F66/F65)-1)*100 -> 9.6345632 | H66: - | I66: - | J66: =F66 -> 93.003 | K66: =G66 -> 9.6345632 | L66: =(J66/E66)*100 -> 60.676942 | M66: =((L66/L65)-1)*100 -> 4.3145226 | N66: =(J66/'EU Pob'!B66)*1000000 -> 721.17152 | O66: =((N66/N65)-1)*100 -> 8.9714561
A67: 1938 | B67: - | C67: -3.3 | D67: =C67 -> -3.3 | E67: =E68/(1+(C68/100)) -> 148.21759 | F67: 87.352 | G67: =((F67/F66)-1)*100 -> -6.0761481 | H67: - | I67: - | J67: =F67 -> 87.352 | K67: =G67 -> -6.0761481 | L67: =(J67/E67)*100 -> 58.934976 | M67: =((L67/L66)-1)*100 -> -2.8708874 | N67: =(J67/'EU Pob'!B67)*1000000 -> 672.09873 | O67: =((N67/N66)-1)*100 -> -6.8045929
A68: 1939 | B68: - | C68: 8 | D68: =C68 -> 8 | E68: =E69/(1+(C69/100)) -> 160.075 | F68: 93.437 | G68: =((F68/F67)-1)*100 -> 6.9660683 | H68: - | I68: - | J68: =F68 -> 93.437 | K68: =G68 -> 6.9660683 | L68: =(J68/E68)*100 -> 58.370765 | M68: =((L68/L67)-1)*100 -> -0.95734415 | N68: =(J68/'EU Pob'!B68)*1000000 -> 713.10712 | O68: =((N68/N67)-1)*100 -> 6.1015427
A69: 1940 | B69: - | C69: 8.8 | D69: =C69 -> 8.8 | E69: =E70/(1+(C70/100)) -> 174.1616 | F69: 102.899 | G69: =((F69/F68)-1)*100 -> 10.126609 | H69: - | I69: - | J69: =F69 -> 102.899 | K69: =G69 -> 10.126609 | L69: =(J69/E69)*100 -> 59.082486 | M69: =((L69/L68)-1)*100 -> 1.2193101 | N69: =(J69/'EU Pob'!B69)*1000000 -> 778.81806 | O69: =((N69/N68)-1)*100 -> 9.2147362
A70: 1941 | B70: - | C70: 17.7 | D70: =C70 -> 17.7 | E70: =E71/(1+(C71/100)) -> 204.9882 | F70: 129.309 | G70: =((F70/F69)-1)*100 -> 25.665944 | H70: - | I70: - | J70: =F70 -> 129.309 | K70: =G70 -> 25.665944 | L70: =(J70/E70)*100 -> 63.081193 | M70: =((L70/L69)-1)*100 -> 6.768007 | N70: =(J70/'EU Pob'!B70)*1000000 -> 969.3183 | O70: =((N70/N69)-1)*100 -> 24.460172
... A75: 1946 | B75: - | C75: -11.6 | D75: =C75 -> -11.6 | E75: =E76/(1+(C76/100)) -> 269.53042 | F75: 227.535 | G75: =((F75/F74)-1)*100 -> -0.20701119 | H75: - | I75: - | J75: =F75 -> 227.535 | K75: =G75 -> -0.20701119 | L75: =(J75/E75)*100 -> 84.419042 | M75: =((L75/L74)-1)*100 -> 12.887996 | N75: =(J75/'EU Pob'!B75)*1000000 -> 1609.2836 | O75: =((N75/N74)-1)*100 -> -1.2381915
A76: 1947 | B76: - | C76: -1.1 | D76: =C76 -> -1.1 | E76: =E77/(1+(B77/100)) -> 266.56559 | F76: 249.616 | G76: =((F76/F75)-1)*100 -> 9.7044411 | H76: - | I76: - | J76: =F76 -> 249.616 | K76: =G76 -> 9.7044411 | L76: =(J76/E76)*100 -> 93.641495 | M76: =((L76/L75)-1)*100 -> 10.924612 | N76: =(J76/'EU Pob'!B76)*1000000 -> 1731.929 | O76: =((N76/N75)-1)*100 -> 7.6211178
A77: 1948 | B77: 4.1 | C77: - | D77: =B77 -> 4.1 | E77: =E78/(1+(B78/100)) -> 277.49478 | F77: 274.468 | G77: =((F77/F76)-1)*100 -> 9.9560926 | H77: - | I77: - | J77: =F77 -> 274.468 | K77: =G77 -> 9.9560926 | L77: =(J77/E77)*100 -> 98.90925 | M77: =((L77/L76)-1)*100 -> 5.6254491 | N77: =(J77/'EU Pob'!B77)*1000000 -> 1871.8279 | O77: =((N77/N76)-1)*100 -> 8.0776357
A78: 1949 | B78: -0.6 | C78: - | D78: =B78 -> -0.6 | E78: =E79/(1+(B79/100)) -> 275.82981 | F78: 272.475 | G78: =((F78/F77)-1)*100 -> -0.72613201 | H78: - | I78: - | J78: =F78 -> 272.475 | K78: =G78 -> -0.72613201 | L78: =(J78/E78)*100 -> 98.78374 | M78: =((L78/L77)-1)*100 -> -0.12689337 | N78: =(J78/'EU Pob'!B78)*1000000 -> 1826.3868 | O78: =((N78/N77)-1)*100 -> -2.4276313
A79: 1950 | B79: 8.7 | C79: - | D79: =B79 -> 8.7 | E79: =F79 -> 299.827 | F79: 299.827 | G79: =((F79/F78)-1)*100 -> 10.038352 | H79: - | I79: - | J79: =F79 -> 299.827 | K79: =G79 -> 10.038352 | L79: =(J79/E79)*100 -> 100 | M79: =((L79/L78)-1)*100 -> 1.2312347 | N79: =(J79/'EU Pob'!B79)*1000000 -> 1976.6554 | O79: =((N79/N78)-1)*100 -> 8.2276422
A80: 1951 | B80: 8 | C80: - | D80: =B80 -> 8 | E80: =E79*(1+(B80/100)) -> 323.81316 | F80: 346.914 | G80: =((F80/F79)-1)*100 -> 15.704723 | H80: - | I80: - | J80: =F80 -> 346.914 | K80: =G80 -> 15.704723 | L80: =(J80/E80)*100 -> 107.134 | M80: =((L80/L79)-1)*100 -> 7.1340028 | N80: =(J80/'EU Pob'!B80)*1000000 -> 2248.4979 | O80: =((N80/N79)-1)*100 -> 13.752651
A81: 1952 | B81: 4.1 | C81: - | D81: =B81 -> 4.1 | E81: =E80*(1+(B81/100)) -> 337.0895 | F81: 367.341 | G81: =((F81/F80)-1)*100 -> 5.8882028 | H81: - | I81: - | J81: =F81 -> 367.341 | K81: =G81 -> 5.8882028 | L81: =(J81/E81)*100 -> 108.97432 | M81: =((L81/L80)-1)*100 -> 1.7177741 | N81: =(J81/'EU Pob'!B81)*1000000 -> 2340.4373 | O81: =((N81/N80)-1)*100 -> 4.0889251
A82: 1953 | B82: 4.7 | C82: - | D82: =B82 -> 4.7 | E82: =E81*(1+(B82/100)) -> 352.93271 | F82: 389.218 | G82: =((F82/F81)-1)*100 -> 5.9555018 | H82: - | I82: - | J82: =F82 -> 389.218 | K82: =G82 -> 5.9555018 | L82: =(J82/E82)*100 -> 110.28108 | M82: =((L82/L81)-1)*100 -> 1.1991422 | N82: =(J82/'EU Pob'!B82)*1000000 -> 2439.2442 | O82: =((N82/N81)-1)*100 -> 4.2217268
A83: 1954 | B83: -0.6 | C83: - | D83: =B83 -> -0.6 | E83: =E82*(1+(B83/100)) -> 350.81511 | F83: 390.549 | G83: =((F83/F82)-1)*100 -> 0.34196774 | H83: - | I83: - | J83: =F83 -> 390.549 | K83: =G83 -> 0.34196774 | L83: =(J83/E83)*100 -> 111.32616 | M83: =((L83/L82)-1)*100 -> 0.94765366 | N83: =(J83/'EU Pob'!B83)*1000000 -> 2404.9917 | O83: =((N83/N82)-1)*100 -> -1.4042276
A84: 1955 | B84: 7.1 | C84: - | D84: =B84 -> 7.1 | E84: =E83*(1+(B84/100)) -> 375.72298 | F84: 425.478 | G84: =((F84/F83)-1)*100 -> 8.9435641 | H84: - | I84: - | J84: =F84 -> 425.478 | K84: =G84 -> 8.9435641 | L84: =(J84/E84)*100 -> 113.24247 | M84: =((L84/L83)-1)*100 -> 1.7213483 | N84: =(J84/'EU Pob'!B84)*1000000 -> 2574.3639 | O84: =((N84/N83)-1)*100 -> 7.042531
A85: 1956 | B85: 2.1 | C85: - | D85: =B85 -> 2.1 | E85: =E84*(1+(B85/100)) -> 383.61317 | F85: 449.353 | G85: =((F85/F84)-1)*100 -> 5.611336 | H85: - | I85: - | J85: =F85 -> 449.353 | K85: =G85 -> 5.611336 | L85: =(J85/E85)*100 -> 117.13701 | M85: =((L85/L84)-1)*100 -> 3.4391146 | N85: =(J85/'EU Pob'!B85)*1000000 -> 2671.2063 | O85: =((N85/N84)-1)*100 -> 3.7617988
A86: 1957 | B86: 2.1 | C86: - | D86: =B86 -> 2.1 | E86: =E85*(1+(B86/100)) -> 391.66904 | F86: 474.039 | G86: =((F86/F85)-1)*100 -> 5.4936765 | H86: - | I86: - | J86: =F86 -> 474.039 | K86: =G86 -> 5.4936765 | L86: =(J86/E86)*100 -> 121.0305 | M86: =((L86/L85)-1)*100 -> 3.3238751 | N86: =(J86/'EU Pob'!B86)*1000000 -> 2767.7231 | O86: =((N86/N85)-1)*100 -> 3.6132265
...

Sheet EU INF
B1: Series de Fred con distintas bases | F1: Tasas de crecimiento de las series Fred con distintas bases | K1: Precios mayoreo 1886-1912 y Precios consumidor 1913-2010 | R1: Índices de precios anuales mayoreo/menudeo, 1886-2010 | X1: Índices de precios anuales mayoreo/menudeo, 1876-2010 | AD1: 1872-1939 | AG1: Index of the General Price Level for United States (M04051USM324NNBR)
A2: Mes/Año | B2: Fred Base 1910-1914 = 100 (1) | C2: Fred Base 1926=100 (2) | D2: Fred Base 1982-1984 = 100 (3) | F2: t/c (1) | G2: t/c (2) | H2: t/c (3) | I2: t/c compuesta | K2: Índice de precios mixta de Fred Base Julio 1950 = 100 | L2: Índice de precios mixta de Fred Base t/c mensual | M2: Índice de precios mixta de Fred Base t/c anual | O2: Mes/Año | P2: Índice de precios mixta de Fred Base Julio 1950 = 100 | R2: Año | S2: Índice de precios promedio de Fred Base 1950 = 100 | T2: Ínflación promedio de Fred t/c | U2: Índice de precios fin de Fred Base 1950 | V2: Ínflación fin de Fred t/c | X2: Año | Y2: Índice de precios promedio de Fred Base 1950 = 100 | Z2: Ínflación promedio de Fred t/c | AA2: Índice de precios fin de Fred Base 1950 | AB2: Ínflación fin de Fred t/c | AD2: Mes/Año | AE2: Índice de precios Fred Base 1913 = 100 | AG2: Año | AH2: Índice de precios promedio de Fred Base 1913 = 100 | AI2: Ínflación promedio de Fred t/c | AJ2: Índice de precios fin de Fred Base 1913 | AK2: Ínflación fin de Fred t/c
A5: 1/1/1885 | B5: - | C5: - | D5: - | F5: - | G5: - | H5: - | I5: - | K5: - | L5: - | M5: - | O5: 1/1/1885 | P5: - | R5: - | S5: - | T5: - | U5: - | V5: - | X5: 1876 | Y5: 36.717344 | Z5: -5.5906222 | AA5: - | AB5: - | AD5: 1/1/1872 | AE5: - | AG5: - | AH5: - | AI5: - | AJ5: - | AK5: -
A6: 2/1/1885 | B6: - | C6: - | D6: - | F6: - | G6: - | H6: - | I6: - | K6: - | L6: - | M6: - | O6: 2/1/1885 | P6: - | R6: 1886 | S6: =AVERAGE(P20:P28) -> 31.947947 | T6: - | U6: =P28 -> 32.43134 | V6: - | X6: 1877 | Y6: 35.349649 | Z6: =((Y6/Y5)-1)*100 -> -3.7249284 | AA6: - | AB6: - | AD6: 2/1/1872 | AE6: - | AG6: 1873 | AH6: =AVERAGE(AE17:AE28) -> 100 | AI6: - | AJ6: =AE28 -> 98 | AK6: -
A7: 3/1/1885 | B7: - | C7: - | D7: - | F7: - | G7: - | H7: - | I7: - | K7: - | L7: - | M7: - | O7: 3/1/1885 | P7: - | R7: 1887 | S7: =AVERAGE(P29:P40) -> 33.420101 | T7: =((S7/S6)-1)*100 -> 4.607978 | U7: =P40 -> 34.408861 | V7: =((U7/U6)-1)*100 -> 6.097561 | X7: 1878 | Y7: 32.614259 | Z7: =((Y7/Y6)-1)*100 -> -7.7380952 | AA7: - | AB7: - | AD7: 3/1/1872 | AE7: - | AG7: 1874 | AH7: =AVERAGE(AE29:AE40) -> 95.666667 | AI7: =((AH7/AH6)-1)*100 -> -4.3333333 | AJ7: =AE40 -> 94 | AK7: =((AJ7/AJ6)-1)*100 -> -4.0816327
A8: 4/1/1885 | B8: - | C8: - | D8: - | F8: - | G8: - | H8: - | I8: - | K8: - | L8: - | M8: - | O8: 4/1/1885 | P8: - | R8: 1888 | S8: =AVERAGE(P41:P52) -> 34.013357 | T8: =((S8/S7)-1)*100 -> 1.7751479 | U8: =P52 -> 34.408861 | V8: =((U8/U7)-1)*100 -> 2.220446e-14 | X8: 1879 | Y8: 32.333707 | Z8: =((Y8/Y7)-1)*100 -> -0.86021505 | AA8: - | AB8: - | AD8: 4/1/1872 | AE8: - | AG8: 1875 | AH8: =AVERAGE(AE41:AE52) -> 92.416667 | AI8: =((AH8/AH7)-1)*100 -> -3.3972125 | AJ8: =AE52 -> 90 | AK8: =((AJ8/AJ7)-1)*100 -> -4.2553191
A9: 5/1/1885 | B9: - | C9: - | D9: - | F9: - | G9: - | H9: - | I9: - | K9: - | L9: - | M9: - | O9: 5/1/1885 | P9: - | R9: 1889 | S9: =AVERAGE(P53:P64) -> 32.167671 | T9: =((S9/S8)-1)*100 -> -5.4263566 | U9: =P64 -> 32.43134 | V9: =((U9/U8)-1)*100 -> -5.7471264 | X9: 1880 | Y9: 34.753474 | Z9: =((Y9/Y8)-1)*100 -> 7.483731 | AA9: - | AB9: - | AD9: 5/1/1872 | AE9: - | AG9: 1876 | AH9: =AVERAGE(AE53:AE64) -> 87.25 | AI9: =((AH9/AH8)-1)*100 -> -5.5906222 | AJ9: =AE64 -> 88 | AK9: =((AJ9/AJ8)-1)*100 -> -2.2222222
A10: 6/1/1885 | B10: - | C10: - | D10: - | F10: - | G10: - | H10: - | I10: - | K10: - | L10: - | M10: - | O10: 6/1/1885 | P10: - | R10: 1890 | S10: =AVERAGE(P65:P76) -> 32.503163 | T10: =((S10/S9)-1)*100 -> 1.0429466 | U10: =P76 -> 32.739357 | V10: =((U10/U9)-1)*100 -> 0.94974807 | X10: 1881 | Y10: 35.805547 | Z10: =((Y10/Y9)-1)*100 -> 3.0272452 | AA10: - | AB10: - | AD10: 6/1/1872 | AE10: - | AG10: 1877 | AH10: =AVERAGE(AE65:AE76) -> 84 | AI10: =((AH10/AH9)-1)*100 -> -3.7249284 | AJ10: =AE76 -> 81 | AK10: =((AJ10/AJ9)-1)*100 -> -7.9545455
A11: 7/1/1885 | B11: - | C11: - | D11: - | F11: - | G11: - | H11: - | I11: - | K11: - | L11: - | M11: - | O11: 7/1/1885 | P11: - | R11: 1891 | S11: =AVERAGE(P77:P88) -> 32.315172 | T11: =((S11/S10)-1)*100 -> -0.57837758 | U11: =P88 -> 31.119742 | V11: =((U11/U10)-1)*100 -> -4.9469965 | X11: 1882 | Y11: 36.892689 | Z11: =((Y11/Y10)-1)*100 -> 3.036239 | AA11: - | AB11: - | AD11: 7/1/1872 | AE11: - | AG11: 1878 | AH11: =AVERAGE(AE77:AE88) -> 77.5 | AI11: =((AH11/AH10)-1)*100 -> -7.7380952 | AJ11: =AE88 -> 76 | AK11: =((AJ11/AJ10)-1)*100 -> -6.1728395
A12: 8/1/1885 | B12: - | C12: - | D12: - | F12: - | G12: - | H12: - | I12: - | K12: - | L12: - | M12: - | O12: 8/1/1885 | P12: - | R12: 1892 | S12: =AVERAGE(P89:P100) -> 30.247271 | T12: =((S12/S11)-1)*100 -> -6.3991647 | U12: =P100 -> 31.813862 | V12: =((U12/U11)-1)*100 -> 2.2304833 | X12: 1883 | Y12: 35.31458 | Z12: =((Y12/Y11)-1)*100 -> -4.2775665 | AA12: - | AB12: - | AD12: 8/1/1872 | AE12: - | AG12: 1879 | AH12: =AVERAGE(AE89:AE100) -> 76.833333 | AI12: =((AH12/AH11)-1)*100 -> -0.86021505 | AJ12: =AE100 -> 82 | AK12: =((AJ12/AJ11)-1)*100 -> 7.8947368
A13: 9/1/1885 | B13: - | C13: - | D13: - | F13: - | G13: - | H13: - | I13: - | K13: - | L13: - | M13: - | O13: 9/1/1885 | P13: - | R13: 1893 | S13: =AVERAGE(P101:P112) -> 30.970313 | T13: =((S13/S12)-1)*100 -> 2.3904382 | U13: =P112 -> 29.153067 | V13: =((U13/U12)-1)*100 -> -8.3636364 | X13: 1884 | Y13: 33.490987 | Z13: =((Y13/Y12)-1)*100 -> -5.163853 | AA13: - | AB13: - | AD13: 9/1/1872 | AE13: - | AG13: 1880 | AH13: =AVERAGE(AE101:AE112) -> 82.583333 | AI13: =((AH13/AH12)-1)*100 -> 7.483731 | AJ13: =AE112 -> 83 | AK13: =((AJ13/AJ12)-1)*100 -> 1.2195122
A14: 10/1/1885 | B14: - | C14: - | D14: - | F14: - | G14: - | H14: - | I14: - | K14: - | L14: - | M14: - | O14: 10/1/1885 | P14: - | R14: 1894 | S14: =AVERAGE(P113:P124) -> 27.774466 | T14: =((S14/S13)-1)*100 -> -10.319066 | U14: =P124 -> 27.475608 | V14: =((U14/U13)-1)*100 -> -5.7539683 | X14: 1885 | Y14: 32.333707 | Z14: =((Y14/Y13)-1)*100 -> -3.4554974 | AA14: - | AB14: - | AD14: 10/1/1872 | AE14: - | AG14: 1881 | AH14: =AVERAGE(AE113:AE124) -> 85.083333 | AI14: =((AH14/AH13)-1)*100 -> 3.0272452 | AJ14: =AE124 -> 87 | AK14: =((AJ14/AJ13)-1)*100 -> 4.8192771
A15: 11/1/1885 | B15: - | C15: - | D15: - | F15: - | G15: - | H15: - | I15: - | K15: - | L15: - | M15: - | O15: 11/1/1885 | P15: - | R15: 1895 | S15: =AVERAGE(P125:P136) -> 28.275775 | T15: =((S15/S14)-1)*100 -> 1.8049288 | U15: =P136 -> 27.938355 | V15: =((U15/U14)-1)*100 -> 1.6842105 | X15: 1886 | Y15: =S6 -> 31.947947 | Z15: =((Y15/Y14)-1)*100 -> -1.1930586 | AA15: =U6 -> 32.43134 | AB15: - | AD15: 11/1/1872 | AE15: - | AG15: 1882 | AH15: =AVERAGE(AE125:AE136) -> 87.666667 | AI15: =((AH15/AH14)-1)*100 -> 3.036239 | AJ15: =AE136 -> 86 | AK15: =((AJ15/AJ14)-1)*100 -> -1.1494253
A16: 12/1/1885 | B16: - | C16: - | D16: - | F16: - | G16: - | H16: - | I16: - | K16: - | L16: - | M16: - | O16: 12/1/1885 | P16: - | R16: 1896 | S16: =AVERAGE(P137:P148) -> 26.916456 | T16: =((S16/S15)-1)*100 -> -4.8073645 | U16: =P148 -> 27.533452 | V16: =((U16/U15)-1)*100 -> -1.4492754 | X16: 1887 | Y16: =S7 -> 33.420101 | Z16: =((Y16/Y15)-1)*100 -> 4.607978 | AA16: =U7 -> 34.408861 | AB16: =((AA16/AA15)-1)*100 -> 6.097561 | AD16: 12/1/1872 | AE16: - | AG16: 1883 | AH16: =AVERAGE(AE137:AE148) -> 83.916667 | AI16: =((AH16/AH15)-1)*100 -> -4.2775665 | AJ16: =AE148 -> 82 | AK16: =((AJ16/AJ15)-1)*100 -> -4.6511628
A17: 1/1/1886 | B17: - | C17: - | D17: - | F17: - | G17: - | H17: - | I17: - | K17: - | L17: - | M17: - | O17: 1/1/1886 | P17: - | R17: 1897 | S17: =AVERAGE(P149:P160) -> 27.022502 | T17: =((S17/S16)-1)*100 -> 0.39398281 | U17: =P160 -> 27.822669 | V17: =((U17/U16)-1)*100 -> 1.0504202 | X17: 1888 | Y17: =S8 -> 34.013357 | Z17: =((Y17/Y16)-1)*100 -> 1.7751479 | AA17: =U8 -> 34.408861 | AB17: =((AA17/AA16)-1)*100 -> 2.220446e-14 | AD17: 1/1/1873 | AE17: 102 | AG17: 1884 | AH17: =AVERAGE(AE149:AE160) -> 79.583333 | AI17: =((AH17/AH16)-1)*100 -> -5.163853 | AJ17: =AE160 -> 77 | AK17: =((AJ17/AJ16)-1)*100 -> -6.097561
A18: 2/1/1886 | B18: - | C18: - | D18: - | F18: - | G18: - | H18: - | I18: - | K18: - | L18: - | M18: - | O18: 2/1/1886 | P18: - | R18: 1898 | S18: =AVERAGE(P161:P172) -> 28.063683 | T18: =((S18/S17)-1)*100 -> 3.8530146 | U18: =P172 -> 27.938355 | V18: =((U18/U17)-1)*100 -> 0.41580042 | X18: 1889 | Y18: =S9 -> 32.167671 | Z18: =((Y18/Y17)-1)*100 -> -5.4263566 | AA18: =U9 -> 32.43134 | AB18: =((AA18/AA17)-1)*100 -> -5.7471264 | AD18: 2/1/1873 | AE18: 103 | AG18: 1885 | AH18: =AVERAGE(AE161:AE172) -> 76.833333 | AI18: =((AH18/AH17)-1)*100 -> -3.4554974 | AJ18: =AE172 -> 78 | AK18: =((AJ18/AJ17)-1)*100 -> 1.2987013
A19: 3/1/1886 | B19: 83 | C19: - | D19: - | F19: - | G19: - | H19: - | I19: - | K19: - | L19: - | M19: - | O19: 3/1/1886 | P19: - | R19: 1899 | S19: =AVERAGE(P173:P184) -> 30.290653 | T19: =((S19/S18)-1)*100 -> 7.9354174 | U19: =P184 -> 32.7972 | V19: =((U19/U18)-1)*100 -> 17.391304 | X19: 1890 | Y19: =S10 -> 32.503163 | Z19: =((Y19/Y18)-1)*100 -> 1.0429466 | AA19: =U10 -> 32.739357 | AB19: =((AA19/AA18)-1)*100 -> 0.94974807 | AD19: 3/1/1873 | AE19: 103 | AG19: 1886 | AH19: =AVERAGE(AE173:AE184) -> 75.916667 | AI19: =((AH19/AH18)-1)*100 -> -1.1930586 | AJ19: =AE184 -> 76 | AK19: =((AJ19/AJ18)-1)*100 -> -2.5641026
A20: 4/1/1886 | B20: 82 | C20: - | D20: - | F20: =((B20/B19)-1)*100 -> -1.2048193 | G20: - | H20: - | I20: =F20 -> -1.2048193 | K20: =K21/(1+(I21/100)) -> 32.43134 | L20: - | M20: - | O20: 4/1/1886 | P20: =K20 -> 32.43134 | R20: 1900 | S20: =AVERAGE(P185:P196) -> 32.479061 | T20: =((S20/S19)-1)*100 -> 7.2246976 | U20: =P196 -> 31.871706 | V20: =((U20/U19)-1)*100 -> -2.8218695 | X20: 1891 | Y20: =S11 -> 32.315172 | Z20: =((Y20/Y19)-1)*100 -> -0.57837758 | AA20: =U11 -> 31.119742 | AB20: =((AA20/AA19)-1)*100 -> -4.9469965 | AD20: 4/1/1873 | AE20: 103 | AG20: 1887 | AH20: =AVERAGE(AE185:AE196) -> 76.916667 | AI20: =((AH20/AH19)-1)*100 -> 1.3172338 | AJ20: =AE196 -> 78 | AK20: =((AJ20/AJ19)-1)*100 -> 2.6315789
A21: 5/1/1886 | B21: 80 | C21: - | D21: - | F21: =((B21/B20)-1)*100 -> -2.4390244 | G21: - | H21: - | I21: =F21 -> -2.4390244 | K21: =K22/(1+(I22/100)) -> 31.640332 | L21: =((K21/K20)-1)*100 -> -2.4390244 | M21: - | O21: 5/1/1886 | P21: =K21 -> 31.640332 | R21: 1901 | S21: =AVERAGE(P197:P208) -> 31.977752 | T21: =((S21/S20)-1)*100 -> -1.5434847 | U21: =P208 -> 33.375634 | V21: =((U21/U20)-1)*100 -> 4.7186933 | X21: 1892 | Y21: =S12 -> 30.247271 | Z21: =((Y21/Y20)-1)*100 -> -6.3991647 | AA21: =U12 -> 31.813862 | AB21: =((AA21/AA20)-1)*100 -> 2.2304833 | AD21: 5/1/1873 | AE21: 101 | AG21: 1888 | AH21: =AVERAGE(AE197:AE208) -> 77.916667 | AI21: =((AH21/AH20)-1)*100 -> 1.3001083 | AJ21: =AE208 -> 78 | AK21: =((AJ21/AJ20)-1)*100 -> 0
A22: 6/1/1886 | B22: 79 | C22: - | D22: - | F22: =((B22/B21)-1)*100 -> -1.25 | G22: - | H22: - | I22: =F22 -> -1.25 | K22: =K23/(1+(I23/100)) -> 31.244828 | L22: =((K22/K21)-1)*100 -> -1.25 | M22: - | O22: 6/1/1886 | P22: =K22 -> 31.244828 | R22: 1902 | S22: =AVERAGE(P209:P220) -> 34.016731 | T22: =((S22/S21)-1)*100 -> 6.3762436 | U22: =P220 -> 35.573682 | V22: =((U22/U21)-1)*100 -> 6.5857886 | X22: 1893 | Y22: =S13 -> 30.970313 | Z22: =((Y22/Y21)-1)*100 -> 2.3904382 | AA22: =U13 -> 29.153067 | AB22: =((AA22/AA21)-1)*100 -> -8.3636364 | AD22: 6/1/1873 | AE22: 99 | AG22: 1889 | AH22: =AVERAGE(AE209:AE220) -> 77.083333 | AI22: =((AH22/AH21)-1)*100 -> -1.0695187 | AJ22: =AE220 -> 77 | AK22: =((AJ22/AJ21)-1)*100 -> -1.2820513
A23: 7/1/1886 | B23: 80 | C23: - | D23: - | F23: =((B23/B22)-1)*100 -> 1.2658228 | G23: - | H23: - | I23: =F23 -> 1.2658228 | K23: =K24/(1+(I24/100)) -> 31.640332 | L23: =((K23/K22)-1)*100 -> 1.2658228 | M23: - | O23: 7/1/1886 | P23: =K23 -> 31.640332 | R23: 1903 | S23: =AVERAGE(P221:P232) -> 34.465018 | T23: =((S23/S22)-1)*100 -> 1.3178404 | U23: =P232 -> 33.664851 | V23: =((U23/U22)-1)*100 -> -5.3658537 | X23: 1894 | Y23: =S14 -> 27.774466 | Z23: =((Y23/Y22)-1)*100 -> -10.319066 | AA23: =U14 -> 27.475608 | AB23: =((AA23/AA22)-1)*100 -> -5.7539683 | AD23: 7/1/1873 | AE23: 99 | AG23: 1890 | AH23: =AVERAGE(AE221:AE232) -> 77.5 | AI23: =((AH23/AH22)-1)*100 -> 0.54054054 | AJ23: =AE232 -> 77 | AK23: =((AJ23/AJ22)-1)*100 -> 0
A24: 8/1/1886 | B24: 81 | C24: - | D24: - | F24: =((B24/B23)-1)*100 -> 1.25 | G24: - | H24: - | I24: =F24 -> 1.25 | K24: =K25/(1+(I25/100)) -> 32.035836 | L24: =((K24/K23)-1)*100 -> 1.25 | M24: - | O24: 8/1/1886 | P24: =K24 -> 32.035836 | R24: 1904 | S24: =AVERAGE(P233:P244) -> 34.527681 | T24: =((S24/S23)-1)*100 -> 0.18181818 | U24: =P244 -> 35.342309 | V24: =((U24/U23)-1)*100 -> 4.9828179 | X24: 1895 | Y24: =S15 -> 28.275775 | Z24: =((Y24/Y23)-1)*100 -> 1.8049288 | AA24: =U15 -> 27.938355 | AB24: =((AA24/AA23)-1)*100 -> 1.6842105 | AD24: 8/1/1873 | AE24: 99 | AG24: 1891 | AH24: =AVERAGE(AE233:AE244) -> 76.75 | AI24: =((AH24/AH23)-1)*100 -> -0.96774194 | AJ24: =AE244 -> 76 | AK24: =((AJ24/AJ23)-1)*100 -> -1.2987013
A25: 9/1/1886 | B25: 81 | C25: - | D25: - | F25: =((B25/B24)-1)*100 -> 0 | G25: - | H25: - | I25: =F25 -> 0 | K25: =K26/(1+(I26/100)) -> 32.035836 | L25: =((K25/K24)-1)*100 -> 0 | M25: - | O25: 9/1/1886 | P25: =K25 -> 32.035836 | R25: 1905 | S25: =AVERAGE(P245:P256) -> 34.754234 | T25: =((S25/S24)-1)*100 -> 0.65614966 | U25: =P256 -> 35.284466 | V25: =((U25/U24)-1)*100 -> -0.16366612 | X25: 1896 | Y25: =S16 -> 26.916456 | Z25: =((Y25/Y24)-1)*100 -> -4.8073645 | AA25: =U16 -> 27.533452 | AB25: =((AA25/AA24)-1)*100 -> -1.4492754 | AD25: 9/1/1873 | AE25: 99 | AG25: 1892 | AH25: =AVERAGE(AE245:AE256) -> 75.75 | AI25: =((AH25/AH24)-1)*100 -> -1.3029316 | AJ25: =AE256 -> 77 | AK25: =((AJ25/AJ24)-1)*100 -> 1.3157895
A26: 10/1/1886 | B26: 81 | C26: - | D26: - | F26: =((B26/B25)-1)*100 -> 0 | G26: - | H26: - | I26: =F26 -> 0 | K26: =K27/(1+(I27/100)) -> 32.035836 | L26: =((K26/K25)-1)*100 -> 0 | M26: - | O26: 10/1/1886 | P26: =K26 -> 32.035836 | R26: 1906 | S26: =AVERAGE(P257:P268) -> 35.645987 | T26: =((S26/S25)-1)*100 -> 2.5658807 | U26: =P268 -> 37.193297 | V26: =((U26/U25)-1)*100 -> 5.4098361 | X26: 1897 | Y26: =S17 -> 27.022502 | Z26: =((Y26/Y25)-1)*100 -> 0.39398281 | AA26: =U17 -> 27.822669 | AB26: =((AA26/AA25)-1)*100 -> 1.0504202 | AD26: 10/1/1873 | AE26: 98 | AG26: 1893 | AH26: =AVERAGE(AE257:AE268) -> 75.25 | AI26: =((AH26/AH25)-1)*100 -> -0.66006601 | AJ26: =AE268 -> 73 | AK26: =((AJ26/AJ25)-1)*100 -> -5.1948052
A27: 11/1/1886 | B27: 81 | C27: - | D27: - | F27: =((B27/B26)-1)*100 -> 0 | G27: - | H27: - | I27: =F27 -> 0 | K27: =K28/(1+(I28/100)) -> 32.035836 | L27: =((K27/K26)-1)*100 -> 0 | M27: - | O27: 11/1/1886 | P27: =K27 -> 32.035836 | R27: 1907 | S27: =AVERAGE(P269:P280) -> 37.733169 | T27: =((S27/S26)-1)*100 -> 5.8553076 | U27: =P280 -> 36.55702 | V27: =((U27/U26)-1)*100 -> -1.7107309 | X27: 1898 | Y27: =S18 -> 28.063683 | Z27: =((Y27/Y26)-1)*100 -> 3.8530146 | AA27: =U18 -> 27.938355 | AB27: =((AA27/AA26)-1)*100 -> 0.41580042 | AD27: 11/1/1873 | AE27: 96 | AG27: 1894 | AH27: =AVERAGE(AE269:AE280) -> 71.083333 | AI27: =((AH27/AH26)-1)*100 -> -5.5370986 | AJ27: =AE280 -> 71 | AK27: =((AJ27/AJ26)-1)*100 -> -2.739726
A28: 12/1/1886 | B28: 82 | C28: - | D28: - | F28: =((B28/B27)-1)*100 -> 1.2345679 | G28: - | H28: - | I28: =F28 -> 1.2345679 | K28: =K29/(1+(I29/100)) -> 32.43134 | L28: =((K28/K27)-1)*100 -> 1.2345679 | M28: - | O28: 12/1/1886 | P28: =K28 -> 32.43134 | R28: 1908 | S28: =AVERAGE(P281:P292) -> 36.359388 | T28: =((S28/S27)-1)*100 -> -3.6407767 | U28: =P292 -> 37.482514 | V28: =((U28/U27)-1)*100 -> 2.5316456 | X28: 1899 | Y28: =S19 -> 30.290653 | Z28: =((Y28/Y27)-1)*100 -> 7.9354174 | AA28: =U19 -> 32.7972 | AB28: =((AA28/AA27)-1)*100 -> 17.391304 | AD28: 12/1/1873 | AE28: 98 | AG28: 1895 | AH28: =AVERAGE(AE281:AE292) -> 72.25 | AI28: =((AH28/AH27)-1)*100 -> 1.6412661 | AJ28: =AE292 -> 72 | AK28: =((AJ28/AJ27)-1)*100 -> 1.4084507
A29: 1/1/1887 | B29: 84 | C29: - | D29: - | F29: =((B29/B28)-1)*100 -> 2.4390244 | G29: - | H29: - | I29: =F29 -> 2.4390244 | K29: =K30/(1+(I30/100)) -> 33.222349 | L29: =((K29/K28)-1)*100 -> 2.4390244 | M29: - | O29: 1/1/1887 | P29: =K29 -> 33.222349 | R29: 1909 | S29: =AVERAGE(P293:P304) -> 39.222636 | T29: =((S29/S28)-1)*100 -> 7.8748509 | U29: =P304 -> 41.415864 | V29: =((U29/U28)-1)*100 -> 10.493827 | X29: 1900 | Y29: =S20 -> 32.479061 | Z29: =((Y29/Y28)-1)*100 -> 7.2246976 | AA29: =U20 -> 31.871706 | AB29: =((AA29/AA28)-1)*100 -> -2.8218695 | AD29: 1/1/1874 | AE29: 98 | AG29: 1896 | AH29: =AVERAGE(AE293:AE304) -> 71.166667 | AI29: =((AH29/AH28)-1)*100 -> -1.4994233 | AJ29: =AE304 -> 72 | AK29: =((AJ29/AJ28)-1)*100 -> 0
A30: 2/1/1887 | B30: 85 | C30: - | D30: - | F30: =((B30/B29)-1)*100 -> 1.1904762 | G30: - | H30: - | I30: =F30 -> 1.1904762 | K30: =K31/(1+(I31/100)) -> 33.617853 | L30: =((K30/K29)-1)*100 -> 1.1904762 | M30: - | O30: 2/1/1887 | P30: =K30 -> 33.617853 | R30: 1910 | S30: =AVERAGE(P305:P316) -> 40.702463 | T30: =((S30/S29)-1)*100 -> 3.7728893 | U30: =P316 -> 38.523695 | V30: =((U30/U29)-1)*100 -> -6.9832402 | X30: 1901 | Y30: =S21 -> 31.977752 | Z30: =((Y30/Y29)-1)*100 -> -1.5434847 | AA30: =U21 -> 33.375634 | AB30: =((AA30/AA29)-1)*100 -> 4.7186933 | AD30: 2/1/1874 | AE30: 97 | AG30: 1897 | AH30: =AVERAGE(AE305:AE316) -> 71.75 | AI30: =((AH30/AH29)-1)*100 -> 0.81967213 | AJ30: =AE316 -> 73 | AK30: =((AJ30/AJ29)-1)*100 -> 1.3888889
A31: 3/1/1887 | B31: 85 | C31: - | D31: - | F31: =((B31/B30)-1)*100 -> 0 | G31: - | H31: - | I31: =F31 -> 0 | K31: =K32/(1+(I32/100)) -> 33.617853 | L31: =((K31/K30)-1)*100 -> 0 | M31: - | O31: 3/1/1887 | P31: =K31 -> 33.617853 | R31: 1911 | S31: =AVERAGE(P317:P328) -> 37.472874 | T31: =((S31/S30)-1)*100 -> -7.9346281 | U31: =P328 -> 37.771731 | V31: =((U31/U30)-1)*100 -> -1.951952 | X31: 1902 | Y31: =S22 -> 34.016731 | Z31: =((Y31/Y30)-1)*100 -> 6.3762436 | AA31: =U22 -> 35.573682 | AB31: =((AA31/AA30)-1)*100 -> 6.5857886 | AD31: 3/1/1874 | AE31: 97 | AG31: 1898 | AH31: =AVERAGE(AE317:AE328) -> 73.416667 | AI31: =((AH31/AH30)-1)*100 -> 2.3228804 | AJ31: =AE328 -> 74 | AK31: =((AJ31/AJ30)-1)*100 -> 1.369863
A32: 4/1/1887 | B32: 85 | C32: - | D32: - | F32: =((B32/B31)-1)*100 -> 0 | G32: - | H32: - | I32: =F32 -> 0 | K32: =K33/(1+(I33/100)) -> 33.617853 | L32: =((K32/K31)-1)*100 -> 0 | M32: =((K32/K20)-1)*100 -> 3.6585366 | O32: 4/1/1887 | P32: =K32 -> 33.617853 | R32: 1912 | S32: =AVERAGE(P329:P340) -> 39.964959 | T32: =((S32/S31)-1)*100 -> 6.650373 | U32: =P340 -> 40.548214 | V32: =((U32/U31)-1)*100 -> 7.3506891 | X32: 1903 | Y32: =S23 -> 34.465018 | Z32: =((Y32/Y31)-1)*100 -> 1.3178404 | AA32: =U23 -> 33.664851 | AB32: =((AA32/AA31)-1)*100 -> -5.3658537 | AD32: 4/1/1874 | AE32: 97 | AG32: 1899 | AH32: =AVERAGE(AE329:AE340) -> 77.083333 | AI32: =((AH32/AH31)-1)*100 -> 4.9943246 | AJ32: =AE340 -> 79 | AK32: =((AJ32/AJ31)-1)*100 -> 6.7567568
A33: 5/1/1887 | B33: 85 | C33: - | D33: - | F33: =((B33/B32)-1)*100 -> 0 | G33: - | H33: - | I33: =F33 -> 0 | K33: =K34/(1+(I34/100)) -> 33.617853 | L33: =((K33/K32)-1)*100 -> 0 | M33: =((K33/K21)-1)*100 -> 6.25 | O33: 5/1/1887 | P33: =K33 -> 33.617853 | R33: 1913 | S33: =AVERAGE(P341:P352) -> 41.009682 | T33: =((S33/S32)-1)*100 -> 2.6140959 | U33: =P352 -> 41.493776 | V33: =((U33/U32)-1)*100 -> 2.3319456 | X33: 1904 | Y33: =S24 -> 34.527681 | Z33: =((Y33/Y32)-1)*100 -> 0.18181818 | AA33: =U24 -> 35.342309 | AB33: =((AA33/AA32)-1)*100 -> 4.9828179 | AD33: 5/1/1874 | AE33: 97 | AG33: 1900 | AH33: =AVERAGE(AE341:AE352) -> 79.583333 | AI33: =((AH33/AH32)-1)*100 -> 3.2432432 | AJ33: =AE352 -> 80 | AK33: =((AJ33/AJ32)-1)*100 -> 1.2658228
A34: 6/1/1887 | B34: 84 | C34: - | D34: - | F34: =((B34/B33)-1)*100 -> -1.1764706 | G34: - | H34: - | I34: =F34 -> -1.1764706 | K34: =K35/(1+(I35/100)) -> 33.222349 | L34: =((K34/K33)-1)*100 -> -1.1764706 | M34: =((K34/K22)-1)*100 -> 6.3291139 | O34: 6/1/1887 | P34: =K34 -> 33.222349 | R34: 1914 | S34: =AVERAGE(P353:P364) -> 41.562932 | T34: =((S34/S33)-1)*100 -> 1.3490725 | U34: =P364 -> 41.908714 | V34: =((U34/U33)-1)*100 -> 1 | X34: 1905 | Y34: =S25 -> 34.754234 | Z34: =((Y34/Y33)-1)*100 -> 0.65614966 | AA34: =U25 -> 35.284466 | AB34: =((AA34/AA33)-1)*100 -> -0.16366612 | AD34: 6/1/1874 | AE34: 95 | AG34: 1901 | AH34: =AVERAGE(AE353:AE364) -> 81.083333 | AI34: =((AH34/AH33)-1)*100 -> 1.8848168 | AJ34: =AE364 -> 83 | AK34: =((AJ34/AJ33)-1)*100 -> 3.75
A35: 7/1/1887 | B35: 83 | C35: - | D35: - | F35: =((B35/B34)-1)*100 -> -1.1904762 | G35: - | H35: - | I35: =F35 -> -1.1904762 | K35: =K36/(1+(I36/100)) -> 32.826845 | L35: =((K35/K34)-1)*100 -> -1.1904762 | M35: =((K35/K23)-1)*100 -> 3.75 | O35: 7/1/1887 | P35: =K35 -> 32.826845 | R35: 1915 | S35: =AVERAGE(P365:P376) -> 41.943292 | T35: =((S35/S34)-1)*100 -> 0.91514143 | U35: =P376 -> 42.738589 | V35: =((U35/U34)-1)*100 -> 1.980198 | X35: 1906 | Y35: =S26 -> 35.645987 | Z35: =((Y35/Y34)-1)*100 -> 2.5658807 | AA35: =U26 -> 37.193297 | AB35: =((AA35/AA34)-1)*100 -> 5.4098361 | AD35: 7/1/1874 | AE35: 96 | AG35: 1902 | AH35: =AVERAGE(AE365:AE376) -> 84 | AI35: =((AH35/AH34)-1)*100 -> 3.5971223 | AJ35: =AE376 -> 86 | AK35: =((AJ35/AJ34)-1)*100 -> 3.6144578
A36: 8/1/1887 | B36: 84 | C36: - | D36: - | F36: =((B36/B35)-1)*100 -> 1.2048193 | G36: - | H36: - | I36: =F36 -> 1.2048193 | K36: =K37/(1+(I37/100)) -> 33.222349 | L36: =((K36/K35)-1)*100 -> 1.2048193 | M36: =((K36/K24)-1)*100 -> 3.7037037 | O36: 8/1/1887 | P36: =K36 -> 33.222349 | R36: 1916 | S36: =AVERAGE(P377:P388) -> 45.159059 | T36: =((S36/S35)-1)*100 -> 7.6669415 | U36: =P388 -> 48.13278 | V36: =((U36/U35)-1)*100 -> 12.621359 | X36: 1907 | Y36: =S27 -> 37.733169 | Z36: =((Y36/Y35)-1)*100 -> 5.8553076 | AA36: =U27 -> 36.55702 | AB36: =((AA36/AA35)-1)*100 -> -1.7107309 | AD36: 8/1/1874 | AE36: 95 | AG36: 1903 | AH36: =AVERAGE(AE377:AE388) -> 85.416667 | AI36: =((AH36/AH35)-1)*100 -> 1.6865079 | AJ36: =AE388 -> 84 | AK36: =((AJ36/AJ35)-1)*100 -> -2.3255814
A37: 9/1/1887 | B37: 83 | C37: - | D37: - | F37: =((B37/B36)-1)*100 -> -1.1904762 | G37: - | H37: - | I37: =F37 -> -1.1904762 | K37: =K38/(1+(I38/100)) -> 32.826845 | L37: =((K37/K36)-1)*100 -> -1.1904762 | M37: =((K37/K25)-1)*100 -> 2.4691358 | O37: 9/1/1887 | P37: =K37 -> 32.826845 | R37: 1917 | S37: =AVERAGE(P389:P400) -> 53.215768 | T37: =((S37/S36)-1)*100 -> 17.840735 | U37: =P400 -> 56.846473 | V37: =((U37/U36)-1)*100 -> 18.103448 | X37: 1908 | Y37: =S28 -> 36.359388 | Z37: =((Y37/Y36)-1)*100 -> -3.6407767 | AA37: =U28 -> 37.482514 | AB37: =((AA37/AA36)-1)*100 -> 2.5316456 | AD37: 9/1/1874 | AE37: 95 | AG37: 1904 | AH37: =AVERAGE(AE389:AE400) -> 85.916667 | AI37: =((AH37/AH36)-1)*100 -> 0.58536585 | AJ37: =AE400 -> 87 | AK37: =((AJ37/AJ36)-1)*100 -> 3.5714286
A38: 10/1/1887 | B38: 84 | C38: - | D38: - | F38: =((B38/B37)-1)*100 -> 1.2048193 | G38: - | H38: - | I38: =F38 -> 1.2048193 | K38: =K39/(1+(I39/100)) -> 33.222349 | L38: =((K38/K37)-1)*100 -> 1.2048193 | M38: =((K38/K26)-1)*100 -> 3.7037037 | O38: 10/1/1887 | P38: =K38 -> 33.222349 | R38: 1918 | S38: =AVERAGE(P401:P412) -> 62.413555 | T38: =((S38/S37)-1)*100 -> 17.283951 | U38: =P412 -> 68.46473 | V38: =((U38/U37)-1)*100 -> 20.437956 | X38: 1909 | Y38: =S29 -> 39.222636 | Z38: =((Y38/Y37)-1)*100 -> 7.8748509 | AA38: =U29 -> 41.415864 | AB38: =((AA38/AA37)-1)*100 -> 10.493827 | AD38: 10/1/1874 | AE38: 94 | AG38: 1905 | AH38: =AVERAGE(AE401:AE412) -> 88.166667 | AI38: =((AH38/AH37)-1)*100 -> 2.6188167 | AJ38: =AE412 -> 89 | AK38: =((AJ38/AJ37)-1)*100 -> 2.2988506
A39: 11/1/1887 | B39: 85 | C39: - | D39: - | F39: =((B39/B38)-1)*100 -> 1.1904762 | G39: - | H39: - | I39: =F39 -> 1.1904762 | K39: =K40/(1+(I40/100)) -> 33.617853 | L39: =((K39/K38)-1)*100 -> 1.1904762 | M39: =((K39/K27)-1)*100 -> 4.9382716 | O39: 11/1/1887 | P39: =K39 -> 33.617853 | R39: 1919 | S39: =AVERAGE(P413:P424) -> 71.922545 | T39: =((S39/S38)-1)*100 -> 15.235457 | U39: =P424 -> 78.423237 | V39: =((U39/U38)-1)*100 -> 14.545455 | X39: 1910 | Y39: =S30 -> 40.702463 | Z39: =((Y39/Y38)-1)*100 -> 3.7728893 | AA39: =U30 -> 38.523695 | AB39: =((AA39/AA38)-1)*100 -> -6.9832402 | AD39: 11/1/1874 | AE39: 93 | AG39: 1906 | AH39: =AVERAGE(AE413:AE424) -> 90.666667 | AI39: =((AH39/AH38)-1)*100 -> 2.8355388 | AJ39: =AE424 -> 93 | AK39: =((AJ39/AJ38)-1)*100 -> 4.494382
A40: 12/1/1887 | B40: 87 | C40: - | D40: - | F40: =((B40/B39)-1)*100 -> 2.3529412 | G40: - | H40: - | I40: =F40 -> 2.3529412 | K40: =K41/(1+(I41/100)) -> 34.408861 | L40: =((K40/K39)-1)*100 -> 2.3529412 | M40: =((K40/K28)-1)*100 -> 6.097561 | O40: 12/1/1887 | P40: =K40 -> 34.408861 | R40: 1920 | S40: =AVERAGE(P425:P436) -> 83.160443 | T40: =((S40/S39)-1)*100 -> 15.625 | U40: =P436 -> 80.497925 | V40: =((U40/U39)-1)*100 -> 2.6455026 | X40: 1911 | Y40: =S31 -> 37.472874 | Z40: =((Y40/Y39)-1)*100 -> -7.9346281 | AA40: =U31 -> 37.771731 | AB40: =((AA40/AA39)-1)*100 -> -1.951952 | AD40: 12/1/1874 | AE40: 94 | AG40: 1907 | AH40: =AVERAGE(AE425:AE436) -> 92.75 | AI40: =((AH40/AH39)-1)*100 -> 2.2977941 | AJ40: =AE436 -> 91 | AK40: =((AJ40/AJ39)-1)*100 -> -2.1505376
A41: 1/1/1888 | B41: 88 | C41: - | D41: - | F41: =((B41/B40)-1)*100 -> 1.1494253 | G41: - | H41: - | I41: =F41 -> 1.1494253 | K41: =K42/(1+(I42/100)) -> 34.804365 | L41: =((K41/K40)-1)*100 -> 1.1494253 | M41: =((K41/K29)-1)*100 -> 4.7619048 | O41: 1/1/1888 | P41: =K41 -> 34.804365 | R41: 1921 | S41: =AVERAGE(P437:P448) -> 74.06639 | T41: =((S41/S40)-1)*100 -> -10.935551 | U41: =P448 -> 71.784232 | V41: =((U41/U40)-1)*100 -> -10.824742 | X41: 1912 | Y41: =S32 -> 39.964959 | Z41: =((Y41/Y40)-1)*100 -> 6.650373 | AA41: =U32 -> 40.548214 | AB41: =((AA41/AA40)-1)*100 -> 7.3506891 | AD41: 1/1/1875 | AE41: 94 | AG41: 1908 | AH41: =AVERAGE(AE437:AE448) -> 90.916667 | AI41: =((AH41/AH40)-1)*100 -> -1.9766397 | AJ41: =AE448 -> 92 | AK41: =((AJ41/AJ40)-1)*100 -> 1.0989011
A42: 2/1/1888 | B42: 87 | C42: - | D42: - | F42: =((B42/B41)-1)*100 -> -1.1363636 | G42: - | H42: - | I42: =F42 -> -1.1363636 | K42: =K43/(1+(I43/100)) -> 34.408861 | L42: =((K42/K41)-1)*100 -> -1.1363636 | M42: =((K42/K30)-1)*100 -> 2.3529412 | O42: 2/1/1888 | P42: =K42 -> 34.408861 | R42: 1922 | S42: =AVERAGE(P449:P460) -> 69.502075 | T42: =((S42/S41)-1)*100 -> -6.162465 | U42: =P460 -> 70.124481 | V42: =((U42/U41)-1)*100 -> -2.3121387 | X42: 1913 | Y42: =S33 -> 41.009682 | Z42: =((Y42/Y41)-1)*100 -> 2.6140959 | AA42: =U33 -> 41.493776 | AB42: =((AA42/AA41)-1)*100 -> 2.3319456 | AD42: 2/1/1875 | AE42: 94 | AG42: 1909 | AH42: =AVERAGE(AE449:AE460) -> 94.666667 | AI42: =((AH42/AH41)-1)*100 -> 4.1246563 | AJ42: =AE460 -> 97 | AK42: =((AJ42/AJ41)-1)*100 -> 5.4347826
...

Sheet EU tasas
A1: Nota: Datos de 1933 a 2010 con frecuencia anual. No se tiene datos disponible de 1885 a 1933. Para datos mensuales y trimestrales se presentan varias periodicidades iniciando en 1885 y 1914.
A2: Año | B2: Prime Prom | C2: Prime Fin | D2: Discount rate promedio 1950-2010 | E2: Discount rate fin 1950-2010 | G2: Trimestres | H2: Commercial Paper rate, 1885-1983 | I2: Yield on corporate bonds, 1885-1983 | J2: Fechas disponibles Trimestres | K2: 3 Month interbank rates. Serie trimestral, 1964-2010 | M2: Meses | N2: Discount rate 1950-2010 | O2: Bank Prime Loan Rate, Percent, Mensual, 1949-2010 | Q2: Fechas disponibles Mensuales | R2: Basic discount rate 1914-2002. Años seleccionados | S2: Long-Term U.S. Gov Securities 1925-2000 | T2: 3-Month Treasury Bill Sec Mkt 1934-2010 | U2: Fechas de los cambios | V2: Bank Prime Loan Rate Changes: Historical Dates of Changes and Rates, 1955-2010 | X2: Banco de México: Tasas de Interés seleccionadas de Estados Unidos
X3: Fecha | Y3: Letra del Tesoro a 3 meses %, anualizada, | Z3: Bono del Tesoro a 1 año, %, anualizada, | AA3: Bono del Tesoro a 3 años, %, anualizada | AB3: Bono del Tesoro a 5 años, %, anualizada | AC3: Bono del Tesoro a 10 años, tasa de interés %, anual | AD3: Bono del Tesoro a 20 años, %, anualizada | AE3: Tasa de Interés Preferencial, %, anualizada | AH3: Tasas promedio de papel comercial prime
A5: 1885 | B5: - | C5: - | D5: - | E5: - | G5: 31107 | H5: 5.84 | I5: 6.55 | J5: 23559 | K5: 3.8633333 | M5: 1/1/1885 | N5: - | O5: - | Q5: 5434 | R5: 6 | S5: - | T5: - | U5: 20305 | V5: 3.25
A6: 1886 | B6: - | C6: - | D6: - | E6: - | G6: 31199 | H6: 5.02 | I6: 6.48 | J6: 23651 | K6: 4.0233333 | M6: 2/1/1885 | N6: - | O6: - | Q6: 5486 | R6: 5.5 | S6: - | T6: - | U6: 20376 | V6: 3.5 | X6: 19360 | Y6: 1.96 | Z6: N/E | AA6: N/E | AB6: N/E | AC6: N/E | AD6: N/E | AE6: 3 | AG6: 1888 | AH6: 5.31
A7: 1887 | B7: - | C7: - | D7: - | E7: - | G7: 31291 | H7: 4.93 | I7: 6.4 | J7: 23743 | K7: 4.1966667 | M7: 3/1/1885 | N7: - | O7: - | Q7: 5513 | R7: 4.5 | S7: - | T7: - | U7: 20558 | V7: 3.75 | X7: 19391 | Y7: 1.97 | Z7: N/E | AA7: N/E | AB7: N/E | AC7: N/E | AD7: N/E | AE7: 3 | AG7: 1889 | AH7: 4.58
A8: 1888 | B8: - | C8: - | D8: - | E8: - | G8: 31382 | H8: 5.6 | I8: 6.33 | J8: 23833 | K8: 4.3033333 | M8: 4/1/1885 | N8: - | O8: - | Q8: 5736 | R8: 4 | S8: - | T8: - | U8: 20688 | V8: 4 | X8: 19419 | Y8: 2.01 | Z8: N/E | AA8: N/E | AB8: N/E | AC8: N/E | AD8: N/E | AE8: 3 | AG8: 1890 | AH8: 5.43
A9: 1889 | B9: - | C9: - | D9: - | E9: - | G9: 31472 | H9: 5.32 | I9: 6.19 | J9: 23924 | K9: 4.31 | M9: 5/1/1885 | N9: - | O9: - | Q9: 6521 | R9: 4.5 | S9: - | T9: - | U9: 21038 | V9: 4.5 | X9: 19450 | Y9: 2.19 | Z9: 2.36 | AA9: 2.51 | AB9: 2.62 | AC9: 2.83 | AD9: 3.08 | AE9: 3.03 | AG9: 1891 | AH9: 5.88
A10: 1890 | B10: - | C10: - | D10: - | E10: - | G10: 31564 | H10: 5.34 | I10: 6.16 | J10: 24016 | K10: 4.5666667 | M10: 6/1/1885 | N10: - | O10: - | Q10: 6673 | R10: 4.75 | S10: - | T10: - | U10: 21207 | V10: 4 | X10: 19480 | Y10: 2.16 | Z10: 2.48 | AA10: 2.72 | AB10: 2.87 | AC10: 3.05 | AD10: 3.18 | AE10: 3.25 | AG10: 1892 | AH10: 4.18
A11: 1891 | B11: - | C11: - | D11: - | E11: - | G11: 31656 | H11: 6.27 | I11: 6.14 | J11: 24108 | K11: 5.0633333 | M11: 7/1/1885 | N11: - | O11: - | Q11: 7329 | R11: 6 | S11: - | T11: - | U11: 21296 | V11: 3.5 | X11: 19511 | Y11: 2.11 | Z11: 2.45 | AA11: 2.74 | AB11: 2.94 | AC11: 3.11 | AD11: 3.21 | AE11: 3.25 | AG11: 1893 | AH11: 6.69
A12: 1892 | B12: - | C12: - | D12: - | E12: - | G12: 31747 | H12: 7.27 | I12: 6.18 | J12: 24198 | K12: 5.38 | M12: 8/1/1885 | N12: - | O12: - | Q12: 7978 | R12: 5 | S12: - | T12: - | U12: 21439 | V12: 4 | X12: 19541 | Y12: 2.04 | Z12: 2.38 | AA12: 2.62 | AB12: 2.75 | AC12: 2.93 | AD12: 3.12 | AE12: 3.25 | AG12: 1894 | AH12: 3.93
A13: 1893 | B13: - | C13: - | D13: - | E13: - | G13: 31837 | H13: 6.51 | I13: 6.19 | J13: 24289 | K13: 5.7333333 | M13: 9/1/1885 | N13: - | O13: - | Q13: 8132 | R13: 4.5 | S13: - | T13: - | U13: 21688 | V13: 4.5 | X13: 19572 | Y13: 2.04 | Z13: 2.28 | AA13: 2.58 | AB13: 2.8 | AC13: 2.95 | AD13: 3.1 | AE13: 3.25 | AG13: 1895 | AH13: 3.17
A14: 1894 | B14: - | C14: - | D14: - | E14: - | G14: 31929 | H14: 6.53 | I14: 6.2 | J14: 24381 | K14: 5.7566667 | M14: 10/1/1885 | N14: - | O14: - | Q14: 8937 | R14: 4 | S14: - | T14: - | U14: 21794 | V14: 5 | X14: 19603 | Y14: 1.79 | Z14: 2.2 | AA14: 2.56 | AB14: 2.71 | AC14: 2.87 | AD14: 3.07 | AE14: 3.25 | AG14: 1896 | AH14: 5.11
A15: 1895 | B15: - | C15: - | D15: - | E15: - | G15: 32021 | H15: 7.78 | I15: 6.25 | J15: 24473 | K15: 5.1966667 | M15: 11/1/1885 | N15: - | O15: - | Q15: 10078 | R15: 3.5 | S15: - | T15: - | U15: 22151 | V15: 4.5 | X15: 19633 | Y15: 1.38 | Z15: 1.79 | AA15: 2.23 | AB15: 2.43 | AC15: 2.66 | AD15: 2.95 | AE15: 3.25 | AG15: 1897 | AH15: 4.43
A16: 1896 | B16: - | C16: - | D16: - | E16: - | G16: 32112 | H16: 7.33 | I16: 6.3 | J16: 24563 | K16: 4.5266667 | M16: 12/1/1885 | N16: - | O16: - | Q16: 10279 | R16: 4 | S16: - | T16: - | U16: 24082 | V16: 5 | X16: 19664 | Y16: 1.44 | Z16: 1.67 | AA16: 2.2 | AB16: 2.42 | AC16: 2.68 | AD16: 2.95 | AE16: 3.25 | AG16: 1898 | AH16: 3.94
A17: 1897 | B17: - | C17: - | D17: - | E17: - | G17: 32203 | H17: 6.51 | I17: 6.2 | J17: 24654 | K17: 4.9466667 | M17: 1/1/1886 | N17: - | O17: - | Q17: 10341 | R17: 4.5 | S17: - | T17: - | U17: 24176 | V17: 5.5 | X17: 19694 | Y17: 1.6 | Z17: 1.66 | AA17: 2.07 | AB17: 2.32 | AC17: 2.59 | AD17: 2.89 | AE17: 3.25 | AG17: 1899 | AH17: 3.51
A18: 1898 | B18: - | C18: - | D18: - | E18: - | G18: 32295 | H18: 6.11 | I18: 6.19 | J18: 24746 | K18: 5.4133333 | M18: 2/1/1886 | N18: - | O18: - | Q18: 10428 | R18: 5 | S18: - | T18: - | U18: 24287 | V18: 5.75 | X18: 19725 | Y18: 1.18 | Z18: 1.41 | AA18: 1.89 | AB18: 2.17 | AC18: 2.48 | AD18: 2.8 | AE18: 3.25 | AG18: 1900 | AH18: 4.6
A19: 1899 | B19: - | C19: - | D19: - | E19: - | G19: 32387 | H19: 5.86 | I19: 6.12 | J19: 24838 | K19: 5.4633333 | M19: 3/1/1886 | N19: - | O19: - | Q19: 11000 | R19: 4.5 | S19: - | T19: - | U19: 24335 | V19: 6 | X19: 19756 | Y19: 0.97 | Z19: 1.14 | AA19: 1.63 | AB19: 2.04 | AC19: 2.47 | AD19: 2.72 | AE19: 3.25 | AG19: 1901 | AH19: 4.23
A20: 1900 | B20: - | C20: - | D20: - | E20: - | G20: 32478 | H20: 6.22 | I20: 6.13 | J20: 24929 | K20: 6.0133333 | M20: 4/1/1886 | N20: - | O20: - | Q20: 11060 | R20: 4 | S20: - | T20: - | U20: 24498 | V20: 5.75 | X20: 19784 | Y20: 1.03 | Z20: 1.13 | AA20: 1.59 | AB20: 1.93 | AC20: 2.37 | AD20: 2.61 | AE20: 3.13 | AG20: 1902 | AH20: 4.59
... A31: 1911 | B31: - | C31: - | D31: - | E31: - | G31: 33482 | H31: 6.65 | I31: 6.37 | J31: 25934 | K31: 4.44 | M31: 3/1/1887 | N31: - | O31: - | Q31: 17764 | R31: 1.5 | S31: - | T31: - | U31: 25832 | V31: 7.5 | X31: 20121 | Y31: 1.17 | Z31: 1.57 | AA31: 2.12 | AB31: 2.38 | AC31: 2.65 | AD31: 2.83 | AE31: 3 | AG31: 1913 | AH31: 4.87
A32: 1912 | B32: - | C32: - | D32: - | E32: - | G32: 33573 | H32: 6.14 | I32: 6.29 | J32: 26024 | K32: 4.9433333 | M32: 4/1/1887 | N32: - | O32: - | Q32: 18497 | R32: 1.75 | S32: - | T32: - | U32: 25884 | V32: 7.25 | X32: 20149 | Y32: 1.28 | Z32: 1.59 | AA32: 2.26 | AB32: 2.48 | AC32: 2.68 | AD32: 2.84 | AE32: 3
A33: 1913 | B33: - | C33: - | D33: - | E33: - | G33: 33664 | H33: 5.25 | I33: 6.21 | J33: 26115 | K33: 5.7066667 | M33: 5/1/1887 | N33: - | O33: - | Q33: 19375 | R33: 2 | S33: - | T33: - | U33: 25895 | V33: 7 | X33: 20180 | Y33: 1.59 | Z33: 1.75 | AA33: 2.37 | AB33: 2.55 | AC33: 2.75 | AD33: 2.85 | AE33: 3 | AG33: Fuente: Smileg, G. "Interest Rate Movement in the United States, 1888-1913" The Journal of Economic History , Vol. 35 , Issue 3 , September 1975 , pp. 591 - 620; p. 612
A34: 1914 | B34: - | C34: - | D34: - | E34: - | G34: 33756 | H34: 4.59 | I34: 6.18 | J34: 26207 | K34: 4.93 | M34: 6/1/1887 | N34: - | O34: - | Q34: 19760 | R34: 1.75 | S34: - | T34: - | U34: 25924 | V34: 6.75 | X34: 20210 | Y34: 1.45 | Z34: 1.9 | AA34: 2.37 | AB34: 2.56 | AC34: 2.76 | AD34: 2.87 | AE34: 3
A35: 1915 | B35: - | C35: - | D35: - | E35: - | G35: 33848 | H35: 5.49 | I35: 6.17 | J35: 26299 | K35: 3.88 | M35: 7/1/1887 | N35: - | O35: - | Q35: 19837 | R35: 1.5 | S35: - | T35: - | U35: 25939 | V35: 6.5 | X35: 20241 | Y35: 1.41 | Z35: 1.91 | AA35: 2.39 | AB35: 2.59 | AC35: 2.78 | AD35: 2.86 | AE35: 3
A36: 1916 | B36: - | C36: - | D36: - | E36: - | G36: 33939 | H36: 6.27 | I36: 6.21 | J36: 26390 | K36: 4.55 | M36: 8/1/1887 | N36: - | O36: - | Q36: 20194 | R36: 1.75 | S36: - | T36: - | U36: 25948 | V36: 6.25 | X36: 20271 | Y36: 1.6 | Z36: 2.02 | AA36: 2.51 | AB36: 2.72 | AC36: 2.9 | AD36: 2.94 | AE36: 3
A37: 1917 | B37: - | C37: - | D37: - | E37: - | G37: 34029 | H37: 6.29 | I37: 6.19 | J37: 26481 | K37: 4.9333333 | M37: 9/1/1887 | N37: - | O37: - | Q37: 20309 | R37: 2 | S37: - | T37: - | U37: 25951 | V37: 6 | X37: 20302 | Y37: 1.9 | Z37: 2.37 | AA37: 2.72 | AB37: 2.86 | AC37: 2.97 | AD37: 3.01 | AE37: 3.23
A38: 1918 | B38: - | C38: - | D38: - | E38: - | G38: 34121 | H38: 8.08 | I38: 6.26 | J38: 26573 | K38: 5.3 | M38: 10/1/1887 | N38: - | O38: - | Q38: 20331 | R38: 2.25 | S38: - | T38: - | U38: 25980 | V38: 5.75 | X38: 20333 | Y38: 2.07 | Z38: 2.36 | AA38: 2.69 | AB38: 2.85 | AC38: 2.97 | AD38: 3 | AE38: 3.25
A39: 1919 | B39: - | C39: - | D39: - | E39: - | G39: 34213 | H39: 9.86 | I39: 6.46 | J39: 26665 | K39: 6.4 | M39: 11/1/1887 | N39: - | O39: - | Q39: 20415 | R39: 2.5 | S39: - | T39: - | U39: 26003 | V39: 5.5 | X39: 20363 | Y39: 2.23 | Z39: 2.39 | AA39: 2.62 | AB39: 2.76 | AC39: 2.88 | AD39: 2.93 | AE39: 3.4
A40: 1920 | B40: - | C40: - | D40: - | E40: - | G40: 34304 | H40: 6.33 | I40: 6.28 | J40: 26755 | K40: 7.6733333 | M40: 12/1/1887 | N40: - | O40: - | Q40: 20558 | R40: 2.75 | S40: - | T40: - | U40: 26011 | V40: 5.25 | X40: 20394 | Y40: 2.24 | Z40: 2.48 | AA40: 2.73 | AB40: 2.81 | AC40: 2.89 | AD40: 2.93 | AE40: 3.5
A41: 1921 | B41: - | C41: - | D41: - | E41: - | G41: 34394 | H41: 5.16 | I41: 6.16 | J41: 26846 | K41: 10.353333 | M41: 1/1/1888 | N41: - | O41: - | Q41: 20695 | R41: 3 | S41: - | T41: - | U41: 26046 | V41: 5.5 | X41: 20424 | Y41: 2.54 | Z41: 2.73 | AA41: 2.88 | AB41: 2.93 | AC41: 2.96 | AD41: 2.98 | AE41: 3.5
A42: 1922 | B42: - | C42: - | D42: - | E42: - | G42: 34486 | H42: 4.83 | I42: 6.08 | J42: 26938 | K42: 9.2366667 | M42: 2/1/1888 | N42: - | O42: - | Q42: 21053 | R42: 3.5 | S42: - | T42: - | U42: 26121 | V42: 6 | X42: 20455 | Y42: 2.41 | Z42: 2.58 | AA42: 2.78 | AB42: 2.84 | AC42: 2.9 | AD42: 2.94 | AE42: 3.5
A43: 1923 | B43: - | C43: - | D43: - | E43: - | G43: 34578 | H43: 5.14 | I43: 6.07 | J43: 27030 | K43: 8.64 | M43: 3/1/1888 | N43: - | O43: - | Q43: 21139 | R43: 3 | S43: - | T43: - | U43: 26226 | V43: 5.75 | X43: 20486 | Y43: 2.32 | Z43: 2.49 | AA43: 2.67 | AB43: 2.74 | AC43: 2.84 | AD43: 2.91 | AE43: 3.5
A44: 1924 | B44: - | C44: - | D44: - | E44: - | G44: 34669 | H44: 5.75 | I44: 6 | J44: 27120 | K44: 10.943333 | M44: 4/1/1888 | N44: - | O44: - | Q44: 21209 | R44: 2.75 | S44: - | T44: - | U44: 26245 | V44: 5.5 | X44: 20515 | Y44: 2.25 | Z44: 2.61 | AA44: 2.89 | AB44: 2.93 | AC44: 2.96 | AD44: 2.99 | AE44: 3.5
A45: 1925 | B45: - | C45: - | D45: - | E45: - | G45: 34759 | H45: 6.39 | I45: 6.02 | J45: 27211 | K45: 12.026667 | M45: 5/1/1888 | N45: - | O45: - | Q45: 21258 | R45: 2.25 | S45: - | T45: - | U45: 26284 | V45: 5.25 | X45: 20546 | Y45: 2.6 | Z45: 2.92 | AA45: 3.19 | AB45: 3.2 | AC45: 3.18 | AD45: 3.14 | AE45: 3.65
... A68: 1948 | B68: - | C68: - | D68: - | E68: - | G68: 36861 | H68: 5.8 | I68: 5.66 | J68: 29312 | K68: 11.473333 | M68: 4/1/1890 | N68: - | O68: - | Q68: 25977 | R68: 4.75 | S68: - | T68: - | U68: 26897 | V68: 9.5 | X68: 21245 | Y68: 1.3 | Z68: 1.84 | AA68: 2.4 | AB68: 2.64 | AC68: 2.98 | AD68: 3.29 | AE68: 4
A69: 1949 | B69: 2 | C69: 2 | D69: - | E69: - | G69: 36951 | H69: 5.09 | I69: 5.62 | J69: 29403 | K69: 9.95 | M69: 5/1/1890 | N69: - | O69: - | Q69: 26130 | R69: 5 | S69: - | T69: - | U69: 26904 | V69: 9.75 | X69: 21276 | Y69: 1.13 | Z69: 1.45 | AA69: 2.15 | AB69: 2.46 | AC69: 2.88 | AD69: 3.17 | AE69: 3.83
