Workbook
Name \A: #REF!
Name \A: #REF!
Name \g: #REF!
Name \g: #REF!
Name \S: #REF!
Name \S: #REF!
Name ACTIVATE: #REF!
Name ACTIVATE: #REF!
Name ASSUMPT: #REF!
Name ASSUMPT: #REF!
Name ASSUMPTIONS: #REF!
Name ASSUMPTIONS: #REF!
Name basicdata1: #REF!
Name basicdata1: #REF!
Name basicdata2: #REF!
Name basicdata2: #REF!
Name BCA_NGDP: [5]Q6!$E$10:$AH$10
Name BMG: [5]Q6!$E$27:$AH$27
Name BOP: #REF!
Name BOP: #REF!
Name BXG: [5]Q6!$E$19:$AH$19
Name CAPITAL: #REF!
Name CAPITAL: #REF!
Name CARGO_BY_TYPE: '[6]Table No.18-Exports goods+servi'!#REF!
Name CARGO_BY_TYPE: '[6]Table No.18-Exports goods+servi'!#REF!
Name CCode: [7]Codes!$A$2
Name CENTRALG: #REF!
Name CENTRALG: #REF!
Name CFLOW: #REF!
Name CFLOW: #REF!
Name chart1: #REF!
Name chart1: #REF!
Name Chart11: #REF!
Name Chart11: #REF!
Name chart2: #REF!
Name chart2: #REF!
Name Chart22: #REF!
Name Chart22: #REF!
Name COUNTER: #REF!
Name COUNTER: #REF!
Name CurrVintage: [8]Current!$D$66
Name Date: [7]Current!$D$67
Name DEBT: #REF!
Name DEBT: #REF!
Name Discount_NC: [9]NPV_base!#REF!
Name Discount_NC: [9]NPV_base!#REF!
Name DiscountRate: #REF!
Name DiscountRate: #REF!
Name empty: [1]Micro!#REF!
Name empty: [1]Micro!#REF!
Name EX_IMP: #REF!
Name EX_IMP: #REF!
Name GCB_NGDP: [5]Q4!$E$19:$AH$19
Name GGB_NGDP: [5]Q4!$E$41:$AH$41
Name Grace_NC: [9]NPV_base!#REF!
Name Grace_NC: [9]NPV_base!#REF!
Name IMPORT: #REF!
Name IMPORT: #REF!
Name IN_OUT: #REF!
Name IN_OUT: #REF!

Sheet GobFed
A1: Versión 05 | B1: Variables a actualizar manualmente si hay cambios en la BDH | I1: Ingresos del Gobierno Federal de diversas fuentes | Z1: Egresos del Gobierno Federal de diversas fuentes | AQ1: Balances del Gobierno Federal de diversas fuentes | BI1: Balances del GF VS BdeM financiamiento
A2: Año | B2: PIB real | C2: Deflactor del PIB | D2: PIB Nominal | E2: Inflación promedio | F2: PIB potencial | G2: Tipo de cambio | I2: Año | J2: CHPF inicial | K2: CHPF revisada | L2: CHPF revisada ajustada por margen | M2: INEGI (2015) | N2: Cárdenas (1994) | O2: Cárdenas (2015) | P2: Santillan y Rosas (1962) Brutos | Q2: Santillan y Rosas (1962) Netos | R2: Santillan y Rosas (1962) Margen financiero | S2: NAFIN 1984 y1986 | T2: De Beers (1953) | U2: Izquierdo (1995) | V2: Aguilar (1947) Texto | W2: DGPH | X2: Ingresos GF Fusión | Z2: Año | AA2: CHPF inicial | AB2: CHPF revisada | AC2: CHPF revisada ajustada por margen | AD2: INEGI (2015) | AE2: Cárdenas (1994) | AF2: Cárdenas (2015) | AG2: Santillan y Rosas (1962) Brutos | AH2: Santillan y Rosas (1962) Netos | AI2: Santillan y Rosas (1962) Margen financiero | AJ2: NAFIN 1984 y1986 | AK2: De Beers (1953) | AL2: Izquierdo (1995) | AM2: Aguilar (1947) Texto | AN2: DGPH | AO2: Egresos GF Fusión | AQ2: Año | AR2: CHPF inicial | AS2: CHPF revisada | AT2: CHPF revisada ajustada por margen | AU2: INEGI (2015) | AV2: Cárdenas (1994) | AW2: Cárdenas (2015) | AX2: Santillan y Rosas (1962) Brutos | AY2: Santillan y Rosas (1962) Netos | AZ2: Santillan y Rosas (1962) Margen financiero | BA2: NAFIN 1984 y1986 | BB2: De Beers (1953) | BC2: Izquierdo (1995) | BD2: Aguilar (1947) Texto | BE2: DGPH | BF2: BdeM Vía financiamiento | BG2: Balance GF Fusión | BI2: Año | BJ2: CHPF inicial | BK2: CHPF revisada | BL2: CHPF revisada ajustada por margen | BM2: INEGI (2015) | BN2: Cárdenas (1994) | BO2: Cárdenas (2015) | BP2: Santillan y Rosas (1962) Brutos | BQ2: Santillan y Rosas (1962) Netos | BR2: Santillan y Rosas (1962) Margen financiero | BS2: NAFIN 1984 y1986 | BT2: De Beers (1953) | BU2: Izquierdo (1995) | BV2: Aguilar (1947) Texto | BW2: DGPH | BY2: Egresos total GF | BZ2: Egreso corriente GF | CA2: Inversión GF | CB2: Ingresos | CC2: Ahorro del GF
CB3: del GF
A5: 1920 | D5: - | E5: 4.8 | I5: 1920 | J5: - | K5: - | M5: - | N5: - | O5: - | Q5: - | S5: - | T5: - | U5: - | V5: - | W5: - | X5: - | Z5: 1920 | AA5: - | AB5: - | AD5: - | AE5: - | AF5: - | AG5: - | AH5: - | AI5: - | AJ5: - | AK5: - | AL5: - | AM5: - | AN5: - | AQ5: 1920 | AR5: - | AS5: - | AT5: - | AU5: - | AV5: - | AW5: - | AX5: - | AY5: - | AZ5: - | BA5: - | BB5: - | BC5: - | BD5: - | BE5: - | BF5: - | BG5: - | BI5: 1920 | BJ5: - | BK5: - | BL5: - | BM5: - | BN5: - | BO5: - | BP5: - | BQ5: - | BR5: - | BS5: - | BT5: - | BU5: - | BV5: - | BW5: - | BY5: - | BZ5: - | CA5: - | CB5: - | CC5: -
A6: 1921 | B6: 17117.41 | C6: 31.86814 | D6: 5455 | E6: -8.7060923 | G6: 2.04 | I6: 1921 | J6: - | K6: - | M6: - | N6: - | O6: - | Q6: - | S6: - | T6: - | U6: - | V6: - | W6: - | X6: - | Z6: 1921 | AA6: - | AB6: - | AD6: - | AE6: - | AF6: - | AG6: - | AH6: - | AI6: - | AJ6: - | AK6: - | AL6: - | AM6: - | AN6: - | AQ6: 1921 | AR6: - | AS6: - | AT6: - | AU6: - | AV6: - | AW6: - | AX6: - | AY6: - | AZ6: - | BA6: - | BB6: - | BC6: - | BD6: - | BE6: - | BF6: - | BG6: - | BI6: 1921 | BJ6: - | BK6: - | BL6: - | BM6: - | BN6: - | BO6: - | BP6: - | BQ6: - | BR6: - | BS6: - | BT6: - | BU6: - | BV6: - | BW6: - | BY6: - | BZ6: - | CA6: - | CB6: - | CC6: -
A7: 1922 | B7: 17516.471 | C7: 26.203908 | D7: 4590 | E7: -16.086235 | G7: 2.05 | I7: 1922 | J7: - | K7: - | M7: - | N7: - | O7: - | Q7: - | S7: - | T7: - | U7: - | V7: - | W7: - | X7: - | Z7: 1922 | AA7: - | AB7: - | AD7: - | AE7: - | AF7: - | AG7: - | AH7: - | AI7: - | AJ7: - | AK7: - | AL7: - | AM7: - | AN7: - | AQ7: 1922 | AR7: - | AS7: - | AT7: - | AU7: - | AV7: - | AW7: - | AX7: - | AY7: - | AZ7: - | BA7: - | BB7: - | BC7: - | BD7: - | BE7: - | BF7: - | BG7: - | BI7: 1922 | BJ7: - | BK7: - | BL7: - | BM7: - | BN7: - | BO7: - | BP7: - | BQ7: - | BR7: - | BS7: - | BT7: - | BU7: - | BV7: - | BW7: - | BY7: - | BZ7: - | CA7: - | CB7: - | CC7: -
A8: 1923 | B8: 18118.274 | C8: 27.673718 | D8: 5014 | E8: 7.1146245 | G8: 2.06 | I8: 1923 | J8: - | K8: - | M8: 265 | N8: - | O8: - | Q8: - | S8: - | T8: - | U8: - | V8: - | W8: - | X8: =M8 -> 265 | Z8: 1923 | AA8: - | AB8: - | AD8: 348 | AE8: - | AF8: - | AG8: - | AH8: - | AI8: - | AJ8: - | AK8: - | AL8: - | AM8: - | AN8: - | AO8: =X8-BG8 -> 348 | AQ8: 1923 | AR8: - | AS8: - | AT8: - | AU8: =M8-AD8 -> -83 | AV8: - | AW8: - | AX8: - | AY8: - | AZ8: - | BA8: - | BB8: - | BC8: - | BD8: - | BE8: - | BF8: - | BG8: =AU8 -> -83 | BI8: 1923 | BJ8: - | BK8: - | BL8: - | BM8: - | BN8: - | BO8: - | BP8: - | BQ8: - | BR8: - | BS8: - | BT8: - | BU8: - | BV8: - | BW8: - | BY8: - | BZ8: - | CA8: - | CB8: - | CC8: -
A9: 1924 | B9: 17825.313 | C9: 25.991128 | D9: 4633 | E9: -4.1512915 | G9: 2.07 | I9: 1924 | J9: - | K9: - | M9: 284 | N9: - | O9: - | Q9: - | S9: - | T9: - | U9: - | V9: - | W9: - | X9: =M9 -> 284 | Z9: 1924 | AA9: - | AB9: - | AD9: 276 | AE9: - | AF9: - | AG9: - | AH9: - | AI9: - | AJ9: - | AK9: - | AL9: - | AM9: - | AN9: - | AO9: =X9-BG9 -> 276 | AQ9: 1924 | AR9: - | AS9: - | AT9: - | AU9: =M9-AD9 -> 8 | AV9: - | AW9: - | AX9: - | AY9: - | AZ9: - | BA9: - | BB9: - | BC9: - | BD9: - | BE9: - | BF9: - | BG9: =AU9 -> 8 | BI9: 1924 | BJ9: - | BK9: - | BL9: - | BM9: - | BN9: - | BO9: - | BP9: - | BQ9: - | BR9: - | BS9: - | BT9: - | BU9: - | BV9: - | BW9: - | BY9: - | BZ9: - | CA9: - | CB9: - | CC9: -
A10: 1925 | B10: 18930.589 | C10: 27.674787 | D10: 5239 | E10: 4.9085659 | G10: 2.0483333 | I10: 1925 | J10: - | K10: - | M10: 322 | N10: 322 | O10: - | Q10: - | S10: - | T10: - | U10: - | V10: - | W10: - | X10: =M10 -> 322 | Z10: 1925 | AA10: - | AB10: - | AD10: 293 | AE10: 298 | AF10: - | AG10: - | AH10: - | AI10: - | AJ10: - | AK10: - | AL10: - | AM10: - | AN10: - | AO10: =X10-BG10 -> 293 | AQ10: 1925 | AR10: - | AS10: - | AT10: - | AU10: =M10-AD10 -> 29 | AV10: =N10-AE10 -> 24 | AW10: - | AX10: - | AY10: - | AZ10: - | BA10: - | BB10: - | BC10: - | BD10: - | BE10: - | BF10: - | BG10: =AU10 -> 29 | BI10: 1925 | BJ10: - | BK10: - | BL10: - | BM10: - | BN10: - | BO10: - | BP10: - | BQ10: - | BR10: - | BS10: - | BT10: - | BU10: - | BV10: - | BW10: - | BY10: - | BZ10: - | CA10: - | CB10: - | CC10: -
A11: 1926 | B11: 20066.275 | C11: 27.254684 | D11: 5469 | E11: -1.8348624 | G11: 2.1308333 | I11: 1926 | J11: - | K11: - | M11: 309 | N11: 309 | O11: - | Q11: - | S11: - | T11: - | U11: - | V11: - | W11: - | X11: =M11 -> 309 | Z11: 1926 | AA11: - | AB11: - | AD11: 307 | AE11: 325 | AF11: - | AG11: - | AH11: - | AI11: - | AJ11: - | AK11: - | AL11: - | AM11: - | AN11: - | AO11: =X11-BG11 -> 307 | AQ11: 1926 | AR11: - | AS11: - | AT11: - | AU11: =M11-AD11 -> 2 | AV11: =N11-AE11 -> -16 | AW11: - | AX11: - | AY11: - | AZ11: - | BA11: - | BB11: - | BC11: - | BD11: - | BE11: - | BF11: - | BG11: =AU11 -> 2 | BI11: 1926 | BJ11: - | BK11: - | BL11: - | BM11: - | BN11: - | BO11: - | BP11: - | BQ11: - | BR11: - | BS11: - | BT11: - | BU11: - | BV11: - | BW11: - | BY11: - | BZ11: - | CA11: - | CB11: - | CC11: -
A12: 1927 | B12: 19183.677 | C12: 25.996059 | D12: 4987 | E12: -2.3364486 | G12: 2.2883333 | I12: 1927 | J12: - | K12: - | M12: 307 | N12: 295 | O12: - | Q12: - | S12: - | T12: - | U12: - | V12: - | W12: - | X12: =M12 -> 307 | Z12: 1927 | AA12: - | AB12: - | AD12: 310 | AE12: 310 | AF12: - | AG12: - | AH12: - | AI12: - | AJ12: - | AK12: - | AL12: - | AM12: - | AN12: - | AO12: =X12-BG12 -> 310 | AQ12: 1927 | AR12: - | AS12: - | AT12: - | AU12: =M12-AD12 -> -3 | AV12: =N12-AE12 -> -15 | AW12: - | AX12: - | AY12: - | AZ12: - | BA12: - | BB12: - | BC12: - | BD12: - | BE12: - | BF12: - | BG12: =AU12 -> -3 | BI12: 1927 | BJ12: - | BK12: - | BL12: - | BM12: - | BN12: - | BO12: - | BP12: - | BQ12: - | BR12: - | BS12: - | BT12: - | BU12: - | BV12: - | BW12: - | BY12: - | BZ12: - | CA12: - | CB12: - | CC12: -
A13: 1928 | B13: 19302.618 | C13: 25.996474 | D13: 5018 | E13: -4.0191388 | G13: 2.1541667 | I13: 1928 | J13: - | K13: - | M13: 311 | N13: 300 | O13: - | Q13: - | S13: - | T13: - | U13: - | V13: - | W13: - | X13: =M13 -> 311 | Z13: 1928 | AA13: - | AB13: - | AD13: 287 | AE13: 288 | AF13: - | AG13: - | AH13: - | AI13: - | AJ13: - | AK13: - | AL13: - | AM13: - | AN13: - | AO13: =X13-BG13 -> 287 | AQ13: 1928 | AR13: - | AS13: - | AT13: - | AU13: =M13-AD13 -> 24 | AV13: =N13-AE13 -> 12 | AW13: - | AX13: - | AY13: - | AZ13: - | BA13: - | BB13: - | BC13: - | BD13: - | BE13: - | BF13: - | BG13: =AU13 -> 24 | BI13: 1928 | BJ13: - | BK13: - | BL13: - | BM13: - | BN13: - | BO13: - | BP13: - | BQ13: - | BR13: - | BS13: - | BT13: - | BU13: - | BV13: - | BW13: - | BY13: - | BZ13: - | CA13: - | CB13: - | CC13: -
A14: 1929 | B14: 18555.856 | C14: 26.20736 | D14: 4863 | E14: -0.29910269 | G14: 2.1458333 | I14: 1929 | J14: - | K14: - | M14: 322 | N14: 322 | O14: - | Q14: - | S14: - | T14: - | U14: - | V14: - | W14: - | X14: =M14 -> 322 | Z14: 1929 | AA14: - | AB14: - | AD14: 276 | AE14: 276 | AF14: - | AG14: - | AH14: - | AI14: - | AJ14: - | AK14: - | AL14: - | AM14: - | AN14: - | AO14: =X14-BG14 -> 276 | AQ14: 1929 | AR14: - | AS14: - | AT14: - | AU14: =M14-AD14 -> 46 | AV14: =N14-AE14 -> 46 | AW14: - | AX14: - | AY14: - | AZ14: - | BA14: - | BB14: - | BC14: - | BD14: - | BE14: - | BF14: - | BG14: =AU14 -> 46 | BI14: 1929 | BJ14: - | BK14: - | BL14: - | BM14: - | BN14: - | BO14: - | BP14: - | BQ14: - | BR14: - | BS14: - | BT14: - | BU14: - | BV14: - | BW14: - | BY14: - | BZ14: - | CA14: - | CB14: - | CC14: -
A15: 1930 | B15: 17392.799 | C15: 26.838693 | D15: 4668 | E15: 0.2 | G15: 2.2483333 | I15: 1930 | J15: - | K15: - | M15: 289 | N15: 289 | O15: - | Q15: - | S15: - | T15: - | U15: - | V15: - | W15: - | X15: =M15 -> 289 | Z15: 1930 | AA15: - | AB15: - | AD15: 279 | AE15: 279 | AF15: - | AG15: - | AH15: - | AI15: - | AJ15: - | AK15: - | AL15: - | AM15: - | AN15: - | AO15: =X15-BG15 -> 279 | AQ15: 1930 | AR15: - | AS15: - | AT15: - | AU15: =M15-AD15 -> 10 | AV15: =N15-AE15 -> 10 | AW15: - | AX15: - | AY15: - | AZ15: - | BA15: - | BB15: - | BC15: - | BD15: - | BE15: - | BF15: - | BG15: =AU15 -> 10 | BI15: 1930 | BJ15: - | BK15: - | BL15: - | BM15: - | BN15: - | BO15: - | BP15: - | BQ15: - | BR15: - | BS15: - | BT15: - | BU15: - | BV15: - | BW15: - | BY15: - | BZ15: - | CA15: - | CB15: - | CC15: -
A16: 1931 | B16: 17969.259 | C16: 23.473422 | D16: 4218 | E16: -10.179641 | G16: 2.6933333 | I16: 1931 | J16: - | K16: - | M16: 256 | N16: 256 | O16: - | Q16: - | S16: - | T16: - | U16: - | V16: - | W16: - | X16: =M16 -> 256 | Z16: 1931 | AA16: - | AB16: - | AD16: 227 | AE16: 226 | AF16: - | AG16: - | AH16: - | AI16: - | AJ16: - | AK16: - | AL16: - | AM16: - | AN16: - | AO16: =X16-BG16 -> 227 | AQ16: 1931 | AR16: - | AS16: - | AT16: - | AU16: =M16-AD16 -> 29 | AV16: =N16-AE16 -> 30 | AW16: - | AX16: - | AY16: - | AZ16: - | BA16: - | BB16: - | BC16: - | BD16: - | BE16: - | BF16: - | BG16: =AU16 -> 29 | BI16: 1931 | BJ16: - | BK16: - | BL16: - | BM16: - | BN16: - | BO16: - | BP16: - | BQ16: - | BR16: - | BS16: - | BT16: - | BU16: - | BV16: - | BW16: - | BY16: - | BZ16: - | CA16: - | CB16: - | CC16: -
A17: 1932 | B17: 15289.025 | C17: 20.96929 | D17: 3206 | E17: 11.2 | G17: 3.1625 | I17: 1932 | J17: - | K17: - | M17: 212 | N17: 212 | O17: 212 | Q17: - | S17: - | T17: - | U17: - | V17: - | W17: - | X17: =M17 -> 212 | Z17: 1932 | AA17: - | AB17: - | AD17: 212 | AE17: 212 | AF17: 212 | AG17: - | AH17: - | AI17: - | AJ17: - | AK17: - | AL17: - | AM17: - | AN17: - | AO17: =X17-BG17 -> 212 | AQ17: 1932 | AR17: - | AS17: - | AT17: - | AU17: =M17-AD17 -> 0 | AV17: =N17-AE17 -> 0 | AW17: =O17-AF17 -> 0 | AX17: - | AY17: - | AZ17: - | BA17: - | BB17: - | BC17: - | BD17: - | BE17: - | BF17: - | BG17: =AU17 -> 0 | BI17: 1932 | BJ17: - | BK17: - | BL17: - | BM17: - | BN17: - | BO17: - | BP17: - | BQ17: - | BR17: - | BS17: - | BT17: - | BU17: - | BV17: - | BW17: - | BY17: - | BZ17: - | CA17: - | CB17: - | CC17: -
A18: 1933 | B18: 17016.377 | C18: 22.225648 | D18: 3782 | E18: 6.1053668 | F18: 18222.729 | G18: 3.5258333 | I18: 1933 | J18: - | K18: - | M18: 223 | N18: 223 | O18: 223 | Q18: - | S18: - | T18: - | U18: - | V18: - | W18: - | X18: =M18 -> 223 | Z18: 1933 | AA18: - | AB18: - | AD18: 246 | AE18: 245 | AF18: 246 | AG18: - | AH18: - | AI18: - | AJ18: - | AK18: - | AL18: - | AM18: - | AN18: - | AO18: =X18-BG18 -> 246 | AQ18: 1933 | AR18: - | AS18: - | AT18: - | AU18: =M18-AD18 -> -23 | AV18: =N18-AE18 -> -22 | AW18: =O18-AF18 -> -23 | AX18: - | AY18: - | AZ18: - | BA18: - | BB18: - | BC18: - | BD18: - | BE18: - | BF18: - | BG18: =AU18 -> -23 | BI18: 1933 | BJ18: - | BK18: - | BL18: - | BM18: - | BN18: - | BO18: - | BP18: - | BQ18: - | BR18: - | BS18: - | BT18: - | BU18: - | BV18: - | BW18: - | BY18: - | BZ18: - | CA18: - | CB18: - | CC18: -
A19: 1934 | B19: 18164.566 | C19: 22.852184 | D19: 4151 | E19: 5.512761 | F19: 18892.171 | G19: 3.6 | I19: 1934 | J19: 266.1 | K19: 287.1 | M19: 295 | N19: 295 | O19: 295 | Q19: - | S19: - | T19: - | U19: - | V19: 295.9 | W19: - | X19: =M19 -> 295 | Z19: 1934 | AA19: 253.8 | AB19: 259.1 | AD19: 265 | AE19: 265 | AF19: 265 | AG19: - | AH19: - | AI19: - | AJ19: - | AK19: - | AL19: - | AM19: 264.7 | AN19: - | AO19: =X19-BG19 -> 266.6 | AQ19: 1934 | AR19: =J19-AA19 -> 12.3 | AS19: =K19-AB19 -> 28 | AT19: - | AU19: =M19-AD19 -> 30 | AV19: =N19-AE19 -> 30 | AW19: =O19-AF19 -> 30 | AX19: - | AY19: - | AZ19: - | BA19: - | BB19: - | BC19: - | BD19: =V19-AM19 -> 31.2 | BF19: 28.4 | BG19: =BF19 -> 28.4 | BI19: 1934 | BJ19: =$BF19-AR19 -> 16.1 | BK19: =$BF19-AS19 -> 0.4 | BL19: - | BM19: =$BF19-AU19 -> -1.6 | BN19: =$BF19-AV19 -> -1.6 | BO19: =$BF19-AW19 -> -1.6 | BP19: - | BQ19: - | BR19: - | BS19: - | BT19: - | BU19: - | BV19: =$BF19-BD19 -> -2.8 | BW19: - | BY19: =AO88 -> 6.4225488 | BZ19: =BY19-CA19 -> 5.5891065 | CA19: 0.83344228 | CB19: =X88 -> 7.1067213 | CC19: =CB19-BZ19 -> 1.5176148
A20: 1935 | B20: 19514.482 | C20: 23.264773 | D20: 4540 | E20: -0.30785469 | F20: 19669.276 | G20: 3.6 | I20: 1935 | J20: 336.9 | K20: 355.9 | L20: =K20-R20 -> 338.3 | M20: 313 | N20: 313 | O20: 313 | P20: 330.6 | Q20: 313 | R20: =P20-Q20 -> 17.6 | S20: - | T20: - | U20: - | V20: 329.7 | W20: - | X20: =L20 -> 338.3 | Z20: 1935 | AA20: 278.9 | AB20: 285.5 | AC20: =AB20-AI20 -> 284.9 | AD20: 301 | AE20: 301 | AF20: 301 | AG20: 301.4 | AH20: 300.8 | AI20: =AG20-AH20 -> 0.6 | AJ20: - | AK20: - | AL20: - | AM20: 300.7 | AN20: - | AO20: =X20-BG20 -> 296.1 | AQ20: 1935 | AR20: =J20-AA20 -> 58 | AS20: =K20-AB20 -> 70.4 | AT20: =AS20-AZ20 -> 53.4 | AU20: =M20-AD20 -> 12 | AV20: =N20-AE20 -> 12 | AW20: =O20-AF20 -> 12 | AX20: =P20-AG20 -> 29.2 | AY20: =Q20-AH20 -> 12.2 | AZ20: =R20-AI20 -> 17 | BA20: - | BB20: - | BC20: - | BD20: =V20-AM20 -> 29 | BF20: 42.2 | BG20: =BF20 -> 42.2 | BI20: 1935 | BJ20: =$BF20-AR20 -> -15.8 | BK20: =$BF20-AS20 -> -28.2 | BL20: =$BF20-AT20 -> -11.2 | BM20: =$BF20-AU20 -> 30.2 | BN20: =$BF20-AV20 -> 30.2 | BO20: =$BF20-AW20 -> 30.2 | BP20: =$BF20-AX20 -> 13 | BQ20: =$BF20-AY20 -> 30 | BR20: - | BS20: - | BT20: - | BU20: - | BV20: =$BF20-BD20 -> 13.2 | BW20: - | BY20: =AO89 -> 6.5220264 | BZ20: =BY20-CA20 -> 5.2312775 | CA20: 1.2907489 | CB20: =X89 -> 7.4515419 | CC20: =CB20-BZ20 -> 2.2202643
A21: 1936 | B21: 21071.87 | C21: 25.370316 | D21: 5346 | E21: 6.2908064 | F21: 20539.54 | G21: 3.6 | I21: 1936 | J21: 385.2 | K21: 407.4 | L21: =K21-R21 -> 402.1 | M21: 385 | N21: 385 | O21: 385 | P21: 385.2 | Q21: 379.9 | R21: =P21-Q21 -> 5.3 | S21: - | T21: - | U21: - | V21: 381.7 | W21: - | X21: =L21 -> 402.1 | Z21: 1936 | AA21: 406.1 | AB21: 380.2 | AC21: =AB21-AI21 -> 376.4 | AD21: 406 | AE21: 406 | AF21: 406 | AG21: 406.1 | AH21: 402.3 | AI21: =AG21-AH21 -> 3.8 | AJ21: - | AK21: - | AL21: - | AM21: 402.5 | AN21: - | AO21: =X21-BG21 -> 474.1 | AQ21: 1936 | AR21: =J21-AA21 -> -20.9 | AS21: =K21-AB21 -> 27.2 | AT21: =AS21-AZ21 -> 25.7 | AU21: =M21-AD21 -> -21 | AV21: =N21-AE21 -> -21 | AW21: =O21-AF21 -> -21 | AX21: =P21-AG21 -> -20.9 | AY21: =Q21-AH21 -> -22.4 | AZ21: =R21-AI21 -> 1.5 | BA21: - | BB21: - | BC21: - | BD21: =V21-AM21 -> -20.8 | BF21: -72 | BG21: =BF21 -> -72 | BI21: 1936 | BJ21: =$BF21-AR21 -> -51.1 | BK21: =$BF21-AS21 -> -99.2 | BL21: =$BF21-AT21 -> -97.7 | BM21: =$BF21-AU21 -> -51 | BN21: =$BF21-AV21 -> -51 | BO21: =$BF21-AW21 -> -51 | BP21: =$BF21-AX21 -> -51.1 | BQ21: =$BF21-AY21 -> -49.6 | BR21: - | BS21: - | BT21: - | BU21: - | BV21: =$BF21-BD21 -> -51.2 | BW21: - | BY21: =AO90 -> 8.8683128 | BZ21: =BY21-CA21 -> 7.3419379 | CA21: 1.5263749 | CB21: =X90 -> 7.5215114 | CC21: =CB21-BZ21 -> 0.17957351
A22: 1937 | B22: 21769.298 | C22: 31.236652 | D22: 6800 | E22: 18.419524 | F22: 21488.39 | G22: 3.6 | I22: 1937 | J22: 451.1 | K22: 449.9 | L22: =K22-R22 -> 433.9 | M22: 451 | N22: 451 | O22: 451 | P22: 451.1 | Q22: 435.1 | R22: =P22-Q22 -> 16 | S22: - | T22: - | U22: - | V22: 446 | W22: - | X22: =L22 -> 433.9 | Z22: 1937 | AA22: 478.8 | AB22: 525.9 | AC22: =AB22-AI22 -> 513.3 | AD22: 479 | AE22: 479 | AF22: 479 | AG22: 478.8 | AH22: 466.2 | AI22: =AG22-AH22 -> 12.6 | AJ22: - | AK22: - | AL22: - | AM22: 470.3 | AN22: - | AO22: =X22-BG22 -> 502.9 | AQ22: 1937 | AR22: =J22-AA22 -> -27.7 | AS22: =K22-AB22 -> -76 | AT22: =AS22-AZ22 -> -79.4 | AU22: =M22-AD22 -> -28 | AV22: =N22-AE22 -> -28 | AW22: =O22-AF22 -> -28 | AX22: =P22-AG22 -> -27.7 | AY22: =Q22-AH22 -> -31.1 | AZ22: =R22-AI22 -> 3.4 | BA22: - | BB22: - | BC22: - | BD22: =V22-AM22 -> -24.3 | BF22: -69 | BG22: =BF22 -> -69 | BI22: 1937 | BJ22: =$BF22-AR22 -> -41.3 | BK22: =$BF22-AS22 -> 7 | BL22: =$BF22-AT22 -> 10.4 | BM22: =$BF22-AU22 -> -41 | BN22: =$BF22-AV22 -> -41 | BO22: =$BF22-AW22 -> -41 | BP22: =$BF22-AX22 -> -41.3 | BQ22: =$BF22-AY22 -> -37.9 | BR22: - | BS22: - | BT22: - | BU22: - | BV22: =$BF22-BD22 -> -44.7 | BW22: - | BY22: =AO91 -> 7.3955882 | BZ22: =BY22-CA22 -> 6.2926471 | CA22: 1.1029412 | CB22: =X91 -> 6.3808824 | CC22: =CB22-BZ22 -> 0.088235294
A23: 1938 | B23: 22122.067 | C23: 32.912837 | D23: 7281 | E23: 6.2736576 | F23: 22513.68 | G23: 4.5175 | I23: 1938 | J23: 438.3 | K23: 466.8 | L23: =K23-R23 -> 438.8 | M23: 438 | N23: 438 | O23: 438 | P23: 466.3 | Q23: 438.3 | R23: =P23-Q23 -> 28 | S23: - | T23: - | U23: - | V23: 434.8 | W23: 438.3 | X23: =L23 -> 438.8 | Z23: 1938 | AA23: 503.8 | AB23: 548.7 | AC23: =AB23-AI23 -> 518.5 | AD23: 504 | AE23: 504 | AF23: 504 | AG23: 537 | AH23: 506.8 | AI23: =AG23-AH23 -> 30.2 | AJ23: - | AK23: - | AL23: - | AM23: 503.8 | AN23: 424.2 | AO23: =X23-BG23 -> 456.1 | AQ23: 1938 | AR23: =J23-AA23 -> -65.5 | AS23: =K23-AB23 -> -81.9 | AT23: =AS23-AZ23 -> -79.7 | AU23: =M23-AD23 -> -66 | AV23: =N23-AE23 -> -66 | AW23: =O23-AF23 -> -66 | AX23: =P23-AG23 -> -70.7 | AY23: =Q23-AH23 -> -68.5 | AZ23: =R23-AI23 -> -2.2 | BA23: - | BB23: - | BC23: - | BD23: =V23-AM23 -> -69 | BE23: =W23-AN23 -> 14.1 | BF23: -17.3 | BG23: =BF23 -> -17.3 | BI23: 1938 | BJ23: =$BF23-AR23 -> 48.2 | BK23: =$BF23-AS23 -> 64.6 | BL23: =$BF23-AT23 -> 62.4 | BM23: =$BF23-AU23 -> 48.7 | BN23: =$BF23-AV23 -> 48.7 | BO23: =$BF23-AW23 -> 48.7 | BP23: =$BF23-AX23 -> 53.4 | BQ23: =$BF23-AY23 -> 51.2 | BR23: - | BS23: - | BT23: - | BU23: - | BV23: =$BF23-BD23 -> 51.7 | BW23: =$BF23-BE23 -> -31.4 | BY23: =AO92 -> 6.2642494 | BZ23: =BY23-CA23 -> 4.4609257 | CA23: 1.8033237 | CB23: =X92 -> 6.0266447 | CC23: =CB23-BZ23 -> 1.565719
A24: 1939 | B24: 23311.48 | C24: 33.395563 | D24: 7785 | E24: 0.54745729 | F24: 23618.074 | G24: 5.4041667 | I24: 1939 | J24: 565.7 | K24: 564.6 | L24: =K24-R24 -> 463.4 | M24: 566 | N24: 566 | O24: 566 | P24: 596.1 | Q24: 494.9 | R24: =P24-Q24 -> 101.2 | S24: - | T24: - | U24: - | V24: 565.7 | W24: 565.7 | X24: =L24 -> 463.4 | Z24: 1939 | AA24: 570.9 | AB24: 611.1 | AC24: =AB24-AI24 -> 506.6 | AD24: 571 | AE24: 571 | AF24: 582 | AG24: 620.3 | AH24: 515.8 | AI24: =AG24-AH24 -> 104.5 | AJ24: - | AL24: - | AM24: 570.9 | AN24: 485.9 | AO24: =X24-BG24 -> 505.4 | AQ24: 1939 | AR24: =J24-AA24 -> -5.2 | AS24: =K24-AB24 -> -46.5 | AT24: =AS24-AZ24 -> -43.2 | AU24: =M24-AD24 -> -5 | AV24: =N24-AE24 -> -5 | AW24: =O24-AF24 -> -16 | AX24: =P24-AG24 -> -24.2 | AY24: =Q24-AH24 -> -20.9 | AZ24: =R24-AI24 -> -3.3 | BA24: - | BB24: - | BC24: - | BD24: =V24-AM24 -> -5.2 | BE24: =W24-AN24 -> 79.8 | BF24: -42 | BG24: =BF24 -> -42 | BI24: 1939 | BJ24: =$BF24-AR24 -> -36.8 | BK24: =$BF24-AS24 -> 4.5 | BL24: =$BF24-AT24 -> 1.2 | BM24: =$BF24-AU24 -> -37 | BN24: =$BF24-AV24 -> -37 | BO24: =$BF24-AW24 -> -26 | BP24: =$BF24-AX24 -> -17.8 | BQ24: =$BF24-AY24 -> -21.1 | BR24: - | BS24: - | BT24: - | BU24: - | BV24: =$BF24-BD24 -> -36.8 | BW24: =$BF24-BE24 -> -121.8 | BY24: =AO93 -> 6.4919717 | BZ24: =BY24-CA24 -> 3.0931278 | CA24: 3.3988439 | CB24: =X93 -> 5.9524727 | CC24: =CB24-BZ24 -> 2.8593449
A25: 1940 | B25: 23633.162 | C25: 34.904343 | D25: 8249 | E25: 1.5378641 | F25: 24798.696 | G25: 4.8575 | I25: 1940 | J25: 564.9 | K25: 565 | L25: =K25-R25 -> 463 | M25: 577 | N25: 577 | O25: 577 | P25: 612 | Q25: 510 | R25: =P25-Q25 -> 102 | S25: - | T25: 744 | U25: - | V25: 564.9 | W25: 598.3 | X25: =L25 -> 463 | Z25: 1940 | AA25: 603.8 | AB25: 682.4 | AC25: =AB25-AI25 -> 581.7 | AD25: 610 | AE25: 610 | AF25: 604 | AG25: 658.3 | AH25: 557.6 | AI25: =AG25-AH25 -> 100.7 | AJ25: - | AK25: 821 | AL25: - | AM25: 603.8 | AN25: 522.3 | AO25: =X25-BG25 -> 535 | AQ25: 1940 | AR25: =J25-AA25 -> -38.9 | AS25: =K25-AB25 -> -117.4 | AT25: =AS25-AZ25 -> -118.7 | AU25: =M25-AD25 -> -33 | AV25: =N25-AE25 -> -33 | AW25: =O25-AF25 -> -27 | AX25: =P25-AG25 -> -46.3 | AY25: =Q25-AH25 -> -47.6 | AZ25: =R25-AI25 -> 1.3 | BA25: - | BB25: =T25-AK25 -> -77 | BC25: - | BD25: =V25-AM25 -> -38.9 | BE25: =W25-AN25 -> 76 | BF25: -72 | BG25: =BF25 -> -72 | BI25: 1940 | BJ25: =$BF25-AR25 -> -33.1 | BK25: =$BF25-AS25 -> 45.4 | BL25: =$BF25-AT25 -> 46.7 | BM25: =$BF25-AU25 -> -39 | BN25: =$BF25-AV25 -> -39 | BO25: =$BF25-AW25 -> -45 | BP25: =$BF25-AX25 -> -25.7 | BQ25: =$BF25-AY25 -> -24.4 | BR25: - | BS25: - | BT25: =$BF25-BB25 -> 5 | BU25: - | BV25: =$BF25-BD25 -> -33.1 | BW25: =$BF25-BE25 -> -148 | BY25: =AO94 -> 6.4856346 | BZ25: =BY25-CA25 -> 2.4099891 | CA25: 4.0756455 | CB25: =X94 -> 5.6128016 | CC25: =CB25-BZ25 -> 3.2028125
A26: 1941 | B26: 25934.947 | C26: 35.596757 | D26: 9232 | E26: 6.583225 | F26: 26059.246 | G26: 4.8516667 | I26: 1941 | J26: 780.5 | K26: 667 | L26: =K26-R26 -> 430.7 | M26: 665 | N26: 665 | O26: nd | P26: 780.4 | Q26: 544.1 | R26: =P26-Q26 -> 236.3 | S26: - | T26: 821 | U26: - | V26: 664.9 | W26: 712.1 | X26: =L26 -> 430.7 | Z26: 1941 | AA26: 777.6 | AB26: 704.9 | AC26: =AB26-AI26 -> 472.2 | AD26: 689 | AE26: 689 | AF26: - | AG26: 777.6 | AH26: 544.9 | AI26: =AG26-AH26 -> 232.7 | AJ26: - | AK26: 928 | AL26: - | AM26: 681.9 | AN26: 614.8 | AO26: =X26-BG26 -> 507.2 | AQ26: 1941 | AR26: =J26-AA26 -> 2.9 | AS26: =K26-AB26 -> -37.9 | AT26: =AS26-AZ26 -> -41.5 | AU26: =M26-AD26 -> -24 | AV26: =N26-AE26 -> -24 | AX26: =P26-AG26 -> 2.8 | AY26: =Q26-AH26 -> -0.8 | AZ26: =R26-AI26 -> 3.6 | BA26: - | BB26: =T26-AK26 -> -107 | BC26: - | BD26: =V26-AM26 -> -17 | BE26: =W26-AN26 -> 97.3 | BF26: -76.5 | BG26: =BF26 -> -76.5 | BI26: 1941 | BJ26: =$BF26-AR26 -> -79.4 | BK26: =$BF26-AS26 -> -38.6 | BL26: =$BF26-AT26 -> -35 | BM26: =$BF26-AU26 -> -52.5 | BN26: =$BF26-AV26 -> -52.5 | BO26: - | BP26: =$BF26-AX26 -> -79.3 | BQ26: =$BF26-AY26 -> -75.7 | BR26: - | BT26: =$BF26-BB26 -> 30.5 | BV26: =$BF26-BD26 -> -59.5 | BW26: =$BF26-BE26 -> -173.8 | BY26: =AO95 -> 5.4939341 | BZ26: =BY26-CA26 -> 1.3377383 | CA26: 4.1561958 | CB26: =X95 -> 4.6652946 | CC26: =CB26-BZ26 -> 3.3275563
A27: 1942 | B27: 27389.95 | C27: 38.996055 | D27: 10681 | E27: 10.362971 | F27: 27398.399 | G27: 4.85 | I27: 1942 | J27: 940.7 | K27: 755.7 | L27: =K27-R27 -> 447.6 | M27: 746 | N27: 746 | O27: nd | P27: 940.7 | Q27: 632.6 | R27: =P27-Q27 -> 308.1 | S27: - | T27: 942 | U27: - | V27: 774.2 | W27: 802 | X27: =L27 -> 447.6 | Z27: 1942 | AA27: 1005.7 | AB27: 864.2 | AC27: =AB27-AI27 -> 556.4 | AD27: 845 | AE27: 845 | AF27: - | AG27: 1005.7 | AH27: 697.9 | AI27: =AG27-AH27 -> 307.8 | AJ27: - | AK27: 1103 | AL27: - | AM27: 836.8 | AN27: 732.7 | AO27: =X27-BG27 -> 640.4 | AQ27: 1942 | AR27: =J27-AA27 -> -65 | AS27: =K27-AB27 -> -108.5 | AT27: =AS27-AZ27 -> -108.8 | AU27: =M27-AD27 -> -99 | AV27: =N27-AE27 -> -99 | AX27: =P27-AG27 -> -65 | AY27: =Q27-AH27 -> -65.3 | AZ27: =R27-AI27 -> 0.3 | BA27: - | BB27: =T27-AK27 -> -161 | BC27: - | BD27: =V27-AM27 -> -62.6 | BE27: =W27-AN27 -> 69.3 | BF27: -192.8 | BG27: =BF27 -> -192.8 | BI27: 1942 | BJ27: =$BF27-AR27 -> -127.8 | BK27: =$BF27-AS27 -> -84.3 | BL27: =$BF27-AT27 -> -84 | BM27: =$BF27-AU27 -> -93.8 | BN27: =$BF27-AV27 -> -93.8 | BO27: - | BP27: =$BF27-AX27 -> -127.8 | BQ27: =$BF27-AY27 -> -127.5 | BR27: - | BT27: =$BF27-BB27 -> -31.8 | BV27: =$BF27-BD27 -> -130.2 | BW27: =$BF27-BE27 -> -262.1 | BY27: =AO96 -> 5.9956933 | BZ27: =BY27-CA27 -> 1.3847018 | CA27: 4.6109915 | CB27: =X96 -> 4.1906189 | CC27: =CB27-BZ27 -> 2.805917
A28: 1943 | B28: 28404.33 | C28: 45.89089 | D28: 13035 | E28: 20.804256 | F28: 28822.989 | G28: 4.855 | I28: 1943 | J28: 1275.7 | K28: 1092.6 | L28: =K28-R28 -> 732.9 | M28: 1092 | N28: 1092 | O28: nd | P28: 1275.7 | Q28: 916 | R28: =P28-Q28 -> 359.7 | S28: - | T28: 1269 | U28: - | V28: 1091.6 | W28: 1150.5 | X28: =L28 -> 732.9 | Z28: 1943 | AA28: 1195.5 | AB28: 1115.4 | AC28: =AB28-AI28 -> 799.6 | AD28: 1085 | AE28: 1085 | AF28: - | AG28: 1195.5 | AH28: 879.7 | AI28: =AG28-AH28 -> 315.8 | AJ28: - | AK28: 1306 | AL28: - | AM28: 1075.5 | AN28: 830.3 | AO28: =X28-BG28 -> 706.4 | AQ28: 1943 | AR28: =J28-AA28 -> 80.2 | AS28: =K28-AB28 -> -22.8 | AT28: =AS28-AZ28 -> -66.7 | AU28: =M28-AD28 -> 7 | AV28: =N28-AE28 -> 7 | AX28: =P28-AG28 -> 80.2 | AY28: =Q28-AH28 -> 36.3 | AZ28: =R28-AI28 -> 43.9 | BA28: - | BB28: =T28-AK28 -> -37 | BC28: - | BD28: =V28-AM28 -> 16.1 | BE28: =W28-AN28 -> 320.2 | BF28: 26.5 | BG28: =BF28 -> 26.5 | BI28: 1943 | BJ28: =$BF28-AR28 -> -53.7 | BK28: =$BF28-AS28 -> 49.3 | BL28: =$BF28-AT28 -> 93.2 | BM28: =$BF28-AU28 -> 19.5 | BN28: =$BF28-AV28 -> 19.5 | BO28: - | BP28: =$BF28-AX28 -> -53.7 | BQ28: =$BF28-AY28 -> -9.8 | BR28: - | BT28: =$BF28-BB28 -> 63.5 | BV28: =$BF28-BD28 -> 10.4 | BW28: =$BF28-BE28 -> -293.7 | BY28: =AO97 -> 5.4192558 | BZ28: =BY28-CA28 -> 0.61603376 | CA28: 4.8032221 | CB28: =X97 -> 5.6225547 | CC28: =CB28-BZ28 -> 5.0065209
A29: 1944 | B29: 30723.01 | C29: 61.195176 | D29: 18801 | E29: 22.512011 | F29: 30335.017 | G29: 4.8533333 | I29: 1944 | J29: 1295.4 | K29: 1296.4 | L29: =K29-R29 -> 1093.4 | M29: 1295 | N29: 1295 | O29: nd | P29: 1313.4 | Q29: 1110.4 | R29: =P29-Q29 -> 203 | S29: - | T29: 1479 | U29: - | V29: 1295.3 | W29: 1285.1 | X29: =L29 -> 1093.4 | Z29: 1944 | AA29: 1463.8 | AB29: 1538.8 | AC29: =AB29-AI29 -> 1163.9 | AD29: 1505 | AE29: 1505 | AF29: - | AG29: 1463.8 | AH29: 1088.9 | AI29: =AG29-AH29 -> 374.9 | AJ29: - | AK29: 1566 | AL29: - | AM29: 1453.3 | AN29: 946.3 | AO29: =X29-BG29 -> 1135.9 | AQ29: 1944 | AR29: =J29-AA29 -> -168.4 | AS29: =K29-AB29 -> -242.4 | AT29: =AS29-AZ29 -> -70.5 | AU29: =M29-AD29 -> -210 | AV29: =N29-AE29 -> -210 | AX29: =P29-AG29 -> -150.4 | AY29: =Q29-AH29 -> 21.5 | AZ29: =R29-AI29 -> -171.9 | BA29: - | BB29: =T29-AK29 -> -87 | BC29: - | BD29: =V29-AM29 -> -158 | BE29: =W29-AN29 -> 338.8 | BF29: -42.5 | BG29: =BF29 -> -42.5 | BI29: 1944 | BJ29: =$BF29-AR29 -> 125.9 | BK29: =$BF29-AS29 -> 199.9 | BL29: =$BF29-AT29 -> 28 | BM29: =$BF29-AU29 -> 167.5 | BN29: =$BF29-AV29 -> 167.5 | BO29: - | BP29: =$BF29-AX29 -> 107.9 | BQ29: =$BF29-AY29 -> -64 | BR29: - | BT29: =$BF29-BB29 -> 44.5 | BV29: =$BF29-BD29 -> 115.5 | BW29: =$BF29-BE29 -> -381.3 | BY29: =AO98 -> 6.0416999 | BZ29: =BY29-CA29 -> 2.1935003 | CA29: 3.8481996 | CB29: =X98 -> 5.8156481 | CC29: =CB29-BZ29 -> 3.6221478
A30: 1945 | B30: 31688.056 | C30: 64.901425 | D30: 20566 | E30: 11.30719 | F30: 31946.019 | G30: 4.8541667 | I30: 1945 | J30: 1585 | K30: 1452.9 | L30: =K30-R30 -> 1052.8 | M30: 1404 | N30: 1404 | O30: nd | P30: 1585 | Q30: 1184.9 | R30: =P30-Q30 -> 400.1 | S30: - | T30: 1669 | U30: - | V30: 1404 | W30: 1403 | X30: =L30 -> 1052.8 | Z30: 1945 | AA30: 1660.1 | AB30: 1687 | AC30: =AB30-AI30 -> 1343.7 | AD30: 1573 | AE30: 1633 | AF30: - | AG30: 1660.1 | AH30: 1316.8 | AI30: =AG30-AH30 -> 343.3 | AJ30: - | AK30: 1915 | AL30: - | AM30: 1572.8 | AN30: 1050.6 | AO30: =X30-BG30 -> 1201.6 | AQ30: 1945 | AR30: =J30-AA30 -> -75.1 | AS30: =K30-AB30 -> -234.1 | AT30: =AS30-AZ30 -> -290.9 | AU30: =M30-AD30 -> -169 | AV30: =N30-AE30 -> -229 | AX30: =P30-AG30 -> -75.1 | AY30: =Q30-AH30 -> -131.9 | AZ30: =R30-AI30 -> 56.8 | BA30: - | BB30: =T30-AK30 -> -246 | BC30: - | BD30: =V30-AM30 -> -168.8 | BE30: =W30-AN30 -> 352.4 | BF30: -148.8 | BG30: =BF30 -> -148.8 | BI30: 1945 | BJ30: =$BF30-AR30 -> -73.7 | BK30: =$BF30-AS30 -> 85.3 | BL30: =$BF30-AT30 -> 142.1 | BM30: =$BF30-AU30 -> 20.2 | BN30: =$BF30-AV30 -> 80.2 | BO30: - | BP30: =$BF30-AX30 -> -73.7 | BQ30: =$BF30-AY30 -> -16.9 | BR30: - | BT30: =$BF30-BB30 -> 97.2 | BV30: =$BF30-BD30 -> 20 | BW30: =$BF30-BE30 -> -501.2 | BY30: =AO99 -> 5.8426529 | BZ30: =BY30-CA30 -> 1.2107362 | CA30: 4.6319168 | CB30: =X99 -> 5.1191287 | CC30: =CB30-BZ30 -> 3.9083925
A31: 1946 | B31: 33770.543 | C31: 82.705215 | D31: 27930 | E31: 15.099404 | F31: 33662.414 | G31: 4.8583333 | I31: 1946 | J31: 2016.5 | K31: 2050.3 | L31: =K31-R31 -> 1476.9 | M31: 2012 | N31: 2012 | O31: nd | P31: 2227.9 | Q31: 1654.5 | R31: =P31-Q31 -> 573.4 | S31: - | T31: 2160 | U31: - | V31: - | W31: 1948 | X31: =L31 -> 1476.9 | Z31: 1946 | AA31: 1770.5 | AB31: 1935.7 | AC31: =AB31-AI31 -> 1372.2 | AD31: 1829 | AE31: 1829 | AF31: - | AG31: 1920.8 | AH31: 1357.3 | AI31: =AG31-AH31 -> 563.5 | AJ31: - | AK31: 2102 | AL31: - | AM31: - | AN31: 1280.7 | AO31: =X31-BG31 -> 1472.9 | AQ31: 1946 | AR31: =J31-AA31 -> 246 | AS31: =K31-AB31 -> 114.6 | AT31: =AS31-AZ31 -> 104.7 | AU31: =M31-AD31 -> 183 | AV31: =N31-AE31 -> 183 | AX31: =P31-AG31 -> 307.1 | AY31: =Q31-AH31 -> 297.2 | AZ31: =R31-AI31 -> 9.9 | BA31: - | BB31: =T31-AK31 -> 58 | BC31: - | BD31: - | BE31: =W31-AN31 -> 667.3 | BF31: 4 | BG31: =BF31 -> 4 | BI31: 1946 | BJ31: =$BF31-AR31 -> -242 | BK31: =$BF31-AS31 -> -110.6 | BL31: =$BF31-AT31 -> -100.7 | BM31: =$BF31-AU31 -> -179 | BN31: =$BF31-AV31 -> -179 | BO31: - | BP31: =$BF31-AX31 -> -303.1 | BQ31: =$BF31-AY31 -> -293.2 | BR31: - | BT31: =$BF31-BB31 -> -54 | BW31: =$BF31-BE31 -> -663.3 | BY31: =AO100 -> 5.273541 | BZ31: =BY31-CA31 -> 1.2259219 | CA31: 4.047619 | CB31: =X100 -> 5.2878625 | CC31: =CB31-BZ31 -> 4.0619406
A32: 1947 | B32: 34933.599 | C32: 88.805621 | D32: 31023 | E32: 5.9361563 | F32: 35501.033 | G32: 4.86 | I32: 1947 | J32: 2245 | K32: 2027.5 | L32: =K32-R32 -> 1510.5 | M32: 2055 | N32: 2055 | O32: nd | P32: 2245 | Q32: 1728 | R32: =P32-Q32 -> 517 | S32: - | T32: 2294 | U32: - | V32: - | W32: 2010.8 | X32: =L32 -> 1510.5 | Z32: 1947 | AA32: 2208.6 | AB32: 2327.5 | AC32: =AB32-AI32 -> 1837 | AD32: 2343 | AE32: 2343 | AF32: - | AG32: 2208.6 | AH32: 1718.1 | AI32: =AG32-AH32 -> 490.5 | AJ32: - | AK32: 2669 | AL32: - | AM32: - | AN32: 1514.5 | AO32: =X32-BG32 -> 1423.6 | AQ32: 1947 | AR32: =J32-AA32 -> 36.4 | AS32: =K32-AB32 -> -300 | AT32: =AS32-AZ32 -> -326.5 | AU32: =M32-AD32 -> -288 | AV32: =N32-AE32 -> -288 | AX32: =P32-AG32 -> 36.4 | AY32: =Q32-AH32 -> 9.9 | AZ32: =R32-AI32 -> 26.5 | BA32: - | BB32: =T32-AK32 -> -375 | BC32: - | BD32: - | BE32: =W32-AN32 -> 496.3 | BF32: 86.9 | BG32: =BF32 -> 86.9 | BI32: 1947 | BJ32: =$BF32-AR32 -> 50.5 | BK32: =$BF32-AS32 -> 386.9 | BL32: =$BF32-AT32 -> 413.4 | BM32: =$BF32-AU32 -> 374.9 | BN32: =$BF32-AV32 -> 374.9 | BO32: - | BP32: =$BF32-AX32 -> 50.5 | BQ32: =$BF32-AY32 -> 77 | BR32: - | BT32: =$BF32-BB32 -> 461.9 | BW32: =$BF32-BE32 -> -409.4 | BY32: =AO101 -> 4.5888534 | BZ32: =BY32-CA32 -> -0.024175612 | CA32: 4.613029 | CB32: =X101 -> 4.8689682 | CC32: =CB32-BZ32 -> 4.8931438
A33: 1948 | B33: 36373.059 | C33: 91.004168 | D33: 33101 | E33: 7.3234495 | F33: 37472.299 | G33: 5.6641667 | I33: 1948 | J33: 2654.6 | K33: 2262.1 | L33: =K33-R33 -> 1538 | M33: 2268 | N33: 2268 | O33: nd | P33: 2654.6 | Q33: 1930.5 | R33: =P33-Q33 -> 724.1 | S33: - | T33: 2612 | U33: - | V33: - | W33: 2281.4 | X33: =L33 -> 1538 | Z33: 1948 | AA33: 2773.4 | AB33: 2943.7 | AC33: =AB33-AI33 -> 2417.4 | AD33: 2773 | AE33: 2773 | AF33: - | AG33: 2773.4 | AH33: 2247.1 | AI33: =AG33-AH33 -> 526.3 | AJ33: - | AK33: 2892 | AL33: - | AM33: - | AN33: 2133 | AO33: =X33-BG33 -> 1879.3 | AQ33: 1948 | AR33: =J33-AA33 -> -118.8 | AS33: =K33-AB33 -> -681.6 | AT33: =AS33-AZ33 -> -879.4 | AU33: =M33-AD33 -> -505 | AV33: =N33-AE33 -> -505 | AX33: =P33-AG33 -> -118.8 | AY33: =Q33-AH33 -> -316.6 | AZ33: =R33-AI33 -> 197.8 | BA33: - | BB33: =T33-AK33 -> -280 | BC33: - | BD33: - | BE33: =W33-AN33 -> 148.4 | BF33: -341.3 | BG33: =BF33 -> -341.3 | BI33: 1948 | BJ33: =$BF33-AR33 -> -222.5 | BK33: =$BF33-AS33 -> 340.3 | BL33: =$BF33-AT33 -> 538.1 | BM33: =$BF33-AU33 -> 163.7 | BN33: =$BF33-AV33 -> 163.7 | BO33: - | BP33: =$BF33-AX33 -> -222.5 | BQ33: =$BF33-AY33 -> -24.7 | BR33: - | BT33: =$BF33-BB33 -> -61.3 | BW33: =$BF33-BE33 -> -489.7 | BY33: =AO102 -> 5.677472 | BZ33: =BY33-CA33 -> 0.74922208 | CA33: 4.9282499 | CB33: =X102 -> 4.6463853 | CC33: =CB33-BZ33 -> 3.8971632
A34: 1949 | B34: 38366.678 | C34: 94.905273 | D34: 36412 | E34: 9.5544872 | F34: 39596.628 | G34: 7.9918333 | I34: 1949 | J34: 3891.2 | K34: 3891.5 | L34: =K34-R34 -> 2685.9 | M34: 3891 | N34: 3891 | O34: 3891 | P34: 3891.2 | Q34: 2685.6 | R34: =P34-Q34 -> 1205.6 | S34: - | T34: 3648 | U34: - | V34: - | W34: 3815.5 | X34: =L34 -> 2685.9 | Z34: 1949 | AA34: 3740.6 | AB34: 3893.7 | AC34: =AB34-AI34 -> 3305.6 | AD34: 3741 | AE34: 3741 | AF34: 3294 | AG34: 3740.6 | AH34: 3152.5 | AI34: =AG34-AH34 -> 588.1 | AJ34: - | AK34: 3572 | AL34: - | AM34: - | AN34: 2904.9 | AO34: =X34-BG34 -> 2585.1 | AQ34: 1949 | AR34: =J34-AA34 -> 150.6 | AS34: =K34-AB34 -> -2.2 | AT34: =AS34-AZ34 -> -619.7 | AU34: =M34-AD34 -> 150 | AV34: =N34-AE34 -> 150 | AW34: =O34-AF34 -> 597 | AX34: =P34-AG34 -> 150.6 | AY34: =Q34-AH34 -> -466.9 | AZ34: =R34-AI34 -> 617.5 | BA34: - | BB34: =T34-AK34 -> 76 | BC34: - | BD34: - | BE34: =W34-AN34 -> 910.6 | BF34: 100.8 | BG34: =BF34 -> 100.8 | BI34: 1949 | BJ34: =$BF34-AR34 -> -49.8 | BK34: =$BF34-AS34 -> 103 | BL34: =$BF34-AT34 -> 720.5 | BM34: =$BF34-AU34 -> -49.2 | BN34: =$BF34-AV34 -> -49.2 | BO34: =$BF34-AW34 -> -496.2 | BP34: =$BF34-AX34 -> -49.8 | BQ34: =$BF34-AY34 -> 567.7 | BR34: - | BT34: =$BF34-BB34 -> 24.8 | BW34: =$BF34-BE34 -> -809.8 | BY34: =AO103 -> 7.0995826 | BZ34: =BY34-CA34 -> 1.7052071 | CA34: 5.3943755 | CB34: =X103 -> 7.3764144 | CC34: =CB34-BZ34 -> 5.6712073
A35: 1950 | B35: 42163 | C35: 100 | D35: 42163 | E35: 9.6945662 | F35: 41884.494 | G35: 8.6416667 | I35: 1950 | J35: 3640.8 | K35: 3614.7 | L35: =K35-R35 -> 3023.5 | M35: 3641 | N35: 3641 | O35: =N35 -> 3641 | P35: 3640.8 | Q35: 3049.6 | R35: =P35-Q35 -> 591.2 | S35: - | T35: - | U35: - | V35: - | W35: 3562.2 | X35: =L35 -> 3023.5 | Z35: 1950 | AA35: 3463.3 | AB35: 3724.1 | AC35: =AB35-AI35 -> 3036.1 | AD35: 3463 | AE35: 3463 | AF35: 3463 | AG35: 3463.3 | AH35: 2775.3 | AI35: =AG35-AH35 -> 688 | AJ35: - | AK35: - | AL35: - | AM35: - | AN35: 3099.6 | AO35: =X35-BG35 -> 2755.4 | AQ35: 1950 | AR35: =J35-AA35 -> 177.5 | AS35: =K35-AB35 -> -109.4 | AT35: =AS35-AZ35 -> -12.6 | AU35: =M35-AD35 -> 178 | AV35: =N35-AE35 -> 178 | AW35: =O35-AF35 -> 178 | AX35: =P35-AG35 -> 177.5 | AY35: =Q35-AH35 -> 274.3 | AZ35: =R35-AI35 -> -96.8 | BA35: - | BB35: - | BC35: - | BD35: - | BE35: =W35-AN35 -> 462.6 | BF35: 268.1 | BG35: =BF35 -> 268.1 | BI35: 1950 | BJ35: =$BF35-AR35 -> 90.6 | BK35: =$BF35-AS35 -> 377.5 | BL35: =$BF35-AT35 -> 280.7 | BM35: =$BF35-AU35 -> 90.1 | BN35: =$BF35-AV35 -> 90.1 | BO35: =$BF35-AW35 -> 90.1 | BP35: =$BF35-AX35 -> 90.6 | BQ35: =$BF35-AY35 -> -6.2 | BR35: - | BW35: =$BF35-BE35 -> -194.5 | BY35: =AO104 -> 6.5351137 | BZ35: =BY35-CA35 -> -0.20064986 | CA35: 6.7357636 | CB35: =X104 -> 7.1709793 | CC35: =CB35-BZ35 -> 7.3716292
A36: 1951 | B36: 45423.749 | C36: 119.7061 | D36: 54375 | E36: 24.399461 | F36: 44352.99 | G36: 8.6283333 | I36: 1951 | J36: 4883.7 | K36: 4940.8 | L36: =K36-R36 -> 4388 | M36: 4884 | N36: 4884 | O36: =N36 -> 4884 | P36: 4883.7 | Q36: 4330.9 | R36: =P36-Q36 -> 552.8 | S36: - | T36: - | U36: - | V36: - | W36: 4874.4 | X36: =L36 -> 4388 | Z36: 1951 | AA36: 4670.1 | AB36: 5091.2 | AC36: =AB36-AI36 -> 4381.3 | AD36: 4670 | AE36: 4670 | AF36: 4670 | AG36: 4670.1 | AH36: 3960.2 | AI36: =AG36-AH36 -> 709.9 | AJ36: - | AK36: - | AL36: - | AM36: - | AN36: 3577.2 | AO36: =X36-BG36 -> 3896.4 | AQ36: 1951 | AR36: =J36-AA36 -> 213.6 | AS36: =K36-AB36 -> -150.4 | AT36: =AS36-AZ36 -> 6.7 | AU36: =M36-AD36 -> 214 | AV36: =N36-AE36 -> 214 | AW36: =O36-AF36 -> 214 | AX36: =P36-AG36 -> 213.6 | AY36: =Q36-AH36 -> 370.7 | AZ36: =R36-AI36 -> -157.1 | BA36: - | BB36: - | BC36: - | BD36: - | BE36: =W36-AN36 -> 1297.2 | BF36: 491.6 | BG36: =BF36 -> 491.6 | BI36: 1951 | BJ36: =$BF36-AR36 -> 278 | BK36: =$BF36-AS36 -> 642 | BL36: =$BF36-AT36 -> 484.9 | BM36: =$BF36-AU36 -> 277.6 | BN36: =$BF36-AV36 -> 277.6 | BO36: =$BF36-AW36 -> 277.6 | BP36: =$BF36-AX36 -> 278 | BQ36: =$BF36-AY36 -> 120.9 | BR36: - | BW36: =$BF36-BE36 -> -805.6 | BY36: =AO105 -> 7.1657931 | BZ36: =BY36-CA36 -> 1.6283218 | CA36: 5.5374713 | CB36: =X105 -> 8.0698851 | CC36: =CB36-BZ36 -> 6.4415632
A37: 1952 | B37: 47230.17 | C37: 129.13991 | D37: 60993 | E37: 3.6157582 | F37: 47001.22 | G37: 8.6083333 | I37: 1952 | J37: 6338.1 | K37: 6320.2 | L37: =K37-R37 -> 4818.8 | M37: 6338 | N37: 6338 | O37: =N37 -> 6338 | P37: 6338.1 | Q37: 4836.7 | R37: =P37-Q37 -> 1501.4 | S37: - | T37: - | U37: - | V37: - | W37: 5640.2 | X37: =L37 -> 4818.8 | Z37: 1952 | AA37: 6464.2 | AB37: 6628.9 | AC37: =AB37-AI37 -> 5132.4 | AD37: 6464 | AE37: 6464 | AF37: 6464 | AG37: 6464.2 | AH37: 4967.7 | AI37: =AG37-AH37 -> 1496.5 | AJ37: - | AK37: - | AL37: - | AM37: - | AN37: 4725.3 | AO37: =X37-BG37 -> 4981.3 | AQ37: 1952 | AR37: =J37-AA37 -> -126.1 | AS37: =K37-AB37 -> -308.7 | AT37: =AS37-AZ37 -> -313.6 | AU37: =M37-AD37 -> -126 | AV37: =N37-AE37 -> -126 | AW37: =O37-AF37 -> -126 | AX37: =P37-AG37 -> -126.1 | AY37: =Q37-AH37 -> -131 | AZ37: =R37-AI37 -> 4.9 | BA37: - | BB37: - | BC37: - | BD37: - | BE37: =W37-AN37 -> 914.9 | BF37: -162.5 | BG37: =BF37 -> -162.5 | BI37: 1952 | BJ37: =$BF37-AR37 -> -36.4 | BK37: =$BF37-AS37 -> 146.2 | BL37: =$BF37-AT37 -> 151.1 | BM37: =$BF37-AU37 -> -36.5 | BN37: =$BF37-AV37 -> -36.5 | BO37: =$BF37-AW37 -> -36.5 | BP37: =$BF37-AX37 -> -36.4 | BQ37: =$BF37-AY37 -> -31.5 | BR37: - | BW37: =$BF37-BE37 -> -1077.4 | BY37: =AO106 -> 8.1670028 | BZ37: =BY37-CA37 -> 2.4647091 | CA37: 5.7022937 | CB37: =X106 -> 7.9005788 | CC37: =CB37-BZ37 -> 5.4358697
A38: 1953 | B38: 47359.586 | C38: 128.09234 | D38: 60664 | E38: -1.8729167 | F38: 49825.796 | G38: 8.6083333 | I38: 1953 | J38: 5023.1 | K38: 5195.2 | L38: =K38-R38 -> 4492.3 | M38: 5023 | N38: 5023 | O38: =N38 -> 5023 | P38: 5023.1 | Q38: 4320.2 | R38: =P38-Q38 -> 702.9 | S38: - | T38: - | U38: - | V38: - | W38: 4827.2 | X38: =L38 -> 4492.3 | Z38: 1953 | AA38: 5490.4 | AB38: 5842.8 | AC38: =AB38-AI38 -> 4903.6 | AD38: 5490 | AE38: 5490 | AF38: 5490 | AG38: 5490.4 | AH38: 4551.2 | AI38: =AG38-AH38 -> 939.2 | AJ38: - | AK38: - | AL38: - | AM38: - | AN38: 5273.8 | AO38: =X38-BG38 -> 4781 | AQ38: 1953 | AR38: =J38-AA38 -> -467.3 | AS38: =K38-AB38 -> -647.6 | AT38: =AS38-AZ38 -> -411.3 | AU38: =M38-AD38 -> -467 | AV38: =N38-AE38 -> -467 | AW38: =O38-AF38 -> -467 | AX38: =P38-AG38 -> -467.3 | AY38: =Q38-AH38 -> -231 | AZ38: =R38-AI38 -> -236.3 | BA38: - | BB38: - | BC38: - | BD38: - | BE38: =W38-AN38 -> -446.6 | BF38: -288.7 | BG38: =BF38 -> -288.7 | BI38: 1953 | BJ38: =$BF38-AR38 -> 178.6 | BK38: =$BF38-AS38 -> 358.9 | BL38: =$BF38-AT38 -> 122.6 | BM38: =$BF38-AU38 -> 178.3 | BN38: =$BF38-AV38 -> 178.3 | BO38: =$BF38-AW38 -> 178.3 | BP38: =$BF38-AX38 -> 178.6 | BQ38: =$BF38-AY38 -> -57.7 | BR38: - | BW38: =$BF38-BE38 -> 157.9 | BY38: =AO107 -> 7.8811157 | BZ38: =BY38-CA38 -> 2.5105499 | CA38: 5.3705657 | CB38: =X107 -> 7.4052156 | CC38: =CB38-BZ38 -> 4.8946657
A39: 1954 | B39: 52093.585 | C39: 141.92919 | D39: 73936 | E39: 9.1823953 | F39: 52842.491 | G39: 11.661667 | I39: 1954 | J39: 7713.8 | K39: 7770.9 | L39: =K39-R39 -> 5237 | M39: 7714 | N39: 7714 | O39: =N39 -> 7714 | P39: 7713.8 | Q39: 5179.9 | R39: =P39-Q39 -> 2533.9 | S39: - | T39: - | U39: - | V39: - | W39: 6462.2 | X39: =L39 -> 5237 | Z39: 1954 | AA39: 7916.8 | AB39: 8489.4 | AC39: =AB39-AI39 -> 6309.8 | AD39: 7917 | AE39: 7917 | AF39: 7917 | AG39: 7916.8 | AH39: 5737.2 | AI39: =AG39-AH39 -> 2179.6 | AJ39: - | AK39: - | AL39: - | AM39: - | AN39: 7304.3 | AO39: =X39-BG39 -> 5686.8 | AQ39: 1954 | AR39: =J39-AA39 -> -203 | AS39: =K39-AB39 -> -718.5 | AT39: =AS39-AZ39 -> -1072.8 | AU39: =M39-AD39 -> -203 | AV39: =N39-AE39 -> -203 | AW39: =O39-AF39 -> -203 | AX39: =P39-AG39 -> -203 | AY39: =Q39-AH39 -> -557.3 | AZ39: =R39-AI39 -> 354.3 | BA39: - | BB39: - | BC39: - | BD39: - | BE39: =W39-AN39 -> -842.1 | BF39: -449.8 | BG39: =BF39 -> -449.8 | BI39: 1954 | BJ39: =$BF39-AR39 -> -246.8 | BK39: =$BF39-AS39 -> 268.7 | BL39: =$BF39-AT39 -> 623 | BM39: =$BF39-AU39 -> -246.8 | BN39: =$BF39-AV39 -> -246.8 | BO39: =$BF39-AW39 -> -246.8 | BP39: =$BF39-AX39 -> -246.8 | BQ39: =$BF39-AY39 -> 107.5 | BR39: - | BW39: =$BF39-BE39 -> 392.3 | BY39: =AO108 -> 7.691517 | BZ39: =BY39-CA39 -> 1.7052586 | CA39: 5.9862584 | CB39: =X108 -> 7.083153 | CC39: =CB39-BZ39 -> 5.3778944
A40: 1955 | B40: 56520.769 | C40: 159.32727 | D40: 90053 | E40: 13.823165 | F40: 56059.668 | G40: 12.5 | I40: 1955 | J40: 9023.5 | K40: 9017.9 | L40: =K40-R40 -> 7112.6 | M40: 9024 | N40: 9024 | O40: =N40 -> 9024 | P40: 9023.5 | Q40: 7118.2 | R40: =P40-Q40 -> 1905.3 | S40: - | T40: - | U40: - | V40: - | W40: 7896 | X40: =L40 -> 7112.6 | Z40: 1955 | AA40: 8883.1 | AB40: 9256.1 | AC40: =AB40-AI40 -> 6797.6 | AD40: 8883 | AE40: 8883 | AF40: 8883 | AG40: 8883.1 | AH40: 6424.6 | AI40: =AG40-AH40 -> 2458.5 | AJ40: - | AK40: - | AL40: - | AM40: - | AN40: 8083.2 | AO40: =X40-BG40 -> 6432.6 | AQ40: 1955 | AR40: =J40-AA40 -> 140.4 | AS40: =K40-AB40 -> -238.2 | AT40: =AS40-AZ40 -> 315 | AU40: =M40-AD40 -> 141 | AV40: =N40-AE40 -> 141 | AW40: =O40-AF40 -> 141 | AX40: =P40-AG40 -> 140.4 | AY40: =Q40-AH40 -> 693.6 | AZ40: =R40-AI40 -> -553.2 | BA40: - | BB40: - | BC40: - | BD40: - | BE40: =W40-AN40 -> -187.2 | BF40: 680 | BG40: =BF40 -> 680 | BI40: 1955 | BJ40: =$BF40-AR40 -> 539.6 | BK40: =$BF40-AS40 -> 918.2 | BL40: =$BF40-AT40 -> 365 | BM40: =$BF40-AU40 -> 539 | BN40: =$BF40-AV40 -> 539 | BO40: =$BF40-AW40 -> 539 | BP40: =$BF40-AX40 -> 539.6 | BQ40: =$BF40-AY40 -> -13.6 | BR40: - | BW40: =$BF40-BE40 -> 867.2 | BY40: =AO109 -> 7.1431268 | BZ40: =BY40-CA40 -> 1.9683964 | CA40: 5.1747304 | CB40: =X109 -> 7.8982377 | CC40: =CB40-BZ40 -> 5.9298413
A41: 1956 | B41: 60385.009 | C41: 170.43965 | D41: 102920 | E41: 4.6508216 | F41: 59500.211 | G41: 12.5 | I41: 1956 | J41: 10193.5 | K41: 10202.4 | L41: =K41-R41 -> 7902.8 | M41: 10194 | N41: 10194 | O41: =N41 -> 10194 | P41: 10193.5 | Q41: 7893.9 | R41: =P41-Q41 -> 2299.6 | S41: - | T41: - | U41: - | V41: - | W41: 8989.1 | X41: =L41 -> 7902.8 | Z41: 1956 | AA41: 10270.1 | AB41: 10580.9 | AC41: =AB41-AI41 -> 7759.5 | AD41: 10270 | AE41: 10270 | AF41: 10270 | AG41: 10270.1 | AH41: 7448.7 | AI41: =AG41-AH41 -> 2821.4 | AJ41: - | AK41: - | AL41: - | AM41: - | AN41: 9105.8 | AO41: =X41-BG41 -> 7507.8 | AQ41: 1956 | AR41: =J41-AA41 -> -76.6 | AS41: =K41-AB41 -> -378.5 | AT41: =AS41-AZ41 -> 143.3 | AU41: =M41-AD41 -> -76 | AV41: =N41-AE41 -> -76 | AW41: =O41-AF41 -> -76 | AX41: =P41-AG41 -> -76.6 | AY41: =Q41-AH41 -> 445.2 | AZ41: =R41-AI41 -> -521.8 | BA41: - | BB41: - | BC41: - | BD41: - | BE41: =W41-AN41 -> -116.7 | BF41: 395 | BG41: =BF41 -> 395 | BI41: 1956 | BJ41: =$BF41-AR41 -> 471.6 | BK41: =$BF41-AS41 -> 773.5 | BL41: =$BF41-AT41 -> 251.7 | BM41: =$BF41-AU41 -> 471 | BN41: =$BF41-AV41 -> 471 | BO41: =$BF41-AW41 -> 471 | BP41: =$BF41-AX41 -> 471.6 | BQ41: =$BF41-AY41 -> -50.2 | BR41: - | BW41: =$BF41-BE41 -> 511.7 | BY41: =AO110 -> 7.2947921 | BZ41: =BY41-CA41 -> 2.6047415 | CA41: 4.6900505 | CB41: =X110 -> 7.6785853 | CC41: =CB41-BZ41 -> 5.0738438
...

Sheet  Sector Pub
B1: Requerimientos financieros del Sector Público (RFSP) | E1: Déficit primario | G1: Ingresos y egresos del SP
A2: Balance SP | B2: Izquierdo (1995) (% del PIB) | C2: Aspe (1993) (% del PIB) | D2: Gil y Ramos (1988) (% del PIB) | E2: Gil y Ramos Pago de intereses (% del PIB) | F2: Gil y Ramos Déficit primario (% del PIB) | G2: Izquierdo (1995), NAFINSA (1984 y 1986); Ingresos (% del PIB) | H2: Por diferencia Egresos (% del PIB) | I2: RFSP fusión
A5: 1920 | B5: - | C5: - | D5: - | E5: - | F5: - | G5: - | H5: -
A6: 1921 | B6: - | C6: - | D6: - | E6: - | F6: - | G6: - | H6: -
A7: 1922 | B7: - | C7: - | D7: - | E7: - | F7: - | G7: - | H7: -
A8: 1923 | B8: - | C8: - | D8: - | E8: - | F8: - | G8: - | H8: -
A9: 1924 | B9: - | C9: - | D9: - | E9: - | F9: - | G9: - | H9: -
A10: 1925 | B10: - | C10: - | D10: - | E10: - | F10: - | G10: - | H10: -
A11: 1926 | B11: - | C11: - | D11: - | E11: - | F11: - | G11: - | H11: -
A12: 1927 | B12: - | C12: - | D12: - | E12: - | F12: - | G12: - | H12: -
A13: 1928 | B13: - | C13: - | D13: - | E13: - | F13: - | G13: - | H13: -
A14: 1929 | B14: - | C14: - | D14: - | E14: - | F14: - | G14: - | H14: -
A15: 1930 | B15: - | C15: - | D15: - | E15: - | F15: - | G15: - | H15: -
A16: 1931 | B16: - | C16: - | D16: - | E16: - | F16: - | G16: - | H16: -
... A43: 1958 | B43: - | C43: - | D43: - | E43: - | F43: - | G43: - | H43: -
A44: 1959 | C44: -0.6 | G44: 1.660013 | H44: =G44-C44 -> 2.260013 | I44: =C44 -> -0.6
A45: 1960 | B45: -2.7 | C45: -0.8 | G45: -0.82256329 | H45: =G45-C45 -> -0.022563292 | I45: =B45 -> -2.7
A46: 1961 | B46: -2.3 | C46: -0.7 | G46: -0.32835093 | H46: =G46-C46 -> 0.37164907 | I46: =B46 -> -2.3
A47: 1962 | B47: -2.4 | C47: -0.4 | G47: 1.0753793 | H47: =G47-C47 -> 1.4753793 | I47: =B47 -> -2.4
A48: 1963 | B48: -3.3 | C48: -1.3 | G48: 2.0259286 | H48: =G48-C48 -> 3.3259286 | I48: =B48 -> -3.3
A49: 1964 | B49: -4.5 | C49: -0.8 | G49: -3.7273958 | H49: =G49-C49 -> -2.9273958 | I49: =B49 -> -4.5
A50: 1965 | B50: -0.9 | C50: -0.8 | D50: -0.9 | E50: 0.8 | F50: 0 | G50: 0.1716648 | H50: =G50-C50 -> 0.9716648 | I50: =B50 -> -0.9
A51: 1966 | B51: -1.2 | C51: -1.1 | D51: -1.2 | E51: 0.9 | F51: 0.3 | G51: 1.0371214 | H51: =G51-C51 -> 2.1371214 | I51: =C51 -> -1.1
A52: 1967 | B52: -2.3 | C52: -2.1 | D52: -2.4 | E52: 1.2 | F52: 1 | G52: 0.35894432 | H52: =G52-C52 -> 2.4589443 | I52: =C52 -> -2.1
A53: 1968 | B53: -2.1 | C53: -1.9 | D53: -2.2 | E53: 1.1 | F53: 0.8 | G53: -0.59865509 | H53: =G53-C53 -> 1.3013449 | I53: =C53 -> -1.9
A54: 1969 | B54: -2.2 | C54: -2 | D54: -2.2 | E54: 1.1 | F54: 0.8 | G54: 1.6450685 | H54: =G54-C54 -> 3.6450685 | I54: =C54 -> -2
A55: 1970 | B55: -3.8 | C55: -3.4 | D55: -3.8 | E55: 2 | F55: 1.5 | G55: -1.7924718 | H55: =G55-C55 -> 1.6075282 | I55: =C55 -> -3.4
A56: 1971 | C56: -2.3 | D56: -2.5 | E56: 1.6 | F56: 0.5 | G56: 2.8315826 | H56: =G56-C56 -> 5.1315826 | I56: =C56 -> -2.3
A57: 1972 | C57: -4.5 | D57: -4.9 | E57: 1.9 | F57: 2.4 | G57: 2.3660865 | H57: =G57-C57 -> 6.8660865 | I57: =C57 -> -4.5
A58: 1973 | C58: -6.3 | D58: -6.9 | E58: 1.9 | F58: 3.8 | G58: 0.36519588 | H58: =G58-C58 -> 6.6651959 | I58: =C58 -> -6.3
A59: 1974 | C59: -6.7 | D59: -7.3 | E59: 2 | F59: 4 | G59: 2.6576182 | H59: =G59-C59 -> 9.3576182 | I59: =C59 -> -6.7
A60: 1975 | C60: -9.3 | D60: -10 | E60: 2.3 | F60: 6.5 | G60: -0.42336898 | H60: =G60-C60 -> 8.876631 | I60: =C60 -> -9.3
A61: 1976 | C61: -9.1 | D61: -9.9 | E61: 3.3 | F61: 4.9 | G61: -3.7762854 | H61: =G61-C61 -> 5.3237146 | I61: =C61 -> -9.1
A62: 1977 | C62: -6.3 | D62: -6.7 | E62: 3 | F62: 2.3 | G62: 0.51560324 | H62: =G62-C62 -> 6.8156032 | I62: =C62 -> -6.3
A63: 1978 | C63: -6.2 | D63: -6.7 | E63: 3.2 | F63: 2.4 | G63: 1.3055028 | H63: =G63-C63 -> 7.5055028 | I63: =C63 -> -6.2
A64: 1979 | C64: -7.1 | D64: -7.4 | E64: 3.4 | F64: 2.9 | G64: 1.577145 | H64: =G64-C64 -> 8.677145 | I64: =C64 -> -7.1
A65: 1980 | C65: -7.5 | D65: -8.5 | E65: 3.7 | F65: 3.2 | G65: 5.3272399 | H65: =G65-C65 -> 12.82724 | I65: =C65 -> -7.5
A66: 1981 | C66: -14.1 | D66: -13.5 | E66: 5.2 | F66: 8.4 | G66: 2.230034 | H66: =G66-C66 -> 16.330034 | I66: =C66 -> -14.1
A67: 1982 | C67: -16.9 | D67: -17.2 | E67: 8.6 | F67: 7.5 | G67: 29.544325 | H67: =G67-C67 -> 46.444325 | I67: =C67 -> -16.9

Sheet Gob Fed 1934-1982
B3: Cuadro 1: Ingresos del Gobierno Federal por diversas fuentes primarias y secundarias | L3: Cuadro 2: Egresos del Gobierno Federal por diversas fuentes primarias y secundarias | V3: Cuadro 3: Balance del Gobierno Federal por diversas fuentes primarias y secundarias en porcentaje del PIB | AG3: Cuadro 4: Balance del Gobierno Federal por CHPF revisada neta y BMIA | AP3: Cuadro 5: Balance del Gobierno Federal por EH y BMIA
C4: Inicial CHPF bruta | D4: Revisada CHPF Bruta | E4: Revisada CHPF Neta | F4: Estadísticas históricas | G4: Cárdenas (1994) | H4: SyR (1962) Bruta | I4: SyR (1962) Neta | J4: Rubro financiero Ingresos (SyR) | M4: Inicial CHPF bruta | N4: Revisada CHPF Bruta | O4: Revisada CHPF Neta | P4: Estadísticas históricas | Q4: Cárdenas (1994) | R4: SyR (1962) Bruta | S4: SyR (1962) Neta | T4: Rubro financiero Ingresos (SyR) | W4: Inicial CHPF bruta | X4: Revisada CHPF Bruta | Y4: Revisada CHPF Neta | Z4: Estadísticas históricas | AA4: Cárdenas (1994) | AB4: SyR (1962) Bruta | AC4: SyR (1962) Neta | AD4: Rubro financiero Ingresos (SyR) | AE4: Banco de México | AH4: Inflación promedio (%)* | AI4: PIB nominal (mp)* | AJ4: Índice del PIB potencial * | AK4: Revisada CHPF Neta (mp) | AL4: Banco de México (mp) | AM4: Revisada CHPF Neta** | AN4: Banco de México** | AQ4: PIB nominal (mp) | AR4: Estadística históricas (mp) | AS4: Banco de México (mp) | AT4: Estadísticas históricas* | AU4: Banco de México** | AV4: Diferencia***
B6: 1934 | C6: =GobFed!J88 -> 6.4105035 | D6: =GobFed!K88 -> 6.9164057 | E6: nd | F6: =GobFed!M88 -> 7.1067213 | G6: nd | H6: nd | I6: nd | J6: nd | L6: 1934 | M6: =GobFed!AA88 -> 6.1141894 | N6: =GobFed!AB88 -> 6.2418694 | O6: nd | P6: =GobFed!AD88 -> 6.3840039 | Q6: nd | R6: nd | S6: nd | T6: nd | V6: 1934 | W6: =GobFed!AR88 -> 0.29631414 | X6: =GobFed!AS88 -> 0.67453626 | Y6: nd | Z6: =GobFed!AU88 -> 0.72271742 | AA6: =GobFed!AV88 -> 0.72271742 | AB6: nd | AC6: nd | AD6: nd | AE6: =GobFed!BF88 -> 0.68417249 | AG6: 1934 | AH6: 5.512761 | AI6: 4151 | AJ6: 45.105406 | AL6: =GobFed!BF19 -> 28.4 | AN6: =(AL6/AI6)*100 -> 0.68417249 | AP6: 1934 | AQ6: 4151 | AR6: =GobFed!AU19 -> 30 | AS6: =GobFed!BF19 -> 28.4 | AT6: =GobFed!AU88 -> 0.72271742 | AU6: =GobFed!BF88 -> 0.68417249 | AV6: =ABS(AT6-AU6) -> 0.038544929
B7: 1935 | C7: =GobFed!J89 -> 7.4207048 | D7: =GobFed!K89 -> 7.839207 | E7: =GobFed!L89 -> 7.4515419 | F7: =GobFed!M89 -> 6.8942731 | G7: =GobFed!N89 -> 6.8942731 | H7: =GobFed!AG89 -> 6.6387665 | I7: =GobFed!AH89 -> 6.6255507 | J7: =GobFed!AI89 -> 0.013215859 | L7: 1935 | M7: =GobFed!AA89 -> 6.1431718 | N7: =GobFed!AB89 -> 6.2885463 | O7: =GobFed!AC89 -> 6.2753304 | P7: =GobFed!AD89 -> 6.6299559 | Q7: =GobFed!AE89 -> 6.6299559 | R7: =GobFed!AG89 -> 6.6387665 | S7: =GobFed!AH89 -> 6.6255507 | T7: =GobFed!AI89 -> 0.013215859 | V7: 1935 | W7: =GobFed!AR89 -> 1.277533 | X7: =GobFed!AS89 -> 1.5506608 | Y7: =GobFed!AT89 -> 1.1762115 | Z7: =GobFed!AU89 -> 0.26431718 | AA7: =GobFed!AV89 -> 0.26431718 | AB7: =GobFed!AX89 -> 0.64317181 | AC7: =GobFed!AY89 -> 0.26872247 | AD7: =GobFed!AZ89 -> 0.37444934 | AE7: =GobFed!BF89 -> 0.92951542 | AG7: 1935 | AH7: -0.30785469 | AI7: 4540 | AJ7: 46.960759 | AK7: =GobFed!AT20 -> 53.4 | AL7: =GobFed!BF20 -> 42.2 | AM7: =GobFed!AT89 -> 1.1762115 | AN7: =(AL7/AI7)*100 -> 0.92951542 | AP7: 1935 | AQ7: 4540 | AR7: =GobFed!AU20 -> 12 | AS7: =GobFed!BF20 -> 42.2 | AT7: =GobFed!AU89 -> 0.26431718 | AU7: =GobFed!BF89 -> 0.92951542 | AV7: =ABS(AT7-AU7) -> 0.66519824
B8: 1936 | C8: =GobFed!J90 -> 7.2053872 | D8: =GobFed!K90 -> 7.620651 | E8: =GobFed!L90 -> 7.5215114 | F8: =GobFed!M90 -> 7.2016461 | G8: =GobFed!N90 -> 7.2016461 | H8: =GobFed!AG90 -> 7.5963337 | I8: =GobFed!AH90 -> 7.5252525 | J8: =GobFed!AI90 -> 0.071081182 | L8: 1936 | M8: =GobFed!AA90 -> 7.5963337 | N8: =GobFed!AB90 -> 7.1118593 | O8: =GobFed!AC90 -> 7.0407782 | P8: =GobFed!AD90 -> 7.5944632 | Q8: =GobFed!AE90 -> 7.5944632 | R8: =GobFed!AG90 -> 7.5963337 | S8: =GobFed!AH90 -> 7.5252525 | T8: =GobFed!AI90 -> 0.071081182 | V8: 1936 | W8: =GobFed!AR90 -> -0.3909465 | X8: =GobFed!AS90 -> 0.50879162 | Y8: =GobFed!AT90 -> 0.48073326 | Z8: =GobFed!AU90 -> -0.39281706 | AA8: =GobFed!AV90 -> -0.39281706 | AB8: =GobFed!AX90 -> -0.3909465 | AC8: =GobFed!AY90 -> -0.41900486 | AD8: =GobFed!AZ90 -> 0.028058361 | AE8: =GobFed!BF90 -> -1.3468013 | AG8: 1936 | AH8: 6.2908064 | AI8: 5346 | AJ8: 49.03853 | AK8: =GobFed!AT21 -> 25.7 | AL8: =GobFed!BF21 -> -72 | AM8: =GobFed!AT90 -> 0.48073326 | AN8: =(AL8/AI8)*100 -> -1.3468013 | AP8: 1936 | AQ8: 5346 | AR8: =GobFed!AU21 -> -21 | AS8: =GobFed!BF21 -> -72 | AT8: =GobFed!AU90 -> -0.39281706 | AU8: =GobFed!BF90 -> -1.3468013 | AV8: =ABS(AT8-AU8) -> 0.95398429
B9: 1937 | C9: =GobFed!J91 -> 6.6338235 | D9: =GobFed!K91 -> 6.6161765 | E9: =GobFed!L91 -> 6.3808824 | F9: =GobFed!M91 -> 6.6323529 | G9: =GobFed!N91 -> 6.6323529 | H9: =GobFed!AG91 -> 7.0411765 | I9: =GobFed!AH91 -> 6.8558824 | J9: =GobFed!AI91 -> 0.18529412 | L9: 1937 | M9: =GobFed!AA91 -> 7.0411765 | N9: =GobFed!AB91 -> 7.7338235 | O9: =GobFed!AC91 -> 7.5485294 | P9: =GobFed!AD91 -> 7.0441176 | Q9: =GobFed!AE91 -> 7.0441176 | R9: =GobFed!AG91 -> 7.0411765 | S9: =GobFed!AH91 -> 6.8558824 | T9: =GobFed!AI91 -> 0.18529412 | V9: 1937 | W9: =GobFed!AR91 -> -0.40735294 | X9: =GobFed!AS91 -> -1.1176471 | Y9: =GobFed!AT91 -> -1.1676471 | Z9: =GobFed!AU91 -> -0.41176471 | AA9: =GobFed!AV91 -> -0.41176471 | AB9: =GobFed!AX91 -> -0.40735294 | AC9: =GobFed!AY91 -> -0.45735294 | AD9: =GobFed!AZ91 -> 0.05 | AE9: =GobFed!BF91 -> -1.0147059 | AG9: 1937 | AH9: 18.419524 | AI9: 6800 | AJ9: 51.303928 | AK9: =GobFed!AT22 -> -79.4 | AL9: =GobFed!BF22 -> -69 | AM9: =GobFed!AT91 -> -1.1676471 | AN9: =(AL9/AI9)*100 -> -1.0147059 | AP9: 1937 | AQ9: 6800 | AR9: =GobFed!AU22 -> -28 | AS9: =GobFed!BF22 -> -69 | AT9: =GobFed!AU91 -> -0.41176471 | AU9: =GobFed!BF91 -> -1.0147059 | AV9: =ABS(AT9-AU9) -> 0.60294118
B10: 1938 | C10: =GobFed!J92 -> 6.0197775 | D10: =GobFed!K92 -> 6.4112073 | E10: =GobFed!L92 -> 6.0266447 | F10: =GobFed!M92 -> 6.0156572 | G10: =GobFed!N92 -> 6.0156572 | H10: =GobFed!AG92 -> 7.3753605 | I10: =GobFed!AH92 -> 6.9605823 | J10: =GobFed!AI92 -> 0.41477819 | L10: 1938 | M10: =GobFed!AA92 -> 6.9193792 | N10: =GobFed!AB92 -> 7.5360527 | O10: =GobFed!AC92 -> 7.1212746 | P10: =GobFed!AD92 -> 6.9221261 | Q10: =GobFed!AE92 -> 6.9221261 | R10: =GobFed!AG92 -> 7.3753605 | S10: =GobFed!AH92 -> 6.9605823 | T10: =GobFed!AI92 -> 0.41477819 | V10: 1938 | W10: =GobFed!AR92 -> -0.8996017 | X10: =GobFed!AS92 -> -1.1248455 | Y10: =GobFed!AT92 -> -1.0946299 | Z10: =GobFed!AU92 -> -0.90646889 | AA10: =GobFed!AV92 -> -0.90646889 | AB10: =GobFed!AX92 -> -0.97102046 | AC10: =GobFed!AY92 -> -0.94080483 | AD10: =GobFed!AZ92 -> -0.03021563 | AE10: =GobFed!BF92 -> -0.23760472 | AG10: 1938 | AH10: 6.2736576 | AI10: 7281 | AJ10: 53.751825 | AK10: =GobFed!AT23 -> -79.7 | AL10: =GobFed!BF23 -> -17.3 | AM10: =GobFed!AT92 -> -1.0946299 | AN10: =(AL10/AI10)*100 -> -0.23760472 | AP10: 1938 | AQ10: 7281 | AR10: =GobFed!AU23 -> -66 | AS10: =GobFed!BF23 -> -17.3 | AT10: =GobFed!AU92 -> -0.90646889 | AU10: =GobFed!BF92 -> -0.23760472 | AV10: =ABS(AT10-AU10) -> 0.66886417
B11: 1939 | C11: =GobFed!J93 -> 7.2665382 | D11: =GobFed!K93 -> 7.2524085 | E11: =GobFed!L93 -> 5.9524727 | F11: =GobFed!M93 -> 7.2703918 | G11: =GobFed!N93 -> 7.2703918 | H11: =GobFed!AG93 -> 7.967887 | I11: =GobFed!AH93 -> 6.625562 | J11: =GobFed!AI93 -> 1.342325 | L11: 1939 | M11: =GobFed!AA93 -> 7.3333333 | N11: =GobFed!AB93 -> 7.849711 | O11: =GobFed!AC93 -> 6.507386 | P11: =GobFed!AD93 -> 7.3346179 | Q11: =GobFed!AE93 -> 7.3346179 | R11: =GobFed!AG93 -> 7.967887 | S11: =GobFed!AH93 -> 6.625562 | T11: =GobFed!AI93 -> 1.342325 | V11: 1939 | W11: =GobFed!AR93 -> -0.066795119 | X11: =GobFed!AS93 -> -0.5973025 | Y11: =GobFed!AT93 -> -0.55491329 | Z11: =GobFed!AU93 -> -0.064226076 | AA11: =GobFed!AV93 -> -0.064226076 | AB11: =GobFed!AX93 -> -0.31085421 | AC11: =GobFed!AY93 -> -0.268465 | AD11: =GobFed!AZ93 -> -0.04238921 | AE11: =GobFed!BF93 -> -0.53949904 | AG11: 1939 | AH11: 0.54745729 | AI11: 7785 | AJ11: 56.388587 | AK11: =GobFed!AT24 -> -43.2 | AL11: =GobFed!BF24 -> -42 | AM11: =GobFed!AT93 -> -0.55491329 | AN11: =(AL11/AI11)*100 -> -0.53949904 | AP11: 1939 | AQ11: 7785 | AR11: =GobFed!AU24 -> -5 | AS11: =GobFed!BF24 -> -42 | AT11: =GobFed!AU93 -> -0.064226076 | AU11: =GobFed!BF93 -> -0.53949904 | AV11: =ABS(AT11-AU11) -> 0.47527296
B12: 1940 | C12: =GobFed!J94 -> 6.8481028 | D12: =GobFed!K94 -> 6.8493151 | E12: =GobFed!L94 -> 5.6128016 | F12: =GobFed!M94 -> 6.9947872 | G12: =GobFed!N94 -> 6.9947872 | H12: =GobFed!AG94 -> 7.9803613 | I12: =GobFed!AH94 -> 6.7596072 | J12: =GobFed!AI94 -> 1.220754 | L12: 1940 | M12: =GobFed!AA94 -> 7.3196751 | N12: =GobFed!AB94 -> 8.2725179 | O12: =GobFed!AC94 -> 7.0517639 | P12: =GobFed!AD94 -> 7.3948357 | Q12: =GobFed!AE94 -> 7.3948357 | R12: =GobFed!AG94 -> 7.9803613 | S12: =GobFed!AH94 -> 6.7596072 | T12: =GobFed!AI94 -> 1.220754 | V12: 1940 | W12: =GobFed!AR94 -> -0.47157231 | X12: =GobFed!AS94 -> -1.4232028 | Y12: =GobFed!AT94 -> -1.4389623 | Z12: =GobFed!AU94 -> -0.40004849 | AA12: =GobFed!AV94 -> -0.40004849 | AB12: =GobFed!AX94 -> -0.56128016 | AC12: =GobFed!AY94 -> -0.57703964 | AD12: =GobFed!AZ94 -> 0.015759486 | AE12: =GobFed!BF94 -> -0.87283307 | AG12: 1940 | AH12: 1.5378641 | AI12: 8249 | AJ12: 59.207344 | AK12: =GobFed!AT25 -> -118.7 | AL12: =GobFed!BF25 -> -72 | AM12: =GobFed!AT94 -> -1.4389623 | AN12: =(AL12/AI12)*100 -> -0.87283307 | AP12: 1940 | AQ12: 8249 | AR12: =GobFed!AU25 -> -33 | AS12: =GobFed!BF25 -> -72 | AT12: =GobFed!AU94 -> -0.40004849 | AU12: =GobFed!BF94 -> -0.87283307 | AV12: =ABS(AT12-AU12) -> 0.47278458
