Workbook
Name \A: #REF!
Name \g: #REF!
Name \S: #REF!
Name ACTIVATE: #REF!
Name ASSUMPT: #REF!
Name ASSUMPTIONS: #REF!
Name basicdata1: #REF!
Name basicdata2: #REF!
Name BCA_NGDP: [5]Q6!$E$10:$AH$10
Name BMG: [5]Q6!$E$27:$AH$27
Name BOP: #REF!
Name BXG: [5]Q6!$E$19:$AH$19
Name CAPITAL: #REF!
Name CARGO_BY_TYPE: '[6]Table No.18-Exports goods+servi'!#REF!
Name CCode: [7]Codes!$A$2
Name CENTRALG: #REF!
Name CFLOW: #REF!
Name chart1: #REF!
Name Chart11: #REF!
Name chart2: #REF!
Name Chart22: #REF!
Name COUNTER: #REF!
Name CurrVintage: [8]Current!$D$66
Name Date: [7]Current!$D$67
Name DEBT: #REF!
Name Discount_NC: [9]NPV_base!#REF!
Name DiscountRate: #REF!
Name empty: [1]Micro!#REF!
Name EX_IMP: #REF!
Name GCB_NGDP: [5]Q4!$E$19:$AH$19
Name GGB_NGDP: [5]Q4!$E$41:$AH$41
Name Grace_NC: [9]NPV_base!#REF!
Name IMPORT: #REF!
Name IN_OUT: #REF!
Name IN1_: #REF!
Name Interest_NC: [9]NPV_base!#REF!
Name InterestRate: #REF!
Name LUR: [5]Q3!$E$16:$AH$16
Name MACRO: #REF!
Name Maturity_NC: [9]NPV_base!#REF!
Name MCV: [10]Q2!$E$101:$AH$101
Name MIDDLE: #REF!
Name NGDP: [10]Q2!$E$54:$AH$54
Name NGDP_RG: [5]Q1!$E$51:$AH$51
Name OnShow: [0]!OnShow
Name PCPIG: [5]Q3!$E$26:$AH$26
Name PRICES: #REF!
Name PSECTOR: #REF!
Name REDB1: #REF!
Name REDB2: #REF!
Name REDB3: #REF!
Name REDB4: #REF!
Name REDB5: #REF!
Name REDB6: #REF!
Name REDB7: #REF!
Name REDB8: #REF!
Name REDB9: #REF!
Name REDF1: #REF!
Name REDF2: #REF!
Name REDF3: #REF!

Sheet Precios M Anual
B1: Índice de precios al consumidor/mayoreo (IPC) Datos anuales
A2: Año | B2: 1920-1990 1950=100 Promedio | C2: 1920-1990 Tasa | D2: 1920-1990 1950=100 Fin | E2: 1920-1990 Tasa | F2: 1920-1990 Fin 1950=108.1 | G2: 1920-1990 Tasa
A5: 1920 | B5: =AVERAGE('Precios M Mensuales'!B33:B44) -> 40.395932 | C5: 4.84127 | D5: =(F5/F$35)*100 -> 35.988234 | E5: 4.7 | F5: ='Precios M Mensuales'!B44 -> 38.896266 | G5: 4.6
A6: 1921 | B6: =AVERAGE('Precios M Mensuales'!B45:B56) -> 36.173618 | C6: =((B6/B5)-1)*100 -> -10.452325 | D6: =(F6/F$35)*100 -> 29.297059 | E6: =((D6/D5)-1)*100 -> -18.592676 | F6: ='Precios M Mensuales'!B56 -> 31.66441 | G6: =((F6/F5)-1)*100 -> -18.592676
A7: 1922 | B7: =AVERAGE('Precios M Mensuales'!B57:B68) -> 28.839061 | C7: =((B7/B6)-1)*100 -> -20.275985 | D7: =(F7/F$35)*100 -> 22.850071 | E7: =((D7/D6)-1)*100 -> -22.005581 | F7: ='Precios M Mensuales'!B68 -> 24.696472 | G7: =((F7/F6)-1)*100 -> -22.005581
A8: 1923 | B8: =AVERAGE('Precios M Mensuales'!B69:B80) -> 25.899425 | C8: =((B8/B7)-1)*100 -> -10.193243 | D8: =(F8/F$35)*100 -> 25.627704 | E8: =((D8/D7)-1)*100 -> 12.155909 | F8: ='Precios M Mensuales'!B80 -> 27.698553 | G8: =((F8/F7)-1)*100 -> 12.155909
A9: 1924 | B9: =AVERAGE('Precios M Mensuales'!B81:B92) -> 27.010085 | C9: =((B9/B8)-1)*100 -> 4.2883571 | D9: =(F9/F$35)*100 -> 23.178198 | E9: =((D9/D8)-1)*100 -> -9.5580416 | F9: ='Precios M Mensuales'!B92 -> 25.051113 | G9: =((F9/F8)-1)*100 -> -9.5580416
A10: 1925 | B10: =AVERAGE('Precios M Mensuales'!B93:B104) -> 30.997444 | C10: =((B10/B9)-1)*100 -> 14.762483 | D10: =(F10/F$35)*100 -> 28.69313 | E10: =((D10/D9)-1)*100 -> 23.793622 | F10: ='Precios M Mensuales'!B104 -> 31.011681 | G10: =((F10/F9)-1)*100 -> 23.793622
A11: 1926 | B11: =AVERAGE('Precios M Mensuales'!B105:B116) -> 31.173096 | C11: =((B11/B10)-1)*100 -> 0.56666466 | D11: =(F11/F$35)*100 -> 28.397707 | E11: =((D11/D10)-1)*100 -> -1.0295961 | F11: ='Precios M Mensuales'!B116 -> 30.692386 | G11: =((F11/F10)-1)*100 -> -1.0295961
A12: 1927 | B12: =AVERAGE('Precios M Mensuales'!B117:B128) -> 29.031207 | C12: =((B12/B11)-1)*100 -> -6.8709527 | D12: =(F12/F$35)*100 -> 26.03432 | E12: =((D12/D11)-1)*100 -> -8.3224568 | F12: ='Precios M Mensuales'!B128 -> 28.138025 | G12: =((F12/F11)-1)*100 -> -8.3224568
A13: 1928 | B13: =AVERAGE('Precios M Mensuales'!B129:B140) -> 26.058385 | C13: =((B13/B12)-1)*100 -> -10.24009 | D13: =(F13/F$35)*100 -> 23.446368 | E13: =((D13/D12)-1)*100 -> -9.940541 | F13: ='Precios M Mensuales'!B140 -> 25.340953 | G13: =((F13/F12)-1)*100 -> -9.940541
A14: 1929 | B14: =AVERAGE('Precios M Mensuales'!B141:B152) -> 26.420587 | C14: =((B14/B13)-1)*100 -> 1.3899617 | D14: =(F14/F$35)*100 -> 23.987069 | E14: =((D14/D13)-1)*100 -> 2.3061187 | F14: ='Precios M Mensuales'!B152 -> 25.925346 | G14: =((F14/F13)-1)*100 -> 2.3061187
A15: 1930 | B15: =AVERAGE('Precios M Mensuales'!B153:B164) -> 26.229603 | C15: =((B15/B14)-1)*100 -> -0.72286024 | D15: =(F15/F$35)*100 -> 22.504585 | E15: =((D15/D14)-1)*100 -> -6.1803445 | F15: ='Precios M Mensuales'!B164 -> 24.32307 | G15: =((F15/F14)-1)*100 -> -6.1803445
A16: 1931 | B16: =AVERAGE('Precios M Mensuales'!B165:B176) -> 23.642322 | C16: =((B16/B15)-1)*100 -> -9.863974 | D16: =(F16/F$35)*100 -> 18.883437 | E16: =((D16/D15)-1)*100 -> -16.090713 | F16: ='Precios M Mensuales'!B176 -> 20.409315 | G16: =((F16/F15)-1)*100 -> -16.090713
A17: 1932 | B17: =AVERAGE('Precios M Mensuales'!B177:B188) -> 21.144786 | C17: =((B17/B16)-1)*100 -> -10.563837 | D17: =(F17/F$35)*100 -> 19.734043 | E17: =((D17/D16)-1)*100 -> 4.5045045 | F17: ='Precios M Mensuales'!B188 -> 21.328653 | G17: =((F17/F16)-1)*100 -> 4.5045045
A18: 1933 | B18: =AVERAGE('Precios M Mensuales'!B189:B200) -> 22.843716 | C18: =((B18/B17)-1)*100 -> 8.0347506 | D18: =(F18/F$35)*100 -> 21.843958 | E18: =((D18/D17)-1)*100 -> 10.691754 | F18: ='Precios M Mensuales'!B200 -> 23.60906 | G18: =((F18/F17)-1)*100 -> 10.691754
A19: 1934 | B19: =AVERAGE('Precios M Mensuales'!B201:B212) -> 24.103036 | C19: =((B19/B18)-1)*100 -> 5.512761 | D19: =(F19/F$35)*100 -> 22.314733 | E19: =((D19/D18)-1)*100 -> 2.1551724 | F19: ='Precios M Mensuales'!B212 -> 24.117876 | G19: =((F19/F18)-1)*100 -> 2.1551724
A20: 1935 | B20: =AVERAGE('Precios M Mensuales'!B213:B224) -> 24.028833 | C20: =((B20/B19)-1)*100 -> -0.30785469 | D20: =(F20/F$35)*100 -> 22.079345 | E20: =((D20/D19)-1)*100 -> -1.0548523 | F20: ='Precios M Mensuales'!B224 -> 23.863468 | G20: =((F20/F19)-1)*100 -> -1.0548523
A21: 1936 | B21: =AVERAGE('Precios M Mensuales'!B225:B236) -> 25.540441 | C21: =((B21/B20)-1)*100 -> 6.2908064 | D21: =(F21/F$35)*100 -> 24.833379 | E21: =((D21/D20)-1)*100 -> 12.473348 | F21: ='Precios M Mensuales'!B236 -> 26.840042 | G21: =((F21/F20)-1)*100 -> 12.473348
A22: 1937 | B22: =AVERAGE('Precios M Mensuales'!B237:B248) -> 30.244868 | C22: =((B22/B21)-1)*100 -> 18.419524 | D22: =(F22/F$35)*100 -> 27.846338 | E22: =((D22/D21)-1)*100 -> 12.132701 | F22: ='Precios M Mensuales'!B248 -> 30.096464 | G22: =((F22/F21)-1)*100 -> 12.132701
A23: 1938 | B23: =AVERAGE('Precios M Mensuales'!B249:B260) -> 32.142328 | C23: =((B23/B22)-1)*100 -> 6.2736576 | D23: =(F23/F$35)*100 -> 29.423434 | E23: =((D23/D22)-1)*100 -> 5.6635672 | F23: ='Precios M Mensuales'!B260 -> 31.800997 | G23: =((F23/F22)-1)*100 -> 5.6635672
A24: 1939 | B24: =AVERAGE('Precios M Mensuales'!B261:B272) -> 32.318293 | C24: =((B24/B23)-1)*100 -> 0.54745729 | D24: =(F24/F$35)*100 -> 29.611744 | E24: =((D24/D23)-1)*100 -> 0.64 | F24: ='Precios M Mensuales'!B272 -> 32.004524 | G24: =((F24/F23)-1)*100 -> 0.64
A25: 1940 | B25: =AVERAGE('Precios M Mensuales'!B273:B284) -> 32.815305 | C25: =((B25/B24)-1)*100 -> 1.5378641 | D25: =(F25/F$35)*100 -> 29.848638 | E25: =((D25/D24)-1)*100 -> 0.8 | F25: ='Precios M Mensuales'!B284 -> 32.26056 | G25: =((F25/F24)-1)*100 -> 0.8
A26: 1941 | B26: =AVERAGE('Precios M Mensuales'!B285:B296) -> 34.97561 | C26: =((B26/B25)-1)*100 -> 6.583225 | D26: =(F26/F$35)*100 -> 33.490883 | E26: =((D26/D25)-1)*100 -> 12.202381 | F26: ='Precios M Mensuales'!B296 -> 36.197116 | G26: =((F26/F25)-1)*100 -> 12.202381
A27: 1942 | B27: =AVERAGE('Precios M Mensuales'!B297:B308) -> 38.600122 | C27: =((B27/B26)-1)*100 -> 10.362971 | D27: =(F27/F$35)*100 -> 37.221963 | E27: =((D27/D26)-1)*100 -> 11.140584 | F27: ='Precios M Mensuales'!B308 -> 40.229686 | G27: =((F27/F26)-1)*100 -> 11.140584
A28: 1943 | B28: =AVERAGE('Precios M Mensuales'!B309:B320) -> 46.630591 | C28: =((B28/B27)-1)*100 -> 20.804256 | D28: =(F28/F$35)*100 -> 46.371992 | E28: =((D28/D27)-1)*100 -> 24.582339 | F28: ='Precios M Mensuales'!B320 -> 50.119084 | G28: =((F28/F27)-1)*100 -> 24.582339
A29: 1944 | B29: =AVERAGE('Precios M Mensuales'!B321:B332) -> 57.128075 | C29: =((B29/B28)-1)*100 -> 22.512011 | D29: =(F29/F$35)*100 -> 55.610856 | E29: =((D29/D28)-1)*100 -> 19.923372 | F29: ='Precios M Mensuales'!B332 -> 60.104495 | G29: =((F29/F28)-1)*100 -> 19.923372
A30: 1945 | B30: =AVERAGE('Precios M Mensuales'!B333:B344) -> 63.587654 | C30: =((B30/B29)-1)*100 -> 11.30719 | D30: =(F30/F$35)*100 -> 61.62204 | E30: =((D30/D29)-1)*100 -> 10.809372 | F30: ='Precios M Mensuales'!B344 -> 66.601414 | G30: =((F30/F29)-1)*100 -> 10.809372
A31: 1946 | B31: =AVERAGE('Precios M Mensuales'!B345:B356) -> 73.189011 | C31: =((B31/B30)-1)*100 -> 15.099404 | D31: =(F31/F$35)*100 -> 72.607997 | E31: =((D31/D30)-1)*100 -> 17.827967 | F31: ='Precios M Mensuales'!B356 -> 78.475092 | G31: =((F31/F30)-1)*100 -> 17.827967
A32: 1947 | B32: =AVERAGE('Precios M Mensuales'!B357:B368) -> 77.533625 | C32: =((B32/B31)-1)*100 -> 5.9361563 | D32: =(F32/F$35)*100 -> 71.838092 | E32: =((D32/D31)-1)*100 -> -1.0603589 | F32: ='Precios M Mensuales'!B368 -> 77.642974 | G32: =((F32/F31)-1)*100 -> -1.0603589
A33: 1948 | B33: =AVERAGE('Precios M Mensuales'!B369:B380) -> 83.211761 | C33: =((B33/B32)-1)*100 -> 7.3234495 | D33: =(F33/F$35)*100 -> 79.477922 | E33: =((D33/D32)-1)*100 -> 10.63479 | F33: ='Precios M Mensuales'!B380 -> 85.900141 | G33: =((F33/F32)-1)*100 -> 10.63479
A34: 1949 | B34: =AVERAGE('Precios M Mensuales'!B381:B392) -> 91.162218 | C34: =((B34/B33)-1)*100 -> 9.5544872 | D34: =(F34/F$35)*100 -> 86.880858 | E34: =((D34/D33)-1)*100 -> 9.314456 | F34: ='Precios M Mensuales'!B392 -> 93.901272 | G34: =((F34/F33)-1)*100 -> 9.314456
A35: 1950 | B35: =AVERAGE('Precios M Mensuales'!B393:B404) -> 100 | C35: =((B35/B34)-1)*100 -> 9.6945662 | D35: =(F35/F$35)*100 -> 100 | E35: =((D35/D34)-1)*100 -> 15.100152 | F35: ='Precios M Mensuales'!B404 -> 108.08051 | G35: =((F35/F34)-1)*100 -> 15.100152
A36: 1951 | B36: =AVERAGE('Precios M Mensuales'!B405:B416) -> 124.39946 | C36: =((B36/B35)-1)*100 -> 24.399461 | D36: =(F36/F$35)*100 -> 119.70781 | E36: =((D36/D35)-1)*100 -> 19.707812 | F36: ='Precios M Mensuales'!B416 -> 129.38081 | G36: =((F36/F35)-1)*100 -> 19.707812
A37: 1952 | B37: =AVERAGE('Precios M Mensuales'!B417:B428) -> 128.89744 | C37: =((B37/B36)-1)*100 -> 3.6157582 | D37: =(F37/F$35)*100 -> 117.08408 | E37: =((D37/D36)-1)*100 -> -2.1917808 | F37: ='Precios M Mensuales'!B428 -> 126.54507 | G37: =((F37/F36)-1)*100 -> -2.1917808
A38: 1953 | B38: =AVERAGE('Precios M Mensuales'!B429:B440) -> 126.4833 | C38: =((B38/B37)-1)*100 -> -1.8729167 | D38: =(F38/F$35)*100 -> 117.94872 | E38: =((D38/D37)-1)*100 -> 0.73847721 | F38: ='Precios M Mensuales'!B440 -> 127.47957 | G38: =((F38/F37)-1)*100 -> 0.73847721
A39: 1954 | B39: =AVERAGE('Precios M Mensuales'!B441:B452) -> 138.0975 | C39: =((B39/B38)-1)*100 -> 9.1823953 | D39: =(F39/F$35)*100 -> 137.11986 | E39: =((D39/D38)-1)*100 -> 16.253792 | F39: ='Precios M Mensuales'!B452 -> 148.19984 | G39: =((F39/F38)-1)*100 -> 16.253792
A40: 1955 | B40: =AVERAGE('Precios M Mensuales'!B453:B464) -> 157.18695 | C40: =((B40/B39)-1)*100 -> 13.823165 | D40: =(F40/F$35)*100 -> 150.04391 | E40: =((D40/D39)-1)*100 -> 9.4253713 | F40: ='Precios M Mensuales'!B464 -> 162.16822 | G40: =((F40/F39)-1)*100 -> 9.4253713
A41: 1956 | B41: =AVERAGE('Precios M Mensuales'!B465:B476) -> 164.49743 | C41: =((B41/B40)-1)*100 -> 4.6508216 | D41: =(F41/F$35)*100 -> 152.60439 | E41: =((D41/D40)-1)*100 -> 1.7064846 | F41: ='Precios M Mensuales'!B476 -> 164.9356 | G41: =((F41/F40)-1)*100 -> 1.7064846
A42: 1957 | B42: =AVERAGE('Precios M Mensuales'!B477:B488) -> 171.64648 | C42: =((B42/B41)-1)*100 -> 4.3459975 | D42: =(F42/F$35)*100 -> 162.07815 | E42: =((D42/D41)-1)*100 -> 6.2080537 | F42: ='Precios M Mensuales'!B488 -> 175.17489 | G42: =((F42/F41)-1)*100 -> 6.2080537
...

Sheet Precios M Mensuales
B1: Índice de precios al mayoreo (IPM) y consumidor (IPC) Datos mensuales
C2: Precios Mayoreo/Consumidor Fusión Tasa mensual | D2: Precios Mayoreo Fusión tasa anual | E2: Precios Consumidor 1929=100, 1918-1929 Gómez-Galvarriato y Mussachio (2000) | F2: Precios Consumidor t/c | G2: Precios Mayoreo 1929=100 1918-1931 Bach y Reina (1943) | H2: Precios Mayoreo t/c | I2: Precios Mayoreo 1929=100 1932-1950 | J2: Precios Mayoreo t/c | K2: Precios Mayoreo 1939=100 1940-1954 | L2: Precios Mayoreo t/c | M2: Precios Mayoreo 1954=100 1955-1969 | N2: Precios Mayoreo t/c | O2: Precios Consumidor 2Q 2010=100 1969-1990 | P2: Precios Consumidor t/c | Q2: Precios Mayoreo 1929=100 1918-1990 | R2: Precios Mayoreo t/c
A3: Periodo | B3: Precios Mayoreo/Consumidor 1950=100
A9: 6593 | B9: =B10/(1+(C10/100)) -> 41.747536 | D9: - | E9: 158.01139 | G9: 167.7 | I9: - | J9: - | K9: - | L9: - | M9: - | N9: - | O9: - | P9: - | Q9: =Q10/(1+(C10/100)) -> 164.0968 | R9: -
A10: 6624 | B10: =B11/(1+(C11/100)) -> 40.147526 | C10: =F10 -> -3.8325854 | D10: - | E10: 151.95547 | F10: =((E10/E9)-1)*100 -> -3.8325854 | G10: 164.8 | H10: =((G10/G9)-1)*100 -> -1.7292785 | I10: - | J10: - | K10: - | L10: - | M10: - | N10: - | O10: - | P10: - | Q10: =Q11/(1+(C11/100)) -> 157.80765 | R10: =((Q10/Q9)-1)*100 -> -3.8325854
A11: 6652 | B11: =B12/(1+(C12/100)) -> 39.254442 | C11: =F11 -> -2.2245048 | D11: - | E11: 148.57521 | F11: =((E11/E10)-1)*100 -> -2.2245048 | G11: 162.1 | H11: =((G11/G10)-1)*100 -> -1.6383495 | I11: - | J11: - | K11: - | L11: - | M11: - | N11: - | O11: - | P11: - | Q11: =Q12/(1+(C12/100)) -> 154.29721 | R11: =((Q11/Q10)-1)*100 -> -2.2245048
A12: 6683 | B12: =B13/(1+(C13/100)) -> 40.923967 | C12: =F12 -> 4.253084 | D12: - | E12: 154.89424 | F12: =((E12/E11)-1)*100 -> 4.253084 | G12: 163.8 | H12: =((G12/G11)-1)*100 -> 1.0487353 | I12: - | J12: - | K12: - | L12: - | M12: - | N12: - | O12: - | P12: - | Q12: =Q13/(1+(C13/100)) -> 160.8596 | R12: =((Q12/Q11)-1)*100 -> 4.253084
A13: 6713 | B13: =B14/(1+(C14/100)) -> 38.293022 | C13: =F13 -> -6.4288593 | D13: - | E13: 144.9363 | F13: =((E13/E12)-1)*100 -> -6.4288593 | G13: 157.3 | H13: =((G13/G12)-1)*100 -> -3.968254 | I13: - | J13: - | K13: - | L13: - | M13: - | N13: - | O13: - | P13: - | Q13: =Q14/(1+(C14/100)) -> 150.51817 | R13: =((Q13/Q12)-1)*100 -> -6.4288593
A14: 6744 | B14: =B15/(1+(C15/100)) -> 38.343685 | C14: =F14 -> 0.13230362 | D14: - | E14: 145.12806 | F14: =((E14/E13)-1)*100 -> 0.13230362 | G14: 163.1 | H14: =((G14/G13)-1)*100 -> 3.6872219 | I14: - | J14: - | K14: - | L14: - | M14: - | N14: - | O14: - | P14: - | Q14: =Q15/(1+(C15/100)) -> 150.71731 | R14: =((Q14/Q13)-1)*100 -> 0.13230362
A15: 6774 | B15: =B16/(1+(C16/100)) -> 38.085657 | C15: =F15 -> -0.6729351 | D15: - | E15: 144.15144 | F15: =((E15/E14)-1)*100 -> -0.6729351 | G15: 165.9 | H15: =((G15/G14)-1)*100 -> 1.7167382 | I15: - | J15: - | K15: - | L15: - | M15: - | N15: - | O15: - | P15: - | Q15: =Q16/(1+(C16/100)) -> 149.70308 | R15: =((Q15/Q14)-1)*100 -> -0.6729351
A16: 6805 | B16: =B17/(1+(C17/100)) -> 38.448546 | C16: =F16 -> 0.95282289 | D16: - | E16: 145.52495 | F16: =((E16/E15)-1)*100 -> 0.95282289 | G16: 160 | H16: =((G16/G15)-1)*100 -> -3.5563593 | I16: - | J16: - | K16: - | L16: - | M16: - | N16: - | O16: - | P16: - | Q16: =Q17/(1+(C17/100)) -> 151.12948 | R16: =((Q16/Q15)-1)*100 -> 0.95282289
A17: 6836 | B17: =B18/(1+(C18/100)) -> 38.44619 | C17: =F17 -> -0.0061287654 | D17: - | E17: 145.51603 | F17: =((E17/E16)-1)*100 -> -0.0061287654 | G17: 164.6 | H17: =((G17/G16)-1)*100 -> 2.875 | I17: - | J17: - | K17: - | L17: - | M17: - | N17: - | O17: - | P17: - | Q17: =Q18/(1+(C18/100)) -> 151.12022 | R17: =((Q17/Q16)-1)*100 -> -0.0061287654
A18: 6866 | B18: =B19/(1+(C19/100)) -> 37.858263 | C18: =F18 -> -1.5292207 | D18: - | E18: 143.29077 | F18: =((E18/E17)-1)*100 -> -1.5292207 | G18: 149.1 | H18: =((G18/G17)-1)*100 -> -9.4167679 | I18: - | J18: - | K18: - | L18: - | M18: - | N18: - | O18: - | P18: - | Q18: =Q19/(1+(C19/100)) -> 148.80926 | R18: =((Q18/Q17)-1)*100 -> -1.5292207
A19: 6897 | B19: =B20/(1+(C20/100)) -> 36.512746 | C19: =F19 -> -3.5540894 | D19: - | E19: 138.19809 | F19: =((E19/E18)-1)*100 -> -3.5540894 | G19: 141.5 | H19: =((G19/G18)-1)*100 -> -5.0972502 | I19: - | J19: - | K19: - | L19: - | M19: - | N19: - | O19: - | P19: - | Q19: =Q20/(1+(C20/100)) -> 143.52044 | R19: =((Q19/Q18)-1)*100 -> -3.5540894
A20: 6927 | B20: =B21/(1+(C21/100)) -> 36.722468 | C20: =F20 -> 0.57437883 | D20: - | E20: 138.99187 | F20: =((E20/E19)-1)*100 -> 0.57437883 | G20: 129.9 | H20: =((G20/G19)-1)*100 -> -8.1978799 | I20: - | J20: - | K20: - | L20: - | M20: - | N20: - | O20: - | P20: - | Q20: =Q21/(1+(C21/100)) -> 144.3448 | R20: =((Q20/Q19)-1)*100 -> 0.57437883
A21: 6958 | B21: =B22/(1+(C22/100)) -> 36.836754 | C21: =F21 -> 0.31121663 | D21: =((B21/B9)-1)*100 -> -11.763046 | E21: 139.42443 | F21: =((E21/E20)-1)*100 -> 0.31121663 | G21: 127.4 | H21: =((G21/G20)-1)*100 -> -1.9245574 | I21: - | J21: - | K21: - | L21: - | M21: - | N21: - | O21: - | P21: - | Q21: =Q22/(1+(C22/100)) -> 144.79402 | R21: =((Q21/Q20)-1)*100 -> 0.31121663
A22: 6989 | B22: =B23/(1+(C23/100)) -> 35.819958 | C22: =F22 -> -2.7602751 | D22: =((B22/B10)-1)*100 -> -10.779164 | E22: 135.57594 | F22: =((E22/E21)-1)*100 -> -2.7602751 | G22: 131.5 | H22: =((G22/G21)-1)*100 -> 3.2182104 | I22: - | J22: - | K22: - | L22: - | M22: - | N22: - | O22: - | P22: - | Q22: =Q23/(1+(C23/100)) -> 140.79731 | R22: =((Q22/Q21)-1)*100 -> -2.7602751
A23: 7017 | B23: =B24/(1+(C24/100)) -> 34.539243 | C23: =F23 -> -3.5754227 | D23: =((B23/B11)-1)*100 -> -12.011886 | E23: 130.72852 | F23: =((E23/E22)-1)*100 -> -3.5754227 | G23: 129.6 | H23: =((G23/G22)-1)*100 -> -1.4448669 | I23: - | J23: - | K23: - | L23: - | M23: - | N23: - | O23: - | P23: - | Q23: =Q24/(1+(C24/100)) -> 135.76321 | R23: =((Q23/Q22)-1)*100 -> -3.5754227
A24: 7048 | B24: =B25/(1+(C25/100)) -> 35.465317 | C24: =F24 -> 2.6812212 | D24: =((B24/B12)-1)*100 -> -13.338516 | E24: 134.23364 | F24: =((E24/E23)-1)*100 -> 2.6812212 | G24: 127.2 | H24: =((G24/G23)-1)*100 -> -1.8518519 | I24: - | J24: - | K24: - | L24: - | M24: - | N24: - | O24: - | P24: - | Q24: =Q25/(1+(C25/100)) -> 139.40332 | R24: =((Q24/Q23)-1)*100 -> 2.6812212
A25: 7078 | B25: =B26/(1+(C26/100)) -> 35.858839 | C25: =F25 -> 1.1095977 | D25: =((B25/B13)-1)*100 -> -6.3567275 | E25: 135.7231 | F25: =((E25/E24)-1)*100 -> 1.1095977 | G25: 122.7 | H25: =((G25/G24)-1)*100 -> -3.5377358 | I25: - | J25: - | K25: - | L25: - | M25: - | N25: - | O25: - | P25: - | Q25: =Q26/(1+(C26/100)) -> 140.95014 | R25: =((Q25/Q24)-1)*100 -> 1.1095977
A26: 7109 | B26: =B27/(1+(C27/100)) -> 38.091548 | C26: =F26 -> 6.2263841 | D26: =((B26/B14)-1)*100 -> -0.65757129 | E26: 144.17374 | F26: =((E26/E25)-1)*100 -> 6.2263841 | G26: 127.9 | H26: =((G26/G25)-1)*100 -> 4.2379788 | I26: - | J26: - | K26: - | L26: - | M26: - | N26: - | O26: - | P26: - | Q26: =Q27/(1+(C27/100)) -> 149.72623 | R26: =((Q26/Q25)-1)*100 -> 6.2263841
A27: 7139 | B27: =B28/(1+(C28/100)) -> 38.681832 | C27: =F27 -> 1.5496443 | D27: =((B27/B15)-1)*100 -> 1.5653519 | E27: 146.40792 | F27: =((E27/E26)-1)*100 -> 1.5496443 | G27: 128.9 | H27: =((G27/G26)-1)*100 -> 0.78186083 | I27: - | J27: - | K27: - | L27: - | M27: - | N27: - | O27: - | P27: - | Q27: =Q28/(1+(C28/100)) -> 152.04646 | R27: =((Q27/Q26)-1)*100 -> 1.5496443
A28: 7170 | B28: =B29/(1+(C29/100)) -> 38.98581 | C28: =F28 -> 0.78584265 | D28: =((B28/B16)-1)*100 -> 1.3973585 | E28: 147.55846 | F28: =((E28/E27)-1)*100 -> 0.78584265 | G28: 130.5 | H28: =((G28/G27)-1)*100 -> 1.2412723 | I28: - | J28: - | K28: - | L28: - | M28: - | N28: - | O28: - | P28: - | Q28: =Q29/(1+(C29/100)) -> 153.2413 | R28: =((Q28/Q27)-1)*100 -> 0.78584265
A29: 7201 | B29: =B30/(1+(C30/100)) -> 38.609961 | C29: =F29 -> -0.96406661 | D29: =((B29/B17)-1)*100 -> 0.4259753 | E29: 146.13589 | F29: =((E29/E28)-1)*100 -> -0.96406661 | G29: 129.7 | H29: =((G29/G28)-1)*100 -> -0.61302682 | I29: - | J29: - | K29: - | L29: - | M29: - | N29: - | O29: - | P29: - | Q29: =Q30/(1+(C30/100)) -> 151.76396 | R29: =((Q29/Q28)-1)*100 -> -0.96406661
A30: 7231 | B30: =B31/(1+(C31/100)) -> 36.594043 | C30: =F30 -> -5.2212389 | D30: =((B30/B18)-1)*100 -> -3.3393502 | E30: 138.50579 | F30: =((E30/E29)-1)*100 -> -5.2212389 | G30: 126.9 | H30: =((G30/G29)-1)*100 -> -2.1588281 | I30: - | J30: - | K30: - | L30: - | M30: - | N30: - | O30: - | P30: - | Q30: =Q31/(1+(C31/100)) -> 143.84 | R30: =((Q30/Q29)-1)*100 -> -5.2212389
A31: 7262 | B31: =B32/(1+(C32/100)) -> 37.813491 | C31: =F31 -> 3.3323674 | D31: =((B31/B19)-1)*100 -> 3.5624395 | E31: 143.12131 | F31: =((E31/E30)-1)*100 -> 3.3323674 | G31: 124.6 | H31: =((G31/G30)-1)*100 -> -1.8124507 | I31: - | J31: - | K31: - | L31: - | M31: - | N31: - | O31: - | P31: - | Q31: =Q32/(1+(C32/100)) -> 148.63327 | R31: =((Q31/Q30)-1)*100 -> 3.3323674
A32: 7292 | B32: =B33/(1+(C33/100)) -> 38.55812 | C32: =F32 -> 1.9692154 | D32: =((B32/B20)-1)*100 -> 4.9987166 | E32: 145.93968 | F32: =((E32/E31)-1)*100 -> 1.9692154 | G32: 124.2 | H32: =((G32/G31)-1)*100 -> -0.32102729 | I32: - | J32: - | K32: - | L32: - | M32: - | N32: - | O32: - | P32: - | Q32: =Q33/(1+(C33/100)) -> 151.56018 | R32: =((Q32/Q31)-1)*100 -> 1.9692154
... A152: 10945 | B152: =B153/(1+(C153/100)) -> 25.925346 | C152: =F152 -> -0.75323621 | D152: =((B152/B140)-1)*100 -> 2.3061187 | E152: 98.125548 | F152: =((E152/E151)-1)*100 -> -0.75323621 | G152: 98.7 | H152: =((G152/G151)-1)*100 -> -0.90361446 | I152: - | J152: - | K152: - | L152: - | M152: - | N152: - | O152: - | P152: - | Q152: =Q153/(1+(C153/100)) -> 101.90461 | R152: =((Q152/Q151)-1)*100 -> -0.75323621
A153: 10976 | B153: =B154/(1+(C154/100)) -> 25.610144 | C153: =H153 -> -1.2158055 | D153: =((B153/B141)-1)*100 -> -4.597638 | E153: - | F153: - | G153: 97.5 | H153: =((G153/G152)-1)*100 -> -1.2158055 | I153: - | J153: - | K153: - | L153: - | M153: - | N153: - | O153: - | P153: - | Q153: =Q154/(1+(C154/100)) -> 100.66565 | R153: =((Q153/Q152)-1)*100 -> -1.2158055
A154: 11007 | B154: =B155/(1+(C155/100)) -> 26.371882 | C154: =H154 -> 2.974359 | D154: =((B154/B142)-1)*100 -> -2.8178407 | E154: - | F154: - | G154: 100.4 | H154: =((G154/G153)-1)*100 -> 2.974359 | I154: - | J154: - | K154: - | L154: - | M154: - | N154: - | O154: - | P154: - | Q154: =Q155/(1+(C155/100)) -> 103.65981 | R154: =((Q154/Q153)-1)*100 -> 2.974359
A155: 11035 | B155: =B156/(1+(C156/100)) -> 26.109213 | C155: =H155 -> -0.99601594 | D155: =((B155/B143)-1)*100 -> -5.3110424 | E155: - | F155: - | G155: 99.4 | H155: =((G155/G154)-1)*100 -> -0.99601594 | I155: - | J155: - | K155: - | L155: - | M155: - | N155: - | O155: - | P155: - | Q155: =Q156/(1+(C156/100)) -> 102.62734 | R155: =((Q155/Q154)-1)*100 -> -0.99601594
A156: 11066 | B156: =B157/(1+(C157/100)) -> 26.529482 | C156: =H156 -> 1.6096579 | D156: =((B156/B144)-1)*100 -> 3.221591 | E156: - | F156: - | G156: 101 | H156: =((G156/G155)-1)*100 -> 1.6096579 | I156: - | J156: - | K156: - | L156: - | M156: - | N156: - | O156: - | P156: - | Q156: =Q157/(1+(C157/100)) -> 104.27929 | R156: =((Q156/Q155)-1)*100 -> 1.6096579
A157: 11096 | B157: =B158/(1+(C158/100)) -> 26.529482 | C157: =H157 -> 0 | D157: =((B157/B145)-1)*100 -> 0.64704922 | E157: - | F157: - | G157: 101 | H157: =((G157/G156)-1)*100 -> 0 | I157: - | J157: - | K157: - | L157: - | M157: - | N157: - | O157: - | P157: - | Q157: =Q158/(1+(C158/100)) -> 104.27929 | R157: =((Q157/Q156)-1)*100 -> 0
A158: 11127 | B158: =B159/(1+(C159/100)) -> 26.529482 | C158: =H158 -> 0 | D158: =((B158/B146)-1)*100 -> 1.6236758 | E158: - | F158: - | G158: 101 | H158: =((G158/G157)-1)*100 -> 0 | I158: - | J158: - | K158: - | L158: - | M158: - | N158: - | O158: - | P158: - | Q158: =Q159/(1+(C159/100)) -> 104.27929 | R158: =((Q158/Q157)-1)*100 -> 0
A159: 11157 | B159: =B160/(1+(C160/100)) -> 26.582016 | C159: =H159 -> 0.1980198 | D159: =((B159/B147)-1)*100 -> -0.31218853 | E159: - | F159: - | G159: 101.2 | H159: =((G159/G158)-1)*100 -> 0.1980198 | I159: - | J159: - | K159: - | L159: - | M159: - | N159: - | O159: - | P159: - | Q159: =Q160/(1+(C160/100)) -> 104.48578 | R159: =((Q159/Q158)-1)*100 -> 0.1980198
A160: 11188 | B160: =B161/(1+(C161/100)) -> 26.818417 | C160: =H160 -> 0.88932806 | D160: =((B160/B148)-1)*100 -> 1.6523306 | E160: - | F160: - | G160: 102.1 | H160: =((G160/G159)-1)*100 -> 0.88932806 | I160: - | J160: - | K160: - | L160: - | M160: - | N160: - | O160: - | P160: - | Q160: =Q161/(1+(C161/100)) -> 105.415 | R160: =((Q160/Q159)-1)*100 -> 0.88932806
A161: 11219 | B161: =B162/(1+(C162/100)) -> 26.450682 | C161: =H161 -> -1.3712047 | D161: =((B161/B149)-1)*100 -> 3.4127615 | E161: - | F161: - | G161: 100.7 | H161: =((G161/G160)-1)*100 -> -1.3712047 | I161: - | J161: - | K161: - | L161: - | M161: - | N161: - | O161: - | P161: - | Q161: =Q162/(1+(C162/100)) -> 103.96955 | R161: =((Q161/Q160)-1)*100 -> -1.3712047
A162: 11249 | B162: =B163/(1+(C163/100)) -> 26.844684 | C162: =H162 -> 1.489573 | D162: =((B162/B150)-1)*100 -> 0.71737109 | E162: - | F162: - | G162: 102.2 | H162: =((G162/G161)-1)*100 -> 1.489573 | I162: - | J162: - | K162: - | L162: - | M162: - | N162: - | O162: - | P162: - | Q162: =Q163/(1+(C163/100)) -> 105.51825 | R162: =((Q162/Q161)-1)*100 -> 1.489573
A163: 11280 | B163: =B164/(1+(C164/100)) -> 26.05668 | C163: =H163 -> -2.9354207 | D163: =((B163/B151)-1)*100 -> -0.25046638 | E163: - | F163: - | G163: 99.2 | H163: =((G163/G162)-1)*100 -> -2.9354207 | I163: - | J163: - | K163: - | L163: - | M163: - | N163: - | O163: - | P163: - | Q163: =Q164/(1+(C164/100)) -> 102.42084 | R163: =((Q163/Q162)-1)*100 -> -2.9354207
A164: 11310 | B164: =B165/(1+(C165/100)) -> 24.32307 | C164: =H164 -> -6.6532258 | D164: =((B164/B152)-1)*100 -> -6.1803445 | E164: - | F164: - | G164: 92.6 | H164: =((G164/G163)-1)*100 -> -6.6532258 | I164: - | J164: - | K164: - | L164: - | M164: - | N164: - | O164: - | P164: - | Q164: =Q165/(1+(C165/100)) -> 95.606554 | R164: =((Q164/Q163)-1)*100 -> -6.6532258
...

Sheet Fuente Bortz y otros
B1: Fuente: Bortz (1988), véase documentación de la BDH
A2: Año | B2: Precios menudeo Bortz, 1939=100 Promedio | C2: Precios menudeo Bortz, 1939=100 Prom t/c | D2: Bortz, 1950=100 Promedio | E2: Bortz, 1950=100 Prom t/c | G2: Indice del costo de la vida obrera (ICVO); 1950=100 | H2: Indice del costo de la vida obrera (ICVO); 1934=100 | I2: Indice del costo de la vida obrera (ICVO); t/c | J2: ICVO Fuente: Pani (1955); 1934=100 | K2: ICVO Fuente: Pani (1955); t/c | L2: ICVO); Fuente: INEGI, Estadísticas historicas; 1978=100 | M2: ICVO); Fuente: INEGI, Estadísticas historicas; t/c | N2: Índice de precios May/Cons 1950=100 | O2: Inflación May/Cons
G3: Año | H3: Año | I3: Año | J3: Año | K3: Año | L3: Año | M3: Año | N3: Servicio | O3: Servicio
N4: doméstico | O4: doméstico
A5: 1920 | B5: =B6*(1/(1+(C6/100))) -> 87.423729 | C5: 4.89 | D5: =(B5/$B$35)*100 -> 19.008464 | G5: - | H5: - | J5: - | K5: - | L5: - | M5: - | N5: - | O5: -
A6: 1921 | B6: =B7*(1/(1+(C7/100))) -> 79.817864 | C6: -8.7 | D6: =(B6/$B$35)*100 -> 17.354728 | E6: =((D6/D5)-1)*100 -> -8.7 | G6: - | H6: - | J6: - | K6: - | L6: - | M6: - | N6: - | O6: -
A7: 1922 | B7: =B8*(1/(1+(C8/100))) -> 66.959206 | C7: -16.11 | D7: =(B7/$B$35)*100 -> 14.558881 | E7: =((D7/D6)-1)*100 -> -16.11 | G7: - | H7: - | J7: - | K7: - | L7: - | M7: - | N7: - | O7: -
A8: 1923 | B8: =B9*(1/(1+(C9/100))) -> 71.740094 | C8: 7.14 | D8: =(B8/$B$35)*100 -> 15.598385 | E8: =((D8/D7)-1)*100 -> 7.14 | G8: - | H8: - | J8: - | K8: - | L8: - | M8: - | N8: - | O8: -
A9: 1924 | B9: =B10*(1/(1+(C10/100))) -> 68.76288 | C9: -4.15 | D9: =(B9/$B$35)*100 -> 14.951052 | E9: =((D9/D8)-1)*100 -> -4.15 | G9: - | H9: - | J9: - | K9: - | L9: - | M9: - | N9: - | O9: -
A10: 1925 | B10: =B11*(1/(1+(C11/100))) -> 72.132261 | C10: 4.9 | D10: =(B10/$B$35)*100 -> 15.683654 | E10: =((D10/D9)-1)*100 -> 4.9 | G10: - | H10: - | J10: - | K10: - | L10: - | M10: - | N10: - | O10: -
A11: 1926 | B11: =B12*(1/(1+(C12/100))) -> 73.466708 | C11: 1.85 | D11: =(B11/$B$35)*100 -> 15.973801 | E11: =((D11/D10)-1)*100 -> 1.85 | G11: - | H11: - | J11: - | K11: - | L11: - | M11: - | N11: - | O11: -
A12: 1927 | B12: =B13*(1/(1+(C13/100))) -> 71.754933 | C12: -2.33 | D12: =(B12/$B$35)*100 -> 15.601612 | E12: =((D12/D11)-1)*100 -> -2.33 | G12: - | H12: - | J12: - | K12: - | L12: - | M12: - | N12: - | O12: -
A13: 1928 | B13: =B14*(1/(1+(C14/100))) -> 68.827332 | C13: -4.08 | D13: =(B13/$B$35)*100 -> 14.965066 | E13: =((D13/D12)-1)*100 -> -4.08 | G13: - | H13: - | J13: - | K13: - | L13: - | M13: - | N13: - | O13: -
A14: 1929 | B14: =B15*(1/(1+(C15/100))) -> 68.662146 | C14: -0.24 | D14: =(B14/$B$35)*100 -> 14.92915 | E14: =((D14/D13)-1)*100 -> -0.24 | G14: - | H14: - | J14: - | K14: - | L14: - | M14: - | N14: - | O14: -
A15: 1930 | B15: =B16*(1/(1+(C16/100))) -> 68.826936 | C15: 0.24 | D15: =(B15/$B$35)*100 -> 14.96498 | E15: =((D15/D14)-1)*100 -> 0.24 | G15: - | H15: - | J15: - | K15: - | L15: - | M15: - | N15: - | O15: -
A16: 1931 | B16: =B17*(1/(1+(C17/100))) -> 75.902345 | C16: 10.28 | D16: =(B16/$B$35)*100 -> 16.50338 | E16: =((D16/D15)-1)*100 -> 10.28 | G16: - | H16: - | J16: - | K16: - | L16: - | M16: - | N16: - | O16: -
A17: 1932 | B17: =B18*(1/(1+(C18/100))) -> 69.002821 | C17: -9.09 | D17: =(B17/$B$35)*100 -> 15.003223 | E17: =((D17/D16)-1)*100 -> -9.09 | G17: - | H17: - | J17: - | K17: - | L17: - | M17: - | N17: - | O17: -
A18: 1933 | B18: =B19*(1/(1+(C19/100))) -> 74.502346 | C18: 7.97 | D18: =(B18/$B$35)*100 -> 16.198979 | E18: =((D18/D17)-1)*100 -> 7.97 | G18: - | H18: - | J18: - | K18: - | L18: - | M18: - | N18: - | O18: -
A19: 1934 | B19: =B20*(1/(1+(C20/100))) -> 77.002425 | C19: 3.3557047 | D19: =(B19/$B$35)*100 -> 16.742569 | E19: =((D19/D18)-1)*100 -> 3.3557047 | G19: =(H19/H$35)*100 -> 17.817689 | H19: 100 | J19: 100 | K19: - | L19: - | M19: - | N19: ='Precios M Anual'!B19 -> 24.103036 | O19: -
A20: 1935 | B20: =B21*(1/(1+(C21/100))) -> 76.502409 | C20: -0.64935065 | D20: =(B20/$B$35)*100 -> 16.633851 | E20: =((D20/D19)-1)*100 -> -0.64935065 | G20: =(H20/H$35)*100 -> 19.154016 | H20: =H19*(1+(K20/100)) -> 107.5 | I20: =((H20/H19)-1)*100 -> 7.5 | J20: 107.5 | K20: =((J20/J19)-1)*100 -> 7.5 | L20: - | M20: - | N20: ='Precios M Anual'!B20 -> 24.028833 | O20: =((N20/N19)-1)*100 -> -0.30785469
A21: 1936 | B21: =B22*(1/(1+(C22/100))) -> 80.602538 | C21: 5.3594771 | D21: =(B21/$B$35)*100 -> 17.525339 | E21: =((D21/D20)-1)*100 -> 5.3594771 | G21: =(H21/H$35)*100 -> 20.347801 | H21: =H20*(1+(K21/100)) -> 114.2 | I21: =((H21/H20)-1)*100 -> 6.2325581 | J21: 114.2 | K21: =((J21/J20)-1)*100 -> 6.2325581 | L21: - | M21: - | N21: ='Precios M Anual'!B21 -> 25.540441 | O21: =((N21/N20)-1)*100 -> 6.2908064
A22: 1937 | B22: =B23*(1/(1+(C23/100))) -> 94.802986 | C22: 17.617866 | D22: =(B22/$B$35)*100 -> 20.61293 | E22: =((D22/D21)-1)*100 -> 17.617866 | G22: =(H22/H$35)*100 -> 24.000428 | H22: =H21*(1+(K22/100)) -> 134.7 | I22: =((H22/H21)-1)*100 -> 17.950963 | J22: 134.7 | K22: =((J22/J21)-1)*100 -> 17.950963 | L22: - | M22: - | N22: ='Precios M Anual'!B22 -> 30.244868 | O22: =((N22/N21)-1)*100 -> 18.419524
A23: 1938 | B23: =B24*(1/(1+(C24/100))) -> 97.703957 | C23: 3.06 | D23: =(B23/$B$35)*100 -> 21.243685 | E23: =((D23/D22)-1)*100 -> 3.06 | G23: =(H23/H$35)*100 -> 27.314518 | H23: =H22*(1+(K23/100)) -> 153.3 | I23: =((H23/H22)-1)*100 -> 13.808463 | J23: 153.3 | K23: =((J23/J22)-1)*100 -> 13.808463 | L23: - | M23: - | N23: ='Precios M Anual'!B23 -> 32.142328 | O23: =((N23/N22)-1)*100 -> 6.2736576
A24: 1939 | B24: 100 | C24: 2.35 | D24: =(B24/$B$35)*100 -> 21.742912 | E24: =((D24/D23)-1)*100 -> 2.35 | G24: =(H24/H$35)*100 -> 27.777778 | H24: =H23*(1+(K24/100)) -> 155.9 | I24: =((H24/H23)-1)*100 -> 1.6960209 | J24: 155.9 | K24: =((J24/J23)-1)*100 -> 1.6960209 | L24: 3 | M24: - | N24: ='Precios M Anual'!B24 -> 32.318293 | O24: =((N24/N23)-1)*100 -> 0.54745729
A25: 1940 | B25: 110.5 | C25: =((B25/B24)-1)*100 -> 10.5 | D25: =(B25/$B$35)*100 -> 24.025918 | E25: =((D25/D24)-1)*100 -> 10.5 | G25: =(H25/H$35)*100 -> 28.703704 | H25: =H24*(1+(M25/100)) -> 161.09667 | I25: =((H25/H24)-1)*100 -> 3.3333333 | J25: 157 | K25: =((J25/J24)-1)*100 -> 0.7055805 | L25: 3.1 | M25: =((L25/L24)-1)*100 -> 3.3333333 | N25: ='Precios M Anual'!B25 -> 32.815305 | O25: =((N25/N24)-1)*100 -> 1.5378641
A26: 1941 | B26: 120.07 | C26: =((B26/B25)-1)*100 -> 8.6606335 | D26: =(B26/$B$35)*100 -> 26.106714 | E26: =((D26/D25)-1)*100 -> 8.6606335 | G26: =(H26/H$35)*100 -> 29.62963 | H26: =H25*(1+(M26/100)) -> 166.29333 | I26: =((H26/H25)-1)*100 -> 3.2258065 | J26: 162.8 | K26: =((J26/J25)-1)*100 -> 3.6942675 | L26: 3.2 | M26: =((L26/L25)-1)*100 -> 3.2258065 | N26: ='Precios M Anual'!B26 -> 34.97561 | O26: =((N26/N25)-1)*100 -> 6.583225
A27: 1942 | B27: 149.07 | C27: =((B27/B26)-1)*100 -> 24.152578 | D27: =(B27/$B$35)*100 -> 32.412159 | E27: =((D27/D26)-1)*100 -> 24.152578 | G27: =(H27/H$35)*100 -> 34.259259 | H27: =H26*(1+(M27/100)) -> 192.27667 | I27: =((H27/H26)-1)*100 -> 15.625 | J27: 188.6 | K27: =((J27/J26)-1)*100 -> 15.847666 | L27: 3.7 | M27: =((L27/L26)-1)*100 -> 15.625 | N27: ='Precios M Anual'!B27 -> 38.600122 | O27: =((N27/N26)-1)*100 -> 10.362971
A28: 1943 | B28: 189.5 | C28: =((B28/B27)-1)*100 -> 27.121487 | D28: =(B28/$B$35)*100 -> 41.202818 | E28: =((D28/D27)-1)*100 -> 27.121487 | G28: =(H28/H$35)*100 -> 44.444444 | H28: =H27*(1+(M28/100)) -> 249.44 | I28: =((H28/H27)-1)*100 -> 29.72973 | J28: 247.1 | K28: =((J28/J27)-1)*100 -> 31.018028 | L28: 4.8 | M28: =((L28/L27)-1)*100 -> 29.72973 | N28: ='Precios M Anual'!B28 -> 46.630591 | O28: =((N28/N27)-1)*100 -> 20.804256
A29: 1944 | B29: 263.37 | C29: =((B29/B28)-1)*100 -> 38.98153 | D29: =(B29/$B$35)*100 -> 57.264307 | E29: =((D29/D28)-1)*100 -> 38.98153 | G29: =(H29/H$35)*100 -> 56.481481 | H29: =H28*(1+(M29/100)) -> 316.99667 | I29: =((H29/H28)-1)*100 -> 27.083333 | J29: 310.4 | K29: =((J29/J28)-1)*100 -> 25.617159 | L29: 6.1 | M29: =((L29/L28)-1)*100 -> 27.083333 | N29: ='Precios M Anual'!B29 -> 57.128075 | O29: =((N29/N28)-1)*100 -> 22.512011
A30: 1945 | B30: 303.14 | C30: =((B30/B29)-1)*100 -> 15.100429 | D30: =(B30/$B$35)*100 -> 65.911463 | E30: =((D30/D29)-1)*100 -> 15.100429 | G30: =(H30/H$35)*100 -> 60.185185 | H30: =H29*(1+(M30/100)) -> 337.78333 | I30: =((H30/H29)-1)*100 -> 6.557377 | J30: 333 | K30: =((J30/J29)-1)*100 -> 7.2809278 | L30: 6.5 | M30: =((L30/L29)-1)*100 -> 6.557377 | N30: ='Precios M Anual'!B30 -> 63.587654 | O30: =((N30/N29)-1)*100 -> 11.30719
A31: 1946 | B31: 385.67 | C31: =((B31/B30)-1)*100 -> 27.225045 | D31: =(B31/$B$35)*100 -> 83.855888 | E31: =((D31/D30)-1)*100 -> 27.225045 | G31: =(H31/H$35)*100 -> 75 | H31: =H30*(1+(M31/100)) -> 420.93 | I31: =((H31/H30)-1)*100 -> 24.615385 | J31: 415.9 | K31: =((J31/J30)-1)*100 -> 24.894895 | L31: 8.1 | M31: =((L31/L30)-1)*100 -> 24.615385 | N31: ='Precios M Anual'!B31 -> 73.189011 | O31: =((N31/N30)-1)*100 -> 15.099404
A32: 1947 | B32: 416.7 | C32: =((B32/B31)-1)*100 -> 8.0457386 | D32: =(B32/$B$35)*100 -> 90.602714 | E32: =((D32/D31)-1)*100 -> 8.0457386 | G32: =(H32/H$35)*100 -> 84.259259 | H32: =H31*(1+(M32/100)) -> 472.89667 | I32: =((H32/H31)-1)*100 -> 12.345679 | J32: 468.4 | K32: =((J32/J31)-1)*100 -> 12.623227 | L32: 9.1 | M32: =((L32/L31)-1)*100 -> 12.345679 | N32: ='Precios M Anual'!B32 -> 77.533625 | O32: =((N32/N31)-1)*100 -> 5.9361563
A33: 1948 | B33: 417.59 | C33: =((B33/B32)-1)*100 -> 0.21358291 | D33: =(B33/$B$35)*100 -> 90.796225 | E33: =((D33/D32)-1)*100 -> 0.21358291 | G33: =(H33/H$35)*100 -> 89.814815 | H33: =H32*(1+(M33/100)) -> 504.07667 | I33: =((H33/H32)-1)*100 -> 6.5934066 | J33: 497.2 | K33: =((J33/J32)-1)*100 -> 6.1485909 | L33: 9.7 | M33: =((L33/L32)-1)*100 -> 6.5934066 | N33: ='Precios M Anual'!B33 -> 83.211761 | O33: =((N33/N32)-1)*100 -> 7.3234495
A34: 1949 | B34: 442.86 | C34: =((B34/B33)-1)*100 -> 6.0513901 | D34: =(B34/$B$35)*100 -> 96.290659 | E34: =((D34/D33)-1)*100 -> 6.0513901 | G34: =(H34/H$35)*100 -> 94.444444 | H34: =H33*(1+(M34/100)) -> 530.06 | I34: =((H34/H33)-1)*100 -> 5.1546392 | J34: 523.8 | K34: =((J34/J33)-1)*100 -> 5.3499598 | L34: 10.2 | M34: =((L34/L33)-1)*100 -> 5.1546392 | N34: ='Precios M Anual'!B34 -> 91.162218 | O34: =((N34/N33)-1)*100 -> 9.5544872
A35: 1950 | B35: 459.92 | C35: =((B35/B34)-1)*100 -> 3.8522332 | D35: =(B35/$B$35)*100 -> 100 | E35: =((D35/D34)-1)*100 -> 3.8522332 | G35: =(H35/H$35)*100 -> 100 | H35: =H34*(1+(M35/100)) -> 561.24 | I35: =((H35/H34)-1)*100 -> 5.8823529 | J35: 555.4 | K35: =((J35/J34)-1)*100 -> 6.032837 | L35: 10.8 | M35: =((L35/L34)-1)*100 -> 5.8823529 | N35: ='Precios M Anual'!B35 -> 100 | O35: =((N35/N34)-1)*100 -> 9.6945662
A36: 1951 | B36: 545.62 | C36: =((B36/B35)-1)*100 -> 18.633675 | D36: =(B36/$B$35)*100 -> 118.63368 | E36: =((D36/D35)-1)*100 -> 18.633675 | G36: =(H36/H$35)*100 -> 112.96296 | H36: =H35*(1+(M36/100)) -> 633.99333 | I36: =((H36/H35)-1)*100 -> 12.962963 | J36: 625.4 | K36: =((J36/J35)-1)*100 -> 12.603529 | L36: 12.2 | M36: =((L36/L35)-1)*100 -> 12.962963 | N36: ='Precios M Anual'!B36 -> 124.39946 | O36: =((N36/N35)-1)*100 -> 24.399461
A37: 1952 | B37: 607 | C37: =((B37/B36)-1)*100 -> 11.249588 | D37: =(B37/$B$35)*100 -> 131.97947 | E37: =((D37/D36)-1)*100 -> 11.249588 | G37: =(H37/H$35)*100 -> 128.7037 | H37: =H36*(1+(M37/100)) -> 722.33667 | I37: =((H37/H36)-1)*100 -> 13.934426 | J37: 716.1 | K37: =((J37/J36)-1)*100 -> 14.502718 | L37: 13.9 | M37: =((L37/L36)-1)*100 -> 13.934426 | N37: ='Precios M Anual'!B37 -> 128.89744 | O37: =((N37/N36)-1)*100 -> 3.6157582
A38: 1953 | B38: 592.17 | C38: =((B38/B37)-1)*100 -> -2.4431631 | D38: =(B38/$B$35)*100 -> 128.755 | E38: =((D38/D37)-1)*100 -> -2.4431631 | G38: =(H38/H$35)*100 -> 126.85185 | H38: =H37*(1+(M38/100)) -> 711.94333 | I38: =((H38/H37)-1)*100 -> -1.4388489 | J38: - | K38: - | L38: 13.7 | M38: =((L38/L37)-1)*100 -> -1.4388489 | N38: ='Precios M Anual'!B38 -> 126.4833 | O38: =((N38/N37)-1)*100 -> -1.8729167
A39: 1954 | B39: 674.09 | C39: =((B39/B38)-1)*100 -> 13.833865 | D39: =(B39/$B$35)*100 -> 146.56679 | E39: =((D39/D38)-1)*100 -> 13.833865 | G39: =(H39/H$35)*100 -> 133.33333 | H39: =H38*(1+(M39/100)) -> 748.32 | I39: =((H39/H38)-1)*100 -> 5.1094891 | J39: - | K39: - | L39: 14.4 | M39: =((L39/L38)-1)*100 -> 5.1094891 | N39: ='Precios M Anual'!B39 -> 138.0975 | O39: =((N39/N38)-1)*100 -> 9.1823953
A40: 1955 | B40: 735.34 | C40: =((B40/B39)-1)*100 -> 9.0863238 | D40: =(B40/$B$35)*100 -> 159.88433 | E40: =((D40/D39)-1)*100 -> 9.0863238 | G40: =(H40/H$35)*100 -> 154.62963 | H40: =H39*(1+(M40/100)) -> 867.84333 | I40: =((H40/H39)-1)*100 -> 15.972222 | J40: - | K40: - | L40: 16.7 | M40: =((L40/L39)-1)*100 -> 15.972222 | N40: ='Precios M Anual'!B40 -> 157.18695 | O40: =((N40/N39)-1)*100 -> 13.823165
...

Sheet Tasas int
B1: Tasas de interés
A2: Año | B2: Tasa pasiva Bono hipotecario/CPP
A5: 1920 | B5: -
A6: 1921 | B6: -
A7: 1922 | B7: -
A8: 1923 | B8: -
A9: 1924 | B9: -
A10: 1925 | B10: -
A11: 1926 | B11: -
A12: 1927 | B12: -
A13: 1928 | B13: -
A14: 1929 | B14: -
A15: 1930 | B15: -
A16: 1931 | B16: -
... A24: 1939 | B24: -
A25: 1940 | B25: 8
A26: 1941 | B26: 8
A27: 1942 | B27: 8
A28: 1943 | B28: 8
A29: 1944 | B29: 8
A30: 1945 | B30: 8
A31: 1946 | B31: 8
A32: 1947 | B32: 8
A33: 1948 | B33: 8
A34: 1949 | B34: 8
A35: 1950 | B35: 8
A36: 1951 | B36: 8
... A57: 1972 | B57: 8
A58: 1973 | B58: 12.91 | C58: A partir de 1973 se refiere al Costo porcentual promedio
A59: 1974 | B59: 12.44
A60: 1975 | B60: 11.97
A61: 1976 | B61: 12.12
A62: 1977 | B62: 14.04
A63: 1978 | B63: 15.88
A64: 1979 | B64: 17.52
A65: 1980 | B65: 24.25
A66: 1981 | B66: 31.81
A67: 1982 | B67: 46.12
A68: 1983 | B68: 56.44
A69: 1984 | B69: 47.54
...

Sheet Terminos de Int
B1: Índice de términos de intercambio en EU$ 1950=100
A2: Año | B2: Índice de términos de intercambio en EU$ 1950=100 | C2: Índice de términos de intercambio en EU$ t/c
A5: 1920 | B5: - | C5: -
A6: 1921 | B6: - | C6: -
A7: 1922 | B7: - | C7: -
A8: 1923 | B8: - | C8: -
A9: 1924 | B9: - | C9: -
A10: 1925 | B10: ='1925-1970 EX-IM'!E10 -> 98.331751
A11: 1926 | B11: ='1925-1970 EX-IM'!E11 -> 92.164772 | C11: =((B11/B10)-1)*100 -> -6.2716049
A12: 1927 | B12: ='1925-1970 EX-IM'!E12 -> 96.329911 | C12: =((B12/B11)-1)*100 -> 4.5192308
A13: 1928 | B13: ='1925-1970 EX-IM'!E13 -> 100.49505 | C13: =((B13/B12)-1)*100 -> 4.323827
A14: 1929 | B14: ='1925-1970 EX-IM'!E14 -> 110.74965 | C14: =((B14/B13)-1)*100 -> 10.204082
A15: 1930 | B15: ='1925-1970 EX-IM'!E15 -> 121.00424 | C15: =((B15/B14)-1)*100 -> 9.2592593
A16: 1931 | B16: ='1925-1970 EX-IM'!E16 -> 152.9907 | C16: =((B16/B15)-1)*100 -> 26.434159
A17: 1932 | B17: ='1925-1970 EX-IM'!E17 -> 184.97715 | C17: =((B17/B16)-1)*100 -> 20.90745
A18: 1933 | B18: ='1925-1970 EX-IM'!E18 -> 165.11525 | C18: =((B18/B17)-1)*100 -> -10.737489
A19: 1934 | B19: ='1925-1970 EX-IM'!E19 -> 145.25335 | C19: =((B19/B18)-1)*100 -> -12.029114
A20: 1935 | B20: ='1925-1970 EX-IM'!E20 -> 143.67638 | C20: =((B20/B19)-1)*100 -> -1.0856668
A21: 1936 | B21: ='1925-1970 EX-IM'!E21 -> 142.09941 | C21: =((B21/B20)-1)*100 -> -1.0975829
A22: 1937 | B22: ='1925-1970 EX-IM'!E22 -> 133.12331 | C22: =((B22/B21)-1)*100 -> -6.316776
... A55: 1970 | B55: ='1925-1970 EX-IM'!E55 -> 143.56436 | C55: =((B55/B54)-1)*100 -> -9.0643275
A56: 1971 | B56: =B55*(1+(C56/100)) -> 148.46027 | C56: ='Precios 1970-1990 IM-EX'!G56 -> 3.4102536
A57: 1972 | B57: =B56*(1+(C57/100)) -> 153.2426 | C57: ='Precios 1970-1990 IM-EX'!G57 -> 3.221289
A58: 1973 | B58: =B57*(1+(C58/100)) -> 170.28614 | C58: ='Precios 1970-1990 IM-EX'!G58 -> 11.121932
A59: 1974 | B59: =B58*(1+(C59/100)) -> 164.44346 | C59: ='Precios 1970-1990 IM-EX'!G59 -> -3.4310933
A60: 1975 | B60: =B59*(1+(C60/100)) -> 144.74547 | C60: ='Precios 1970-1990 IM-EX'!G60 -> -11.97858
A61: 1976 | B61: =B60*(1+(C61/100)) -> 167.08728 | C61: ='Precios 1970-1990 IM-EX'!G61 -> 15.435238
A62: 1977 | B62: =B61*(1+(C62/100)) -> 166.25737 | C62: ='Precios 1970-1990 IM-EX'!G62 -> -0.49669122
A63: 1978 | B63: =B62*(1+(C63/100)) -> 154.04701 | C63: ='Precios 1970-1990 IM-EX'!G63 -> -7.3442527
A64: 1979 | B64: =B63*(1+(C64/100)) -> 167.5045 | C64: ='Precios 1970-1990 IM-EX'!G64 -> 8.7359642
A65: 1980 | B65: =B64*(1+(C65/100)) -> 187.81636 | C65: ='Precios 1970-1990 IM-EX'!G65 -> 12.126156
A66: 1981 | B66: =B65*(1+(C66/100)) -> 183.07689 | C66: ='Precios 1970-1990 IM-EX'!G66 -> -2.5234596
A67: 1982 | B67: =B66*(1+(C67/100)) -> 159.5122 | C67: ='Precios 1970-1990 IM-EX'!G67 -> -12.871472
... A75: 1990 | B75: =B74*(1+(C75/100)) -> 102.50214 | C75: ='Precios 1970-1990 IM-EX'!G75 -> 5.1170655
A76: Fuente: Cepal reproducido en INEGI (2014), 1925-1970; y Sistema de Información Económica, Banxico (2018), 1970-1990.

Sheet 1925-1970 EX-IM
B1: Índice de precios de exportaciones, importaciones y los términos de intercambio en EU$, 1970=100 y 1950=100
A2: Año | B2: Índice de Exportaciones en EU$ 1970=100 | C2: Índice de Importaciones en EU$ 1970=100 | D2: Índice detérminos de intercambio en EU$ 1970=100 | E2: Índice detérminos de intercambio en EU$ 1950=100 | F2: Índice detérminos de intercambio en EU$ t/c
A5: 1920 | B5: - | C5: - | D5: - | E5: =D35 -> 69.655172
A6: 1921 | B6: - | C6: - | D6: - | E6: -
A7: 1922 | B7: - | C7: - | D7: - | E7: -
A8: 1923 | B8: - | C8: - | D8: - | E8: -
A9: 1924 | B9: - | C9: - | D9: - | E9: -
A10: 1925 | B10: 7.3 | C10: 5 | D10: =(C10/B10)*100 -> 68.493151 | E10: =(D10/E$5)*100 -> 98.331751
A11: 1926 | B11: 8.1 | C11: 5.2 | D11: =(C11/B11)*100 -> 64.197531 | E11: =(D11/E$5)*100 -> 92.164772 | F11: =((E11/E10)-1)*100 -> -6.2716049
A12: 1927 | B12: - | C12: - | D12: - | E12: =(E11+E13)/2 -> 96.329911 | F12: =((E12/E11)-1)*100 -> 4.5192308
A13: 1928 | B13: 8 | C13: 5.6 | D13: =(C13/B13)*100 -> 70 | E13: =(D13/E$5)*100 -> 100.49505 | F13: =((E13/E12)-1)*100 -> 4.323827
A14: 1929 | B14: - | C14: - | D14: - | E14: =(E13+E15)/2 -> 110.74965 | F14: =((E14/E13)-1)*100 -> 10.204082
A15: 1930 | B15: 7 | C15: 5.9 | D15: =(C15/B15)*100 -> 84.285714 | E15: =(D15/E$5)*100 -> 121.00424 | F15: =((E15/E14)-1)*100 -> 9.2592593
A16: 1931 | B16: - | C16: - | D16: - | E16: =(E15+E17)/2 -> 152.9907 | F16: =((E16/E15)-1)*100 -> 26.434159
A17: 1932 | B17: 5.2 | C17: 6.7 | D17: =(C17/B17)*100 -> 128.84615 | E17: =(D17/E$5)*100 -> 184.97715 | F17: =((E17/E16)-1)*100 -> 20.90745
A18: 1933 | B18: - | C18: - | D18: - | E18: =(E17+E19)/2 -> 165.11525 | F18: =((E18/E17)-1)*100 -> -10.737489
A19: 1934 | B19: 8.5 | C19: 8.6 | D19: =(C19/B19)*100 -> 101.17647 | E19: =(D19/E$5)*100 -> 145.25335 | F19: =((E19/E18)-1)*100 -> -12.029114
A20: 1935 | B20: - | C20: - | D20: - | E20: =(E19+E21)/2 -> 143.67638 | F20: =((E20/E19)-1)*100 -> -1.0856668
A21: 1936 | B21: 9.8 | C21: 9.7 | D21: =(C21/B21)*100 -> 98.979592 | E21: =(D21/E$5)*100 -> 142.09941 | F21: =((E21/E20)-1)*100 -> -1.0975829
A22: 1937 | B22: 11 | C22: 10.2 | D22: =(C22/B22)*100 -> 92.727273 | E22: =(D22/E$5)*100 -> 133.12331 | F22: =((E22/E21)-1)*100 -> -6.316776
A23: 1938 | B23: 10.8 | C23: 12.7 | D23: =(C23/B23)*100 -> 117.59259 | E23: =(D23/E$5)*100 -> 168.82105 | F23: =((E23/E22)-1)*100 -> 26.815541
A24: 1939 | B24: 12.8 | C24: 44.2 | D24: =(C24/B24)*100 -> 345.3125 | E24: =(D24/E$5)*100 -> 495.74567 | F24: =((E24/E23)-1)*100 -> 193.65157
A25: 1940 | B25: 15.1 | C25: 15 | D25: =(C25/B25)*100 -> 99.337748 | E25: =(D25/E$5)*100 -> 142.6136 | F25: =((E25/E24)-1)*100 -> -71.232507
A26: 1941 | B26: 12.3 | C26: 14.4 | D26: =(C26/B26)*100 -> 117.07317 | E26: =(D26/E$5)*100 -> 168.07534 | F26: =((E26/E25)-1)*100 -> 17.853659
A27: 1942 | B27: 14.6 | C27: 15.6 | D27: =(C27/B27)*100 -> 106.84932 | E27: =(D27/E$5)*100 -> 153.39753 | F27: =((E27/E26)-1)*100 -> -8.7328767
A28: 1943 | B28: 17.6 | C28: 16.1 | D28: =(C28/B28)*100 -> 91.477273 | E28: =(D28/E$5)*100 -> 131.32876 | F28: =((E28/E27)-1)*100 -> -14.386655
A29: 1944 | B29: 21.5 | C29: 17.3 | D29: =(C29/B29)*100 -> 80.465116 | E29: =(D29/E$5)*100 -> 115.51923 | F29: =((E29/E28)-1)*100 -> -12.038134
A30: 1945 | B30: 23.4 | C30: 17.2 | D30: =(C30/B30)*100 -> 73.504274 | E30: =(D30/E$5)*100 -> 105.52594 | F30: =((E30/E29)-1)*100 -> -8.6507584
A31: 1946 | B31: 28.2 | C31: 21 | D31: =(C31/B31)*100 -> 74.468085 | E31: =(D31/E$5)*100 -> 106.90963 | F31: =((E31/E30)-1)*100 -> 1.3112321
A32: 1947 | B32: 34.6 | C32: 24 | D32: =(C32/B32)*100 -> 69.364162 | E32: =(D32/E$5)*100 -> 99.582213 | F32: =((E32/E31)-1)*100 -> -6.8538398
... A55: 1970 | B55: 100 | C55: 100 | D55: =(C55/B55)*100 -> 100 | E55: =(D55/E$5)*100 -> 143.56436 | F55: =((E55/E54)-1)*100 -> -9.0643275
A56: Fuente: INEGI (2014) con datos de Comisión Económica para América Latina y el Caribe (CEPAL).

Sheet Precios 1970-1990 IM-EX
B1: Índice de precios de exportaciones, importaciones y de los términos de intercambio en EU$, 1980=100 del Banco de México
A2: Periodo | B2: Índice General de Precios de las Exportaciones 1980=100 | C2: Índice General de Precios de las Importaciones 1980=100 | D2: Índice de Terminos de Intercambio 1980=100 | E2: Periodo | F2: Índice de Terminos de Intercambio Anual 1980=100 | G2: Índice de Terminos de Intercambio Anual %
A5: 01 - 70 | B5: 32.589 | C5: 42.197 | D5: 77.231
A6: 02 - 70 | B6: 32.752 | C6: 42.32 | D6: 77.39
A7: 03 - 70 | B7: 33.094 | C7: 42.492 | D7: 77.884
A8: 04 - 70 | B8: 32.843 | C8: 42.571 | D8: 77.149
A9: 05 - 70 | B9: 33.37 | C9: 42.653 | D9: 78.237
A10: 06 - 70 | B10: 33.363 | C10: 42.693 | D10: 78.146
A11: 07 - 70 | B11: 32.886 | C11: 42.858 | D11: 76.732
A12: 08 - 70 | B12: 32.375 | C12: 42.926 | D12: 75.421
A13: 09 - 70 | B13: 32.668 | C13: 43.134 | D13: 75.737
A14: 10 - 70 | B14: 32.479 | C14: 43.624 | D14: 74.452
A15: 11 - 70 | B15: 32.682 | C15: 43.768 | D15: 74.67
A16: 12 - 70 | B16: 32.72 | C16: 43.828 | D16: 74.654
... A54: 02 - 74 | B54: 54.279 | C54: 53.829 | D54: 100.835
A55: 03 - 74 | B55: 53.332 | C55: 54.822 | D55: 97.283 | E55: 1970 | F55: =AVERAGE(D5:D16) -> 76.47525
A56: 04 - 74 | B56: 52.923 | C56: 55.246 | D56: 95.794 | E56: 1971 | F56: =AVERAGE(D17:D28) -> 79.08325 | G56: =((F56/F55)-1)*100 -> 3.4102536
A57: 05 - 74 | B57: 53.916 | C57: 56.332 | D57: 95.71 | E57: 1972 | F57: =AVERAGE(D29:D40) -> 81.63075 | G57: =((F57/F56)-1)*100 -> 3.221289
A58: 06 - 74 | B58: 52.116 | C58: 57.383 | D58: 90.822 | E58: 1973 | F58: =AVERAGE(D41:D52) -> 90.709667 | G58: =((F58/F57)-1)*100 -> 11.121932
A59: 07 - 74 | B59: 51.444 | C59: 59.492 | D59: 86.472 | E59: 1974 | F59: =AVERAGE(D53:D64) -> 87.597333 | G59: =((F59/F58)-1)*100 -> -3.4310933
A60: 08 - 74 | B60: 50.176 | C60: 62.354 | D60: 80.47 | E60: 1975 | F60: =AVERAGE(D65:D76) -> 77.104417 | G60: =((F60/F59)-1)*100 -> -11.97858
A61: 09 - 74 | B61: 48.972 | C61: 62.392 | D61: 78.49 | E61: 1976 | F61: =AVERAGE(D77:D88) -> 89.005667 | G61: =((F61/F60)-1)*100 -> 15.435238
A62: 10 - 74 | B62: 49.51 | C62: 64.636 | D62: 76.598 | E62: 1977 | F62: =AVERAGE(D89:D100) -> 88.563583 | G62: =((F62/F61)-1)*100 -> -0.49669122
A63: 11 - 74 | B63: 49.701 | C63: 65.093 | D63: 76.353 | E63: 1978 | F63: =AVERAGE(D101:D112) -> 82.05925 | G63: =((F63/F62)-1)*100 -> -7.3442527
A64: 12 - 74 | B64: 47.311 | C64: 65.254 | D64: 72.503 | E64: 1979 | F64: =AVERAGE(D113:D124) -> 89.227917 | G64: =((F64/F63)-1)*100 -> 8.7359642
A65: 01 - 75 | B65: 47.644 | C65: 65.612 | D65: 72.616 | E65: 1980 | F65: =AVERAGE(D125:D136) -> 100.04783 | G65: =((F65/F64)-1)*100 -> 12.126156
A66: 02 - 75 | B66: 47.267 | C66: 65.306 | D66: 72.379 | E66: 1981 | F66: =AVERAGE(D137:D148) -> 97.523167 | G66: =((F66/F65)-1)*100 -> -2.5234596
A67: 03 - 75 | B67: 47.126 | C67: 65.365 | D67: 72.097 | E67: 1982 | F67: =AVERAGE(D149:D160) -> 84.9705 | G67: =((F67/F66)-1)*100 -> -12.871472
A68: 04 - 75 | B68: 48.677 | C68: 65.874 | D68: 73.893 | E68: 1983 | F68: =AVERAGE(D161:D172) -> 77.609 | G68: =((F68/F67)-1)*100 -> -8.663595
A69: 05 - 75 | B69: 49.746 | C69: 65.732 | D69: 75.68 | E69: 1984 | F69: =AVERAGE(D173:D184) -> 76.107167 | G69: =((F69/F68)-1)*100 -> -1.9351278
A70: 06 - 75 | B70: 51.696 | C70: 65.55 | D70: 78.864 | E70: 1985 | F70: =AVERAGE(D185:D196) -> 72.005333 | G70: =((F70/F69)-1)*100 -> -5.3895494
A71: 07 - 75 | B71: 52.416 | C71: 66.52 | D71: 78.796 | E71: 1986 | F71: =AVERAGE(D197:D208) -> 50.83725 | G71: =((F71/F70)-1)*100 -> -29.397938
A72: 08 - 75 | B72: 53.149 | C72: 66.861 | D72: 79.491 | E72: 1987 | F72: =AVERAGE(D209:D220) -> 55.667833 | G72: =((F72/F71)-1)*100 -> 9.5020548
A73: 09 - 75 | B73: 53.436 | C73: 66.972 | D73: 79.788 | E73: 1988 | F73: =AVERAGE(D221:D232) -> 50.145917 | G73: =((F73/F72)-1)*100 -> -9.9194029
A74: 10 - 75 | B74: 54.282 | C74: 67.546 | D74: 80.363 | E74: 1989 | F74: =AVERAGE(D233:D244) -> 51.943833 | G74: =((F74/F73)-1)*100 -> 3.58537
A75: 11 - 75 | B75: 53.042 | C75: 67.347 | D75: 78.759 | E75: 1990 | F75: =AVERAGE(D245:D256) -> 54.601833 | G75: =((F75/F74)-1)*100 -> 5.1170655
A76: 12 - 75 | B76: 55.394 | C76: 67.122 | D76: 82.527
A77: 01 - 76 | B77: 57.547 | C77: 67.424 | D77: 85.35
A78: 02 - 76 | B78: 58.063 | C78: 67.7 | D78: 85.764
A79: 03 - 76 | B79: 57.808 | C79: 67.891 | D79: 85.149
...
