Workbook
Name \A: #REF!
Name \A: #REF!
Name \g: #REF!
Name \g: #REF!
Name \S: #REF!
Name \S: #REF!
Name ACTIVATE: #REF!
Name ACTIVATE: #REF!
Name ASSUMPT: #REF!
Name ASSUMPT: #REF!
Name ASSUMPTIONS: #REF!
Name ASSUMPTIONS: #REF!
Name basicdata1: #REF!
Name basicdata1: #REF!
Name basicdata2: #REF!
Name basicdata2: #REF!
Name BCA_NGDP: [5]Q6!$E$10:$AH$10
Name BMG: [5]Q6!$E$27:$AH$27
Name BOP: #REF!
Name BOP: #REF!
Name BXG: [5]Q6!$E$19:$AH$19
Name CAPITAL: #REF!
Name CAPITAL: #REF!
Name CARGO_BY_TYPE: '[6]Table No.18-Exports goods+servi'!#REF!
Name CARGO_BY_TYPE: '[6]Table No.18-Exports goods+servi'!#REF!
Name CCode: [7]Codes!$A$2
Name CENTRALG: #REF!
Name CENTRALG: #REF!
Name CFLOW: #REF!
Name CFLOW: #REF!
Name chart1: #REF!
Name chart1: #REF!
Name Chart11: #REF!
Name Chart11: #REF!
Name chart2: #REF!
Name chart2: #REF!
Name Chart22: #REF!
Name Chart22: #REF!
Name COUNTER: #REF!
Name COUNTER: #REF!
Name CurrVintage: [8]Current!$D$66
Name Date: [7]Current!$D$67
Name DEBT: #REF!
Name DEBT: #REF!
Name Discount_NC: [9]NPV_base!#REF!
Name Discount_NC: [9]NPV_base!#REF!
Name DiscountRate: #REF!
Name DiscountRate: #REF!
Name empty: [1]Micro!#REF!
Name empty: [1]Micro!#REF!
Name EX_IMP: #REF!
Name EX_IMP: #REF!
Name GCB_NGDP: [5]Q4!$E$19:$AH$19
Name GGB_NGDP: [5]Q4!$E$41:$AH$41
Name Grace_NC: [9]NPV_base!#REF!
Name Grace_NC: [9]NPV_base!#REF!
Name IMPORT: #REF!
Name IMPORT: #REF!
Name IN_OUT: #REF!
Name IN_OUT: #REF!

Sheet Rec y Obligaciones
A1: Versión 05 | B1: Recursos Banxico | S1: Obligaciones Banxico | AH1: Recursos Banca nacional | AV1: Obligaciones Banca nacional | BJ1: Recursos Banca Privada y Mixta | BY1: Obligaciones Banca Privada y Mixta | CM1: Recursos de las Instituciones de Crédito | CS1: Obligaciones de las Instituciones de Crédito
A2: Año | B2: Recursos Banxico (A + B) | C2: 1. Disponibilidades Reservas internacionales | D2: 2. Financiamiento al Gobierno | E2: a. Valores | F2: b. Crédito | G2: 3. Financiamiento a Empresas y Particulares | H2: a. Valores | I2: b. Crédito | J2: 4. Financiamiento a Bancos | K2: a. Valores | L2: a. Crédito | M2: i. Banca Nacional | N2: ii. Banca Privada | O2: Disponibilidades en bancos y Otros | P2: a. Disponibilidades en Bancos | Q2: b. Otros Recursos | S2: Año | T2: Obligaciones Banxico | U2: A. Billetes y Monedas | V2: 1. Billetes | W2: 2. Monedas | X2: B. Cheques | Y2: 1. Moneda Nacional | Z2: i. De los Cuales a Emp. y Part. | AA2: ii. Otros | AB2: 2. Moneda Extranjera | AC2: i. De los Cuales a Emp. y Part. | AD2: ii. Otros | AE2: C. Depositos | AF2: D. Otras Obligaciones | AH2: Año | AI2: Recursos Banca Nacional | AJ2: 1. Disponibilidades | AK2: a. Disponibilidades en Oro, Plata y Divisas | AL2: b. Disponibilidades en Otros Bancos | AM2: c. Otras Disponibilidades | AN2: 2. Financiamiento al Gobierno (Valores) | AO2: 4. Financiamiento a Emp. y Part. (Valores) | AP2: 5. Crédito a Gobierno, Empresas y Particulares | AQ2: 6. Financiamiento a Bancos | AR2: a. Valores a Bancos | AS2: a. Crédito a Bancos | AT2: 7. Otros Recursos | AV2: Año | AW2: Obligaciones Banca Nacional | AX2: 1. Cheques | AY2: a. Moneda Nacional | AZ2: i. De los Cuales a Emp. y Part. | BA2: ii. Otros | BB2: b. Moneda Extranjera | BC2: i. De los Cuales a Emp. y Part. | BD2: ii. Otros | BE2: 2. Depositos y Obligaciones | BF2: a. Depositos de Ahorro y Plazo | BG2: b. Obligaciones | BH2: 3. Capital y Otras Obligaciones | BJ2: Año | BK2: Recursos Totales de la Banca Privada | BL2: 1. Disponibilidades | BM2: a. Disponibilidades en Oro, Plata y Divisas | BN2: b. Disponibilidades en Otros Bancos | BO2: c. Reservas en Banco de México | BP2: d. Otras Disponibilidades | BQ2: 2. Financiamiento al Gobierno (Valores) | BR2: 3. Financiamiento a Emp. y Part. (Valores) | BS2: 4. Crédito a Gobierno, Empresas y Particulares | BT2: 5. Financiamiento a Bancos | BU2: a. Valores a Bancos | BV2: a. Crédito a Bancos | BW2: 6. Otros Recursos | BY2: Año | BZ2: Obligaciones Banca Privada | CA2: 1. Cheques | CB2: a. Moneda Nacional | CC2: i. De los Cuales a Emp. y Part. | CD2: ii. Otros | CE2: b. Moneda Extranjera | CF2: i. De los Cuales a Emp. y Part. | CG2: ii. Otros | CH2: 2. Depositos y Obligaciones | CI2: a. Depositos de Ahorro y Plazo | CJ2: b. Obligaciones | CK2: 3. Capital y Otras Obligaciones | CM2: Año | CN2: Recursos Inst. de Crédito | CO2: Disponibilidades | CP2: Financiamiento no bancario | CQ2: Otros recursos | CS2: Año | CT2: Obligaciones Inst. de Crédito | CU2: 1. Billetes y Monedas | CV2: 2. Cheques M. N. y M. E. | CW2: a. Cheques Moneda Nacional (Emp. y Part.) | CX2: b. Cheques Moneda Extranjera (Emp. y Part.) | CY2: 3. Depositos | CZ2: 4. Otras Obligaciones, capital, etc | DB2: Años | DC2: Financiamiento a la BN de BM | DD2: Financiamiento a la BP de BM | DE2: Financiamiento a BN Y BP de BM | DF2: Financiamiento al GF de BM | DG2: Financiamiento a Emp y Part de BM | DH2: Financiamiento al GF de la BN | DI2: Financiamiento a Emp y Part de BN | DJ2: Financiamiento a la BP de la BN | DK2: Financiamiento al GF de la BP | DL2: Financiamiento a Emp y Part de la BP | DM2: Financiamiento a la BN de la BP | DN2: Financiamiento al GF del SF | DO2: Financiamiento a Emp y Part del SF | DP2: Financiamiento total del BM | DQ2: Financiamiento total del BN | DR2: Financiamiento total del BP | DS2: Financiamiento total del SF sin Banca | DT2: Financiamientoa la banca de bancos | DU2: Financiamiento total del SF con Banca | DW2: Año | DX2: M1 Diciembre | DY2: M1 Promedio | DZ2: M2 | EA2: Base monetaria
A5: 1920 | B5: - | C5: - | D5: - | E5: - | F5: - | G5: - | H5: - | I5: - | J5: - | K5: - | L5: - | M5: - | N5: - | O5: - | P5: - | Q5: - | S5: 1920 | T5: - | U5: - | V5: - | W5: - | X5: - | Y5: - | Z5: - | AA5: - | AB5: - | AC5: - | AD5: - | AE5: - | AF5: - | AH5: 1920 | AI5: - | AJ5: - | AK5: - | AL5: - | AM5: - | AN5: - | AO5: - | AP5: - | AQ5: - | AR5: - | AS5: - | AT5: - | AV5: 1920 | AW5: - | AX5: - | AY5: - | AZ5: - | BA5: - | BB5: - | BC5: - | BD5: - | BE5: - | BF5: - | BG5: - | BH5: - | BJ5: 1920 | BK5: - | BL5: - | BM5: - | BN5: - | BO5: - | BP5: - | BQ5: - | BR5: - | BS5: - | BT5: - | BU5: - | BV5: - | BW5: - | BY5: 1920 | BZ5: - | CA5: - | CB5: - | CC5: - | CD5: - | CE5: - | CF5: - | CG5: - | CH5: - | CI5: - | CJ5: - | CK5: - | CM5: 1920 | CN5: - | CO5: - | CP5: - | CQ5: - | CS5: 1920 | CT5: - | CU5: - | CV5: - | CW5: - | CX5: - | CY5: - | CZ5: - | DB5: 1920 | DF5: - | DG5: - | DH5: - | DI5: - | DK5: - | DN5: - | DO5: - | DW5: 1920 | DX5: - | DY5: - | DZ5: - | EA5: -
A6: 1921 | B6: - | C6: - | D6: - | E6: - | F6: - | G6: - | H6: - | I6: - | J6: - | K6: - | L6: - | M6: - | N6: - | O6: - | P6: - | Q6: - | S6: 1921 | T6: - | U6: - | V6: - | W6: - | X6: - | Y6: - | Z6: - | AA6: - | AB6: - | AC6: - | AD6: - | AE6: - | AF6: - | AH6: 1921 | AI6: - | AJ6: - | AK6: - | AL6: - | AM6: - | AN6: - | AO6: - | AP6: - | AQ6: - | AR6: - | AS6: - | AT6: - | AV6: 1921 | AW6: - | AX6: - | AY6: - | AZ6: - | BA6: - | BB6: - | BC6: - | BD6: - | BE6: - | BF6: - | BG6: - | BH6: - | BJ6: 1921 | BK6: - | BL6: - | BM6: - | BN6: - | BO6: - | BP6: - | BQ6: - | BR6: - | BS6: - | BT6: - | BU6: - | BV6: - | BW6: - | BY6: 1921 | BZ6: - | CA6: - | CB6: - | CC6: - | CD6: - | CE6: - | CF6: - | CG6: - | CH6: - | CI6: - | CJ6: - | CK6: - | CM6: 1921 | CN6: - | CO6: - | CP6: - | CQ6: - | CS6: 1921 | CT6: - | CU6: - | CV6: - | CW6: - | CX6: - | CY6: - | CZ6: - | DB6: 1921 | DF6: - | DG6: - | DH6: - | DI6: - | DK6: - | DN6: - | DO6: - | DW6: 1921 | DX6: - | DY6: - | DZ6: - | EA6: -
A7: 1922 | B7: - | C7: - | D7: - | E7: - | F7: - | G7: - | H7: - | I7: - | J7: - | K7: - | L7: - | M7: - | N7: - | O7: - | P7: - | Q7: - | S7: 1922 | T7: - | U7: - | V7: - | W7: - | X7: - | Y7: - | Z7: - | AA7: - | AB7: - | AC7: - | AD7: - | AE7: - | AF7: - | AH7: 1922 | AI7: - | AJ7: - | AK7: - | AL7: - | AM7: - | AN7: - | AO7: - | AP7: - | AQ7: - | AR7: - | AS7: - | AT7: - | AV7: 1922 | AW7: - | AX7: - | AY7: - | AZ7: - | BA7: - | BB7: - | BC7: - | BD7: - | BE7: - | BF7: - | BG7: - | BH7: - | BJ7: 1922 | BK7: - | BL7: - | BM7: - | BN7: - | BO7: - | BP7: - | BQ7: - | BR7: - | BS7: - | BT7: - | BU7: - | BV7: - | BW7: - | BY7: 1922 | BZ7: - | CA7: - | CB7: - | CC7: - | CD7: - | CE7: - | CF7: - | CG7: - | CH7: - | CI7: - | CJ7: - | CK7: - | CM7: 1922 | CN7: - | CO7: - | CP7: - | CQ7: - | CS7: 1922 | CT7: - | CU7: - | CV7: - | CW7: - | CX7: - | CY7: - | CZ7: - | DB7: 1922 | DF7: - | DG7: - | DH7: - | DI7: - | DK7: - | DN7: - | DO7: - | DW7: 1922 | DX7: - | DY7: - | DZ7: - | EA7: -
A8: 1923 | B8: - | C8: - | D8: - | E8: - | F8: - | G8: - | H8: - | I8: - | J8: - | K8: - | L8: - | M8: - | N8: - | O8: - | P8: - | Q8: - | S8: 1923 | T8: - | U8: - | V8: - | W8: - | X8: - | Y8: - | Z8: - | AA8: - | AB8: - | AC8: - | AD8: - | AE8: - | AF8: - | AH8: 1923 | AI8: - | AJ8: - | AK8: - | AL8: - | AM8: - | AN8: - | AO8: - | AP8: - | AQ8: - | AR8: - | AS8: - | AT8: - | AV8: 1923 | AW8: - | AX8: - | AY8: - | AZ8: - | BA8: - | BB8: - | BC8: - | BD8: - | BE8: - | BF8: - | BG8: - | BH8: - | BJ8: 1923 | BK8: - | BL8: - | BM8: - | BN8: - | BO8: - | BP8: - | BQ8: - | BR8: - | BS8: - | BT8: - | BU8: - | BV8: - | BW8: - | BY8: 1923 | BZ8: - | CA8: - | CB8: - | CC8: - | CD8: - | CE8: - | CF8: - | CG8: - | CH8: - | CI8: - | CJ8: - | CK8: - | CM8: 1923 | CN8: - | CO8: - | CP8: - | CQ8: - | CS8: 1923 | CT8: - | CU8: - | CV8: - | CW8: - | CX8: - | CY8: - | CZ8: - | DB8: 1923 | DF8: - | DG8: - | DH8: - | DI8: - | DK8: - | DN8: - | DO8: - | DW8: 1923 | DX8: - | DY8: - | DZ8: - | EA8: -
A9: 1924 | B9: - | C9: - | D9: - | E9: - | F9: - | G9: - | H9: - | I9: - | J9: - | K9: - | L9: - | M9: - | N9: - | O9: - | P9: - | Q9: - | S9: 1924 | T9: - | U9: - | V9: - | W9: - | X9: - | Y9: - | Z9: - | AA9: - | AB9: - | AC9: - | AD9: - | AE9: - | AF9: - | AH9: 1924 | AI9: - | AJ9: - | AK9: - | AL9: - | AM9: - | AN9: - | AO9: - | AP9: - | AQ9: - | AR9: - | AS9: - | AT9: - | AV9: 1924 | AW9: - | AX9: - | AY9: - | AZ9: - | BA9: - | BB9: - | BC9: - | BD9: - | BE9: - | BF9: - | BG9: - | BH9: - | BJ9: 1924 | BK9: - | BL9: - | BM9: - | BN9: - | BO9: - | BP9: - | BQ9: - | BR9: - | BS9: - | BT9: - | BU9: - | BV9: - | BW9: - | BY9: 1924 | BZ9: - | CA9: - | CB9: - | CC9: - | CD9: - | CE9: - | CF9: - | CG9: - | CH9: - | CI9: - | CJ9: - | CK9: - | CM9: 1924 | CN9: - | CO9: - | CP9: - | CQ9: - | CS9: 1924 | CT9: - | CU9: - | CV9: - | CW9: - | CX9: - | CY9: - | CZ9: - | DB9: 1924 | DF9: - | DG9: - | DH9: - | DI9: - | DK9: - | DN9: - | DO9: - | DW9: 1924 | DX9: - | DY9: - | DZ9: - | EA9: -
A10: 1925 | B10: - | C10: - | D10: - | E10: - | F10: - | G10: - | H10: - | I10: - | J10: - | K10: - | L10: - | M10: - | N10: - | O10: - | P10: - | Q10: - | S10: 1925 | T10: - | U10: - | V10: - | W10: - | X10: - | Y10: - | Z10: - | AA10: - | AB10: - | AC10: - | AD10: - | AE10: - | AF10: - | AH10: 1925 | AI10: - | AJ10: - | AK10: - | AL10: - | AM10: - | AN10: - | AO10: - | AP10: - | AQ10: - | AR10: - | AS10: - | AT10: - | AV10: 1925 | AW10: - | AX10: - | AY10: - | AZ10: - | BA10: - | BB10: - | BC10: - | BD10: - | BE10: - | BF10: - | BG10: - | BH10: - | BJ10: 1925 | BK10: - | BL10: - | BM10: - | BN10: - | BO10: - | BP10: - | BQ10: - | BR10: - | BS10: - | BT10: - | BU10: - | BV10: - | BW10: - | BY10: 1925 | BZ10: - | CA10: - | CB10: - | CC10: - | CD10: - | CE10: - | CF10: - | CG10: - | CH10: - | CI10: - | CJ10: - | CK10: - | CM10: 1925 | CN10: - | CO10: - | CP10: - | CQ10: - | CS10: 1925 | CT10: - | CU10: - | CV10: - | CW10: - | CX10: - | CY10: - | CZ10: - | DB10: 1925 | DF10: - | DG10: - | DH10: - | DI10: - | DK10: - | DN10: - | DO10: - | DW10: 1925 | DX10: 462 | DY10: - | DZ10: 400 | EA10: -
A11: 1926 | B11: - | C11: - | D11: - | E11: - | F11: - | G11: - | H11: - | I11: - | J11: - | K11: - | L11: - | M11: - | N11: - | O11: - | P11: - | Q11: - | S11: 1926 | T11: - | U11: - | V11: - | W11: - | X11: - | Y11: - | Z11: - | AA11: - | AB11: - | AC11: - | AD11: - | AE11: - | AF11: - | AH11: 1926 | AI11: - | AJ11: - | AK11: - | AL11: - | AM11: - | AN11: - | AO11: - | AP11: - | AQ11: - | AR11: - | AS11: - | AT11: - | AV11: 1926 | AW11: - | AX11: - | AY11: - | AZ11: - | BA11: - | BB11: - | BC11: - | BD11: - | BE11: - | BF11: - | BG11: - | BH11: - | BJ11: 1926 | BK11: - | BL11: - | BM11: - | BN11: - | BO11: - | BP11: - | BQ11: - | BR11: - | BS11: - | BT11: - | BU11: - | BV11: - | BW11: - | BY11: 1926 | BZ11: - | CA11: - | CB11: - | CC11: - | CD11: - | CE11: - | CF11: - | CG11: - | CH11: - | CI11: - | CJ11: - | CK11: - | CM11: 1926 | CN11: - | CO11: - | CP11: - | CQ11: - | CS11: 1926 | CT11: - | CU11: - | CV11: - | CW11: - | CX11: - | CY11: - | CZ11: - | DB11: 1926 | DF11: - | DG11: - | DH11: - | DI11: - | DK11: - | DN11: - | DO11: - | DW11: 1926 | DX11: 537 | DY11: - | DZ11: 500 | EA11: -
A12: 1927 | B12: - | C12: - | D12: - | E12: - | F12: - | G12: - | H12: - | I12: - | J12: - | K12: - | L12: - | M12: - | N12: - | O12: - | P12: - | Q12: - | S12: 1927 | T12: - | U12: - | V12: - | W12: - | X12: - | Y12: - | Z12: - | AA12: - | AB12: - | AC12: - | AD12: - | AE12: - | AF12: - | AH12: 1927 | AI12: - | AJ12: - | AK12: - | AL12: - | AM12: - | AN12: - | AO12: - | AP12: - | AQ12: - | AR12: - | AS12: - | AT12: - | AV12: 1927 | AW12: - | AX12: - | AY12: - | AZ12: - | BA12: - | BB12: - | BC12: - | BD12: - | BE12: - | BF12: - | BG12: - | BH12: - | BJ12: 1927 | BK12: - | BL12: - | BM12: - | BN12: - | BO12: - | BP12: - | BQ12: - | BR12: - | BS12: - | BT12: - | BU12: - | BV12: - | BW12: - | BY12: 1927 | BZ12: - | CA12: - | CB12: - | CC12: - | CD12: - | CE12: - | CF12: - | CG12: - | CH12: - | CI12: - | CJ12: - | CK12: - | CM12: 1927 | CN12: - | CO12: - | CP12: - | CQ12: - | CS12: 1927 | CT12: - | CU12: - | CV12: - | CW12: - | CX12: - | CY12: - | CZ12: - | DB12: 1927 | DF12: - | DG12: - | DH12: - | DI12: - | DK12: - | DN12: - | DO12: - | DW12: 1927 | DX12: 489 | DY12: - | DZ12: 400 | EA12: -
A13: 1928 | B13: - | C13: - | D13: - | E13: - | F13: - | G13: - | H13: - | I13: - | J13: - | K13: - | L13: - | M13: - | N13: - | O13: - | P13: - | Q13: - | S13: 1928 | T13: - | U13: - | V13: - | W13: - | X13: - | Y13: - | Z13: - | AA13: - | AB13: - | AC13: - | AD13: - | AE13: - | AF13: - | AH13: 1928 | AI13: - | AJ13: - | AK13: - | AL13: - | AM13: - | AN13: - | AO13: - | AP13: - | AQ13: - | AR13: - | AS13: - | AT13: - | AV13: 1928 | AW13: - | AX13: - | AY13: - | AZ13: - | BA13: - | BB13: - | BC13: - | BD13: - | BE13: - | BF13: - | BG13: - | BH13: - | BJ13: 1928 | BK13: - | BL13: - | BM13: - | BN13: - | BO13: - | BP13: - | BQ13: - | BR13: - | BS13: - | BT13: - | BU13: - | BV13: - | BW13: - | BY13: 1928 | BZ13: - | CA13: - | CB13: - | CC13: - | CD13: - | CE13: - | CF13: - | CG13: - | CH13: - | CI13: - | CJ13: - | CK13: - | CM13: 1928 | CN13: - | CO13: - | CP13: - | CQ13: - | CS13: 1928 | CT13: - | CU13: - | CV13: - | CW13: - | CX13: - | CY13: - | CZ13: - | DB13: 1928 | DF13: - | DG13: - | DH13: - | DI13: - | DK13: - | DN13: - | DO13: - | DW13: 1928 | DX13: 628 | DY13: - | DZ13: 600 | EA13: -
A14: 1929 | B14: - | C14: - | D14: - | E14: - | F14: - | G14: - | H14: - | I14: - | J14: - | K14: - | L14: - | M14: - | N14: - | O14: - | P14: - | Q14: - | S14: 1929 | T14: - | U14: - | V14: - | W14: - | X14: - | Y14: - | Z14: - | AA14: - | AB14: - | AC14: - | AD14: - | AE14: - | AF14: - | AH14: 1929 | AI14: - | AJ14: - | AK14: - | AL14: - | AM14: - | AN14: - | AO14: - | AP14: - | AQ14: - | AR14: - | AS14: - | AT14: - | AV14: 1929 | AW14: - | AX14: - | AY14: - | AZ14: - | BA14: - | BB14: - | BC14: - | BD14: - | BE14: - | BF14: - | BG14: - | BH14: - | BJ14: 1929 | BK14: - | BL14: - | BM14: - | BN14: - | BO14: - | BP14: - | BQ14: - | BR14: - | BS14: - | BT14: - | BU14: - | BV14: - | BW14: - | BY14: 1929 | BZ14: - | CA14: - | CB14: - | CC14: - | CD14: - | CE14: - | CF14: - | CG14: - | CH14: - | CI14: - | CJ14: - | CK14: - | CM14: 1929 | CN14: - | CO14: - | CP14: - | CQ14: - | CS14: 1929 | CT14: - | CU14: - | CV14: - | CW14: - | CX14: - | CY14: - | CZ14: - | DB14: 1929 | DF14: - | DG14: - | DH14: - | DI14: - | DK14: - | DN14: - | DO14: - | DW14: 1929 | DX14: 656 | DY14: - | DZ14: 600 | EA14: -
A15: 1930 | B15: - | C15: - | D15: - | E15: - | F15: - | G15: - | H15: - | I15: - | J15: - | K15: - | L15: - | M15: - | N15: - | O15: - | P15: - | Q15: - | S15: 1930 | T15: - | U15: - | V15: - | W15: - | X15: - | Y15: - | Z15: - | AA15: - | AB15: - | AC15: - | AD15: - | AE15: - | AF15: - | AH15: 1930 | AI15: - | AJ15: - | AK15: - | AL15: - | AM15: - | AN15: - | AO15: - | AP15: - | AQ15: - | AR15: - | AS15: - | AT15: - | AV15: 1930 | AW15: - | AX15: - | AY15: - | AZ15: - | BA15: - | BB15: - | BC15: - | BD15: - | BE15: - | BF15: - | BG15: - | BH15: - | BJ15: 1930 | BK15: - | BL15: - | BM15: - | BN15: - | BO15: - | BP15: - | BQ15: - | BR15: - | BS15: - | BT15: - | BU15: - | BV15: - | BW15: - | BY15: 1930 | BZ15: - | CA15: - | CB15: - | CC15: - | CD15: - | CE15: - | CF15: - | CG15: - | CH15: - | CI15: - | CJ15: - | CK15: - | CM15: 1930 | CN15: - | CO15: - | CP15: - | CQ15: - | CS15: 1930 | CT15: - | CU15: - | CV15: - | CW15: - | CX15: - | CY15: - | CZ15: - | DB15: 1930 | DF15: - | DG15: - | DH15: - | DI15: - | DK15: - | DN15: - | DO15: - | DW15: 1930 | DX15: 684 | DY15: - | DZ15: 600 | EA15: -
A16: 1931 | B16: - | C16: - | D16: - | E16: - | F16: - | G16: - | H16: - | I16: - | J16: - | K16: - | L16: - | M16: - | N16: - | O16: - | P16: - | Q16: - | S16: 1931 | T16: - | U16: - | V16: - | W16: - | X16: - | Y16: - | Z16: - | AA16: - | AB16: - | AC16: - | AD16: - | AE16: - | AF16: - | AH16: 1931 | AI16: - | AJ16: - | AK16: - | AL16: - | AM16: - | AN16: - | AO16: - | AP16: - | AQ16: - | AR16: - | AS16: - | AT16: - | AV16: 1931 | AW16: - | AX16: - | AY16: - | AZ16: - | BA16: - | BB16: - | BC16: - | BD16: - | BE16: - | BF16: - | BG16: - | BH16: - | BJ16: 1931 | BK16: - | BL16: - | BM16: - | BN16: - | BO16: - | BP16: - | BQ16: - | BR16: - | BS16: - | BT16: - | BU16: - | BV16: - | BW16: - | BY16: 1931 | BZ16: - | CA16: - | CB16: - | CC16: - | CD16: - | CE16: - | CF16: - | CG16: - | CH16: - | CI16: - | CJ16: - | CK16: - | CM16: 1931 | CN16: - | CO16: - | CP16: - | CQ16: - | CS16: 1931 | CT16: - | CU16: - | CV16: - | CW16: - | CX16: - | CY16: - | CZ16: - | DB16: 1931 | DF16: - | DG16: - | DH16: - | DI16: - | DK16: - | DN16: - | DO16: - | DW16: 1931 | DX16: 272 | DY16: - | DZ16: 200 | EA16: -
A17: 1932 | B17: - | C17: - | D17: - | E17: - | F17: - | G17: - | H17: - | I17: - | J17: - | K17: - | L17: - | M17: - | N17: - | O17: - | P17: - | Q17: - | S17: 1932 | T17: - | U17: - | V17: - | W17: - | X17: - | Y17: - | Z17: - | AA17: - | AB17: - | AC17: - | AD17: - | AE17: - | AF17: - | AH17: 1932 | AI17: - | AJ17: - | AK17: - | AL17: - | AM17: - | AN17: - | AO17: - | AP17: - | AQ17: - | AR17: - | AS17: - | AT17: - | AV17: 1932 | AW17: - | AX17: - | AY17: - | AZ17: - | BA17: - | BB17: - | BC17: - | BD17: - | BE17: - | BF17: - | BG17: - | BH17: - | BJ17: 1932 | BK17: - | BL17: - | BM17: - | BN17: - | BO17: - | BP17: - | BQ17: - | BR17: - | BS17: - | BT17: - | BU17: - | BV17: - | BW17: - | BY17: 1932 | BZ17: - | CA17: - | CB17: - | CC17: - | CD17: - | CE17: - | CF17: - | CG17: - | CH17: - | CI17: - | CJ17: - | CK17: - | CM17: 1932 | CN17: - | CO17: - | CP17: - | CQ17: - | CS17: 1932 | CT17: - | CU17: - | CV17: - | CW17: - | CX17: - | CY17: - | CZ17: - | DB17: 1932 | DF17: - | DG17: - | DH17: - | DI17: - | DK17: - | DN17: - | DO17: - | DW17: 1932 | DX17: 357 | DY17: - | DZ17: 300 | EA17: -
A18: 1933 | B18: 458 | C18: 131 | D18: =E18+F18 -> 10 | E18: 0 | F18: 10 | G18: =H18+I18 -> 30 | H18: 0 | I18: 30 | J18: =K18+L18 -> 9 | K18: 9 | L18: 0 | M18: 0 | N18: =L18-M18 -> 0 | O18: =P18+Q18 -> 278 | P18: 2 | Q18: 276 | S18: 1933 | T18: =B18 -> 458 | U18: =V18+W18 -> 288 | V18: 78 | W18: 210 | X18: =Y18+AB18 -> 55 | Y18: 53 | Z18: 27 | AA18: =Y18-Z18 -> 26 | AB18: 2 | AC18: 1 | AD18: =AB18-AC18 -> 1 | AE18: 14 | AF18: 101 | AH18: 1933 | AI18: 48 | AJ18: =AK18+AL18+AM18 -> 4 | AK18: 0 | AL18: 4 | AM18: 0 | AN18: 0 | AO18: 0 | AP18: 30 | AQ18: =AR18+AS18 -> 3 | AR18: 3 | AS18: 0 | AT18: =AI18-AK18-AL18-AM18-AN18-AO18-AP18-AQ18 -> 11 | AV18: 1933 | AW18: =AI18 -> 48 | AX18: =AY18+BB18 -> 0 | AY18: 0 | AZ18: 0 | BA18: 0 | BB18: 0 | BC18: 0 | BD18: 0 | BE18: 8 | BF18: 0 | BG18: =BE18-BF18 -> 8 | BH18: 40 | BJ18: 1933 | BK18: 418 | BL18: 113 | BM18: 26 | BN18: 8 | BO18: 32 | BP18: =BL18-BM18-BN18-BO18 -> 47 | BQ18: 0 | BR18: 0 | BS18: 264 | BT18: =BU18+BV18 -> 0 | BU18: 0 | BV18: 0 | BW18: =BK18-BM18-BQ18-BR18-BS18-BT18-BN18-BP18 -> 73 | BY18: 1933 | BZ18: =BK18 -> 418 | CA18: =CB18+CE18 -> 183 | CB18: 143 | CC18: 143 | CD18: =CB18-CC18 -> 0 | CE18: 40 | CF18: 40 | CG18: =CE18-CF18 -> 0 | CH18: 142 | CI18: 79 | CJ18: =CH18-CI18 -> 63 | CK18: 93 | CM18: 1933 | CN18: 819 | CO18: =C18+AK18+BM18 -> 157 | CP18: =D18+G18+AN18+AO18+AP18+BQ18+BR18+BS18 -> 334 | CQ18: =CN18-CO18-CP18 -> 328 | CS18: 1933 | CT18: =CN18 -> 819 | CU18: 241 | CV18: =CW18+CX18 -> 211 | CW18: 170 | CX18: =AC18+BC18+CF18 -> 41 | CY18: 93 | CZ18: =CT18-CU18-CV18-CY18 -> 274 | DB18: 1933 | DC18: =DE18-DD18 -> 9 | DD18: =N18 -> 0 | DE18: =J18 -> 9 | DF18: =D18 -> 10 | DG18: =G18 -> 30 | DH18: =AN18 -> 0 | DI18: =AO18+AP18 -> 30 | DJ18: =AQ18 -> 3 | DK18: =BQ18 -> 0 | DL18: =BR18+BS18 -> 264 | DM18: =BT18 -> 0 | DN18: =DF18+DH18+DK18 -> 10 | DO18: =DG18+DI18+DL18 -> 324 | DP18: =DE18+DF18+DG18 -> 49 | DQ18: =DH18+DI18+DJ18 -> 33 | DR18: =DK18+DL18+DM18 -> 264 | DS18: =DN18+DO18 -> 334 | DT18: =DE18+DJ18+DM18 -> 12 | DU18: =DP18+DQ18+DR18 -> 346 | DW18: 1933 | DX18: ='Rec y Obligaciones'!CU18+'Rec y Obligaciones'!CW18 -> 411 | DY18: 378.1 | DZ18: 500 | EA18: =DE18+DF18+DG18+C18 -> 180
A19: 1934 | B19: 537 | C19: 191 | D19: =E19+F19 -> -11 | E19: 2 | F19: -13 | G19: =H19+I19 -> 42 | H19: 0 | I19: 42 | J19: =K19+L19 -> 28 | K19: 14 | L19: 14 | M19: 0 | N19: =L19-M19 -> 14 | O19: =P19+Q19 -> 287 | P19: 4 | Q19: 283 | S19: 1934 | T19: =B19 -> 537 | U19: =V19+W19 -> 332 | V19: 100 | W19: 232 | X19: =Y19+AB19 -> 71 | Y19: 68 | Z19: 37 | AA19: =Y19-Z19 -> 31 | AB19: 3 | AC19: 2 | AD19: =AB19-AC19 -> 1 | AE19: 22 | AF19: 112 | AH19: 1934 | AI19: 89 | AJ19: =AK19+AL19+AM19 -> 3 | AK19: 0 | AL19: 2 | AM19: 1 | AN19: 0 | AO19: 0 | AP19: 54 | AQ19: =AR19+AS19 -> 7 | AR19: 7 | AS19: 0 | AT19: =AI19-AK19-AL19-AM19-AN19-AO19-AP19-AQ19 -> 25 | AV19: 1934 | AW19: =AI19 -> 89 | AX19: =AY19+BB19 -> 0 | AY19: 0 | AZ19: 0 | BA19: 0 | BB19: 0 | BC19: 0 | BD19: 0 | BE19: 26 | BF19: 0 | BG19: =BE19-BF19 -> 26 | BH19: 63 | BJ19: 1934 | BK19: 428 | BL19: 137 | BM19: 35 | BN19: 17 | BO19: 32 | BP19: =BL19-BM19-BN19-BO19 -> 53 | BQ19: 0 | BR19: 0 | BS19: 256 | BT19: =BU19+BV19 -> 0 | BU19: 0 | BV19: 0 | BW19: =BK19-BM19-BQ19-BR19-BS19-BT19-BN19-BP19 -> 67 | BY19: 1934 | BZ19: =BK19 -> 428 | CA19: =CB19+CE19 -> 193 | CB19: 152 | CC19: 152 | CD19: =CB19-CC19 -> 0 | CE19: 41 | CF19: 41 | CG19: =CE19-CF19 -> 0 | CH19: 146 | CI19: 71 | CJ19: =CH19-CI19 -> 75 | CK19: 89 | CM19: 1934 | CN19: 910 | CO19: =C19+AK19+BM19 -> 226 | CP19: =D19+G19+AN19+AO19+AP19+BQ19+BR19+BS19 -> 341 | CQ19: =CN19-CO19-CP19 -> 343 | CS19: 1934 | CT19: =CN19 -> 910 | CU19: 279 | CV19: =CW19+CX19 -> 232 | CW19: 189 | CX19: =AC19+BC19+CF19 -> 43 | CY19: 78 | CZ19: =CT19-CU19-CV19-CY19 -> 321 | DB19: 1934 | DC19: =DE19-DD19 -> 14 | DD19: =N19 -> 14 | DE19: =J19 -> 28 | DF19: =D19 -> -11 | DG19: =G19 -> 42 | DH19: =AN19 -> 0 | DI19: =AO19+AP19 -> 54 | DJ19: =AQ19 -> 7 | DK19: =BQ19 -> 0 | DL19: =BR19+BS19 -> 256 | DM19: =BT19 -> 0 | DN19: =DF19+DH19+DK19 -> -11 | DO19: =DG19+DI19+DL19 -> 352 | DP19: =DE19+DF19+DG19 -> 59 | DQ19: =DH19+DI19+DJ19 -> 61 | DR19: =DK19+DL19+DM19 -> 256 | DS19: =DN19+DO19 -> 341 | DT19: =DE19+DJ19+DM19 -> 35 | DU19: =DP19+DQ19+DR19 -> 376 | DW19: 1934 | DX19: ='Rec y Obligaciones'!CU19+'Rec y Obligaciones'!CW19 -> 468 | DY19: 454.5 | DZ19: 500 | EA19: =DE19+DF19+DG19+C19 -> 250
A20: 1935 | B20: 600 | C20: 335 | D20: =E20+F20 -> -22 | E20: 5 | F20: -27 | G20: =H20+I20 -> 47 | H20: 0 | I20: 47 | J20: =K20+L20 -> 28 | K20: 14 | L20: 14 | M20: 0 | N20: =L20-M20 -> 14 | O20: =P20+Q20 -> 212 | P20: 6 | Q20: 206 | S20: 1935 | T20: =B20 -> 600 | U20: =V20+W20 -> 363 | V20: 221 | W20: 142 | X20: =Y20+AB20 -> 77 | Y20: 75 | Z20: 39 | AA20: =Y20-Z20 -> 36 | AB20: 2 | AC20: 1 | AD20: =AB20-AC20 -> 1 | AE20: 44 | AF20: 116 | AH20: 1935 | AI20: 104 | AJ20: =AK20+AL20+AM20 -> 8 | AK20: 0 | AL20: 3 | AM20: 5 | AN20: 10 | AO20: 2 | AP20: 54 | AQ20: =AR20+AS20 -> 22 | AR20: 13 | AS20: 9 | AT20: =AI20-AK20-AL20-AM20-AN20-AO20-AP20-AQ20 -> 8 | AV20: 1935 | AW20: =AI20 -> 104 | AX20: =AY20+BB20 -> 0 | AY20: 0 | AZ20: 0 | BA20: 0 | BB20: 0 | BC20: 0 | BD20: 0 | BE20: 46 | BF20: 0 | BG20: =BE20-BF20 -> 46 | BH20: 58 | BJ20: 1935 | BK20: 477 | BL20: 147 | BM20: 57 | BN20: 10 | BO20: 11 | BP20: =BL20-BM20-BN20-BO20 -> 69 | BQ20: 4 | BR20: 5 | BS20: 274 | BT20: =BU20+BV20 -> 8 | BU20: 8 | BV20: 0 | BW20: =BK20-BM20-BQ20-BR20-BS20-BT20-BN20-BP20 -> 50 | BY20: 1935 | BZ20: =BK20 -> 477 | CA20: =CB20+CE20 -> 200 | CB20: 160 | CC20: 160 | CD20: =CB20-CC20 -> 0 | CE20: 40 | CF20: 40 | CG20: =CE20-CF20 -> 0 | CH20: 182 | CI20: 47 | CJ20: =CH20-CI20 -> 135 | CK20: 95 | CM20: 1935 | CN20: 1018 | CO20: =C20+AK20+BM20 -> 392 | CP20: =D20+G20+AN20+AO20+AP20+BQ20+BR20+BS20 -> 374 | CQ20: =CN20-CO20-CP20 -> 252 | CS20: 1935 | CT20: =CN20 -> 1018 | CU20: 316 | CV20: =CW20+CX20 -> 240 | CW20: 199 | CX20: =AC20+BC20+CF20 -> 41 | CY20: 169 | CZ20: =CT20-CU20-CV20-CY20 -> 293 | DB20: 1935 | DC20: =DE20-DD20 -> 14 | DD20: =N20 -> 14 | DE20: =J20 -> 28 | DF20: =D20 -> -22 | DG20: =G20 -> 47 | DH20: =AN20 -> 10 | DI20: =AO20+AP20 -> 56 | DJ20: =AQ20 -> 22 | DK20: =BQ20 -> 4 | DL20: =BR20+BS20 -> 279 | DM20: =BT20 -> 8 | DN20: =DF20+DH20+DK20 -> -8 | DO20: =DG20+DI20+DL20 -> 382 | DP20: =DE20+DF20+DG20 -> 53 | DQ20: =DH20+DI20+DJ20 -> 88 | DR20: =DK20+DL20+DM20 -> 291 | DS20: =DN20+DO20 -> 374 | DT20: =DE20+DJ20+DM20 -> 58 | DU20: =DP20+DQ20+DR20 -> 432 | DW20: 1935 | DX20: ='Rec y Obligaciones'!CU20+'Rec y Obligaciones'!CW20 -> 515 | DY20: 505.5 | DZ20: 500 | EA20: =DE20+DF20+DG20+C20 -> 388
A21: 1936 | B21: 682 | C21: 322 | D21: =E21+F21 -> 26 | E21: 15 | F21: 11 | G21: =H21+I21 -> 61 | H21: 1 | I21: 60 | J21: =K21+L21 -> 28 | K21: 14 | L21: 14 | M21: 0 | N21: =L21-M21 -> 14 | O21: =P21+Q21 -> 245 | P21: 2 | Q21: 243 | S21: 1936 | T21: =B21 -> 682 | U21: =V21+W21 -> 454 | V21: 270 | W21: 184 | X21: =Y21+AB21 -> 86 | Y21: 78 | Z21: 32 | AA21: =Y21-Z21 -> 46 | AB21: 8 | AC21: 7 | AD21: =AB21-AC21 -> 1 | AE21: 45 | AF21: 97 | AH21: 1936 | AI21: 164 | AJ21: =AK21+AL21+AM21 -> 7 | AK21: 0 | AL21: 3 | AM21: 4 | AN21: 19 | AO21: 6 | AP21: 105 | AQ21: =AR21+AS21 -> 6 | AR21: 6 | AS21: 0 | AT21: =AI21-AK21-AL21-AM21-AN21-AO21-AP21-AQ21 -> 21 | AV21: 1936 | AW21: =AI21 -> 164 | AX21: =AY21+BB21 -> 0 | AY21: 0 | AZ21: 0 | BA21: 0 | BB21: 0 | BC21: 0 | BD21: 0 | BE21: 70 | BF21: 0 | BG21: =BE21-BF21 -> 70 | BH21: 94 | BJ21: 1936 | BK21: 527 | BL21: 140 | BM21: 34 | BN21: 14 | BO21: 0 | BP21: =BL21-BM21-BN21-BO21 -> 92 | BQ21: 4 | BR21: 7 | BS21: 319 | BT21: =BU21+BV21 -> 11 | BU21: 11 | BV21: 0 | BW21: =BK21-BM21-BQ21-BR21-BS21-BT21-BN21-BP21 -> 46 | BY21: 1936 | BZ21: =BK21 -> 527 | CA21: =CB21+CE21 -> 212 | CB21: 188 | CC21: 187 | CD21: =CB21-CC21 -> 1 | CE21: 24 | CF21: 24 | CG21: =CE21-CF21 -> 0 | CH21: 215 | CI21: 38 | CJ21: =CH21-CI21 -> 177 | CK21: 100 | CM21: 1936 | CN21: 1213 | CO21: =C21+AK21+BM21 -> 356 | CP21: =D21+G21+AN21+AO21+AP21+BQ21+BR21+BS21 -> 547 | CQ21: =CN21-CO21-CP21 -> 310 | CS21: 1936 | CT21: =CN21 -> 1213 | CU21: 407 | CV21: =CW21+CX21 -> 250 | CW21: 219 | CX21: =AC21+BC21+CF21 -> 31 | CY21: 217 | CZ21: =CT21-CU21-CV21-CY21 -> 339 | DB21: 1936 | DC21: =DE21-DD21 -> 14 | DD21: =N21 -> 14 | DE21: =J21 -> 28 | DF21: =D21 -> 26 | DG21: =G21 -> 61 | DH21: =AN21 -> 19 | DI21: =AO21+AP21 -> 111 | DJ21: =AQ21 -> 6 | DK21: =BQ21 -> 4 | DL21: =BR21+BS21 -> 326 | DM21: =BT21 -> 11 | DN21: =DF21+DH21+DK21 -> 49 | DO21: =DG21+DI21+DL21 -> 498 | DP21: =DE21+DF21+DG21 -> 115 | DQ21: =DH21+DI21+DJ21 -> 136 | DR21: =DK21+DL21+DM21 -> 341 | DS21: =DN21+DO21 -> 547 | DT21: =DE21+DJ21+DM21 -> 45 | DU21: =DP21+DQ21+DR21 -> 592 | DW21: 1936 | DX21: ='Rec y Obligaciones'!CU21+'Rec y Obligaciones'!CW21 -> 626 | DY21: 573.9 | DZ21: 800 | EA21: =DE21+DF21+DG21+C21 -> 437
A22: 1937 | B22: 695 | C22: 202 | D22: =E22+F22 -> 42 | E22: 17 | F22: 25 | G22: =H22+I22 -> 53 | H22: 1 | I22: 52 | J22: =K22+L22 -> 127 | K22: 21 | L22: 106 | M22: 89.3 | N22: =L22-M22 -> 16.7 | O22: =P22+Q22 -> 271 | P22: 3 | Q22: 268 | S22: 1937 | T22: =B22 -> 695 | U22: =V22+W22 -> 504 | V22: 287 | W22: 217 | X22: =Y22+AB22 -> 68 | Y22: 58 | Z22: 24 | AA22: =Y22-Z22 -> 34 | AB22: 10 | AC22: 9 | AD22: =AB22-AC22 -> 1 | AE22: 31 | AF22: 92 | AH22: 1937 | AI22: 273 | AJ22: =AK22+AL22+AM22 -> 9 | AK22: 3 | AL22: 2 | AM22: 4 | AN22: 19 | AO22: 14 | AP22: 213 | AQ22: =AR22+AS22 -> 8 | AR22: 8 | AS22: 0 | AT22: =AI22-AK22-AL22-AM22-AN22-AO22-AP22-AQ22 -> 10 | AV22: 1937 | AW22: =AI22 -> 273 | AX22: =AY22+BB22 -> 1 | AY22: 1 | AZ22: 1 | BA22: 0 | BB22: 0 | BC22: 0 | BD22: 0 | BE22: 161 | BF22: 0 | BG22: =BE22-BF22 -> 161 | BH22: 111 | BJ22: 1937 | BK22: 536 | BL22: 122 | BM22: 23 | BN22: 10 | BO22: 0 | BP22: =BL22-BM22-BN22-BO22 -> 89 | BQ22: 7 | BR22: 10 | BS22: 340 | BT22: =BU22+BV22 -> 13 | BU22: 13 | BV22: 0 | BW22: =BK22-BM22-BQ22-BR22-BS22-BT22-BN22-BP22 -> 44 | BY22: 1937 | BZ22: =BK22 -> 536 | CA22: =CB22+CE22 -> 194 | CB22: 183 | CC22: 182 | CD22: =CB22-CC22 -> 1 | CE22: 11 | CF22: 11 | CG22: =CE22-CF22 -> 0 | CH22: 217 | CI22: 43 | CJ22: =CH22-CI22 -> 174 | CK22: 125 | CM22: 1937 | CN22: 1268 | CO22: =C22+AK22+BM22 -> 228 | CP22: =D22+G22+AN22+AO22+AP22+BQ22+BR22+BS22 -> 698 | CQ22: =CN22-CO22-CP22 -> 342 | CS22: 1937 | CT22: =CN22 -> 1268 | CU22: 456 | CV22: =CW22+CX22 -> 227 | CW22: 207 | CX22: =AC22+BC22+CF22 -> 20 | CY22: 309 | CZ22: =CT22-CU22-CV22-CY22 -> 276 | DB22: 1937 | DC22: =DE22-DD22 -> 110.3 | DD22: =N22 -> 16.7 | DE22: =J22 -> 127 | DF22: =D22 -> 42 | DG22: =G22 -> 53 | DH22: =AN22 -> 19 | DI22: =AO22+AP22 -> 227 | DJ22: =AQ22 -> 8 | DK22: =BQ22 -> 7 | DL22: =BR22+BS22 -> 350 | DM22: =BT22 -> 13 | DN22: =DF22+DH22+DK22 -> 68 | DO22: =DG22+DI22+DL22 -> 630 | DP22: =DE22+DF22+DG22 -> 222 | DQ22: =DH22+DI22+DJ22 -> 254 | DR22: =DK22+DL22+DM22 -> 370 | DS22: =DN22+DO22 -> 698 | DT22: =DE22+DJ22+DM22 -> 148 | DU22: =DP22+DQ22+DR22 -> 846 | DW22: 1937 | DX22: ='Rec y Obligaciones'!CU22+'Rec y Obligaciones'!CW22 -> 663 | DY22: 686.9 | DZ22: 800 | EA22: =DE22+DF22+DG22+C22 -> 424
A23: 1938 | B23: 775 | C23: 212 | D23: =E23+F23 -> 149 | E23: 31 | F23: 118 | G23: =H23+I23 -> 75 | H23: 1 | I23: 74 | J23: =K23+L23 -> 39 | K23: 19 | L23: 20 | M23: 0 | N23: =L23-M23 -> 20 | O23: =P23+Q23 -> 300 | P23: 6 | Q23: 294 | S23: 1938 | T23: =B23 -> 775 | U23: =V23+W23 -> 566 | V23: 297 | W23: 269 | X23: =Y23+AB23 -> 83 | Y23: 80 | Z23: 27 | AA23: =Y23-Z23 -> 53 | AB23: 3 | AC23: 1 | AD23: =AB23-AC23 -> 2 | AE23: 27 | AF23: 99 | AH23: 1938 | AI23: 295 | AJ23: =AK23+AL23+AM23 -> 11 | AK23: 4 | AL23: 3 | AM23: 4 | AN23: 8 | AO23: 20 | AP23: 210 | AQ23: =AR23+AS23 -> 24 | AR23: 6 | AS23: 18 | AT23: =AI23-AK23-AL23-AM23-AN23-AO23-AP23-AQ23 -> 22 | AV23: 1938 | AW23: =AI23 -> 295 | AX23: =AY23+BB23 -> 1 | AY23: 1 | AZ23: 1 | BA23: 0 | BB23: 0 | BC23: 0 | BD23: 0 | BE23: 134 | BF23: 0 | BG23: =BE23-BF23 -> 134 | BH23: 160 | BJ23: 1938 | BK23: 521 | BL23: 153 | BM23: 25 | BN23: 17 | BO23: 49 | BP23: =BL23-BM23-BN23-BO23 -> 62 | BQ23: 11 | BR23: 15 | BS23: 284 | BT23: =BU23+BV23 -> 9 | BU23: 9 | BV23: 0 | BW23: =BK23-BM23-BQ23-BR23-BS23-BT23-BN23-BP23 -> 98 | BY23: 1938 | BZ23: =BK23 -> 521 | CA23: =CB23+CE23 -> 210 | CB23: 197 | CC23: 196 | CD23: =CB23-CC23 -> 1 | CE23: 13 | CF23: 13 | CG23: =CE23-CF23 -> 0 | CH23: 184 | CI23: 35 | CJ23: =CH23-CI23 -> 149 | CK23: 127 | CM23: 1938 | CN23: 1380 | CO23: =C23+AK23+BM23 -> 241 | CP23: =D23+G23+AN23+AO23+AP23+BQ23+BR23+BS23 -> 772 | CQ23: =CN23-CO23-CP23 -> 367 | CS23: 1938 | CT23: =CN23 -> 1380 | CU23: 513 | CV23: =CW23+CX23 -> 238 | CW23: 224 | CX23: =AC23+BC23+CF23 -> 14 | CY23: 271 | CZ23: =CT23-CU23-CV23-CY23 -> 358 | DB23: 1938 | DC23: =DE23-DD23 -> 19 | DD23: =N23 -> 20 | DE23: =J23 -> 39 | DF23: =D23 -> 149 | DG23: =G23 -> 75 | DH23: =AN23 -> 8 | DI23: =AO23+AP23 -> 230 | DJ23: =AQ23 -> 24 | DK23: =BQ23 -> 11 | DL23: =BR23+BS23 -> 299 | DM23: =BT23 -> 9 | DN23: =DF23+DH23+DK23 -> 168 | DO23: =DG23+DI23+DL23 -> 604 | DP23: =DE23+DF23+DG23 -> 263 | DQ23: =DH23+DI23+DJ23 -> 262 | DR23: =DK23+DL23+DM23 -> 319 | DS23: =DN23+DO23 -> 772 | DT23: =DE23+DJ23+DM23 -> 72 | DU23: =DP23+DQ23+DR23 -> 844 | DW23: 1938 | DX23: ='Rec y Obligaciones'!CU23+'Rec y Obligaciones'!CW23 -> 737 | DY23: 671.4 | DZ23: 800 | EA23: =DE23+DF23+DG23+C23 -> 475
A24: 1939 | B24: 864 | C24: 210 | D24: =E24+F24 -> 223 | E24: 102 | F24: 121 | G24: =H24+I24 -> 94 | H24: 1 | I24: 93 | J24: =K24+L24 -> 33 | K24: 17 | L24: 16 | M24: 0 | N24: =L24-M24 -> 16 | O24: =P24+Q24 -> 304 | P24: 5 | Q24: 299 | S24: 1939 | T24: =B24 -> 864 | U24: =V24+W24 -> 647 | V24: 373 | W24: 274 | X24: =Y24+AB24 -> 79 | Y24: 71 | Z24: 19 | AA24: =Y24-Z24 -> 52 | AB24: 8 | AC24: 2 | AD24: =AB24-AC24 -> 6 | AE24: 33 | AF24: 105 | AH24: 1939 | AI24: 353 | AJ24: =AK24+AL24+AM24 -> 9 | AK24: 3 | AL24: 3 | AM24: 3 | AN24: 12 | AO24: 16 | AP24: 265 | AQ24: =AR24+AS24 -> 30 | AR24: 7 | AS24: 23 | AT24: =AI24-AK24-AL24-AM24-AN24-AO24-AP24-AQ24 -> 21 | AV24: 1939 | AW24: =AI24 -> 353 | AX24: =AY24+BB24 -> 2 | AY24: 2 | AZ24: 2 | BA24: 0 | BB24: 0 | BC24: 0 | BD24: 0 | BE24: 181 | BF24: 0 | BG24: =BE24-BF24 -> 181 | BH24: 170 | BJ24: 1939 | BK24: 644 | BL24: 167 | BM24: 31 | BN24: 27 | BO24: 56 | BP24: =BL24-BM24-BN24-BO24 -> 53 | BQ24: 13 | BR24: 18 | BS24: 380 | BT24: =BU24+BV24 -> 10 | BU24: 10 | BV24: 0 | BW24: =BK24-BM24-BQ24-BR24-BS24-BT24-BN24-BP24 -> 112 | BY24: 1939 | BZ24: =BK24 -> 644 | CA24: =CB24+CE24 -> 286 | CB24: 265 | CC24: 264 | CD24: =CB24-CC24 -> 1 | CE24: 21 | CF24: 21 | CG24: =CE24-CF24 -> 0 | CH24: 222 | CI24: 35 | CJ24: =CH24-CI24 -> 187 | CK24: 136 | CM24: 1939 | CN24: 1639 | CO24: =C24+AK24+BM24 -> 244 | CP24: =D24+G24+AN24+AO24+AP24+BQ24+BR24+BS24 -> 1021 | CQ24: =CN24-CO24-CP24 -> 374 | CS24: 1939 | CT24: =CN24 -> 1639 | CU24: 598 | CV24: =CW24+CX24 -> 308 | CW24: 285 | CX24: =AC24+BC24+CF24 -> 23 | CY24: 348 | CZ24: =CT24-CU24-CV24-CY24 -> 385 | DB24: 1939 | DC24: =DE24-DD24 -> 17 | DD24: =N24 -> 16 | DE24: =J24 -> 33 | DF24: =D24 -> 223 | DG24: =G24 -> 94 | DH24: =AN24 -> 12 | DI24: =AO24+AP24 -> 281 | DJ24: =AQ24 -> 30 | DK24: =BQ24 -> 13 | DL24: =BR24+BS24 -> 398 | DM24: =BT24 -> 10 | DN24: =DF24+DH24+DK24 -> 248 | DO24: =DG24+DI24+DL24 -> 773 | DP24: =DE24+DF24+DG24 -> 350 | DQ24: =DH24+DI24+DJ24 -> 323 | DR24: =DK24+DL24+DM24 -> 421 | DS24: =DN24+DO24 -> 1021 | DT24: =DE24+DJ24+DM24 -> 73 | DU24: =DP24+DQ24+DR24 -> 1094 | DW24: 1939 | DX24: ='Rec y Obligaciones'!CU24+'Rec y Obligaciones'!CW24 -> 883 | DY24: 807.6 | DZ24: 1000 | EA24: =DE24+DF24+DG24+C24 -> 560
A25: 1940 | B25: 1076 | C25: 310 | D25: =E25+F25 -> 308 | E25: 296 | F25: 12 | G25: =H25+I25 -> 85 | H25: 3 | I25: 82 | J25: =K25+L25 -> 19 | K25: 16 | L25: 3 | M25: 0 | N25: =L25-M25 -> 3 | O25: =P25+Q25 -> 354 | P25: 3 | Q25: 351 | S25: 1940 | T25: =B25 -> 1076 | U25: =V25+W25 -> 747 | V25: 421 | W25: 326 | X25: =Y25+AB25 -> 181 | Y25: 171 | Z25: 20 | AA25: =Y25-Z25 -> 151 | AB25: 10 | AC25: 3 | AD25: =AB25-AC25 -> 7 | AE25: 35 | AF25: 113 | AH25: 1940 | AI25: 349 | AJ25: =AK25+AL25+AM25 -> 12 | AK25: 1 | AL25: 6 | AM25: 5 | AN25: 9 | AO25: 28 | AP25: 246 | AQ25: =AR25+AS25 -> 17 | AR25: 7 | AS25: 10 | AT25: =AI25-AK25-AL25-AM25-AN25-AO25-AP25-AQ25 -> 37 | AV25: 1940 | AW25: =AI25 -> 349 | AX25: =AY25+BB25 -> 3 | AY25: 3 | AZ25: 3 | BA25: 0 | BB25: 0 | BC25: 0 | BD25: 0 | BE25: 114 | BF25: 0 | BG25: =BE25-BF25 -> 114 | BH25: 232 | BJ25: 1940 | BK25: 794 | BL25: 305 | BM25: 25 | BN25: 35 | BO25: 161 | BP25: =BL25-BM25-BN25-BO25 -> 84 | BQ25: 23 | BR25: 21 | BS25: 386 | BT25: =BU25+BV25 -> 12 | BU25: 12 | BV25: 0 | BW25: =BK25-BM25-BQ25-BR25-BS25-BT25-BN25-BP25 -> 208 | BY25: 1940 | BZ25: =BK25 -> 794 | CA25: =CB25+CE25 -> 420 | CB25: 382 | CC25: 377 | CD25: =CB25-CC25 -> 5 | CE25: 38 | CF25: 38 | CG25: =CE25-CF25 -> 0 | CH25: 236 | CI25: 76 | CJ25: =CH25-CI25 -> 160 | CK25: 138 | CM25: 1940 | CN25: 1878 | CO25: =C25+AK25+BM25 -> 336 | CP25: =D25+G25+AN25+AO25+AP25+BQ25+BR25+BS25 -> 1106 | CQ25: =CN25-CO25-CP25 -> 436 | CS25: 1940 | CT25: =CN25 -> 1878 | CU25: 662 | CV25: =CW25+CX25 -> 441 | CW25: 400 | CX25: =AC25+BC25+CF25 -> 41 | CY25: 315 | CZ25: =CT25-CU25-CV25-CY25 -> 460 | DB25: 1940 | DC25: =DE25-DD25 -> 16 | DD25: =N25 -> 3 | DE25: =J25 -> 19 | DF25: =D25 -> 308 | DG25: =G25 -> 85 | DH25: =AN25 -> 9 | DI25: =AO25+AP25 -> 274 | DJ25: =AQ25 -> 17 | DK25: =BQ25 -> 23 | DL25: =BR25+BS25 -> 407 | DM25: =BT25 -> 12 | DN25: =DF25+DH25+DK25 -> 340 | DO25: =DG25+DI25+DL25 -> 766 | DP25: =DE25+DF25+DG25 -> 412 | DQ25: =DH25+DI25+DJ25 -> 300 | DR25: =DK25+DL25+DM25 -> 442 | DS25: =DN25+DO25 -> 1106 | DT25: =DE25+DJ25+DM25 -> 48 | DU25: =DP25+DQ25+DR25 -> 1154 | DW25: 1940 | DX25: ='Rec y Obligaciones'!CU25+'Rec y Obligaciones'!CW25 -> 1062 | DY25: 905.1 | DZ25: 1200 | EA25: =DE25+DF25+DG25+C25 -> 722
A26: 1941 | B26: 1213 | C26: 300 | D26: =E26+F26 -> 454 | E26: 442 | F26: 12 | G26: =H26+I26 -> 90 | H26: 3 | I26: 87 | J26: =K26+L26 -> 25 | K26: 15 | L26: 10 | M26: 0 | N26: =L26-M26 -> 10 | O26: =P26+Q26 -> 344 | P26: 7 | Q26: 337 | S26: 1941 | T26: =B26 -> 1213 | U26: =V26+W26 -> 867 | V26: 563 | W26: 304 | X26: =Y26+AB26 -> 174 | Y26: 167 | Z26: 21 | AA26: =Y26-Z26 -> 146 | AB26: 7 | AC26: 5 | AD26: =AB26-AC26 -> 2 | AE26: 45 | AF26: 127 | AH26: 1941 | AI26: 437 | AJ26: =AK26+AL26+AM26 -> 21 | AK26: 1 | AL26: 9 | AM26: 11 | AN26: 11 | AO26: 53 | AP26: 310 | AQ26: =AR26+AS26 -> 10 | AR26: 10 | AS26: 0 | AT26: =AI26-AK26-AL26-AM26-AN26-AO26-AP26-AQ26 -> 32 | AV26: 1941 | AW26: =AI26 -> 437 | AX26: =AY26+BB26 -> 5 | AY26: 5 | AZ26: 5 | BA26: 0 | BB26: 0 | BC26: 0 | BD26: 0 | BE26: 159 | BF26: 0 | BG26: =BE26-BF26 -> 159 | BH26: 273 | BJ26: 1941 | BK26: 984 | BL26: 307 | BM26: 38 | BN26: 53 | BO26: 148 | BP26: =BL26-BM26-BN26-BO26 -> 68 | BQ26: 7 | BR26: 35 | BS26: 559 | BT26: =BU26+BV26 -> 18 | BU26: 18 | BV26: 0 | BW26: =BK26-BM26-BQ26-BR26-BS26-BT26-BN26-BP26 -> 206 | BY26: 1941 | BZ26: =BK26 -> 984 | CA26: =CB26+CE26 -> 493 | CB26: 453 | CC26: 446 | CD26: =CB26-CC26 -> 7 | CE26: 40 | CF26: 40 | CG26: =CE26-CF26 -> 0 | CH26: 320 | CI26: 103 | CJ26: =CH26-CI26 -> 217 | CK26: 171 | CM26: 1941 | CN26: 2286 | CO26: =C26+AK26+BM26 -> 339 | CP26: =D26+G26+AN26+AO26+AP26+BQ26+BR26+BS26 -> 1519 | CQ26: =CN26-CO26-CP26 -> 428 | CS26: 1941 | CT26: =CN26 -> 2286 | CU26: 796 | CV26: =CW26+CX26 -> 517 | CW26: 472 | CX26: =AC26+BC26+CF26 -> 45 | CY26: 434 | CZ26: =CT26-CU26-CV26-CY26 -> 539 | DB26: 1941 | DC26: =DE26-DD26 -> 15 | DD26: =N26 -> 10 | DE26: =J26 -> 25 | DF26: =D26 -> 454 | DG26: =G26 -> 90 | DH26: =AN26 -> 11 | DI26: =AO26+AP26 -> 363 | DJ26: =AQ26 -> 10 | DK26: =BQ26 -> 7 | DL26: =BR26+BS26 -> 594 | DM26: =BT26 -> 18 | DN26: =DF26+DH26+DK26 -> 472 | DO26: =DG26+DI26+DL26 -> 1047 | DP26: =DE26+DF26+DG26 -> 569 | DQ26: =DH26+DI26+DJ26 -> 384 | DR26: =DK26+DL26+DM26 -> 619 | DS26: =DN26+DO26 -> 1519 | DT26: =DE26+DJ26+DM26 -> 53 | DU26: =DP26+DQ26+DR26 -> 1572 | DW26: 1941 | DX26: ='Rec y Obligaciones'!CU26+'Rec y Obligaciones'!CW26 -> 1268 | DY26: 1172.7 | DZ26: 1400 | EA26: =DE26+DF26+DG26+C26 -> 869
A27: 1942 | B27: 1681 | C27: 493 | D27: =E27+F27 -> 593 | E27: 581 | F27: 12 | G27: =H27+I27 -> 133 | H27: 2 | I27: 131 | J27: =K27+L27 -> 95 | K27: 21 | L27: 74 | M27: 0 | N27: =L27-M27 -> 74 | O27: =P27+Q27 -> 367 | P27: 7 | Q27: 360 | S27: 1942 | T27: =B27 -> 1681 | U27: =V27+W27 -> 1096 | V27: 753 | W27: 343 | X27: =Y27+AB27 -> 372 | Y27: 346 | Z27: 39 | AA27: =Y27-Z27 -> 307 | AB27: 26 | AC27: 24 | AD27: =AB27-AC27 -> 2 | AE27: 52 | AF27: 161 | AH27: 1942 | AI27: 586 | AJ27: =AK27+AL27+AM27 -> 33 | AK27: 2 | AL27: 21 | AM27: 10 | AN27: 154 | AO27: 46 | AP27: 285 | AQ27: =AR27+AS27 -> 32 | AR27: 13 | AS27: 19 | AT27: =AI27-AK27-AL27-AM27-AN27-AO27-AP27-AQ27 -> 36 | AV27: 1942 | AW27: =AI27 -> 586 | AX27: =AY27+BB27 -> 3 | AY27: 3 | AZ27: 3 | BA27: 0 | BB27: 0 | BC27: 0 | BD27: 0 | BE27: 319 | BF27: 1 | BG27: =BE27-BF27 -> 318 | BH27: 264 | BJ27: 1942 | BK27: 1486 | BL27: 524 | BM27: 42 | BN27: 86 | BO27: 323 | BP27: =BL27-BM27-BN27-BO27 -> 73 | BQ27: 21 | BR27: 66 | BS27: 727 | BT27: =BU27+BV27 -> 79 | BU27: 58 | BV27: 21 | BW27: =BK27-BM27-BQ27-BR27-BS27-BT27-BN27-BP27 -> 392 | BY27: 1942 | BZ27: =BK27 -> 1486 | CA27: =CB27+CE27 -> 760 | CB27: 720 | CC27: 687 | CD27: =CB27-CC27 -> 33 | CE27: 40 | CF27: 38 | CG27: =CE27-CF27 -> 2 | CH27: 467 | CI27: 129 | CJ27: =CH27-CI27 -> 338 | CK27: 259 | CM27: 1942 | CN27: 3029 | CO27: =C27+AK27+BM27 -> 537 | CP27: =D27+G27+AN27+AO27+AP27+BQ27+BR27+BS27 -> 2025 | CQ27: =CN27-CO27-CP27 -> 467 | CS27: 1942 | CT27: =CN27 -> 3029 | CU27: 1021 | CV27: =CW27+CX27 -> 791 | CW27: 729 | CX27: =AC27+BC27+CF27 -> 62 | CY27: 593 | CZ27: =CT27-CU27-CV27-CY27 -> 624 | DB27: 1942 | DC27: =DE27-DD27 -> 21 | DD27: =N27 -> 74 | DE27: =J27 -> 95 | DF27: =D27 -> 593 | DG27: =G27 -> 133 | DH27: =AN27 -> 154 | DI27: =AO27+AP27 -> 331 | DJ27: =AQ27 -> 32 | DK27: =BQ27 -> 21 | DL27: =BR27+BS27 -> 793 | DM27: =BT27 -> 79 | DN27: =DF27+DH27+DK27 -> 768 | DO27: =DG27+DI27+DL27 -> 1257 | DP27: =DE27+DF27+DG27 -> 821 | DQ27: =DH27+DI27+DJ27 -> 517 | DR27: =DK27+DL27+DM27 -> 893 | DS27: =DN27+DO27 -> 2025 | DT27: =DE27+DJ27+DM27 -> 206 | DU27: =DP27+DQ27+DR27 -> 2231 | DW27: 1942 | DX27: ='Rec y Obligaciones'!CU27+'Rec y Obligaciones'!CW27 -> 1750 | DY27: 1445.6 | DZ27: 2000 | EA27: =DE27+DF27+DG27+C27 -> 1314
A28: 1943 | B28: 2559 | C28: 1174 | D28: =E28+F28 -> 531 | E28: 522 | F28: 9 | G28: =H28+I28 -> 202 | H28: 12 | I28: 190 | J28: =K28+L28 -> 145 | K28: 30 | L28: 115 | M28: 0 | N28: =L28-M28 -> 115 | O28: =P28+Q28 -> 507 | P28: 40 | Q28: 467 | S28: 1943 | T28: =B28 -> 2559 | U28: =V28+W28 -> 1614 | V28: 1171 | W28: 443 | X28: =Y28+AB28 -> 701 | Y28: 686 | Z28: 46 | AA28: =Y28-Z28 -> 640 | AB28: 15 | AC28: 10 | AD28: =AB28-AC28 -> 5 | AE28: 73 | AF28: 171 | AH28: 1943 | AI28: 838 | AJ28: =AK28+AL28+AM28 -> 43 | AK28: 6 | AL28: 24 | AM28: 13 | AN28: 199 | AO28: 134 | AP28: 330 | AQ28: =AR28+AS28 -> 84 | AR28: 69 | AS28: 15 | AT28: =AI28-AK28-AL28-AM28-AN28-AO28-AP28-AQ28 -> 48 | AV28: 1943 | AW28: =AI28 -> 838 | AX28: =AY28+BB28 -> 11 | AY28: 10 | AZ28: 10 | BA28: 0 | BB28: 1 | BC28: 1 | BD28: 0 | BE28: 542 | BF28: 2 | BG28: =BE28-BF28 -> 540 | BH28: 285 | BJ28: 1943 | BK28: 2263 | BL28: 917 | BM28: 44 | BN28: 120 | BO28: 620 | BP28: =BL28-BM28-BN28-BO28 -> 133 | BQ28: 35 | BR28: 97 | BS28: 898 | BT28: =BU28+BV28 -> 44 | BU28: 19 | BV28: 25 | BW28: =BK28-BM28-BQ28-BR28-BS28-BT28-BN28-BP28 -> 892 | BY28: 1943 | BZ28: =BK28 -> 2263 | CA28: =CB28+CE28 -> 1226 | CB28: 1182 | CC28: 1139 | CD28: =CB28-CC28 -> 43 | CE28: 44 | CF28: 43 | CG28: =CE28-CF28 -> 1 | CH28: 704 | CI28: 214 | CJ28: =CH28-CI28 -> 490 | CK28: 333 | CM28: 1943 | CN28: 4337 | CO28: =C28+AK28+BM28 -> 1224 | CP28: =D28+G28+AN28+AO28+AP28+BQ28+BR28+BS28 -> 2426 | CQ28: =CN28-CO28-CP28 -> 687 | CS28: 1943 | CT28: =CN28 -> 4337 | CU28: 1477 | CV28: =CW28+CX28 -> 1249 | CW28: 1195 | CX28: =AC28+BC28+CF28 -> 54 | CY28: -37 | CZ28: =CT28-CU28-CV28-CY28 -> 1648 | DB28: 1943 | DC28: =DE28-DD28 -> 30 | DD28: =N28 -> 115 | DE28: =J28 -> 145 | DF28: =D28 -> 531 | DG28: =G28 -> 202 | DH28: =AN28 -> 199 | DI28: =AO28+AP28 -> 464 | DJ28: =AQ28 -> 84 | DK28: =BQ28 -> 35 | DL28: =BR28+BS28 -> 995 | DM28: =BT28 -> 44 | DN28: =DF28+DH28+DK28 -> 765 | DO28: =DG28+DI28+DL28 -> 1661 | DP28: =DE28+DF28+DG28 -> 878 | DQ28: =DH28+DI28+DJ28 -> 747 | DR28: =DK28+DL28+DM28 -> 1074 | DS28: =DN28+DO28 -> 2426 | DT28: =DE28+DJ28+DM28 -> 273 | DU28: =DP28+DQ28+DR28 -> 2699 | DW28: 1943 | DX28: ='Rec y Obligaciones'!CU28+'Rec y Obligaciones'!CW28 -> 2672 | DY28: 2247.3 | DZ28: 3000 | EA28: =DE28+DF28+DG28+C28 -> 2052
A29: 1944 | B29: 3179 | C29: 1357 | D29: =E29+F29 -> 616 | E29: 618 | F29: -2 | G29: =H29+I29 -> 436 | H29: 23 | I29: 413 | J29: =K29+L29 -> 196 | K29: 73 | L29: 123 | M29: 0 | N29: =L29-M29 -> 123 | O29: =P29+Q29 -> 574 | P29: 22 | Q29: 552 | S29: 1944 | T29: =B29 -> 3179 | U29: =V29+W29 -> 1882 | V29: 1358 | W29: 524 | X29: =Y29+AB29 -> 1025 | Y29: 1009 | Z29: 60 | AA29: =Y29-Z29 -> 949 | AB29: 16 | AC29: 4 | AD29: =AB29-AC29 -> 12 | AE29: 57 | AF29: 215 | AH29: 1944 | AI29: 946 | AJ29: =AK29+AL29+AM29 -> 28 | AK29: 2 | AL29: 9 | AM29: 17 | AN29: 251 | AO29: 180 | AP29: 334 | AQ29: =AR29+AS29 -> 97 | AR29: 31 | AS29: 66 | AT29: =AI29-AK29-AL29-AM29-AN29-AO29-AP29-AQ29 -> 56 | AV29: 1944 | AW29: =AI29 -> 946 | AX29: =AY29+BB29 -> 10 | AY29: 9 | AZ29: 9 | BA29: 0 | BB29: 1 | BC29: 1 | BD29: 0 | BE29: 675 | BF29: 0 | BG29: =BE29-BF29 -> 675 | BH29: 261 | BJ29: 1944 | BK29: 2949 | BL29: 1238 | BM29: 75 | BN29: 142 | BO29: 910 | BP29: =BL29-BM29-BN29-BO29 -> 111 | BQ29: 73 | BR29: 141 | BS29: 1221 | BT29: =BU29+BV29 -> 163 | BU29: 133 | BV29: 30 | BW29: =BK29-BM29-BQ29-BR29-BS29-BT29-BN29-BP29 -> 1023 | BY29: 1944 | BZ29: =BK29 -> 2949 | CA29: =CB29+CE29 -> 1578 | CB29: 1510 | CC29: 1473 | CD29: =CB29-CC29 -> 37 | CE29: 68 | CF29: 67 | CG29: =CE29-CF29 -> 1 | CH29: 958 | CI29: 294 | CJ29: =CH29-CI29 -> 664 | CK29: 413 | CM29: 1944 | CN29: 5408 | CO29: =C29+AK29+BM29 -> 1434 | CP29: =D29+G29+AN29+AO29+AP29+BQ29+BR29+BS29 -> 3252 | CQ29: =CN29-CO29-CP29 -> 722 | CS29: 1944 | CT29: =CN29 -> 5408 | CU29: 1767 | CV29: =CW29+CX29 -> 1614 | CW29: 1542 | CX29: =AC29+BC29+CF29 -> 72 | CY29: 1180 | CZ29: =CT29-CU29-CV29-CY29 -> 847 | DB29: 1944 | DC29: =DE29-DD29 -> 73 | DD29: =N29 -> 123 | DE29: =J29 -> 196 | DF29: =D29 -> 616 | DG29: =G29 -> 436 | DH29: =AN29 -> 251 | DI29: =AO29+AP29 -> 514 | DJ29: =AQ29 -> 97 | DK29: =BQ29 -> 73 | DL29: =BR29+BS29 -> 1362 | DM29: =BT29 -> 163 | DN29: =DF29+DH29+DK29 -> 940 | DO29: =DG29+DI29+DL29 -> 2312 | DP29: =DE29+DF29+DG29 -> 1248 | DQ29: =DH29+DI29+DJ29 -> 862 | DR29: =DK29+DL29+DM29 -> 1598 | DS29: =DN29+DO29 -> 3252 | DT29: =DE29+DJ29+DM29 -> 456 | DU29: =DP29+DQ29+DR29 -> 3708 | DW29: 1944 | DX29: ='Rec y Obligaciones'!CU29+'Rec y Obligaciones'!CW29 -> 3309 | DY29: 2982.7 | DZ29: 3900 | EA29: =DE29+DF29+DG29+C29 -> 2605
... A60: 1975 | B60: 158566 | C60: 20153 | D60: =E60+F60 -> 123409 | E60: 125904 | F60: -2495 | G60: =H60+I60 -> 5056 | H60: 1181 | I60: 3875 | J60: =K60+L60 -> 816 | K60: 666 | L60: 150 | M60: 150 | N60: =L60-M60 -> 0 | O60: =P60+Q60 -> 9132 | P60: 1147 | Q60: 7985 | S60: 1975 | T60: =B60 -> 158566 | U60: =V60+W60 -> 56708 | V60: 53131 | W60: 3577 | X60: =Y60+AB60 -> 2742 | Y60: 1111 | Z60: 856 | AA60: =Y60-Z60 -> 255 | AB60: 1631 | AC60: 13 | AD60: =AB60-AC60 -> 1618 | AE60: 85574 | AF60: 13542 | AH60: 1975 | AI60: 202442 | AJ60: =AK60+AL60+AM60 -> 4194 | AK60: 1162 | AL60: 2022 | AM60: 1010 | AN60: 4587 | AO60: 9143 | AP60: 140836 | AQ60: =AR60+AS60 -> 31216 | AR60: 3416 | AS60: 27800 | AT60: =AI60-AK60-AL60-AM60-AN60-AO60-AP60-AQ60 -> 12466 | AV60: 1975 | AW60: =AI60 -> 202442 | AX60: =AY60+BB60 -> 1479 | AY60: 1440 | AZ60: 1440 | BA60: 0 | BB60: 39 | BC60: 39 | BD60: 0 | BE60: 170857 | BF60: 1601 | BG60: =BE60-BF60 -> 169256 | BH60: 30106 | BJ60: 1975 | BK60: 318903 | BL60: 98141 | BM60: 750 | BN60: 7767 | BO60: 85381 | BP60: =BL60-BM60-BN60-BO60 -> 4243 | BQ60: 27621 | BR60: 10373 | BS60: 156452 | BT60: =BU60+BV60 -> 17340 | BU60: 12226 | BV60: 5114 | BW60: =BK60-BM60-BQ60-BR60-BS60-BT60-BN60-BP60 -> 94357 | BY60: 1975 | BZ60: =BK60 -> 318903 | CA60: =CB60+CE60 -> 72637 | CB60: 68559 | CC60: 63708 | CD60: =CB60-CC60 -> 4851 | CE60: 4078 | CF60: 3985 | CG60: =CE60-CF60 -> 93 | CH60: 219756 | CI60: 29458 | CJ60: =CH60-CI60 -> 190298 | CK60: 26510 | CM60: 1975 | CN60: 531847 | CO60: =C60+AK60+BM60 -> 22065 | CP60: =D60+G60+AN60+AO60+AP60+BQ60+BR60+BS60 -> 477477 | CQ60: =CN60-CO60-CP60 -> 32305 | CS60: 1975 | CT60: =CN60 -> 531847 | CU60: 52262 | CV60: =CW60+CX60 -> 70043 | CW60: 66006 | CX60: =AC60+BC60+CF60 -> 4037 | CY60: 345415 | CZ60: =CT60-CU60-CV60-CY60 -> 64127 | DB60: 1975 | DC60: =DE60-DD60 -> 816 | DD60: =N60 -> 0 | DE60: =J60 -> 816 | DF60: =D60 -> 123409 | DG60: =G60 -> 5056 | DH60: =AN60 -> 4587 | DI60: =AO60+AP60 -> 149979 | DJ60: =AQ60 -> 31216 | DK60: =BQ60 -> 27621 | DL60: =BR60+BS60 -> 166825 | DM60: =BT60 -> 17340 | DN60: =DF60+DH60+DK60 -> 155617 | DO60: =DG60+DI60+DL60 -> 321860 | DP60: =DE60+DF60+DG60 -> 129281 | DQ60: =DH60+DI60+DJ60 -> 185782 | DR60: =DK60+DL60+DM60 -> 211786 | DS60: =DN60+DO60 -> 477477 | DT60: =DE60+DJ60+DM60 -> 49372 | DU60: =DP60+DQ60+DR60 -> 526849 | DW60: 1975 | DX60: ='Rec y Obligaciones'!CU60+'Rec y Obligaciones'!CW60 -> 118268 | DY60: 97150.2 | DZ60: 346100 | EA60: =DE60+DF60+DG60+C60 -> 149434
A61: 1976 | B61: 195038 | C61: 28156 | D61: =E61+F61 -> 122564 | E61: 132843 | F61: -10279 | G61: =H61+I61 -> 11599 | H61: 1857 | I61: 9742 | J61: =K61+L61 -> 20460 | K61: 201 | L61: 20259 | M61: 927 | N61: =L61-M61 -> 19332 | O61: =P61+Q61 -> 12259 | P61: 706 | Q61: 11553 | S61: 1976 | T61: =B61 -> 195038 | U61: =V61+W61 -> 84706 | V61: 79366 | W61: 5340 | X61: =Y61+AB61 -> 4816 | Y61: 1431 | Z61: 560 | AA61: =Y61-Z61 -> 871 | AB61: 3385 | AC61: 89 | AD61: =AB61-AC61 -> 3296 | AE61: 73086 | AF61: 32430 | AH61: 1976 | AI61: 344442 | AJ61: =AK61+AL61+AM61 -> 5954 | AK61: 1354 | AL61: 2551 | AM61: 2049 | AN61: 6188 | AO61: 12183 | AP61: 225493 | AQ61: =AR61+AS61 -> 40685 | AR61: 3629 | AS61: 37056 | AT61: =AI61-AK61-AL61-AM61-AN61-AO61-AP61-AQ61 -> 53939 | AV61: 1976 | AW61: =AI61 -> 344442 | AX61: =AY61+BB61 -> 2296 | AY61: 2110 | AZ61: 2110 | BA61: 0 | BB61: 186 | BC61: 186 | BD61: 0 | BE61: 300272 | BF61: 569 | BG61: =BE61-BF61 -> 299703 | BH61: 41874 | BJ61: 1976 | BK61: 379130 | BL61: 63974 | BM61: 1476 | BN61: 7963 | BO61: 50008 | BP61: =BL61-BM61-BN61-BO61 -> 4527 | BQ61: 85521 | BR61: 12215 | BS61: 182714 | BT61: =BU61+BV61 -> 21720 | BU61: 12450 | BV61: 9270 | BW61: =BK61-BM61-BQ61-BR61-BS61-BT61-BN61-BP61 -> 62994 | BY61: 1976 | BZ61: =BK61 -> 379130 | CA61: =CB61+CE61 -> 88467 | CB61: 76901 | CC61: 72257 | CD61: =CB61-CC61 -> 4644 | CE61: 11566 | CF61: 11132 | CG61: =CE61-CF61 -> 434 | CH61: 258845 | CI61: 34813 | CJ61: =CH61-CI61 -> 224032 | CK61: 31818 | CM61: 1976 | CN61: 768479 | CO61: =C61+AK61+BM61 -> 30986 | CP61: =D61+G61+AN61+AO61+AP61+BQ61+BR61+BS61 -> 658477 | CQ61: =CN61-CO61-CP61 -> 79016 | CS61: 1976 | CT61: =CN61 -> 768479 | CU61: 79873 | CV61: =CW61+CX61 -> 86341 | CW61: 74934 | CX61: =AC61+BC61+CF61 -> 11407 | CY61: 502919 | CZ61: =CT61-CU61-CV61-CY61 -> 99346 | DB61: 1976 | DC61: =DE61-DD61 -> 1128 | DD61: =N61 -> 19332 | DE61: =J61 -> 20460 | DF61: =D61 -> 122564 | DG61: =G61 -> 11599 | DH61: =AN61 -> 6188 | DI61: =AO61+AP61 -> 237676 | DJ61: =AQ61 -> 40685 | DK61: =BQ61 -> 85521 | DL61: =BR61+BS61 -> 194929 | DM61: =BT61 -> 21720 | DN61: =DF61+DH61+DK61 -> 214273 | DO61: =DG61+DI61+DL61 -> 444204 | DP61: =DE61+DF61+DG61 -> 154623 | DQ61: =DH61+DI61+DJ61 -> 284549 | DR61: =DK61+DL61+DM61 -> 302170 | DS61: =DN61+DO61 -> 658477 | DT61: =DE61+DJ61+DM61 -> 82865 | DU61: =DP61+DQ61+DR61 -> 741342 | DW61: 1976 | DX61: ='Rec y Obligaciones'!CU61+'Rec y Obligaciones'!CW61 -> 154807 | DY61: - | DZ61: 395400 | EA61: =DE61+DF61+DG61+C61 -> 182779
A62: 1977 | B62: 278382 | C62: 44159 | D62: =E62+F62 -> 189976 | E62: 193325 | F62: -3349 | G62: =H62+I62 -> 19089 | H62: 1747 | I62: 17342 | J62: =K62+L62 -> 9304 | K62: 202 | L62: 9102 | M62: 402 | N62: =L62-M62 -> 8700 | O62: =P62+Q62 -> 15854 | P62: 829 | Q62: 15025 | S62: 1977 | T62: =B62 -> 278382 | U62: =V62+W62 -> 94512 | V62: 87903 | W62: 6609 | X62: =Y62+AB62 -> 13852 | Y62: 6949 | Z62: 1863 | AA62: =Y62-Z62 -> 5086 | AB62: 6903 | AC62: 485 | AD62: =AB62-AC62 -> 6418 | AE62: 130157 | AF62: 39861 | AH62: 1977 | AI62: 431404 | AJ62: =AK62+AL62+AM62 -> 8356 | AK62: 774 | AL62: 2554 | AM62: 5028 | AN62: 3261 | AO62: 14771 | AP62: 303091 | AQ62: =AR62+AS62 -> 37680 | AR62: 3712 | AS62: 33968 | AT62: =AI62-AK62-AL62-AM62-AN62-AO62-AP62-AQ62 -> 64245 | AV62: 1977 | AW62: =AI62 -> 431404 | AX62: =AY62+BB62 -> 3372 | AY62: 3148 | AZ62: 3148 | BA62: 0 | BB62: 224 | BC62: 224 | BD62: 0 | BE62: 384001 | BF62: 15165 | BG62: =BE62-BF62 -> 368836 | BH62: 44031 | BJ62: 1977 | BK62: 477578 | BL62: 135249 | BM62: 1269 | BN62: 8370 | BO62: 120082 | BP62: =BL62-BM62-BN62-BO62 -> 5528 | BQ62: 66591 | BR62: 12619 | BS62: 229374 | BT62: =BU62+BV62 -> 16541 | BU62: 9769 | BV62: 6772 | BW62: =BK62-BM62-BQ62-BR62-BS62-BT62-BN62-BP62 -> 137286 | BY62: 1977 | BZ62: =BK62 -> 477578 | CA62: =CB62+CE62 -> 119058 | CB62: 105062 | CC62: 102365 | CD62: =CB62-CC62 -> 2697 | CE62: 13996 | CF62: 13660 | CG62: =CE62-CF62 -> 336 | CH62: 324161 | CI62: 97100 | CJ62: =CH62-CI62 -> 227061 | CK62: 34359 | CM62: 1977 | CN62: 983149 | CO62: =C62+AK62+BM62 -> 46202 | CP62: =D62+G62+AN62+AO62+AP62+BQ62+BR62+BS62 -> 838772 | CQ62: =CN62-CO62-CP62 -> 98175 | CS62: 1977 | CT62: =CN62 -> 983149 | CU62: 88632 | CV62: =CW62+CX62 -> 121745 | CW62: 107376 | CX62: =AC62+BC62+CF62 -> 14369 | CY62: 657824 | CZ62: =CT62-CU62-CV62-CY62 -> 114948 | DB62: 1977 | DC62: =DE62-DD62 -> 604 | DD62: =N62 -> 8700 | DE62: =J62 -> 9304 | DF62: =D62 -> 189976 | DG62: =G62 -> 19089 | DH62: =AN62 -> 3261 | DI62: =AO62+AP62 -> 317862 | DJ62: =AQ62 -> 37680 | DK62: =BQ62 -> 66591 | DL62: =BR62+BS62 -> 241993 | DM62: =BT62 -> 16541 | DN62: =DF62+DH62+DK62 -> 259828 | DO62: =DG62+DI62+DL62 -> 578944 | DP62: =DE62+DF62+DG62 -> 218369 | DQ62: =DH62+DI62+DJ62 -> 358803 | DR62: =DK62+DL62+DM62 -> 325125 | DS62: =DN62+DO62 -> 838772 | DT62: =DE62+DJ62+DM62 -> 63525 | DU62: =DP62+DQ62+DR62 -> 902297 | DW62: 1977 | DX62: ='Rec y Obligaciones'!CU62+'Rec y Obligaciones'!CW62 -> 196008 | DY62: - | DZ62: 495200 | EA62: =DE62+DF62+DG62+C62 -> 262528
A63: 1978 | B63: 371929 | C63: 51606 | D63: =E63+F63 -> 258564 | E63: 260803 | F63: -2239 | G63: =H63+I63 -> 21220 | H63: 2132 | I63: 19088 | J63: =K63+L63 -> 8050 | K63: 795 | L63: 7255 | M63: 5106 | N63: =L63-M63 -> 2149 | O63: =P63+Q63 -> 32489 | P63: 984 | Q63: 31505 | S63: 1978 | T63: =B63 -> 371929 | U63: =V63+W63 -> 120876 | V63: 112297 | W63: 8579 | X63: =Y63+AB63 -> 11910 | Y63: 5778 | Z63: 818 | AA63: =Y63-Z63 -> 4960 | AB63: 6132 | AC63: 101 | AD63: =AB63-AC63 -> 6031 | AE63: 192227 | AF63: 46916 | AH63: 1978 | AI63: 470996 | AJ63: =AK63+AL63+AM63 -> 7554 | AK63: 690 | AL63: 2843 | AM63: 4021 | AN63: 3502 | AO63: 16382 | AP63: 333491 | AQ63: =AR63+AS63 -> 35875 | AR63: 2541 | AS63: 33334 | AT63: =AI63-AK63-AL63-AM63-AN63-AO63-AP63-AQ63 -> 74192 | AV63: 1978 | AW63: =AI63 -> 470996 | AX63: =AY63+BB63 -> 4858 | AY63: 4584 | AZ63: 4584 | BA63: 0 | BB63: 274 | BC63: 274 | BD63: 0 | BE63: 414456 | BF63: 23509 | BG63: =BE63-BF63 -> 390947 | BH63: 51682 | BJ63: 1978 | BK63: 627179 | BL63: 215667 | BM63: 3793 | BN63: 13561 | BO63: 192590 | BP63: =BL63-BM63-BN63-BO63 -> 5723 | BQ63: 59628 | BR63: 18386 | BS63: 301031 | BT63: =BU63+BV63 -> 15368 | BU63: 5531 | BV63: 9837 | BW63: =BK63-BM63-BQ63-BR63-BS63-BT63-BN63-BP63 -> 209689 | BY63: 1978 | BZ63: =BK63 -> 627179 | CA63: =CB63+CE63 -> 157479 | CB63: 142052 | CC63: 139788 | CD63: =CB63-CC63 -> 2264 | CE63: 15427 | CF63: 15270 | CG63: =CE63-CF63 -> 157 | CH63: 424890 | CI63: 161187 | CJ63: =CH63-CI63 -> 263703 | CK63: 44810 | CM63: 1978 | CN63: 1211928 | CO63: =C63+AK63+BM63 -> 56089 | CP63: =D63+G63+AN63+AO63+AP63+BQ63+BR63+BS63 -> 1012204 | CQ63: =CN63-CO63-CP63 -> 143635 | CS63: 1978 | CT63: =CN63 -> 1211928 | CU63: 114809 | CV63: =CW63+CX63 -> 160839 | CW63: 145194 | CX63: =AC63+BC63+CF63 -> 15645 | CY63: 798974 | CZ63: =CT63-CU63-CV63-CY63 -> 137306 | DB63: 1978 | DC63: =DE63-DD63 -> 5901 | DD63: =N63 -> 2149 | DE63: =J63 -> 8050 | DF63: =D63 -> 258564 | DG63: =G63 -> 21220 | DH63: =AN63 -> 3502 | DI63: =AO63+AP63 -> 349873 | DJ63: =AQ63 -> 35875 | DK63: =BQ63 -> 59628 | DL63: =BR63+BS63 -> 319417 | DM63: =BT63 -> 15368 | DN63: =DF63+DH63+DK63 -> 321694 | DO63: =DG63+DI63+DL63 -> 690510 | DP63: =DE63+DF63+DG63 -> 287834 | DQ63: =DH63+DI63+DJ63 -> 389250 | DR63: =DK63+DL63+DM63 -> 394413 | DS63: =DN63+DO63 -> 1012204 | DT63: =DE63+DJ63+DM63 -> 59293 | DU63: =DP63+DQ63+DR63 -> 1071497 | DW63: 1978 | DX63: ='Rec y Obligaciones'!CU63+'Rec y Obligaciones'!CW63 -> 260003 | DY63: - | DZ63: 640900 | EA63: =DE63+DF63+DG63+C63 -> 339440
A64: 1979 | B64: ='Fin 1979-1982'!H64 -> 605500 | C64: ='Reservas Int'!G64 -> 63801.24 | D64: ='Fin 1979-1982'!B10 -> 459500 | E64: - | F64: - | G64: ='Fin 1979-1982'!B15 -> 2900 | H64: - | I64: - | J64: =M64+N64 -> 19400 | K64: - | L64: - | M64: ='Fin 1979-1982'!B20 -> 11700 | N64: ='Fin 1979-1982'!B24 -> 7700 | O64: - | P64: - | Q64: - | S64: 1979 | T64: ='Fin 1979-1982'!P64 -> 605500 | U64: - | V64: - | W64: - | X64: - | Y64: - | Z64: - | AA64: - | AB64: - | AC64: - | AD64: - | AE64: - | AF64: - | AH64: 1979 | AI64: ='Fin 1979-1982'!W64 -> 631300 | AJ64: - | AK64: 0 | AL64: - | AM64: - | AN64: ='Fin 1979-1982'!B11 -> 96900 | AO64: 0 | AP64: ='Fin 1979-1982'!B16 -> 349100 | AQ64: ='Fin 1979-1982'!B25 -> 13100 | AR64: - | AS64: - | AT64: - | AV64: 1979 | AW64: ='Fin 1979-1982'!AE64 -> 631300 | AX64: - | AY64: - | AZ64: - | BA64: - | BB64: - | BC64: - | BD64: - | BE64: - | BF64: - | BG64: - | BH64: - | BJ64: 1979 | BK64: ='Fin 1979-1982'!AL64 -> 995200 | BL64: - | BM64: 0 | BN64: - | BO64: - | BP64: - | BQ64: ='Fin 1979-1982'!B12 -> 46400 | BR64: 0 | BS64: ='Fin 1979-1982'!B17 -> 487400 | BT64: ='Fin 1979-1982'!B21 -> 21800 | BU64: - | BV64: - | BW64: - | BY64: 1979 | BZ64: =BK64 -> 995200 | CA64: - | CB64: - | CC64: - | CD64: - | CE64: - | CF64: - | CG64: - | CH64: - | CI64: - | CJ64: - | CK64: - | CM64: 1979 | CN64: - | CO64: - | CP64: - | CQ64: - | CT64: - | CU64: 149550 | CV64: - | CW64: 196850 | CX64: - | CY64: - | CZ64: - | DB64: 1979 | DC64: =DE64-DD64 -> 11700 | DD64: =N64 -> 7700 | DE64: =J64 -> 19400 | DF64: =D64 -> 459500 | DG64: =G64 -> 2900 | DH64: =AN64 -> 96900 | DI64: =AO64+AP64 -> 349100 | DJ64: =AQ64 -> 13100 | DK64: =BQ64 -> 46400 | DL64: =BR64+BS64 -> 487400 | DM64: =BT64 -> 21800 | DN64: =DF64+DH64+DK64 -> 602800 | DO64: =DG64+DI64+DL64 -> 839400 | DP64: =DE64+DF64+DG64 -> 481800 | DQ64: =DH64+DI64+DJ64 -> 459100 | DR64: =DK64+DL64+DM64 -> 555600 | DS64: =DN64+DO64 -> 1442200 | DT64: =DE64+DJ64+DM64 -> 54300 | DU64: =DP64+DQ64+DR64 -> 1496500 | DW64: 1979 | DX64: ='Rec y Obligaciones'!CU64+'Rec y Obligaciones'!CW64 -> 346400 | DY64: - | DZ64: 865100 | EA64: =DE64+DF64+DG64+C64 -> 545601.24
