Workbook
Name \A: #REF!
Name \A: #REF!
Name \A: #REF!
Name \A: #REF!
Name \g: #REF!
Name \g: #REF!
Name \g: #REF!
Name \g: #REF!
Name \S: #REF!
Name \S: #REF!
Name \S: #REF!
Name \S: #REF!
Name ACTIVATE: #REF!
Name ACTIVATE: #REF!
Name ACTIVATE: #REF!
Name ACTIVATE: #REF!
Name ASSUMPT: #REF!
Name ASSUMPT: #REF!
Name ASSUMPT: #REF!
Name ASSUMPT: #REF!
Name ASSUMPTIONS: #REF!
Name ASSUMPTIONS: #REF!
Name ASSUMPTIONS: #REF!
Name ASSUMPTIONS: #REF!
Name basicdata1: #REF!
Name basicdata1: #REF!
Name basicdata1: #REF!
Name basicdata1: #REF!
Name basicdata2: #REF!
Name basicdata2: #REF!
Name basicdata2: #REF!
Name basicdata2: #REF!
Name BCA_NGDP: [5]Q6!$E$10:$AH$10
Name BMG: [5]Q6!$E$27:$AH$27
Name BOP: #REF!
Name BOP: #REF!
Name BOP: #REF!
Name BOP: #REF!
Name BXG: [5]Q6!$E$19:$AH$19
Name CAPITAL: #REF!
Name CAPITAL: #REF!
Name CAPITAL: #REF!
Name CAPITAL: #REF!
Name CARGO_BY_TYPE: '[6]Table No.18-Exports goods+servi'!#REF!
Name CARGO_BY_TYPE: '[6]Table No.18-Exports goods+servi'!#REF!
Name CARGO_BY_TYPE: '[6]Table No.18-Exports goods+servi'!#REF!
Name CARGO_BY_TYPE: '[6]Table No.18-Exports goods+servi'!#REF!
Name CCode: [7]Codes!$A$2
Name CENTRALG: #REF!
Name CENTRALG: #REF!
Name CENTRALG: #REF!
Name CENTRALG: #REF!
Name CFLOW: #REF!
Name CFLOW: #REF!
Name CFLOW: #REF!
Name CFLOW: #REF!
Name chart1: #REF!
Name chart1: #REF!
Name chart1: #REF!
Name chart1: #REF!

Sheet RyO3378
A1: Versión 05 | B1: Recursos Banxico | S1: Obligaciones Banxico | AH1: Recursos Banca nacional | AV1: Obligaciones Banca nacional | BJ1: Recursos Banca Privada y Mixta | BZ1: Obligaciones Banca Privada y Mixta | CN1: Recursos de las Instituciones de Crédito | CT1: Obligaciones de las Instituciones de Crédito
A2: Año | B2: Recursos Banxico (A + B) | C2: 1. Disponibilidades Reservas internacionales | D2: 2. Financiamiento al Gobierno | E2: a. Valores | F2: b. Crédito | G2: 3. Financiamiento a Empresas y Particulares | H2: a. Valores | I2: b. Crédito | J2: 4. Financiamiento a Bancos | K2: a. Valores | L2: b. Crédito | M2: i. Banca Nacional | N2: ii. Banca Privada | O2: Disponibilidades en bancos y Otros | P2: a. Disponibilidades en Bancos | Q2: b. Otros Recursos | S2: Año | T2: Obligaciones Banxico | U2: A. Billetes y Monedas | V2: 1. Billetes | W2: 2. Monedas | X2: B. Cheques | Y2: 1. Moneda Nacional | Z2: i. De los Cuales a Emp. y Part. | AA2: ii. Otros | AB2: 2. Moneda Extranjera | AC2: i. De los Cuales a Emp. y Part. | AD2: ii. Otros | AE2: C. Depositos | AF2: D. Otras Obligaciones | AH2: Año | AI2: Recursos Banca Nacional | AJ2: 1. Disponibilidades | AK2: a. Disponibilidades en Oro, Plata y Divisas | AL2: b. Disponibilidades en Otros Bancos | AM2: c. Otras Disponibilidades | AN2: 2. Financiamiento al Gobierno (Valores) | AO2: 4. Financiamiento a Emp. y Part. (Valores) | AP2: 5. Crédito a Gobierno, Empresas y Particulares | AQ2: 6. Financiamiento a Bancos | AR2: a. Valores a Bancos | AS2: a. Crédito a Bancos | AT2: 7. Otros Recursos | AV2: Año | AW2: Obligaciones Banca Nacional | AX2: 1. Cheques | AY2: a. Moneda Nacional | AZ2: i. De los Cuales a Emp. y Part. | BA2: ii. Otros | BB2: b. Moneda Extranjera | BC2: i. De los Cuales a Emp. y Part. | BD2: ii. Otros | BE2: 2. Depositos y Obligaciones | BF2: a. Depositos de Ahorro y Plazo | BG2: b. Obligaciones | BH2: 3. Capital y Otras Obligaciones | BJ2: Año | BK2: Recursos Totales de la Banca Privada | BL2: 1. Disponibilidades | BM2: a. Disponibilidades en Oro, Plata y Divisas | BN2: b. Disponibilidades en Otros Bancos | BO2: c. Reservas en Banco de México | BP2: d. Otras Disponibilidades | BQ2: 2. Financiamiento al Gobierno (Valores) | BR2: 3. Financiamiento a Emp. y Part. (Valores) | BS2: 4. Crédito a Gobierno, Empresas y Particulares | BT2: 5. Financiamiento a Bancos | BU2: a. Valores a Bancos | BV2: a. Crédito a Bancos | BW2: 6. Otros Recursos | BZ2: Año | CA2: Obligaciones Banca Privada | CB2: 1. Cheques | CC2: a. Moneda Nacional | CD2: i. De los Cuales a Emp. y Part. | CE2: ii. Otros | CF2: b. Moneda Extranjera | CG2: i. De los Cuales a Emp. y Part. | CH2: ii. Otros | CI2: 2. Depositos y Obligaciones | CJ2: a. Depositos de Ahorro y Plazo | CK2: b. Obligaciones | CL2: 3. Capital y Otras Obligaciones | CN2: Año | CO2: Recursos Inst. de Crédito | CP2: Disponibilidades | CQ2: Financiamiento no bancario | CR2: Otros recursos | CT2: Año | CU2: Obligaciones Inst. de Crédito | CV2: 1. Billetes y Monedas | CW2: 2. Cheques M. N. y M. E. | CX2: a. Cheques Moneda Nacional (Emp. y Part.) | CY2: b. Cheques Moneda Extranjera (Emp. y Part.) | CZ2: 3. Depositos | DA2: 4. Otras Obligaciones, capital, etc
A5: 1885 | B5: - | C5: - | D5: - | E5: - | F5: - | G5: - | H5: - | I5: - | J5: - | K5: - | L5: - | M5: - | N5: - | O5: - | P5: - | Q5: - | S5: - | T5: - | U5: - | V5: - | W5: - | X5: - | Y5: - | Z5: - | AA5: - | AB5: - | AC5: - | AD5: - | AE5: - | AF5: - | AG5: - | AH5: - | AI5: - | AJ5: - | AK5: - | AL5: - | AM5: - | AN5: - | AO5: - | AP5: - | AQ5: - | AR5: - | AS5: - | AT5: - | AV5: - | AW5: - | AX5: - | AY5: - | AZ5: - | BA5: - | BB5: - | BC5: - | BD5: - | BE5: - | BF5: - | BG5: - | BH5: - | BJ5: - | BK5: - | BL5: - | BM5: - | BN5: - | BO5: - | BP5: - | BQ5: - | BR5: - | BS5: - | BT5: - | BU5: - | BV5: - | BW5: - | BX5: - | BZ5: - | CA5: - | CB5: - | CC5: - | CD5: - | CE5: - | CF5: - | CG5: - | CH5: - | CI5: - | CJ5: - | CK5: - | CL5: - | CN5: - | CO5: - | CP5: - | CQ5: - | CR5: - | CT5: - | CU5: - | CV5: - | CW5: - | CX5: - | CY5: - | CZ5: - | DA5: -
A6: 1886 | B6: - | C6: - | D6: - | E6: - | F6: - | G6: - | H6: - | I6: - | J6: - | K6: - | L6: - | M6: - | N6: - | O6: - | P6: - | Q6: - | S6: - | T6: - | U6: - | V6: - | W6: - | X6: - | Y6: - | Z6: - | AA6: - | AB6: - | AC6: - | AD6: - | AE6: - | AF6: - | AG6: - | AH6: - | AI6: - | AJ6: - | AK6: - | AL6: - | AM6: - | AN6: - | AO6: - | AP6: - | AQ6: - | AR6: - | AS6: - | AT6: - | AV6: - | AW6: - | AX6: - | AY6: - | AZ6: - | BA6: - | BB6: - | BC6: - | BD6: - | BE6: - | BF6: - | BG6: - | BH6: - | BJ6: - | BK6: - | BL6: - | BM6: - | BN6: - | BO6: - | BP6: - | BQ6: - | BR6: - | BS6: - | BT6: - | BU6: - | BV6: - | BW6: - | BX6: - | BZ6: - | CA6: - | CB6: - | CC6: - | CD6: - | CE6: - | CF6: - | CG6: - | CH6: - | CI6: - | CJ6: - | CK6: - | CL6: - | CN6: - | CO6: - | CP6: - | CQ6: - | CR6: - | CT6: - | CU6: - | CV6: - | CW6: - | CX6: - | CY6: - | CZ6: - | DA6: -
A7: 1887 | B7: - | C7: - | D7: - | E7: - | F7: - | G7: - | H7: - | I7: - | J7: - | K7: - | L7: - | M7: - | N7: - | O7: - | P7: - | Q7: - | S7: - | T7: - | U7: - | V7: - | W7: - | X7: - | Y7: - | Z7: - | AA7: - | AB7: - | AC7: - | AD7: - | AE7: - | AF7: - | AG7: - | AH7: - | AI7: - | AJ7: - | AK7: - | AL7: - | AM7: - | AN7: - | AO7: - | AP7: - | AQ7: - | AR7: - | AS7: - | AT7: - | AV7: - | AW7: - | AX7: - | AY7: - | AZ7: - | BA7: - | BB7: - | BC7: - | BD7: - | BE7: - | BF7: - | BG7: - | BH7: - | BJ7: - | BK7: - | BL7: - | BM7: - | BN7: - | BO7: - | BP7: - | BQ7: - | BR7: - | BS7: - | BT7: - | BU7: - | BV7: - | BW7: - | BX7: - | BZ7: - | CA7: - | CB7: - | CC7: - | CD7: - | CE7: - | CF7: - | CG7: - | CH7: - | CI7: - | CJ7: - | CK7: - | CL7: - | CN7: - | CO7: - | CP7: - | CQ7: - | CR7: - | CT7: - | CU7: - | CV7: - | CW7: - | CX7: - | CY7: - | CZ7: - | DA7: -
A8: 1888 | B8: - | C8: - | D8: - | E8: - | F8: - | G8: - | H8: - | I8: - | J8: - | K8: - | L8: - | M8: - | N8: - | O8: - | P8: - | Q8: - | S8: - | T8: - | U8: - | V8: - | W8: - | X8: - | Y8: - | Z8: - | AA8: - | AB8: - | AC8: - | AD8: - | AE8: - | AF8: - | AG8: - | AH8: - | AI8: - | AJ8: - | AK8: - | AL8: - | AM8: - | AN8: - | AO8: - | AP8: - | AQ8: - | AR8: - | AS8: - | AT8: - | AV8: - | AW8: - | AX8: - | AY8: - | AZ8: - | BA8: - | BB8: - | BC8: - | BD8: - | BE8: - | BF8: - | BG8: - | BH8: - | BJ8: - | BK8: - | BL8: - | BM8: - | BN8: - | BO8: - | BP8: - | BQ8: - | BR8: - | BS8: - | BT8: - | BU8: - | BV8: - | BW8: - | BX8: - | BZ8: - | CA8: - | CB8: - | CC8: - | CD8: - | CE8: - | CF8: - | CG8: - | CH8: - | CI8: - | CJ8: - | CK8: - | CL8: - | CN8: - | CO8: - | CP8: - | CQ8: - | CR8: - | CT8: - | CU8: - | CV8: - | CW8: - | CX8: - | CY8: - | CZ8: - | DA8: -
A9: 1889 | B9: - | C9: - | D9: - | E9: - | F9: - | G9: - | H9: - | I9: - | J9: - | K9: - | L9: - | M9: - | N9: - | O9: - | P9: - | Q9: - | S9: - | T9: - | U9: - | V9: - | W9: - | X9: - | Y9: - | Z9: - | AA9: - | AB9: - | AC9: - | AD9: - | AE9: - | AF9: - | AG9: - | AH9: - | AI9: - | AJ9: - | AK9: - | AL9: - | AM9: - | AN9: - | AO9: - | AP9: - | AQ9: - | AR9: - | AS9: - | AT9: - | AV9: - | AW9: - | AX9: - | AY9: - | AZ9: - | BA9: - | BB9: - | BC9: - | BD9: - | BE9: - | BF9: - | BG9: - | BH9: - | BJ9: - | BK9: - | BL9: - | BM9: - | BN9: - | BO9: - | BP9: - | BQ9: - | BR9: - | BS9: - | BT9: - | BU9: - | BV9: - | BW9: - | BX9: - | BZ9: - | CA9: - | CB9: - | CC9: - | CD9: - | CE9: - | CF9: - | CG9: - | CH9: - | CI9: - | CJ9: - | CK9: - | CL9: - | CN9: - | CO9: - | CP9: - | CQ9: - | CR9: - | CT9: - | CU9: - | CV9: - | CW9: - | CX9: - | CY9: - | CZ9: - | DA9: -
A10: 1890 | B10: - | C10: - | D10: - | E10: - | F10: - | G10: - | H10: - | I10: - | J10: - | K10: - | L10: - | M10: - | N10: - | O10: - | P10: - | Q10: - | S10: - | T10: - | U10: - | V10: - | W10: - | X10: - | Y10: - | Z10: - | AA10: - | AB10: - | AC10: - | AD10: - | AE10: - | AF10: - | AG10: - | AH10: - | AI10: - | AJ10: - | AK10: - | AL10: - | AM10: - | AN10: - | AO10: - | AP10: - | AQ10: - | AR10: - | AS10: - | AT10: - | AV10: - | AW10: - | AX10: - | AY10: - | AZ10: - | BA10: - | BB10: - | BC10: - | BD10: - | BE10: - | BF10: - | BG10: - | BH10: - | BJ10: - | BK10: - | BL10: - | BM10: - | BN10: - | BO10: - | BP10: - | BQ10: - | BR10: - | BS10: - | BT10: - | BU10: - | BV10: - | BW10: - | BX10: - | BZ10: - | CA10: - | CB10: - | CC10: - | CD10: - | CE10: - | CF10: - | CG10: - | CH10: - | CI10: - | CJ10: - | CK10: - | CL10: - | CN10: - | CO10: - | CP10: - | CQ10: - | CR10: - | CT10: - | CU10: - | CV10: - | CW10: - | CX10: - | CY10: - | CZ10: - | DA10: -
A11: 1891 | B11: - | C11: - | D11: - | E11: - | F11: - | G11: - | H11: - | I11: - | J11: - | K11: - | L11: - | M11: - | N11: - | O11: - | P11: - | Q11: - | S11: - | T11: - | U11: - | V11: - | W11: - | X11: - | Y11: - | Z11: - | AA11: - | AB11: - | AC11: - | AD11: - | AE11: - | AF11: - | AG11: - | AH11: - | AI11: - | AJ11: - | AK11: - | AL11: - | AM11: - | AN11: - | AO11: - | AP11: - | AQ11: - | AR11: - | AS11: - | AT11: - | AV11: - | AW11: - | AX11: - | AY11: - | AZ11: - | BA11: - | BB11: - | BC11: - | BD11: - | BE11: - | BF11: - | BG11: - | BH11: - | BJ11: - | BK11: - | BL11: - | BM11: - | BN11: - | BO11: - | BP11: - | BQ11: - | BR11: - | BS11: - | BT11: - | BU11: - | BV11: - | BW11: - | BX11: - | BZ11: - | CA11: - | CB11: - | CC11: - | CD11: - | CE11: - | CF11: - | CG11: - | CH11: - | CI11: - | CJ11: - | CK11: - | CL11: - | CN11: - | CO11: - | CP11: - | CQ11: - | CR11: - | CT11: - | CU11: - | CV11: - | CW11: - | CX11: - | CY11: - | CZ11: - | DA11: -
A12: 1892 | B12: - | C12: - | D12: - | E12: - | F12: - | G12: - | H12: - | I12: - | J12: - | K12: - | L12: - | M12: - | N12: - | O12: - | P12: - | Q12: - | S12: - | T12: - | U12: - | V12: - | W12: - | X12: - | Y12: - | Z12: - | AA12: - | AB12: - | AC12: - | AD12: - | AE12: - | AF12: - | AG12: - | AH12: - | AI12: - | AJ12: - | AK12: - | AL12: - | AM12: - | AN12: - | AO12: - | AP12: - | AQ12: - | AR12: - | AS12: - | AT12: - | AV12: - | AW12: - | AX12: - | AY12: - | AZ12: - | BA12: - | BB12: - | BC12: - | BD12: - | BE12: - | BF12: - | BG12: - | BH12: - | BJ12: - | BK12: - | BL12: - | BM12: - | BN12: - | BO12: - | BP12: - | BQ12: - | BR12: - | BS12: - | BT12: - | BU12: - | BV12: - | BW12: - | BX12: - | BZ12: - | CA12: - | CB12: - | CC12: - | CD12: - | CE12: - | CF12: - | CG12: - | CH12: - | CI12: - | CJ12: - | CK12: - | CL12: - | CN12: - | CO12: - | CP12: - | CQ12: - | CR12: - | CT12: - | CU12: - | CV12: - | CW12: - | CX12: - | CY12: - | CZ12: - | DA12: -
A13: 1893 | B13: - | C13: - | D13: - | E13: - | F13: - | G13: - | H13: - | I13: - | J13: - | K13: - | L13: - | M13: - | N13: - | O13: - | P13: - | Q13: - | S13: - | T13: - | U13: - | V13: - | W13: - | X13: - | Y13: - | Z13: - | AA13: - | AB13: - | AC13: - | AD13: - | AE13: - | AF13: - | AG13: - | AH13: - | AI13: - | AJ13: - | AK13: - | AL13: - | AM13: - | AN13: - | AO13: - | AP13: - | AQ13: - | AR13: - | AS13: - | AT13: - | AV13: - | AW13: - | AX13: - | AY13: - | AZ13: - | BA13: - | BB13: - | BC13: - | BD13: - | BE13: - | BF13: - | BG13: - | BH13: - | BJ13: - | BK13: - | BL13: - | BM13: - | BN13: - | BO13: - | BP13: - | BQ13: - | BR13: - | BS13: - | BT13: - | BU13: - | BV13: - | BW13: - | BX13: - | BZ13: - | CA13: - | CB13: - | CC13: - | CD13: - | CE13: - | CF13: - | CG13: - | CH13: - | CI13: - | CJ13: - | CK13: - | CL13: - | CN13: - | CO13: - | CP13: - | CQ13: - | CR13: - | CT13: - | CU13: - | CV13: - | CW13: - | CX13: - | CY13: - | CZ13: - | DA13: -
A14: 1894 | B14: - | C14: - | D14: - | E14: - | F14: - | G14: - | H14: - | I14: - | J14: - | K14: - | L14: - | M14: - | N14: - | O14: - | P14: - | Q14: - | S14: - | T14: - | U14: - | V14: - | W14: - | X14: - | Y14: - | Z14: - | AA14: - | AB14: - | AC14: - | AD14: - | AE14: - | AF14: - | AG14: - | AH14: - | AI14: - | AJ14: - | AK14: - | AL14: - | AM14: - | AN14: - | AO14: - | AP14: - | AQ14: - | AR14: - | AS14: - | AT14: - | AV14: - | AW14: - | AX14: - | AY14: - | AZ14: - | BA14: - | BB14: - | BC14: - | BD14: - | BE14: - | BF14: - | BG14: - | BH14: - | BJ14: - | BK14: - | BL14: - | BM14: - | BN14: - | BO14: - | BP14: - | BQ14: - | BR14: - | BS14: - | BT14: - | BU14: - | BV14: - | BW14: - | BX14: - | BZ14: - | CA14: - | CB14: - | CC14: - | CD14: - | CE14: - | CF14: - | CG14: - | CH14: - | CI14: - | CJ14: - | CK14: - | CL14: - | CN14: - | CO14: - | CP14: - | CQ14: - | CR14: - | CT14: - | CU14: - | CV14: - | CW14: - | CX14: - | CY14: - | CZ14: - | DA14: -
A15: 1895 | B15: - | C15: - | D15: - | E15: - | F15: - | G15: - | H15: - | I15: - | J15: - | K15: - | L15: - | M15: - | N15: - | O15: - | P15: - | Q15: - | S15: - | T15: - | U15: - | V15: - | W15: - | X15: - | Y15: - | Z15: - | AA15: - | AB15: - | AC15: - | AD15: - | AE15: - | AF15: - | AG15: - | AH15: - | AI15: - | AJ15: - | AK15: - | AL15: - | AM15: - | AN15: - | AO15: - | AP15: - | AQ15: - | AR15: - | AS15: - | AT15: - | AV15: - | AW15: - | AX15: - | AY15: - | AZ15: - | BA15: - | BB15: - | BC15: - | BD15: - | BE15: - | BF15: - | BG15: - | BH15: - | BJ15: - | BK15: - | BL15: - | BM15: - | BN15: - | BO15: - | BP15: - | BQ15: - | BR15: - | BS15: - | BT15: - | BU15: - | BV15: - | BW15: - | BX15: - | BZ15: - | CA15: - | CB15: - | CC15: - | CD15: - | CE15: - | CF15: - | CG15: - | CH15: - | CI15: - | CJ15: - | CK15: - | CL15: - | CN15: - | CO15: - | CP15: - | CQ15: - | CR15: - | CT15: - | CU15: - | CV15: - | CW15: - | CX15: - | CY15: - | CZ15: - | DA15: -
A16: 1896 | B16: - | C16: - | D16: - | E16: - | F16: - | G16: - | H16: - | I16: - | J16: - | K16: - | L16: - | M16: - | N16: - | O16: - | P16: - | Q16: - | S16: - | T16: - | U16: - | V16: - | W16: - | X16: - | Y16: - | Z16: - | AA16: - | AB16: - | AC16: - | AD16: - | AE16: - | AF16: - | AG16: - | AH16: - | AI16: - | AJ16: - | AK16: - | AL16: - | AM16: - | AN16: - | AO16: - | AP16: - | AQ16: - | AR16: - | AS16: - | AT16: - | AV16: - | AW16: - | AX16: - | AY16: - | AZ16: - | BA16: - | BB16: - | BC16: - | BD16: - | BE16: - | BF16: - | BG16: - | BH16: - | BJ16: - | BK16: - | BL16: - | BM16: - | BN16: - | BO16: - | BP16: - | BQ16: - | BR16: - | BS16: - | BT16: - | BU16: - | BV16: - | BW16: - | BX16: - | BZ16: - | CA16: - | CB16: - | CC16: - | CD16: - | CE16: - | CF16: - | CG16: - | CH16: - | CI16: - | CJ16: - | CK16: - | CL16: - | CN16: - | CO16: - | CP16: - | CQ16: - | CR16: - | CT16: - | CU16: - | CV16: - | CW16: - | CX16: - | CY16: - | CZ16: - | DA16: -
... A52: 1932 | B52: - | C52: - | D52: - | E52: - | F52: - | G52: - | H52: - | I52: - | J52: - | K52: - | L52: - | M52: - | N52: - | O52: - | P52: - | Q52: - | S52: - | T52: - | U52: - | V52: - | W52: - | X52: - | Y52: - | Z52: - | AA52: - | AB52: - | AC52: - | AD52: - | AE52: - | AF52: - | AG52: - | AH52: - | AI52: - | AJ52: - | AK52: - | AL52: - | AM52: - | AN52: - | AO52: - | AP52: - | AQ52: - | AR52: - | AS52: - | AT52: - | AV52: - | AW52: - | AX52: - | AY52: - | AZ52: - | BA52: - | BB52: - | BC52: - | BD52: - | BE52: - | BF52: - | BG52: - | BH52: - | BJ52: - | BK52: - | BL52: - | BM52: - | BN52: - | BO52: - | BP52: - | BQ52: - | BR52: - | BS52: - | BT52: - | BU52: - | BV52: - | BW52: - | BX52: - | BZ52: - | CA52: - | CB52: - | CC52: - | CD52: - | CE52: - | CF52: - | CG52: - | CH52: - | CI52: - | CJ52: - | CK52: - | CL52: - | CN52: - | CO52: - | CP52: - | CQ52: - | CR52: - | CT52: - | CU52: - | CV52: - | CW52: - | CX52: - | CY52: - | CZ52: - | DA52: -
A53: 1933 | B53: 458 | C53: 131 | D53: =E53+F53 -> 10 | E53: 0 | F53: 10 | G53: =H53+I53 -> 30 | H53: 0 | I53: 30 | J53: =K53+L53 -> 9 | K53: 9 | L53: 0 | M53: 0 | N53: =L53-M53 -> 0 | O53: =P53+Q53 -> 278 | P53: 2 | Q53: 276 | S53: 1933 | T53: =B53 -> 458 | U53: =V53+W53 -> 288 | V53: 78 | W53: 210 | X53: =Y53+AB53 -> 55 | Y53: 53 | Z53: 27 | AA53: =Y53-Z53 -> 26 | AB53: 2 | AC53: 1 | AD53: =AB53-AC53 -> 1 | AE53: 14 | AF53: 101 | AH53: 1933 | AI53: 48 | AJ53: =AK53+AL53+AM53 -> 4 | AK53: 0 | AL53: 4 | AM53: 0 | AN53: 0 | AO53: 0 | AP53: 30 | AQ53: =AR53+AS53 -> 3 | AR53: 3 | AS53: 0 | AT53: =AI53-AK53-AL53-AM53-AN53-AO53-AP53-AQ53 -> 11 | AV53: 1933 | AW53: =AI53 -> 48 | AX53: =AY53+BB53 -> 0 | AY53: 0 | AZ53: 0 | BA53: 0 | BB53: 0 | BC53: 0 | BD53: 0 | BE53: 8 | BF53: 0 | BG53: =BE53-BF53 -> 8 | BH53: 40 | BJ53: 1933 | BK53: 418 | BL53: 113 | BM53: 26 | BN53: 8 | BO53: 32 | BP53: =BL53-BM53-BN53-BO53 -> 47 | BQ53: 0 | BR53: 0 | BS53: 264 | BT53: =BU53+BV53 -> 0 | BU53: 0 | BV53: 0 | BW53: =BK53-BM53-BQ53-BR53-BS53-BT53-BN53-BP53 -> 73 | BZ53: 1933 | CA53: =BK53 -> 418 | CB53: =CC53+CF53 -> 183 | CC53: 143 | CD53: 143 | CE53: =CC53-CD53 -> 0 | CF53: 40 | CG53: 40 | CH53: =CF53-CG53 -> 0 | CI53: 142 | CJ53: 79 | CK53: =CI53-CJ53 -> 63 | CL53: 93 | CN53: 1933 | CO53: 819 | CP53: =C53+AK53+BM53 -> 157 | CQ53: =D53+G53+AN53+AO53+AP53+BQ53+BR53+BS53 -> 334 | CR53: =CO53-CP53-CQ53 -> 328 | CT53: 1933 | CU53: =CO53 -> 819 | CV53: 241 | CW53: =CX53+CY53 -> 211 | CX53: 170 | CY53: =AC53+BC53+CG53 -> 41 | CZ53: 93 | DA53: =CU53-CV53-CW53-CZ53 -> 274
A54: 1934 | B54: 537 | C54: 191 | D54: =E54+F54 -> -11 | E54: 2 | F54: -13 | G54: =H54+I54 -> 42 | H54: 0 | I54: 42 | J54: =K54+L54 -> 28 | K54: 14 | L54: 14 | M54: 0 | N54: =L54-M54 -> 14 | O54: =P54+Q54 -> 287 | P54: 4 | Q54: 283 | S54: 1934 | T54: =B54 -> 537 | U54: =V54+W54 -> 332 | V54: 100 | W54: 232 | X54: =Y54+AB54 -> 71 | Y54: 68 | Z54: 37 | AA54: =Y54-Z54 -> 31 | AB54: 3 | AC54: 2 | AD54: =AB54-AC54 -> 1 | AE54: 22 | AF54: 112 | AH54: 1934 | AI54: 89 | AJ54: =AK54+AL54+AM54 -> 3 | AK54: 0 | AL54: 2 | AM54: 1 | AN54: 0 | AO54: 0 | AP54: 54 | AQ54: =AR54+AS54 -> 7 | AR54: 7 | AS54: 0 | AT54: =AI54-AK54-AL54-AM54-AN54-AO54-AP54-AQ54 -> 25 | AV54: 1934 | AW54: =AI54 -> 89 | AX54: =AY54+BB54 -> 0 | AY54: 0 | AZ54: 0 | BA54: 0 | BB54: 0 | BC54: 0 | BD54: 0 | BE54: 26 | BF54: 0 | BG54: =BE54-BF54 -> 26 | BH54: 63 | BJ54: 1934 | BK54: 428 | BL54: 137 | BM54: 35 | BN54: 17 | BO54: 32 | BP54: =BL54-BM54-BN54-BO54 -> 53 | BQ54: 0 | BR54: 0 | BS54: 256 | BT54: =BU54+BV54 -> 0 | BU54: 0 | BV54: 0 | BW54: =BK54-BM54-BQ54-BR54-BS54-BT54-BN54-BP54 -> 67 | BZ54: 1934 | CA54: =BK54 -> 428 | CB54: =CC54+CF54 -> 193 | CC54: 152 | CD54: 152 | CE54: =CC54-CD54 -> 0 | CF54: 41 | CG54: 41 | CH54: =CF54-CG54 -> 0 | CI54: 146 | CJ54: 71 | CK54: =CI54-CJ54 -> 75 | CL54: 89 | CN54: 1934 | CO54: 910 | CP54: =C54+AK54+BM54 -> 226 | CQ54: =D54+G54+AN54+AO54+AP54+BQ54+BR54+BS54 -> 341 | CR54: =CO54-CP54-CQ54 -> 343 | CT54: 1934 | CU54: =CO54 -> 910 | CV54: 279 | CW54: =CX54+CY54 -> 232 | CX54: 189 | CY54: =AC54+BC54+CG54 -> 43 | CZ54: 78 | DA54: =CU54-CV54-CW54-CZ54 -> 321
A55: 1935 | B55: 600 | C55: 335 | D55: =E55+F55 -> -22 | E55: 5 | F55: -27 | G55: =H55+I55 -> 47 | H55: 0 | I55: 47 | J55: =K55+L55 -> 28 | K55: 14 | L55: 14 | M55: 0 | N55: =L55-M55 -> 14 | O55: =P55+Q55 -> 212 | P55: 6 | Q55: 206 | S55: 1935 | T55: =B55 -> 600 | U55: =V55+W55 -> 363 | V55: 221 | W55: 142 | X55: =Y55+AB55 -> 77 | Y55: 75 | Z55: 39 | AA55: =Y55-Z55 -> 36 | AB55: 2 | AC55: 1 | AD55: =AB55-AC55 -> 1 | AE55: 44 | AF55: 116 | AH55: 1935 | AI55: 104 | AJ55: =AK55+AL55+AM55 -> 8 | AK55: 0 | AL55: 3 | AM55: 5 | AN55: 10 | AO55: 2 | AP55: 54 | AQ55: =AR55+AS55 -> 22 | AR55: 13 | AS55: 9 | AT55: =AI55-AK55-AL55-AM55-AN55-AO55-AP55-AQ55 -> 8 | AV55: 1935 | AW55: =AI55 -> 104 | AX55: =AY55+BB55 -> 0 | AY55: 0 | AZ55: 0 | BA55: 0 | BB55: 0 | BC55: 0 | BD55: 0 | BE55: 46 | BF55: 0 | BG55: =BE55-BF55 -> 46 | BH55: 58 | BJ55: 1935 | BK55: 477 | BL55: 147 | BM55: 57 | BN55: 10 | BO55: 11 | BP55: =BL55-BM55-BN55-BO55 -> 69 | BQ55: 4 | BR55: 5 | BS55: 274 | BT55: =BU55+BV55 -> 8 | BU55: 8 | BV55: 0 | BW55: =BK55-BM55-BQ55-BR55-BS55-BT55-BN55-BP55 -> 50 | BZ55: 1935 | CA55: =BK55 -> 477 | CB55: =CC55+CF55 -> 200 | CC55: 160 | CD55: 160 | CE55: =CC55-CD55 -> 0 | CF55: 40 | CG55: 40 | CH55: =CF55-CG55 -> 0 | CI55: 182 | CJ55: 47 | CK55: =CI55-CJ55 -> 135 | CL55: 95 | CN55: 1935 | CO55: 1018 | CP55: =C55+AK55+BM55 -> 392 | CQ55: =D55+G55+AN55+AO55+AP55+BQ55+BR55+BS55 -> 374 | CR55: =CO55-CP55-CQ55 -> 252 | CT55: 1935 | CU55: =CO55 -> 1018 | CV55: 316 | CW55: =CX55+CY55 -> 240 | CX55: 199 | CY55: =AC55+BC55+CG55 -> 41 | CZ55: 169 | DA55: =CU55-CV55-CW55-CZ55 -> 293
A56: 1936 | B56: 682 | C56: 322 | D56: =E56+F56 -> 26 | E56: 15 | F56: 11 | G56: =H56+I56 -> 61 | H56: 1 | I56: 60 | J56: =K56+L56 -> 28 | K56: 14 | L56: 14 | M56: 0 | N56: =L56-M56 -> 14 | O56: =P56+Q56 -> 245 | P56: 2 | Q56: 243 | S56: 1936 | T56: =B56 -> 682 | U56: =V56+W56 -> 454 | V56: 270 | W56: 184 | X56: =Y56+AB56 -> 86 | Y56: 78 | Z56: 32 | AA56: =Y56-Z56 -> 46 | AB56: 8 | AC56: 7 | AD56: =AB56-AC56 -> 1 | AE56: 45 | AF56: 97 | AH56: 1936 | AI56: 164 | AJ56: =AK56+AL56+AM56 -> 7 | AK56: 0 | AL56: 3 | AM56: 4 | AN56: 19 | AO56: 6 | AP56: 105 | AQ56: =AR56+AS56 -> 6 | AR56: 6 | AS56: 0 | AT56: =AI56-AK56-AL56-AM56-AN56-AO56-AP56-AQ56 -> 21 | AV56: 1936 | AW56: =AI56 -> 164 | AX56: =AY56+BB56 -> 0 | AY56: 0 | AZ56: 0 | BA56: 0 | BB56: 0 | BC56: 0 | BD56: 0 | BE56: 70 | BF56: 0 | BG56: =BE56-BF56 -> 70 | BH56: 94 | BJ56: 1936 | BK56: 527 | BL56: 140 | BM56: 34 | BN56: 14 | BO56: 0 | BP56: =BL56-BM56-BN56-BO56 -> 92 | BQ56: 4 | BR56: 7 | BS56: 319 | BT56: =BU56+BV56 -> 11 | BU56: 11 | BV56: 0 | BW56: =BK56-BM56-BQ56-BR56-BS56-BT56-BN56-BP56 -> 46 | BZ56: 1936 | CA56: =BK56 -> 527 | CB56: =CC56+CF56 -> 212 | CC56: 188 | CD56: 187 | CE56: =CC56-CD56 -> 1 | CF56: 24 | CG56: 24 | CH56: =CF56-CG56 -> 0 | CI56: 215 | CJ56: 38 | CK56: =CI56-CJ56 -> 177 | CL56: 100 | CN56: 1936 | CO56: 1213 | CP56: =C56+AK56+BM56 -> 356 | CQ56: =D56+G56+AN56+AO56+AP56+BQ56+BR56+BS56 -> 547 | CR56: =CO56-CP56-CQ56 -> 310 | CT56: 1936 | CU56: =CO56 -> 1213 | CV56: 407 | CW56: =CX56+CY56 -> 250 | CX56: 219 | CY56: =AC56+BC56+CG56 -> 31 | CZ56: 217 | DA56: =CU56-CV56-CW56-CZ56 -> 339
A57: 1937 | B57: 695 | C57: 202 | D57: =E57+F57 -> 42 | E57: 17 | F57: 25 | G57: =H57+I57 -> 53 | H57: 1 | I57: 52 | J57: =K57+L57 -> 127 | K57: 21 | L57: 106 | M57: 89.3 | N57: =L57-M57 -> 16.7 | O57: =P57+Q57 -> 271 | P57: 3 | Q57: 268 | S57: 1937 | T57: =B57 -> 695 | U57: =V57+W57 -> 504 | V57: 287 | W57: 217 | X57: =Y57+AB57 -> 68 | Y57: 58 | Z57: 24 | AA57: =Y57-Z57 -> 34 | AB57: 10 | AC57: 9 | AD57: =AB57-AC57 -> 1 | AE57: 31 | AF57: 92 | AH57: 1937 | AI57: 273 | AJ57: =AK57+AL57+AM57 -> 9 | AK57: 3 | AL57: 2 | AM57: 4 | AN57: 19 | AO57: 14 | AP57: 213 | AQ57: =AR57+AS57 -> 8 | AR57: 8 | AS57: 0 | AT57: =AI57-AK57-AL57-AM57-AN57-AO57-AP57-AQ57 -> 10 | AV57: 1937 | AW57: =AI57 -> 273 | AX57: =AY57+BB57 -> 1 | AY57: 1 | AZ57: 1 | BA57: 0 | BB57: 0 | BC57: 0 | BD57: 0 | BE57: 161 | BF57: 0 | BG57: =BE57-BF57 -> 161 | BH57: 111 | BJ57: 1937 | BK57: 536 | BL57: 122 | BM57: 23 | BN57: 10 | BO57: 0 | BP57: =BL57-BM57-BN57-BO57 -> 89 | BQ57: 7 | BR57: 10 | BS57: 340 | BT57: =BU57+BV57 -> 13 | BU57: 13 | BV57: 0 | BW57: =BK57-BM57-BQ57-BR57-BS57-BT57-BN57-BP57 -> 44 | BZ57: 1937 | CA57: =BK57 -> 536 | CB57: =CC57+CF57 -> 194 | CC57: 183 | CD57: 182 | CE57: =CC57-CD57 -> 1 | CF57: 11 | CG57: 11 | CH57: =CF57-CG57 -> 0 | CI57: 217 | CJ57: 43 | CK57: =CI57-CJ57 -> 174 | CL57: 125 | CN57: 1937 | CO57: 1268 | CP57: =C57+AK57+BM57 -> 228 | CQ57: =D57+G57+AN57+AO57+AP57+BQ57+BR57+BS57 -> 698 | CR57: =CO57-CP57-CQ57 -> 342 | CT57: 1937 | CU57: =CO57 -> 1268 | CV57: 456 | CW57: =CX57+CY57 -> 227 | CX57: 207 | CY57: =AC57+BC57+CG57 -> 20 | CZ57: 309 | DA57: =CU57-CV57-CW57-CZ57 -> 276
A58: 1938 | B58: 775 | C58: 212 | D58: =E58+F58 -> 149 | E58: 31 | F58: 118 | G58: =H58+I58 -> 75 | H58: 1 | I58: 74 | J58: =K58+L58 -> 39 | K58: 19 | L58: 20 | M58: 0 | N58: =L58-M58 -> 20 | O58: =P58+Q58 -> 300 | P58: 6 | Q58: 294 | S58: 1938 | T58: =B58 -> 775 | U58: =V58+W58 -> 566 | V58: 297 | W58: 269 | X58: =Y58+AB58 -> 83 | Y58: 80 | Z58: 27 | AA58: =Y58-Z58 -> 53 | AB58: 3 | AC58: 1 | AD58: =AB58-AC58 -> 2 | AE58: 27 | AF58: 99 | AH58: 1938 | AI58: 295 | AJ58: =AK58+AL58+AM58 -> 11 | AK58: 4 | AL58: 3 | AM58: 4 | AN58: 8 | AO58: 20 | AP58: 210 | AQ58: =AR58+AS58 -> 24 | AR58: 6 | AS58: 18 | AT58: =AI58-AK58-AL58-AM58-AN58-AO58-AP58-AQ58 -> 22 | AV58: 1938 | AW58: =AI58 -> 295 | AX58: =AY58+BB58 -> 1 | AY58: 1 | AZ58: 1 | BA58: 0 | BB58: 0 | BC58: 0 | BD58: 0 | BE58: 134 | BF58: 0 | BG58: =BE58-BF58 -> 134 | BH58: 160 | BJ58: 1938 | BK58: 521 | BL58: 153 | BM58: 25 | BN58: 17 | BO58: 49 | BP58: =BL58-BM58-BN58-BO58 -> 62 | BQ58: 11 | BR58: 15 | BS58: 284 | BT58: =BU58+BV58 -> 9 | BU58: 9 | BV58: 0 | BW58: =BK58-BM58-BQ58-BR58-BS58-BT58-BN58-BP58 -> 98 | BZ58: 1938 | CA58: =BK58 -> 521 | CB58: =CC58+CF58 -> 210 | CC58: 197 | CD58: 196 | CE58: =CC58-CD58 -> 1 | CF58: 13 | CG58: 13 | CH58: =CF58-CG58 -> 0 | CI58: 184 | CJ58: 35 | CK58: =CI58-CJ58 -> 149 | CL58: 127 | CN58: 1938 | CO58: 1380 | CP58: =C58+AK58+BM58 -> 241 | CQ58: =D58+G58+AN58+AO58+AP58+BQ58+BR58+BS58 -> 772 | CR58: =CO58-CP58-CQ58 -> 367 | CT58: 1938 | CU58: =CO58 -> 1380 | CV58: 513 | CW58: =CX58+CY58 -> 238 | CX58: 224 | CY58: =AC58+BC58+CG58 -> 14 | CZ58: 271 | DA58: =CU58-CV58-CW58-CZ58 -> 358
A59: 1939 | B59: 864 | C59: 210 | D59: =E59+F59 -> 223 | E59: 102 | F59: 121 | G59: =H59+I59 -> 94 | H59: 1 | I59: 93 | J59: =K59+L59 -> 33 | K59: 17 | L59: 16 | M59: 0 | N59: =L59-M59 -> 16 | O59: =P59+Q59 -> 304 | P59: 5 | Q59: 299 | S59: 1939 | T59: =B59 -> 864 | U59: =V59+W59 -> 647 | V59: 373 | W59: 274 | X59: =Y59+AB59 -> 79 | Y59: 71 | Z59: 19 | AA59: =Y59-Z59 -> 52 | AB59: 8 | AC59: 2 | AD59: =AB59-AC59 -> 6 | AE59: 33 | AF59: 105 | AH59: 1939 | AI59: 353 | AJ59: =AK59+AL59+AM59 -> 9 | AK59: 3 | AL59: 3 | AM59: 3 | AN59: 12 | AO59: 16 | AP59: 265 | AQ59: =AR59+AS59 -> 30 | AR59: 7 | AS59: 23 | AT59: =AI59-AK59-AL59-AM59-AN59-AO59-AP59-AQ59 -> 21 | AV59: 1939 | AW59: =AI59 -> 353 | AX59: =AY59+BB59 -> 2 | AY59: 2 | AZ59: 2 | BA59: 0 | BB59: 0 | BC59: 0 | BD59: 0 | BE59: 181 | BF59: 0 | BG59: =BE59-BF59 -> 181 | BH59: 170 | BJ59: 1939 | BK59: 644 | BL59: 167 | BM59: 31 | BN59: 27 | BO59: 56 | BP59: =BL59-BM59-BN59-BO59 -> 53 | BQ59: 13 | BR59: 18 | BS59: 380 | BT59: =BU59+BV59 -> 10 | BU59: 10 | BV59: 0 | BW59: =BK59-BM59-BQ59-BR59-BS59-BT59-BN59-BP59 -> 112 | BZ59: 1939 | CA59: =BK59 -> 644 | CB59: =CC59+CF59 -> 286 | CC59: 265 | CD59: 264 | CE59: =CC59-CD59 -> 1 | CF59: 21 | CG59: 21 | CH59: =CF59-CG59 -> 0 | CI59: 222 | CJ59: 35 | CK59: =CI59-CJ59 -> 187 | CL59: 136 | CN59: 1939 | CO59: 1639 | CP59: =C59+AK59+BM59 -> 244 | CQ59: =D59+G59+AN59+AO59+AP59+BQ59+BR59+BS59 -> 1021 | CR59: =CO59-CP59-CQ59 -> 374 | CT59: 1939 | CU59: =CO59 -> 1639 | CV59: 598 | CW59: =CX59+CY59 -> 308 | CX59: 285 | CY59: =AC59+BC59+CG59 -> 23 | CZ59: 348 | DA59: =CU59-CV59-CW59-CZ59 -> 385
A60: 1940 | B60: 1076 | C60: 310 | D60: =E60+F60 -> 308 | E60: 296 | F60: 12 | G60: =H60+I60 -> 85 | H60: 3 | I60: 82 | J60: =K60+L60 -> 19 | K60: 16 | L60: 3 | M60: 0 | N60: =L60-M60 -> 3 | O60: =P60+Q60 -> 354 | P60: 3 | Q60: 351 | S60: 1940 | T60: =B60 -> 1076 | U60: =V60+W60 -> 747 | V60: 421 | W60: 326 | X60: =Y60+AB60 -> 181 | Y60: 171 | Z60: 20 | AA60: =Y60-Z60 -> 151 | AB60: 10 | AC60: 3 | AD60: =AB60-AC60 -> 7 | AE60: 35 | AF60: 113 | AH60: 1940 | AI60: 349 | AJ60: =AK60+AL60+AM60 -> 12 | AK60: 1 | AL60: 6 | AM60: 5 | AN60: 9 | AO60: 28 | AP60: 246 | AQ60: =AR60+AS60 -> 17 | AR60: 7 | AS60: 10 | AT60: =AI60-AK60-AL60-AM60-AN60-AO60-AP60-AQ60 -> 37 | AV60: 1940 | AW60: =AI60 -> 349 | AX60: =AY60+BB60 -> 3 | AY60: 3 | AZ60: 3 | BA60: 0 | BB60: 0 | BC60: 0 | BD60: 0 | BE60: 114 | BF60: 0 | BG60: =BE60-BF60 -> 114 | BH60: 232 | BJ60: 1940 | BK60: 794 | BL60: 305 | BM60: 25 | BN60: 35 | BO60: 161 | BP60: =BL60-BM60-BN60-BO60 -> 84 | BQ60: 23 | BR60: 21 | BS60: 386 | BT60: =BU60+BV60 -> 12 | BU60: 12 | BV60: 0 | BW60: =BK60-BM60-BQ60-BR60-BS60-BT60-BN60-BP60 -> 208 | BZ60: 1940 | CA60: =BK60 -> 794 | CB60: =CC60+CF60 -> 420 | CC60: 382 | CD60: 377 | CE60: =CC60-CD60 -> 5 | CF60: 38 | CG60: 38 | CH60: =CF60-CG60 -> 0 | CI60: 236 | CJ60: 76 | CK60: =CI60-CJ60 -> 160 | CL60: 138 | CN60: 1940 | CO60: 1878 | CP60: =C60+AK60+BM60 -> 336 | CQ60: =D60+G60+AN60+AO60+AP60+BQ60+BR60+BS60 -> 1106 | CR60: =CO60-CP60-CQ60 -> 436 | CT60: 1940 | CU60: =CO60 -> 1878 | CV60: 662 | CW60: =CX60+CY60 -> 441 | CX60: 400 | CY60: =AC60+BC60+CG60 -> 41 | CZ60: 315 | DA60: =CU60-CV60-CW60-CZ60 -> 460
A61: 1941 | B61: 1213 | C61: 300 | D61: =E61+F61 -> 454 | E61: 442 | F61: 12 | G61: =H61+I61 -> 90 | H61: 3 | I61: 87 | J61: =K61+L61 -> 25 | K61: 15 | L61: 10 | M61: 0 | N61: =L61-M61 -> 10 | O61: =P61+Q61 -> 344 | P61: 7 | Q61: 337 | S61: 1941 | T61: =B61 -> 1213 | U61: =V61+W61 -> 867 | V61: 563 | W61: 304 | X61: =Y61+AB61 -> 174 | Y61: 167 | Z61: 21 | AA61: =Y61-Z61 -> 146 | AB61: 7 | AC61: 5 | AD61: =AB61-AC61 -> 2 | AE61: 45 | AF61: 127 | AH61: 1941 | AI61: 437 | AJ61: =AK61+AL61+AM61 -> 21 | AK61: 1 | AL61: 9 | AM61: 11 | AN61: 11 | AO61: 53 | AP61: 310 | AQ61: =AR61+AS61 -> 10 | AR61: 10 | AS61: 0 | AT61: =AI61-AK61-AL61-AM61-AN61-AO61-AP61-AQ61 -> 32 | AV61: 1941 | AW61: =AI61 -> 437 | AX61: =AY61+BB61 -> 5 | AY61: 5 | AZ61: 5 | BA61: 0 | BB61: 0 | BC61: 0 | BD61: 0 | BE61: 159 | BF61: 0 | BG61: =BE61-BF61 -> 159 | BH61: 273 | BJ61: 1941 | BK61: 984 | BL61: 307 | BM61: 38 | BN61: 53 | BO61: 148 | BP61: =BL61-BM61-BN61-BO61 -> 68 | BQ61: 7 | BR61: 35 | BS61: 559 | BT61: =BU61+BV61 -> 18 | BU61: 18 | BV61: 0 | BW61: =BK61-BM61-BQ61-BR61-BS61-BT61-BN61-BP61 -> 206 | BZ61: 1941 | CA61: =BK61 -> 984 | CB61: =CC61+CF61 -> 493 | CC61: 453 | CD61: 446 | CE61: =CC61-CD61 -> 7 | CF61: 40 | CG61: 40 | CH61: =CF61-CG61 -> 0 | CI61: 320 | CJ61: 103 | CK61: =CI61-CJ61 -> 217 | CL61: 171 | CN61: 1941 | CO61: 2286 | CP61: =C61+AK61+BM61 -> 339 | CQ61: =D61+G61+AN61+AO61+AP61+BQ61+BR61+BS61 -> 1519 | CR61: =CO61-CP61-CQ61 -> 428 | CT61: 1941 | CU61: =CO61 -> 2286 | CV61: 796 | CW61: =CX61+CY61 -> 517 | CX61: 472 | CY61: =AC61+BC61+CG61 -> 45 | CZ61: 434 | DA61: =CU61-CV61-CW61-CZ61 -> 539
A62: 1942 | B62: 1681 | C62: 493 | D62: =E62+F62 -> 593 | E62: 581 | F62: 12 | G62: =H62+I62 -> 133 | H62: 2 | I62: 131 | J62: =K62+L62 -> 95 | K62: 21 | L62: 74 | M62: 0 | N62: =L62-M62 -> 74 | O62: =P62+Q62 -> 367 | P62: 7 | Q62: 360 | S62: 1942 | T62: =B62 -> 1681 | U62: =V62+W62 -> 1096 | V62: 753 | W62: 343 | X62: =Y62+AB62 -> 372 | Y62: 346 | Z62: 39 | AA62: =Y62-Z62 -> 307 | AB62: 26 | AC62: 24 | AD62: =AB62-AC62 -> 2 | AE62: 52 | AF62: 161 | AH62: 1942 | AI62: 586 | AJ62: =AK62+AL62+AM62 -> 33 | AK62: 2 | AL62: 21 | AM62: 10 | AN62: 154 | AO62: 46 | AP62: 285 | AQ62: =AR62+AS62 -> 32 | AR62: 13 | AS62: 19 | AT62: =AI62-AK62-AL62-AM62-AN62-AO62-AP62-AQ62 -> 36 | AV62: 1942 | AW62: =AI62 -> 586 | AX62: =AY62+BB62 -> 3 | AY62: 3 | AZ62: 3 | BA62: 0 | BB62: 0 | BC62: 0 | BD62: 0 | BE62: 319 | BF62: 1 | BG62: =BE62-BF62 -> 318 | BH62: 264 | BJ62: 1942 | BK62: 1486 | BL62: 524 | BM62: 42 | BN62: 86 | BO62: 323 | BP62: =BL62-BM62-BN62-BO62 -> 73 | BQ62: 21 | BR62: 66 | BS62: 727 | BT62: =BU62+BV62 -> 79 | BU62: 58 | BV62: 21 | BW62: =BK62-BM62-BQ62-BR62-BS62-BT62-BN62-BP62 -> 392 | BZ62: 1942 | CA62: =BK62 -> 1486 | CB62: =CC62+CF62 -> 760 | CC62: 720 | CD62: 687 | CE62: =CC62-CD62 -> 33 | CF62: 40 | CG62: 38 | CH62: =CF62-CG62 -> 2 | CI62: 467 | CJ62: 129 | CK62: =CI62-CJ62 -> 338 | CL62: 259 | CN62: 1942 | CO62: 3029 | CP62: =C62+AK62+BM62 -> 537 | CQ62: =D62+G62+AN62+AO62+AP62+BQ62+BR62+BS62 -> 2025 | CR62: =CO62-CP62-CQ62 -> 467 | CT62: 1942 | CU62: =CO62 -> 3029 | CV62: 1021 | CW62: =CX62+CY62 -> 791 | CX62: 729 | CY62: =AC62+BC62+CG62 -> 62 | CZ62: 593 | DA62: =CU62-CV62-CW62-CZ62 -> 624
A63: 1943 | B63: 2559 | C63: 1174 | D63: =E63+F63 -> 531 | E63: 522 | F63: 9 | G63: =H63+I63 -> 202 | H63: 12 | I63: 190 | J63: =K63+L63 -> 145 | K63: 30 | L63: 115 | M63: 0 | N63: =L63-M63 -> 115 | O63: =P63+Q63 -> 507 | P63: 40 | Q63: 467 | S63: 1943 | T63: =B63 -> 2559 | U63: =V63+W63 -> 1614 | V63: 1171 | W63: 443 | X63: =Y63+AB63 -> 701 | Y63: 686 | Z63: 46 | AA63: =Y63-Z63 -> 640 | AB63: 15 | AC63: 10 | AD63: =AB63-AC63 -> 5 | AE63: 73 | AF63: 171 | AH63: 1943 | AI63: 838 | AJ63: =AK63+AL63+AM63 -> 43 | AK63: 6 | AL63: 24 | AM63: 13 | AN63: 199 | AO63: 134 | AP63: 330 | AQ63: =AR63+AS63 -> 84 | AR63: 69 | AS63: 15 | AT63: =AI63-AK63-AL63-AM63-AN63-AO63-AP63-AQ63 -> 48 | AV63: 1943 | AW63: =AI63 -> 838 | AX63: =AY63+BB63 -> 11 | AY63: 10 | AZ63: 10 | BA63: 0 | BB63: 1 | BC63: 1 | BD63: 0 | BE63: 542 | BF63: 2 | BG63: =BE63-BF63 -> 540 | BH63: 285 | BJ63: 1943 | BK63: 2263 | BL63: 917 | BM63: 44 | BN63: 120 | BO63: 620 | BP63: =BL63-BM63-BN63-BO63 -> 133 | BQ63: 35 | BR63: 97 | BS63: 898 | BT63: =BU63+BV63 -> 44 | BU63: 19 | BV63: 25 | BW63: =BK63-BM63-BQ63-BR63-BS63-BT63-BN63-BP63 -> 892 | BZ63: 1943 | CA63: =BK63 -> 2263 | CB63: =CC63+CF63 -> 1226 | CC63: 1182 | CD63: 1139 | CE63: =CC63-CD63 -> 43 | CF63: 44 | CG63: 43 | CH63: =CF63-CG63 -> 1 | CI63: 704 | CJ63: 214 | CK63: =CI63-CJ63 -> 490 | CL63: 333 | CN63: 1943 | CO63: 4337 | CP63: =C63+AK63+BM63 -> 1224 | CQ63: =D63+G63+AN63+AO63+AP63+BQ63+BR63+BS63 -> 2426 | CR63: =CO63-CP63-CQ63 -> 687 | CT63: 1943 | CU63: =CO63 -> 4337 | CV63: 1477 | CW63: =CX63+CY63 -> 1249 | CX63: 1195 | CY63: =AC63+BC63+CG63 -> 54 | CZ63: -37 | DA63: =CU63-CV63-CW63-CZ63 -> 1648
A64: 1944 | B64: 3179 | C64: 1357 | D64: =E64+F64 -> 616 | E64: 618 | F64: -2 | G64: =H64+I64 -> 436 | H64: 23 | I64: 413 | J64: =K64+L64 -> 196 | K64: 73 | L64: 123 | M64: 0 | N64: =L64-M64 -> 123 | O64: =P64+Q64 -> 574 | P64: 22 | Q64: 552 | S64: 1944 | T64: =B64 -> 3179 | U64: =V64+W64 -> 1882 | V64: 1358 | W64: 524 | X64: =Y64+AB64 -> 1025 | Y64: 1009 | Z64: 60 | AA64: =Y64-Z64 -> 949 | AB64: 16 | AC64: 4 | AD64: =AB64-AC64 -> 12 | AE64: 57 | AF64: 215 | AH64: 1944 | AI64: 946 | AJ64: =AK64+AL64+AM64 -> 28 | AK64: 2 | AL64: 9 | AM64: 17 | AN64: 251 | AO64: 180 | AP64: 334 | AQ64: =AR64+AS64 -> 97 | AR64: 31 | AS64: 66 | AT64: =AI64-AK64-AL64-AM64-AN64-AO64-AP64-AQ64 -> 56 | AV64: 1944 | AW64: =AI64 -> 946 | AX64: =AY64+BB64 -> 10 | AY64: 9 | AZ64: 9 | BA64: 0 | BB64: 1 | BC64: 1 | BD64: 0 | BE64: 675 | BF64: 0 | BG64: =BE64-BF64 -> 675 | BH64: 261 | BJ64: 1944 | BK64: 2949 | BL64: 1238 | BM64: 75 | BN64: 142 | BO64: 910 | BP64: =BL64-BM64-BN64-BO64 -> 111 | BQ64: 73 | BR64: 141 | BS64: 1221 | BT64: =BU64+BV64 -> 163 | BU64: 133 | BV64: 30 | BW64: =BK64-BM64-BQ64-BR64-BS64-BT64-BN64-BP64 -> 1023 | BZ64: 1944 | CA64: =BK64 -> 2949 | CB64: =CC64+CF64 -> 1578 | CC64: 1510 | CD64: 1473 | CE64: =CC64-CD64 -> 37 | CF64: 68 | CG64: 67 | CH64: =CF64-CG64 -> 1 | CI64: 958 | CJ64: 294 | CK64: =CI64-CJ64 -> 664 | CL64: 413 | CN64: 1944 | CO64: 5408 | CP64: =C64+AK64+BM64 -> 1434 | CQ64: =D64+G64+AN64+AO64+AP64+BQ64+BR64+BS64 -> 3252 | CR64: =CO64-CP64-CQ64 -> 722 | CT64: 1944 | CU64: =CO64 -> 5408 | CV64: 1767 | CW64: =CX64+CY64 -> 1614 | CX64: 1542 | CY64: =AC64+BC64+CG64 -> 72 | CZ64: 1180 | DA64: =CU64-CV64-CW64-CZ64 -> 847
... A89: 1969 | B89: 32741 | C89: 8981 | D89: =E89+F89 -> 16538 | E89: 16089 | F89: 449 | G89: =H89+I89 -> 1802 | H89: 786 | I89: 1016 | J89: =K89+L89 -> 1023 | K89: 667 | L89: 356 | M89: 233 | N89: =L89-M89 -> 123 | O89: =P89+Q89 -> 4397 | P89: 87 | Q89: 4310 | S89: 1969 | T89: =B89 -> 32741 | U89: =V89+W89 -> 19015 | V89: 17500 | W89: 1515 | X89: =Y89+AB89 -> 8753 | Y89: 8028 | Z89: 789 | AA89: =Y89-Z89 -> 7239 | AB89: 725 | AC89: 67 | AD89: =AB89-AC89 -> 658 | AE89: 850 | AF89: 4123 | AH89: 1969 | AI89: 63797 | AJ89: =AK89+AL89+AM89 -> 937 | AK89: 265 | AL89: 369 | AM89: 303 | AN89: 1632 | AO89: 3548 | AP89: 46742 | AQ89: =AR89+AS89 -> 7091 | AR89: 1427 | AS89: 5664 | AT89: =AI89-AK89-AL89-AM89-AN89-AO89-AP89-AQ89 -> 3847 | AV89: 1969 | AW89: =AI89 -> 63797 | AX89: =AY89+BB89 -> 199 | AY89: 179 | AZ89: 179 | BA89: 0 | BB89: 20 | BC89: 20 | BD89: 0 | BE89: 51942 | BF89: 415 | BG89: =BE89-BF89 -> 51527 | BH89: 11656 | BJ89: 1969 | BK89: 122825 | BL89: 13125 | BM89: 1009 | BN89: 3522 | BO89: 7875 | BP89: =BL89-BM89-BN89-BO89 -> 719 | BQ89: 23675 | BR89: 5434 | BS89: 67389 | BT89: =BU89+BV89 -> 8709 | BU89: 7025 | BV89: 1684 | BW89: =BK89-BM89-BQ89-BR89-BS89-BT89-BN89-BP89 -> 12368 | BZ89: 1969 | CA89: =BK89 -> 122825 | CB89: =CC89+CF89 -> 29069 | CC89: 27259 | CD89: 25127 | CE89: =CC89-CD89 -> 2132 | CF89: 1810 | CG89: 1773 | CH89: =CF89-CG89 -> 37 | CI89: 80293 | CJ89: 12475 | CK89: =CI89-CJ89 -> 67818 | CL89: 13463 | CN89: 1969 | CO89: 191130 | CP89: =C89+AK89+BM89 -> 10255 | CQ89: =D89+G89+AN89+AO89+AP89+BQ89+BR89+BS89 -> 166760 | CR89: =CO89-CP89-CQ89 -> 14115 | CT89: 1969 | CU89: =CO89 -> 191130 | CV89: 18246 | CW89: =CX89+CY89 -> 27994 | CX89: 26134 | CY89: =AC89+BC89+CG89 -> 1860 | CZ89: 118067 | DA89: =CU89-CV89-CW89-CZ89 -> 26823
A90: 1970 | B90: 35742 | C90: 10327 | D90: =E90+F90 -> 17143 | E90: 16945 | F90: 198 | G90: =H90+I90 -> 2201 | H90: 865 | I90: 1336 | J90: =K90+L90 -> 988 | K90: 710 | L90: 278 | M90: 233 | N90: =L90-M90 -> 45 | O90: =P90+Q90 -> 5083 | P90: 59 | Q90: 5024 | S90: 1970 | T90: =B90 -> 35742 | U90: =V90+W90 -> 20941 | V90: 19242 | W90: 1699 | X90: =Y90+AB90 -> 9139 | Y90: 8346 | Z90: 1025 | AA90: =Y90-Z90 -> 7321 | AB90: 793 | AC90: 23 | AD90: =AB90-AC90 -> 770 | AE90: 529 | AF90: 5133 | AH90: 1970 | AI90: 69891 | AJ90: =AK90+AL90+AM90 -> 964 | AK90: 242 | AL90: 475 | AM90: 247 | AN90: 2329 | AO90: 3769 | AP90: 51322 | AQ90: =AR90+AS90 -> 7144 | AR90: 1257 | AS90: 5887 | AT90: =AI90-AK90-AL90-AM90-AN90-AO90-AP90-AQ90 -> 4363 | AV90: 1970 | AW90: =AI90 -> 69891 | AX90: =AY90+BB90 -> 244 | AY90: 229 | AZ90: 229 | BA90: 0 | BB90: 15 | BC90: 15 | BD90: 0 | BE90: 57209 | BF90: 407 | BG90: =BE90-BF90 -> 56802 | BH90: 12438 | BJ90: 1970 | BK90: 144955 | BL90: 14338 | BM90: 1199 | BN90: 4265 | BO90: 8111 | BP90: =BL90-BM90-BN90-BO90 -> 763 | BQ90: 27063 | BR90: 6401 | BS90: 83684 | BT90: =BU90+BV90 -> 9323 | BU90: 8112 | BV90: 1211 | BW90: =BK90-BM90-BQ90-BR90-BS90-BT90-BN90-BP90 -> 12257 | BX90: =BQ90+BR90+BS90+BT90 -> 126471 | BZ90: 1970 | CA90: =BK90 -> 144955 | CB90: =CC90+CF90 -> 32267 | CC90: 30381 | CD90: 27615 | CE90: =CC90-CD90 -> 2766 | CF90: 1886 | CG90: 1849 | CH90: =CF90-CG90 -> 37 | CI90: 97748 | CJ90: 13964 | CK90: =CI90-CJ90 -> 83784 | CL90: 14940 | CN90: 1970 | CO90: 220351 | CP90: =C90+AK90+BM90 -> 11768 | CQ90: =D90+G90+AN90+AO90+AP90+BQ90+BR90+BS90 -> 193912 | CR90: =CO90-CP90-CQ90 -> 14671 | CT90: 1970 | CU90: =CO90 -> 220351 | CV90: 20143 | CW90: =CX90+CY90 -> 30796 | CX90: 28909 | CY90: =AC90+BC90+CG90 -> 1887 | CZ90: 139736 | DA90: =CU90-CV90-CW90-CZ90 -> 29676
A91: 1971 | B91: 40976 | C91: 12859 | D91: =E91+F91 -> 14576 | E91: 13986 | F91: 590 | G91: =H91+I91 -> 3170 | H91: 1219 | I91: 1951 | J91: =K91+L91 -> 1311 | K91: 210 | L91: 1101 | M91: 233 | N91: =L91-M91 -> 868 | O91: =P91+Q91 -> 9060 | P91: 78 | Q91: 8982 | S91: 1971 | T91: =B91 -> 40976 | U91: =V91+W91 -> 22564 | V91: 20474 | W91: 2090 | X91: =Y91+AB91 -> 9581 | Y91: 8955 | Z91: 1165 | AA91: =Y91-Z91 -> 7790 | AB91: 626 | AC91: 22 | AD91: =AB91-AC91 -> 604 | AE91: 2731 | AF91: 6100 | AH91: 1971 | AI91: 84000 | AJ91: =AK91+AL91+AM91 -> 1404 | AK91: 505 | AL91: 592 | AM91: 307 | AN91: 2740 | AO91: 4553 | AP91: 60803 | AQ91: =AR91+AS91 -> 9643 | AR91: 1787 | AS91: 7856 | AT91: =AI91-AK91-AL91-AM91-AN91-AO91-AP91-AQ91 -> 4857 | AV91: 1971 | AW91: =AI91 -> 84000 | AX91: =AY91+BB91 -> 231 | AY91: 216 | AZ91: 216 | BA91: 0 | BB91: 15 | BC91: 15 | BD91: 0 | BE91: 68182 | BF91: 731 | BG91: =BE91-BF91 -> 67451 | BH91: 15587 | BJ91: 1971 | BK91: 167127 | BL91: 16781 | BM91: 1209 | BN91: 5048 | BO91: 9821 | BP91: =BL91-BM91-BN91-BO91 -> 703 | BQ91: 34403 | BR91: 6781 | BS91: 93859 | BT91: =BU91+BV91 -> 9993 | BU91: 8562 | BV91: 1431 | BW91: =BK91-BM91-BQ91-BR91-BS91-BT91-BN91-BP91 -> 15131 | BZ91: 1971 | CA91: =BK91 -> 167127 | CB91: =CC91+CF91 -> 34436 | CC91: 32646 | CD91: 29856 | CE91: =CC91-CD91 -> 2790 | CF91: 1790 | CG91: 1754 | CH91: =CF91-CG91 -> 36 | CI91: 115738 | CJ91: 16739 | CK91: =CI91-CJ91 -> 98999 | CL91: 16953 | CN91: 1971 | CO91: 256005 | CP91: =C91+AK91+BM91 -> 14573 | CQ91: =D91+G91+AN91+AO91+AP91+BQ91+BR91+BS91 -> 220885 | CR91: =CO91-CP91-CQ91 -> 20547 | CT91: 1971 | CU91: =CO91 -> 256005 | CV91: 21824 | CW91: =CX91+CY91 -> 33090 | CX91: 31299 | CY91: =AC91+BC91+CG91 -> 1791 | CZ91: 165718 | DA91: =CU91-CV91-CW91-CZ91 -> 35373
A92: 1972 | B92: 66389 | C92: 16801 | D92: =E92+F92 -> 37577 | E92: 37422 | F92: 155 | G92: =H92+I92 -> 2326 | H92: 1066 | I92: 1260 | J92: =K92+L92 -> 489 | K92: 170 | L92: 319 | M92: 298 | N92: =L92-M92 -> 21 | O92: =P92+Q92 -> 9196 | P92: 156 | Q92: 9040 | S92: 1972 | T92: =B92 -> 66389 | U92: =V92+W92 -> 27748 | V92: 25363 | W92: 2385 | X92: =Y92+AB92 -> 10142 | Y92: 9521 | Z92: 1261 | AA92: =Y92-Z92 -> 8260 | AB92: 621 | AC92: 8 | AD92: =AB92-AC92 -> 613 | AE92: 21348 | AF92: 7151 | AH92: 1972 | AI92: 95735 | AJ92: =AK92+AL92+AM92 -> 1473 | AK92: 238 | AL92: 931 | AM92: 304 | AN92: 2778 | AO92: 4768 | AP92: 68561 | AQ92: =AR92+AS92 -> 13301 | AR92: 1757 | AS92: 11544 | AT92: =AI92-AK92-AL92-AM92-AN92-AO92-AP92-AQ92 -> 4854 | AV92: 1972 | AW92: =AI92 -> 95735 | AX92: =AY92+BB92 -> 437 | AY92: 387 | AZ92: 387 | BA92: 0 | BB92: 50 | BC92: 50 | BD92: 0 | BE92: 77122 | BF92: 753 | BG92: =BE92-BF92 -> 76369 | BH92: 18176 | BJ92: 1972 | BK92: 192651 | BL92: 35608 | BM92: 772 | BN92: 4589 | BO92: 29325 | BP92: =BL92-BM92-BN92-BO92 -> 922 | BQ92: 24333 | BR92: 7629 | BS92: 107723 | BT92: =BU92+BV92 -> 10823 | BU92: 9620 | BV92: 1203 | BW92: =BK92-BM92-BQ92-BR92-BS92-BT92-BN92-BP92 -> 35860 | BZ92: 1972 | CA92: =BK92 -> 192651 | CB92: =CC92+CF92 -> 40052 | CC92: 37896 | CD92: 35903 | CE92: =CC92-CD92 -> 1993 | CF92: 2156 | CG92: 2120 | CH92: =CF92-CG92 -> 36 | CI92: 133923 | CJ92: 19167 | CK92: =CI92-CJ92 -> 114756 | CL92: 18676 | CN92: 1972 | CO92: 296319 | CP92: =C92+AK92+BM92 -> 17811 | CQ92: =D92+G92+AN92+AO92+AP92+BQ92+BR92+BS92 -> 255695 | CR92: =CO92-CP92-CQ92 -> 22813 | CT92: 1972 | CU92: =CO92 -> 296319 | CV92: 26777 | CW92: =CX92+CY92 -> 39770 | CX92: 37592 | CY92: =AC92+BC92+CG92 -> 2178 | CZ92: 189438 | DA92: =CU92-CV92-CW92-CZ92 -> 40334
A93: 1973 | B93: 87948 | C93: 17976 | D93: =E93+F93 -> 59215 | E93: 59206 | F93: 9 | G93: =H93+I93 -> 3157 | H93: 1131 | I93: 2026 | J93: =K93+L93 -> 670 | K93: 327 | L93: 343 | M93: 343 | N93: =L93-M93 -> 0 | O93: =P93+Q93 -> 6930 | P93: 422 | Q93: 6508 | S93: 1973 | T93: =B93 -> 87948 | U93: =V93+W93 -> 36901 | V93: 34227 | W93: 2674 | X93: =Y93+AB93 -> 12643 | Y93: 10914 | Z93: 1706 | AA93: =Y93-Z93 -> 9208 | AB93: 1729 | AC93: 126 | AD93: =AB93-AC93 -> 1603 | AE93: 28623 | AF93: 9781 | AH93: 1973 | AI93: 117869 | AJ93: =AK93+AL93+AM93 -> 2945 | AK93: 1503 | AL93: 996 | AM93: 446 | AN93: 1896 | AO93: 6425 | AP93: 83216 | AQ93: =AR93+AS93 -> 17286 | AR93: 1904 | AS93: 15382 | AT93: =AI93-AK93-AL93-AM93-AN93-AO93-AP93-AQ93 -> 6101 | AV93: 1973 | AW93: =AI93 -> 117869 | AX93: =AY93+BB93 -> 568 | AY93: 546 | AZ93: 546 | BA93: 0 | BB93: 22 | BC93: 22 | BD93: 0 | BE93: 98311 | BF93: 1048 | BG93: =BE93-BF93 -> 97263 | BH93: 18990 | BJ93: 1973 | BK93: 219529 | BL93: 49878 | BM93: 2807 | BN93: 5199 | BO93: 39233 | BP93: =BL93-BM93-BN93-BO93 -> 2639 | BQ93: 22462 | BR93: 8174 | BS93: 118090 | BT93: =BU93+BV93 -> 12963 | BU93: 10953 | BV93: 2010 | BW93: =BK93-BM93-BQ93-BR93-BS93-BT93-BN93-BP93 -> 47195 | BZ93: 1973 | CA93: =BK93 -> 219529 | CB93: =CC93+CF93 -> 50004 | CC93: 45719 | CD93: 43447 | CE93: =CC93-CD93 -> 2272 | CF93: 4285 | CG93: 4246 | CH93: =CF93-CG93 -> 39 | CI93: 148901 | CJ93: 23126 | CK93: =CI93-CJ93 -> 125775 | CL93: 20624 | CN93: 1973 | CO93: 347779 | CP93: =C93+AK93+BM93 -> 22286 | CQ93: =D93+G93+AN93+AO93+AP93+BQ93+BR93+BS93 -> 302635 | CR93: =CO93-CP93-CQ93 -> 22858 | CT93: 1973 | CU93: =CO93 -> 347779 | CV93: 34176 | CW93: =CX93+CY93 -> 50116 | CX93: 45722 | CY93: =AC93+BC93+CG93 -> 4394 | CZ93: 218454 | DA93: =CU93-CV93-CW93-CZ93 -> 45033
A94: 1974 | B94: 121915 | C94: 18176 | D94: =E94+F94 -> 90928 | E94: 94027 | F94: -3099 | G94: =H94+I94 -> 5055 | H94: 1675 | I94: 3380 | J94: =K94+L94 -> 479 | K94: 228 | L94: 251 | M94: 249 | N94: =L94-M94 -> 2 | O94: =P94+Q94 -> 7277 | P94: 315 | Q94: 6962 | S94: 1974 | T94: =B94 -> 121915 | U94: =V94+W94 -> 46505 | V94: 43470 | W94: 3035 | X94: =Y94+AB94 -> 11585 | Y94: 10369 | Z94: 834 | AA94: =Y94-Z94 -> 9535 | AB94: 1216 | AC94: 9 | AD94: =AB94-AC94 -> 1207 | AE94: 50360 | AF94: 13465 | AH94: 1974 | AI94: 150848 | AJ94: =AK94+AL94+AM94 -> 2981 | AK94: 632 | AL94: 1558 | AM94: 791 | AN94: 2135 | AO94: 6797 | AP94: 107308 | AQ94: =AR94+AS94 -> 22725 | AR94: 2107 | AS94: 20618 | AT94: =AI94-AK94-AL94-AM94-AN94-AO94-AP94-AQ94 -> 8902 | AV94: 1974 | AW94: =AI94 -> 150848 | AX94: =AY94+BB94 -> 997 | AY94: 946 | AZ94: 946 | BA94: 0 | BB94: 51 | BC94: 51 | BD94: 0 | BE94: 128000 | BF94: 847 | BG94: =BE94-BF94 -> 127153 | BH94: 21851 | BJ94: 1974 | BK94: 255556 | BL94: 70373 | BM94: 688 | BN94: 6207 | BO94: 59815 | BP94: =BL94-BM94-BN94-BO94 -> 3663 | BQ94: 20664 | BR94: 8967 | BS94: 132027 | BT94: =BU94+BV94 -> 15373 | BU94: 12918 | BV94: 2455 | BW94: =BK94-BM94-BQ94-BR94-BS94-BT94-BN94-BP94 -> 67967 | BZ94: 1974 | CA94: =BK94 -> 255556 | CB94: =CC94+CF94 -> 59864 | CC94: 56305 | CD94: 53007 | CE94: =CC94-CD94 -> 3298 | CF94: 3559 | CG94: 3507 | CH94: =CF94-CG94 -> 52 | CI94: 172684 | CJ94: 26403 | CK94: =CI94-CJ94 -> 146281 | CL94: 23008 | CN94: 1974 | CO94: 418924 | CP94: =C94+AK94+BM94 -> 19496 | CQ94: =D94+G94+AN94+AO94+AP94+BQ94+BR94+BS94 -> 373881 | CR94: =CO94-CP94-CQ94 -> 25547 | CT94: 1974 | CU94: =CO94 -> 418924 | CV94: 42686 | CW94: =CX94+CY94 -> 58366 | CX94: 54799 | CY94: =AC94+BC94+CG94 -> 3567 | CZ94: 265138 | DA94: =CU94-CV94-CW94-CZ94 -> 52734
A95: 1975 | B95: 158566 | C95: 20153 | D95: =E95+F95 -> 123409 | E95: 125904 | F95: -2495 | G95: =H95+I95 -> 5056 | H95: 1181 | I95: 3875 | J95: =K95+L95 -> 816 | K95: 666 | L95: 150 | M95: 150 | N95: =L95-M95 -> 0 | O95: =P95+Q95 -> 9132 | P95: 1147 | Q95: 7985 | S95: 1975 | T95: =B95 -> 158566 | U95: =V95+W95 -> 56708 | V95: 53131 | W95: 3577 | X95: =Y95+AB95 -> 2742 | Y95: 1111 | Z95: 856 | AA95: =Y95-Z95 -> 255 | AB95: 1631 | AC95: 13 | AD95: =AB95-AC95 -> 1618 | AE95: 85574 | AF95: 13542 | AH95: 1975 | AI95: 202442 | AJ95: =AK95+AL95+AM95 -> 4194 | AK95: 1162 | AL95: 2022 | AM95: 1010 | AN95: 4587 | AO95: 9143 | AP95: 140836 | AQ95: =AR95+AS95 -> 31216 | AR95: 3416 | AS95: 27800 | AT95: =AI95-AK95-AL95-AM95-AN95-AO95-AP95-AQ95 -> 12466 | AV95: 1975 | AW95: =AI95 -> 202442 | AX95: =AY95+BB95 -> 1479 | AY95: 1440 | AZ95: 1440 | BA95: 0 | BB95: 39 | BC95: 39 | BD95: 0 | BE95: 170857 | BF95: 1601 | BG95: =BE95-BF95 -> 169256 | BH95: 30106 | BJ95: 1975 | BK95: 318903 | BL95: 98141 | BM95: 750 | BN95: 7767 | BO95: 85381 | BP95: =BL95-BM95-BN95-BO95 -> 4243 | BQ95: 27621 | BR95: 10373 | BS95: 156452 | BT95: =BU95+BV95 -> 17340 | BU95: 12226 | BV95: 5114 | BW95: =BK95-BM95-BQ95-BR95-BS95-BT95-BN95-BP95 -> 94357 | BZ95: 1975 | CA95: =BK95 -> 318903 | CB95: =CC95+CF95 -> 72637 | CC95: 68559 | CD95: 63708 | CE95: =CC95-CD95 -> 4851 | CF95: 4078 | CG95: 3985 | CH95: =CF95-CG95 -> 93 | CI95: 219756 | CJ95: 29458 | CK95: =CI95-CJ95 -> 190298 | CL95: 26510 | CN95: 1975 | CO95: 531847 | CP95: =C95+AK95+BM95 -> 22065 | CQ95: =D95+G95+AN95+AO95+AP95+BQ95+BR95+BS95 -> 477477 | CR95: =CO95-CP95-CQ95 -> 32305 | CT95: 1975 | CU95: =CO95 -> 531847 | CV95: 52262 | CW95: =CX95+CY95 -> 70043 | CX95: 66006 | CY95: =AC95+BC95+CG95 -> 4037 | CZ95: 345415 | DA95: =CU95-CV95-CW95-CZ95 -> 64127
A96: 1976 | B96: 195038 | C96: 28156 | D96: =E96+F96 -> 122564 | E96: 132843 | F96: -10279 | G96: =H96+I96 -> 11599 | H96: 1857 | I96: 9742 | J96: =K96+L96 -> 20460 | K96: 201 | L96: 20259 | M96: 927 | N96: =L96-M96 -> 19332 | O96: =P96+Q96 -> 12259 | P96: 706 | Q96: 11553 | S96: 1976 | T96: =B96 -> 195038 | U96: =V96+W96 -> 84706 | V96: 79366 | W96: 5340 | X96: =Y96+AB96 -> 4816 | Y96: 1431 | Z96: 560 | AA96: =Y96-Z96 -> 871 | AB96: 3385 | AC96: 89 | AD96: =AB96-AC96 -> 3296 | AE96: 73086 | AF96: 32430 | AH96: 1976 | AI96: 344442 | AJ96: =AK96+AL96+AM96 -> 5954 | AK96: 1354 | AL96: 2551 | AM96: 2049 | AN96: 6188 | AO96: 12183 | AP96: 225493 | AQ96: =AR96+AS96 -> 40685 | AR96: 3629 | AS96: 37056 | AT96: =AI96-AK96-AL96-AM96-AN96-AO96-AP96-AQ96 -> 53939 | AV96: 1976 | AW96: =AI96 -> 344442 | AX96: =AY96+BB96 -> 2296 | AY96: 2110 | AZ96: 2110 | BA96: 0 | BB96: 186 | BC96: 186 | BD96: 0 | BE96: 300272 | BF96: 569 | BG96: =BE96-BF96 -> 299703 | BH96: 41874 | BJ96: 1976 | BK96: 379130 | BL96: 63974 | BM96: 1476 | BN96: 7963 | BO96: 50008 | BP96: =BL96-BM96-BN96-BO96 -> 4527 | BQ96: 85521 | BR96: 12215 | BS96: 182714 | BT96: =BU96+BV96 -> 21720 | BU96: 12450 | BV96: 9270 | BW96: =BK96-BM96-BQ96-BR96-BS96-BT96-BN96-BP96 -> 62994 | BZ96: 1976 | CA96: =BK96 -> 379130 | CB96: =CC96+CF96 -> 88467 | CC96: 76901 | CD96: 72257 | CE96: =CC96-CD96 -> 4644 | CF96: 11566 | CG96: 11132 | CH96: =CF96-CG96 -> 434 | CI96: 258845 | CJ96: 34813 | CK96: =CI96-CJ96 -> 224032 | CL96: 31818 | CN96: 1976 | CO96: 768479 | CP96: =C96+AK96+BM96 -> 30986 | CQ96: =D96+G96+AN96+AO96+AP96+BQ96+BR96+BS96 -> 658477 | CR96: =CO96-CP96-CQ96 -> 79016 | CT96: 1976 | CU96: =CO96 -> 768479 | CV96: 79873 | CW96: =CX96+CY96 -> 86341 | CX96: 74934 | CY96: =AC96+BC96+CG96 -> 11407 | CZ96: 502919 | DA96: =CU96-CV96-CW96-CZ96 -> 99346
A97: 1977 | B97: 278382 | C97: 44159 | D97: =E97+F97 -> 189976 | E97: 193325 | F97: -3349 | G97: =H97+I97 -> 19089 | H97: 1747 | I97: 17342 | J97: =K97+L97 -> 9304 | K97: 202 | L97: 9102 | M97: 402 | N97: =L97-M97 -> 8700 | O97: =P97+Q97 -> 15854 | P97: 829 | Q97: 15025 | S97: 1977 | T97: =B97 -> 278382 | U97: =V97+W97 -> 94512 | V97: 87903 | W97: 6609 | X97: =Y97+AB97 -> 13852 | Y97: 6949 | Z97: 1863 | AA97: =Y97-Z97 -> 5086 | AB97: 6903 | AC97: 485 | AD97: =AB97-AC97 -> 6418 | AE97: 130157 | AF97: 39861 | AH97: 1977 | AI97: 431404 | AJ97: =AK97+AL97+AM97 -> 8356 | AK97: 774 | AL97: 2554 | AM97: 5028 | AN97: 3261 | AO97: 14771 | AP97: 303091 | AQ97: =AR97+AS97 -> 37680 | AR97: 3712 | AS97: 33968 | AT97: =AI97-AK97-AL97-AM97-AN97-AO97-AP97-AQ97 -> 64245 | AV97: 1977 | AW97: =AI97 -> 431404 | AX97: =AY97+BB97 -> 3372 | AY97: 3148 | AZ97: 3148 | BA97: 0 | BB97: 224 | BC97: 224 | BD97: 0 | BE97: 384001 | BF97: 15165 | BG97: =BE97-BF97 -> 368836 | BH97: 44031 | BJ97: 1977 | BK97: 477578 | BL97: 135249 | BM97: 1269 | BN97: 8370 | BO97: 120082 | BP97: =BL97-BM97-BN97-BO97 -> 5528 | BQ97: 66591 | BR97: 12619 | BS97: 229374 | BT97: =BU97+BV97 -> 16541 | BU97: 9769 | BV97: 6772 | BW97: =BK97-BM97-BQ97-BR97-BS97-BT97-BN97-BP97 -> 137286 | BZ97: 1977 | CA97: =BK97 -> 477578 | CB97: =CC97+CF97 -> 119058 | CC97: 105062 | CD97: 102365 | CE97: =CC97-CD97 -> 2697 | CF97: 13996 | CG97: 13660 | CH97: =CF97-CG97 -> 336 | CI97: 324161 | CJ97: 97100 | CK97: =CI97-CJ97 -> 227061 | CL97: 34359 | CN97: 1977 | CO97: 983149 | CP97: =C97+AK97+BM97 -> 46202 | CQ97: =D97+G97+AN97+AO97+AP97+BQ97+BR97+BS97 -> 838772 | CR97: =CO97-CP97-CQ97 -> 98175 | CT97: 1977 | CU97: =CO97 -> 983149 | CV97: 88632 | CW97: =CX97+CY97 -> 121745 | CX97: 107376 | CY97: =AC97+BC97+CG97 -> 14369 | CZ97: 657824 | DA97: =CU97-CV97-CW97-CZ97 -> 114948
A98: 1978 | B98: 371929 | C98: 51606 | D98: =E98+F98 -> 258564 | E98: 260803 | F98: -2239 | G98: =H98+I98 -> 21220 | H98: 2132 | I98: 19088 | J98: =K98+L98 -> 8050 | K98: 795 | L98: 7255 | M98: 5106 | N98: =L98-M98 -> 2149 | O98: =P98+Q98 -> 32489 | P98: 984 | Q98: 31505 | S98: 1978 | T98: =B98 -> 371929 | U98: =V98+W98 -> 120876 | V98: 112297 | W98: 8579 | X98: =Y98+AB98 -> 11910 | Y98: 5778 | Z98: 818 | AA98: =Y98-Z98 -> 4960 | AB98: 6132 | AC98: 101 | AD98: =AB98-AC98 -> 6031 | AE98: 192227 | AF98: 46916 | AH98: 1978 | AI98: 470996 | AJ98: =AK98+AL98+AM98 -> 7554 | AK98: 690 | AL98: 2843 | AM98: 4021 | AN98: 3502 | AO98: 16382 | AP98: 333491 | AQ98: =AR98+AS98 -> 35875 | AR98: 2541 | AS98: 33334 | AT98: =AI98-AK98-AL98-AM98-AN98-AO98-AP98-AQ98 -> 74192 | AV98: 1978 | AW98: =AI98 -> 470996 | AX98: =AY98+BB98 -> 4858 | AY98: 4584 | AZ98: 4584 | BA98: 0 | BB98: 274 | BC98: 274 | BD98: 0 | BE98: 414456 | BF98: 23509 | BG98: =BE98-BF98 -> 390947 | BH98: 51682 | BJ98: 1978 | BK98: 627179 | BL98: 215667 | BM98: 3793 | BN98: 13561 | BO98: 192590 | BP98: =BL98-BM98-BN98-BO98 -> 5723 | BQ98: 59628 | BR98: 18386 | BS98: 301031 | BT98: =BU98+BV98 -> 15368 | BU98: 5531 | BV98: 9837 | BW98: =BK98-BM98-BQ98-BR98-BS98-BT98-BN98-BP98 -> 209689 | BZ98: 1978 | CA98: =BK98 -> 627179 | CB98: =CC98+CF98 -> 157479 | CC98: 142052 | CD98: 139788 | CE98: =CC98-CD98 -> 2264 | CF98: 15427 | CG98: 15270 | CH98: =CF98-CG98 -> 157 | CI98: 424890 | CJ98: 161187 | CK98: =CI98-CJ98 -> 263703 | CL98: 44810 | CN98: 1978 | CO98: 1211928 | CP98: =C98+AK98+BM98 -> 56089 | CQ98: =D98+G98+AN98+AO98+AP98+BQ98+BR98+BS98 -> 1012204 | CR98: =CO98-CP98-CQ98 -> 143635 | CT98: 1978 | CU98: =CO98 -> 1211928 | CV98: 114809 | CW98: =CX98+CY98 -> 160839 | CX98: 145194 | CY98: =AC98+BC98+CG98 -> 15645 | CZ98: 798974 | DA98: =CU98-CV98-CW98-CZ98 -> 137306
A99: 1979 | U99: 503500 | V99: 489500
A100: 1980
A101: 1981 | Y101: =Q98-AF98 -> -15411
...

Sheet RyO8500
A1: Banco de México: Recursos y obligaciones
B2: BM Recursos | C2: RI en mp | D2: RI miles de dólares | E2: RI bruta | F2: Pasivos a menos de 6 meses | G2: Tenencia de valores gobierno | H2: Crédito | I2: Crédito al gobierno federal | J2: Crédito a bancos | K2: Crédito a banca de desarrollo | L2: Crédito a banca comercial | M2: Otros créditos | N2: Valores del sector externo | O2: Otros de recursos | R2: BM Obligaciones | S2: Billetes y monedas en circulación | T2: ByM público | U2: ByM bancos | V2: Depositos y acredores varios | W2: Otras obligaciones
A5: 1985 | B5: 9740027 | C5: 2061294 | D5: 5598300 | E5: 0 | F5: 0 | G5: 4288916 | H5: 2430536 | I5: 2013189 | J5: 109894 | K5: 67812 | L5: 42082 | M5: 307453 | N5: 80436 | O5: 878845 | Q5: 1985 | R5: 9740027 | S5: 1888131 | T5: 1731976 | U5: 156155 | V5: 6519510 | W5: 1332386
A6: 1986 | B6: 18208754 | C6: 6029228 | D6: 6588600 | E6: 0 | F6: 0 | G6: 6178834 | H6: 4676724 | I6: 4081729 | J6: 115453 | K6: 67308 | L6: 48145 | M6: 479542 | N6: 222778 | O6: 1101190 | Q6: 1986 | R6: 18208754 | S6: 3385042 | T6: 3065744 | U6: 319298 | V6: 12062852 | W6: 2760860
A7: 1987 | B7: 49985666 | C7: 28814046 | D7: 13039800 | E7: 0 | F7: 0 | G7: 13173889 | H7: 4692413 | I7: 3646028 | J7: 110183 | K7: 64219 | L7: 45964 | M7: 936202 | N7: 549574 | O7: 2755744 | Q7: 1987 | R7: 49985666 | S7: 8065284 | T7: 7318490 | U7: 746794 | V7: 31933721 | W7: 9986661
A8: 1988 | B8: 55857305 | C8: 14551411 | D8: 6379400 | E8: 0 | F8: 0 | G8: 22137559 | H8: 13958190 | I8: 11208361 | J8: 966391 | K8: 803737 | L8: 162654 | M8: 1783438 | N8: 531091 | O8: 4679054 | Q8: 1988 | R8: 55857305 | S8: 14522268 | T8: 13160705 | U8: 1361563 | V8: 27237722 | W8: 14097315
A9: 1989 | B9: 67148617 | C9: 17484476 | D9: 6620400 | E9: 0 | F9: 0 | G9: 35101790 | H9: 7660691 | I9: 4382617 | J9: 121710 | K9: 100491 | L9: 21219 | M9: 3156364 | N9: 627644 | O9: 6274016 | Q9: 1989 | R9: 67148617 | S9: 19660245 | T9: 17992140 | U9: 1668105 | V9: 30308874 | W9: 17179498
A10: 1990 | B10: 89685755 | C10: 29949711 | D10: 10168300 | E10: 0 | F10: 0 | G10: 39978811 | H10: 11272155 | I10: 4905090 | J10: 569244 | K10: 532480 | L10: 36764 | M10: 5797821 | N10: 718932 | O10: 7766146 | Q10: 1990 | R10: 89685755 | S10: 27077501 | T10: 24603553 | U10: 2473948 | V10: 38951593 | W10: 23656661
A11: 1991 | B11: 109570906 | C11: 53885609 | D11: 17546600 | E11: 0 | F11: 0 | G11: 34667896 | H11: 11126801 | I11: 40 | J11: 1251413 | K11: 1217552 | L11: 33861 | M11: 9875348 | N11: 763005 | O11: 9127595 | Q11: 1991 | R11: 109570906 | S11: 36171727 | T11: 32417777 | U11: 3753950 | V11: 45659102 | W11: 27740077
A12: 1992 | B12: 115653708 | C12: 57803443 | D12: 18554100 | E12: 0 | F12: 0 | G12: 30123295 | H12: 17036439 | I12: 40 | J12: 2413087 | K12: 2400466 | L12: 12621 | M12: 14623312 | N12: 948386 | O12: 9742145 | Q12: 1992 | R12: 115653708 | S12: 42015433 | T12: 38013353 | U12: 4002080 | V12: 41606471 | W12: 32031804
A13: 1993 | B13: 125259397 | C13: 76211021 | D13: 24537500 | E13: 0 | F13: 0 | G13: 9864534 | H13: 24863396 | I13: 40 | J13: 3636467 | K13: 2826789 | L13: 809678 | M13: 21226889 | N13: 1005664 | O13: 13314782 | Q13: 1993 | R13: 125259397 | S13: 47192859 | T13: 43230687 | U13: 3962172 | V13: 44210515 | W13: 33856023
A14: 1994 | B14: 192420667 | C14: 32739200 | D14: 6148207 | E14: 0 | F14: 0 | G14: 0 | H14: 83426477 | I14: 0 | J14: 45383122 | K14: 4368472 | L14: 41014650 | M14: 38043355 | N14: 1750326 | O14: 16800101 | Q14: 1994 | R14: 192420667 | S14: 56920386 | T14: 51857760 | U14: 5062626 | V14: 106944969 | W14: 28555312
A15: 1995 | B15: 294737877 | C15: 120300736 | D15: 15741019 | E15: 0 | F15: 0 | G15: 13212032 | H15: 123021648 | I15: 0 | J15: 45020387 | K15: 1888740 | L15: 43131647 | M15: 78001261 | N15: 2512836 | O15: 35690625 | Q15: 1995 | R15: 294737877 | S15: 66808632 | T15: 60657871 | U15: 6150761 | V15: 195123565 | W15: 32805680
A16: 1996 | B16: 279952890 | C16: 137803802 | D16: 17509346 | E16: 0 | F16: 0 | G16: 10488392 | H16: 82195305 | I16: 0 | J16: 11868362 | K16: 367514 | L16: 11500848 | M16: 70326943 | N16: 2413875 | O16: 47051516 | Q16: 1996 | R16: 279952890 | S16: 83991071 | T16: 74088699 | U16: 9902372 | V16: 154931148 | W16: 41030671
... A20: 2000 | B20: 619568785 | C20: 322456082 | D20: 33554921 | E20: 341966296 | F20: -19510214 | G20: 0 | H20: 197871321 | I20: 0 | J20: 95116318 | K20: 4946786 | L20: 90169532 | M20: 102755003 | N20: 3201303 | O20: 96040079 | Q20: 2000 | R20: 619568785 | S20: 208879867 | T20: 182016173 | U20: 26863694 | V20: 349559090 | W20: 61129828

Sheet Fin33-89
D1: Financiamiento al sector público no bancario | H1: Financiamiento al sector privado no bancario | L1: Financiamiento externo | P1: Financiamiento a la Banca Nacional | S1: Financiamiento a la Banca Privada | V1: Financiamiento no sectorizado | Y1: Financiamiento por institución | AC1: Financiamiento por institución sin operaciones interbancarias | AG1: Financiamiento del Banco de México a sectores
B2: Financiamiento total | C2: Sin operaciones interbancarias | D2: Total instituciones de crédito | E2: Banco de México | F2: Banca Nacional | G2: Banca Privada | H2: Total instituciones de crédito | I2: Banco de México | J2: Banca Nacional | K2: Banca Privada | L2: Instituciones de crédito | M2: Banco de México | N2: Banca Nacional | O2: Banca Privada | P2: Instituciones de crédito | Q2: Banco de México | R2: Banca Privada | S2: Instituciones de crédito | T2: Banco de México | U2: Banca Nacional | V2: Instituciones de crédito | W2: Banca nacional | X2: Banca privada | Y2: Total | Z2: Banco de México | AA2: Banca Nacional | AB2: Banca Privada | AC2: Total | AD2: Banco de México | AE2: Banca Nacional | AF2: Banca Privada | AG2: Total | AH2: Sector público | AI2: Sector privado | AJ2: Sector Externo | AK2: Banca nacional | AL2: Banca Privada
