Workbook
Name \A: #REF!
Name \A: #REF!
Name \A: #REF!
Name \A: #REF!
Name \g: #REF!
Name \g: #REF!
Name \g: #REF!
Name \g: #REF!
Name \S: #REF!
Name \S: #REF!
Name \S: #REF!
Name \S: #REF!
Name ACTIVATE: #REF!
Name ACTIVATE: #REF!
Name ACTIVATE: #REF!
Name ACTIVATE: #REF!
Name ASSUMPT: #REF!
Name ASSUMPT: #REF!
Name ASSUMPT: #REF!
Name ASSUMPT: #REF!
Name ASSUMPTIONS: #REF!
Name ASSUMPTIONS: #REF!
Name ASSUMPTIONS: #REF!
Name ASSUMPTIONS: #REF!
Name basicdata1: #REF!
Name basicdata1: #REF!
Name basicdata1: #REF!
Name basicdata1: #REF!
Name basicdata2: #REF!
Name basicdata2: #REF!
Name basicdata2: #REF!
Name basicdata2: #REF!
Name BCA_NGDP: [5]Q6!$E$10:$AH$10
Name BMG: [5]Q6!$E$27:$AH$27
Name BOP: #REF!
Name BOP: #REF!
Name BOP: #REF!
Name BOP: #REF!
Name BXG: [5]Q6!$E$19:$AH$19
Name CAPITAL: #REF!
Name CAPITAL: #REF!
Name CAPITAL: #REF!
Name CAPITAL: #REF!
Name CARGO_BY_TYPE: '[6]Table No.18-Exports goods+servi'!#REF!
Name CARGO_BY_TYPE: '[6]Table No.18-Exports goods+servi'!#REF!
Name CARGO_BY_TYPE: '[6]Table No.18-Exports goods+servi'!#REF!
Name CARGO_BY_TYPE: '[6]Table No.18-Exports goods+servi'!#REF!
Name CCode: [7]Codes!$A$2
Name CENTRALG: #REF!
Name CENTRALG: #REF!
Name CENTRALG: #REF!
Name CENTRALG: #REF!
Name CFLOW: #REF!
Name CFLOW: #REF!
Name CFLOW: #REF!
Name CFLOW: #REF!
Name chart1: #REF!
Name chart1: #REF!
Name chart1: #REF!
Name chart1: #REF!

Sheet RyO3378
A1: Versión 05 | B1: Recursos Banxico | S1: Obligaciones Banxico | AH1: Recursos Banca nacional | AV1: Obligaciones Banca nacional | BJ1: Recursos Banca Privada y Mixta | BZ1: Obligaciones Banca Privada y Mixta | CN1: Recursos de las Instituciones de Crédito | CT1: Obligaciones de las Instituciones de Crédito
A2: Año | B2: Recursos Banxico (A + B) | C2: 1. Disponibilidades Reservas internacionales | D2: 2. Financiamiento al Gobierno | E2: a. Valores | F2: b. Crédito | G2: 3. Financiamiento a Empresas y Particulares | H2: a. Valores | I2: b. Crédito | J2: 4. Financiamiento a Bancos | K2: a. Valores | L2: b. Crédito | M2: i. Banca Nacional | N2: ii. Banca Privada | O2: Disponibilidades en bancos y Otros | P2: a. Disponibilidades en Bancos | Q2: b. Otros Recursos | S2: Año | T2: Obligaciones Banxico | U2: A. Billetes y Monedas | V2: 1. Billetes | W2: 2. Monedas | X2: B. Cheques | Y2: 1. Moneda Nacional | Z2: i. De los Cuales a Emp. y Part. | AA2: ii. Otros | AB2: 2. Moneda Extranjera | AC2: i. De los Cuales a Emp. y Part. | AD2: ii. Otros | AE2: C. Depositos | AF2: D. Otras Obligaciones | AH2: Año | AI2: Recursos Banca Nacional | AJ2: 1. Disponibilidades | AK2: a. Disponibilidades en Oro, Plata y Divisas | AL2: b. Disponibilidades en Otros Bancos | AM2: c. Otras Disponibilidades | AN2: 2. Financiamiento al Gobierno (Valores) | AO2: 4. Financiamiento a Emp. y Part. (Valores) | AP2: 5. Crédito a Gobierno, Empresas y Particulares | AQ2: 6. Financiamiento a Bancos | AR2: a. Valores a Bancos | AS2: a. Crédito a Bancos | AT2: 7. Otros Recursos | AV2: Año | AW2: Obligaciones Banca Nacional | AX2: 1. Cheques | AY2: a. Moneda Nacional | AZ2: i. De los Cuales a Emp. y Part. | BA2: ii. Otros | BB2: b. Moneda Extranjera | BC2: i. De los Cuales a Emp. y Part. | BD2: ii. Otros | BE2: 2. Depositos y Obligaciones | BF2: a. Depositos de Ahorro y Plazo | BG2: b. Obligaciones | BH2: 3. Capital y Otras Obligaciones | BJ2: Año | BK2: Recursos Totales de la Banca Privada | BL2: 1. Disponibilidades | BM2: a. Disponibilidades en Oro, Plata y Divisas | BN2: b. Disponibilidades en Otros Bancos | BO2: c. Reservas en Banco de México | BP2: d. Otras Disponibilidades | BQ2: 2. Financiamiento al Gobierno (Valores) | BR2: 3. Financiamiento a Emp. y Part. (Valores) | BS2: 4. Crédito a Gobierno, Empresas y Particulares | BT2: 5. Financiamiento a Bancos | BU2: a. Valores a Bancos | BV2: a. Crédito a Bancos | BW2: 6. Otros Recursos | BZ2: Año | CA2: Obligaciones Banca Privada | CB2: 1. Cheques | CC2: a. Moneda Nacional | CD2: i. De los Cuales a Emp. y Part. | CE2: ii. Otros | CF2: b. Moneda Extranjera | CG2: i. De los Cuales a Emp. y Part. | CH2: ii. Otros | CI2: 2. Depositos y Obligaciones | CJ2: a. Depositos de Ahorro y Plazo | CK2: b. Obligaciones | CL2: 3. Capital y Otras Obligaciones | CN2: Año | CO2: Recursos Inst. de Crédito | CP2: Disponibilidades | CQ2: Financiamiento no bancario | CR2: Otros recursos | CT2: Año | CU2: Obligaciones Inst. de Crédito | CV2: 1. Billetes y Monedas | CW2: 2. Cheques M. N. y M. E. | CX2: a. Cheques Moneda Nacional (Emp. y Part.) | CY2: b. Cheques Moneda Extranjera (Emp. y Part.) | CZ2: 3. Depositos | DA2: 4. Otras Obligaciones, capital, etc
A5: 1885 | B5: - | C5: - | D5: - | E5: - | F5: - | G5: - | H5: - | I5: - | J5: - | K5: - | L5: - | M5: - | N5: - | O5: - | P5: - | Q5: - | S5: - | T5: - | U5: - | V5: - | W5: - | X5: - | Y5: - | Z5: - | AA5: - | AB5: - | AC5: - | AD5: - | AE5: - | AF5: - | AG5: - | AH5: - | AI5: - | AJ5: - | AK5: - | AL5: - | AM5: - | AN5: - | AO5: - | AP5: - | AQ5: - | AR5: - | AS5: - | AT5: - | AV5: - | AW5: - | AX5: - | AY5: - | AZ5: - | BA5: - | BB5: - | BC5: - | BD5: - | BE5: - | BF5: - | BG5: - | BH5: - | BJ5: - | BK5: - | BL5: - | BM5: - | BN5: - | BO5: - | BP5: - | BQ5: - | BR5: - | BS5: - | BT5: - | BU5: - | BV5: - | BW5: - | BX5: - | BZ5: - | CA5: - | CB5: - | CC5: - | CD5: - | CE5: - | CF5: - | CG5: - | CH5: - | CI5: - | CJ5: - | CK5: - | CL5: - | CN5: - | CO5: - | CP5: - | CQ5: - | CR5: - | CT5: - | CU5: - | CV5: - | CW5: - | CX5: - | CY5: - | CZ5: - | DA5: -
A6: 1886 | B6: - | C6: - | D6: - | E6: - | F6: - | G6: - | H6: - | I6: - | J6: - | K6: - | L6: - | M6: - | N6: - | O6: - | P6: - | Q6: - | S6: - | T6: - | U6: - | V6: - | W6: - | X6: - | Y6: - | Z6: - | AA6: - | AB6: - | AC6: - | AD6: - | AE6: - | AF6: - | AG6: - | AH6: - | AI6: - | AJ6: - | AK6: - | AL6: - | AM6: - | AN6: - | AO6: - | AP6: - | AQ6: - | AR6: - | AS6: - | AT6: - | AV6: - | AW6: - | AX6: - | AY6: - | AZ6: - | BA6: - | BB6: - | BC6: - | BD6: - | BE6: - | BF6: - | BG6: - | BH6: - | BJ6: - | BK6: - | BL6: - | BM6: - | BN6: - | BO6: - | BP6: - | BQ6: - | BR6: - | BS6: - | BT6: - | BU6: - | BV6: - | BW6: - | BX6: - | BZ6: - | CA6: - | CB6: - | CC6: - | CD6: - | CE6: - | CF6: - | CG6: - | CH6: - | CI6: - | CJ6: - | CK6: - | CL6: - | CN6: - | CO6: - | CP6: - | CQ6: - | CR6: - | CT6: - | CU6: - | CV6: - | CW6: - | CX6: - | CY6: - | CZ6: - | DA6: -
A7: 1887 | B7: - | C7: - | D7: - | E7: - | F7: - | G7: - | H7: - | I7: - | J7: - | K7: - | L7: - | M7: - | N7: - | O7: - | P7: - | Q7: - | S7: - | T7: - | U7: - | V7: - | W7: - | X7: - | Y7: - | Z7: - | AA7: - | AB7: - | AC7: - | AD7: - | AE7: - | AF7: - | AG7: - | AH7: - | AI7: - | AJ7: - | AK7: - | AL7: - | AM7: - | AN7: - | AO7: - | AP7: - | AQ7: - | AR7: - | AS7: - | AT7: - | AV7: - | AW7: - | AX7: - | AY7: - | AZ7: - | BA7: - | BB7: - | BC7: - | BD7: - | BE7: - | BF7: - | BG7: - | BH7: - | BJ7: - | BK7: - | BL7: - | BM7: - | BN7: - | BO7: - | BP7: - | BQ7: - | BR7: - | BS7: - | BT7: - | BU7: - | BV7: - | BW7: - | BX7: - | BZ7: - | CA7: - | CB7: - | CC7: - | CD7: - | CE7: - | CF7: - | CG7: - | CH7: - | CI7: - | CJ7: - | CK7: - | CL7: - | CN7: - | CO7: - | CP7: - | CQ7: - | CR7: - | CT7: - | CU7: - | CV7: - | CW7: - | CX7: - | CY7: - | CZ7: - | DA7: -
A8: 1888 | B8: - | C8: - | D8: - | E8: - | F8: - | G8: - | H8: - | I8: - | J8: - | K8: - | L8: - | M8: - | N8: - | O8: - | P8: - | Q8: - | S8: - | T8: - | U8: - | V8: - | W8: - | X8: - | Y8: - | Z8: - | AA8: - | AB8: - | AC8: - | AD8: - | AE8: - | AF8: - | AG8: - | AH8: - | AI8: - | AJ8: - | AK8: - | AL8: - | AM8: - | AN8: - | AO8: - | AP8: - | AQ8: - | AR8: - | AS8: - | AT8: - | AV8: - | AW8: - | AX8: - | AY8: - | AZ8: - | BA8: - | BB8: - | BC8: - | BD8: - | BE8: - | BF8: - | BG8: - | BH8: - | BJ8: - | BK8: - | BL8: - | BM8: - | BN8: - | BO8: - | BP8: - | BQ8: - | BR8: - | BS8: - | BT8: - | BU8: - | BV8: - | BW8: - | BX8: - | BZ8: - | CA8: - | CB8: - | CC8: - | CD8: - | CE8: - | CF8: - | CG8: - | CH8: - | CI8: - | CJ8: - | CK8: - | CL8: - | CN8: - | CO8: - | CP8: - | CQ8: - | CR8: - | CT8: - | CU8: - | CV8: - | CW8: - | CX8: - | CY8: - | CZ8: - | DA8: -
A9: 1889 | B9: - | C9: - | D9: - | E9: - | F9: - | G9: - | H9: - | I9: - | J9: - | K9: - | L9: - | M9: - | N9: - | O9: - | P9: - | Q9: - | S9: - | T9: - | U9: - | V9: - | W9: - | X9: - | Y9: - | Z9: - | AA9: - | AB9: - | AC9: - | AD9: - | AE9: - | AF9: - | AG9: - | AH9: - | AI9: - | AJ9: - | AK9: - | AL9: - | AM9: - | AN9: - | AO9: - | AP9: - | AQ9: - | AR9: - | AS9: - | AT9: - | AV9: - | AW9: - | AX9: - | AY9: - | AZ9: - | BA9: - | BB9: - | BC9: - | BD9: - | BE9: - | BF9: - | BG9: - | BH9: - | BJ9: - | BK9: - | BL9: - | BM9: - | BN9: - | BO9: - | BP9: - | BQ9: - | BR9: - | BS9: - | BT9: - | BU9: - | BV9: - | BW9: - | BX9: - | BZ9: - | CA9: - | CB9: - | CC9: - | CD9: - | CE9: - | CF9: - | CG9: - | CH9: - | CI9: - | CJ9: - | CK9: - | CL9: - | CN9: - | CO9: - | CP9: - | CQ9: - | CR9: - | CT9: - | CU9: - | CV9: - | CW9: - | CX9: - | CY9: - | CZ9: - | DA9: -
A10: 1890 | B10: - | C10: - | D10: - | E10: - | F10: - | G10: - | H10: - | I10: - | J10: - | K10: - | L10: - | M10: - | N10: - | O10: - | P10: - | Q10: - | S10: - | T10: - | U10: - | V10: - | W10: - | X10: - | Y10: - | Z10: - | AA10: - | AB10: - | AC10: - | AD10: - | AE10: - | AF10: - | AG10: - | AH10: - | AI10: - | AJ10: - | AK10: - | AL10: - | AM10: - | AN10: - | AO10: - | AP10: - | AQ10: - | AR10: - | AS10: - | AT10: - | AV10: - | AW10: - | AX10: - | AY10: - | AZ10: - | BA10: - | BB10: - | BC10: - | BD10: - | BE10: - | BF10: - | BG10: - | BH10: - | BJ10: - | BK10: - | BL10: - | BM10: - | BN10: - | BO10: - | BP10: - | BQ10: - | BR10: - | BS10: - | BT10: - | BU10: - | BV10: - | BW10: - | BX10: - | BZ10: - | CA10: - | CB10: - | CC10: - | CD10: - | CE10: - | CF10: - | CG10: - | CH10: - | CI10: - | CJ10: - | CK10: - | CL10: - | CN10: - | CO10: - | CP10: - | CQ10: - | CR10: - | CT10: - | CU10: - | CV10: - | CW10: - | CX10: - | CY10: - | CZ10: - | DA10: -
A11: 1891 | B11: - | C11: - | D11: - | E11: - | F11: - | G11: - | H11: - | I11: - | J11: - | K11: - | L11: - | M11: - | N11: - | O11: - | P11: - | Q11: - | S11: - | T11: - | U11: - | V11: - | W11: - | X11: - | Y11: - | Z11: - | AA11: - | AB11: - | AC11: - | AD11: - | AE11: - | AF11: - | AG11: - | AH11: - | AI11: - | AJ11: - | AK11: - | AL11: - | AM11: - | AN11: - | AO11: - | AP11: - | AQ11: - | AR11: - | AS11: - | AT11: - | AV11: - | AW11: - | AX11: - | AY11: - | AZ11: - | BA11: - | BB11: - | BC11: - | BD11: - | BE11: - | BF11: - | BG11: - | BH11: - | BJ11: - | BK11: - | BL11: - | BM11: - | BN11: - | BO11: - | BP11: - | BQ11: - | BR11: - | BS11: - | BT11: - | BU11: - | BV11: - | BW11: - | BX11: - | BZ11: - | CA11: - | CB11: - | CC11: - | CD11: - | CE11: - | CF11: - | CG11: - | CH11: - | CI11: - | CJ11: - | CK11: - | CL11: - | CN11: - | CO11: - | CP11: - | CQ11: - | CR11: - | CT11: - | CU11: - | CV11: - | CW11: - | CX11: - | CY11: - | CZ11: - | DA11: -
A12: 1892 | B12: - | C12: - | D12: - | E12: - | F12: - | G12: - | H12: - | I12: - | J12: - | K12: - | L12: - | M12: - | N12: - | O12: - | P12: - | Q12: - | S12: - | T12: - | U12: - | V12: - | W12: - | X12: - | Y12: - | Z12: - | AA12: - | AB12: - | AC12: - | AD12: - | AE12: - | AF12: - | AG12: - | AH12: - | AI12: - | AJ12: - | AK12: - | AL12: - | AM12: - | AN12: - | AO12: - | AP12: - | AQ12: - | AR12: - | AS12: - | AT12: - | AV12: - | AW12: - | AX12: - | AY12: - | AZ12: - | BA12: - | BB12: - | BC12: - | BD12: - | BE12: - | BF12: - | BG12: - | BH12: - | BJ12: - | BK12: - | BL12: - | BM12: - | BN12: - | BO12: - | BP12: - | BQ12: - | BR12: - | BS12: - | BT12: - | BU12: - | BV12: - | BW12: - | BX12: - | BZ12: - | CA12: - | CB12: - | CC12: - | CD12: - | CE12: - | CF12: - | CG12: - | CH12: - | CI12: - | CJ12: - | CK12: - | CL12: - | CN12: - | CO12: - | CP12: - | CQ12: - | CR12: - | CT12: - | CU12: - | CV12: - | CW12: - | CX12: - | CY12: - | CZ12: - | DA12: -
A13: 1893 | B13: - | C13: - | D13: - | E13: - | F13: - | G13: - | H13: - | I13: - | J13: - | K13: - | L13: - | M13: - | N13: - | O13: - | P13: - | Q13: - | S13: - | T13: - | U13: - | V13: - | W13: - | X13: - | Y13: - | Z13: - | AA13: - | AB13: - | AC13: - | AD13: - | AE13: - | AF13: - | AG13: - | AH13: - | AI13: - | AJ13: - | AK13: - | AL13: - | AM13: - | AN13: - | AO13: - | AP13: - | AQ13: - | AR13: - | AS13: - | AT13: - | AV13: - | AW13: - | AX13: - | AY13: - | AZ13: - | BA13: - | BB13: - | BC13: - | BD13: - | BE13: - | BF13: - | BG13: - | BH13: - | BJ13: - | BK13: - | BL13: - | BM13: - | BN13: - | BO13: - | BP13: - | BQ13: - | BR13: - | BS13: - | BT13: - | BU13: - | BV13: - | BW13: - | BX13: - | BZ13: - | CA13: - | CB13: - | CC13: - | CD13: - | CE13: - | CF13: - | CG13: - | CH13: - | CI13: - | CJ13: - | CK13: - | CL13: - | CN13: - | CO13: - | CP13: - | CQ13: - | CR13: - | CT13: - | CU13: - | CV13: - | CW13: - | CX13: - | CY13: - | CZ13: - | DA13: -
A14: 1894 | B14: - | C14: - | D14: - | E14: - | F14: - | G14: - | H14: - | I14: - | J14: - | K14: - | L14: - | M14: - | N14: - | O14: - | P14: - | Q14: - | S14: - | T14: - | U14: - | V14: - | W14: - | X14: - | Y14: - | Z14: - | AA14: - | AB14: - | AC14: - | AD14: - | AE14: - | AF14: - | AG14: - | AH14: - | AI14: - | AJ14: - | AK14: - | AL14: - | AM14: - | AN14: - | AO14: - | AP14: - | AQ14: - | AR14: - | AS14: - | AT14: - | AV14: - | AW14: - | AX14: - | AY14: - | AZ14: - | BA14: - | BB14: - | BC14: - | BD14: - | BE14: - | BF14: - | BG14: - | BH14: - | BJ14: - | BK14: - | BL14: - | BM14: - | BN14: - | BO14: - | BP14: - | BQ14: - | BR14: - | BS14: - | BT14: - | BU14: - | BV14: - | BW14: - | BX14: - | BZ14: - | CA14: - | CB14: - | CC14: - | CD14: - | CE14: - | CF14: - | CG14: - | CH14: - | CI14: - | CJ14: - | CK14: - | CL14: - | CN14: - | CO14: - | CP14: - | CQ14: - | CR14: - | CT14: - | CU14: - | CV14: - | CW14: - | CX14: - | CY14: - | CZ14: - | DA14: -
A15: 1895 | B15: - | C15: - | D15: - | E15: - | F15: - | G15: - | H15: - | I15: - | J15: - | K15: - | L15: - | M15: - | N15: - | O15: - | P15: - | Q15: - | S15: - | T15: - | U15: - | V15: - | W15: - | X15: - | Y15: - | Z15: - | AA15: - | AB15: - | AC15: - | AD15: - | AE15: - | AF15: - | AG15: - | AH15: - | AI15: - | AJ15: - | AK15: - | AL15: - | AM15: - | AN15: - | AO15: - | AP15: - | AQ15: - | AR15: - | AS15: - | AT15: - | AV15: - | AW15: - | AX15: - | AY15: - | AZ15: - | BA15: - | BB15: - | BC15: - | BD15: - | BE15: - | BF15: - | BG15: - | BH15: - | BJ15: - | BK15: - | BL15: - | BM15: - | BN15: - | BO15: - | BP15: - | BQ15: - | BR15: - | BS15: - | BT15: - | BU15: - | BV15: - | BW15: - | BX15: - | BZ15: - | CA15: - | CB15: - | CC15: - | CD15: - | CE15: - | CF15: - | CG15: - | CH15: - | CI15: - | CJ15: - | CK15: - | CL15: - | CN15: - | CO15: - | CP15: - | CQ15: - | CR15: - | CT15: - | CU15: - | CV15: - | CW15: - | CX15: - | CY15: - | CZ15: - | DA15: -
A16: 1896 | B16: - | C16: - | D16: - | E16: - | F16: - | G16: - | H16: - | I16: - | J16: - | K16: - | L16: - | M16: - | N16: - | O16: - | P16: - | Q16: - | S16: - | T16: - | U16: - | V16: - | W16: - | X16: - | Y16: - | Z16: - | AA16: - | AB16: - | AC16: - | AD16: - | AE16: - | AF16: - | AG16: - | AH16: - | AI16: - | AJ16: - | AK16: - | AL16: - | AM16: - | AN16: - | AO16: - | AP16: - | AQ16: - | AR16: - | AS16: - | AT16: - | AV16: - | AW16: - | AX16: - | AY16: - | AZ16: - | BA16: - | BB16: - | BC16: - | BD16: - | BE16: - | BF16: - | BG16: - | BH16: - | BJ16: - | BK16: - | BL16: - | BM16: - | BN16: - | BO16: - | BP16: - | BQ16: - | BR16: - | BS16: - | BT16: - | BU16: - | BV16: - | BW16: - | BX16: - | BZ16: - | CA16: - | CB16: - | CC16: - | CD16: - | CE16: - | CF16: - | CG16: - | CH16: - | CI16: - | CJ16: - | CK16: - | CL16: - | CN16: - | CO16: - | CP16: - | CQ16: - | CR16: - | CT16: - | CU16: - | CV16: - | CW16: - | CX16: - | CY16: - | CZ16: - | DA16: -
... A52: 1932 | B52: - | C52: - | D52: - | E52: - | F52: - | G52: - | H52: - | I52: - | J52: - | K52: - | L52: - | M52: - | N52: - | O52: - | P52: - | Q52: - | S52: - | T52: - | U52: - | V52: - | W52: - | X52: - | Y52: - | Z52: - | AA52: - | AB52: - | AC52: - | AD52: - | AE52: - | AF52: - | AG52: - | AH52: - | AI52: - | AJ52: - | AK52: - | AL52: - | AM52: - | AN52: - | AO52: - | AP52: - | AQ52: - | AR52: - | AS52: - | AT52: - | AV52: - | AW52: - | AX52: - | AY52: - | AZ52: - | BA52: - | BB52: - | BC52: - | BD52: - | BE52: - | BF52: - | BG52: - | BH52: - | BJ52: - | BK52: - | BL52: - | BM52: - | BN52: - | BO52: - | BP52: - | BQ52: - | BR52: - | BS52: - | BT52: - | BU52: - | BV52: - | BW52: - | BX52: - | BZ52: - | CA52: - | CB52: - | CC52: - | CD52: - | CE52: - | CF52: - | CG52: - | CH52: - | CI52: - | CJ52: - | CK52: - | CL52: - | CN52: - | CO52: - | CP52: - | CQ52: - | CR52: - | CT52: - | CU52: - | CV52: - | CW52: - | CX52: - | CY52: - | CZ52: - | DA52: -
A53: 1933 | B53: 458 | C53: 131 | D53: =E53+F53 -> 10 | E53: 0 | F53: 10 | G53: =H53+I53 -> 30 | H53: 0 | I53: 30 | J53: =K53+L53 -> 9 | K53: 9 | L53: 0 | M53: 0 | N53: =L53-M53 -> 0 | O53: =P53+Q53 -> 278 | P53: 2 | Q53: 276 | S53: 1933 | T53: =B53 -> 458 | U53: =V53+W53 -> 288 | V53: 78 | W53: 210 | X53: =Y53+AB53 -> 55 | Y53: 53 | Z53: 27 | AA53: =Y53-Z53 -> 26 | AB53: 2 | AC53: 1 | AD53: =AB53-AC53 -> 1 | AE53: 14 | AF53: 101 | AH53: 1933 | AI53: 48 | AJ53: =AK53+AL53+AM53 -> 4 | AK53: 0 | AL53: 4 | AM53: 0 | AN53: 0 | AO53: 0 | AP53: 30 | AQ53: =AR53+AS53 -> 3 | AR53: 3 | AS53: 0 | AT53: =AI53-AK53-AL53-AM53-AN53-AO53-AP53-AQ53 -> 11 | AV53: 1933 | AW53: =AI53 -> 48 | AX53: =AY53+BB53 -> 0 | AY53: 0 | AZ53: 0 | BA53: 0 | BB53: 0 | BC53: 0 | BD53: 0 | BE53: 8 | BF53: 0 | BG53: =BE53-BF53 -> 8 | BH53: 40 | BJ53: 1933 | BK53: 418 | BL53: 113 | BM53: 26 | BN53: 8 | BO53: 32 | BP53: =BL53-BM53-BN53-BO53 -> 47 | BQ53: 0 | BR53: 0 | BS53: 264 | BT53: =BU53+BV53 -> 0 | BU53: 0 | BV53: 0 | BW53: =BK53-BM53-BQ53-BR53-BS53-BT53-BN53-BP53 -> 73 | BZ53: 1933 | CA53: =BK53 -> 418 | CB53: =CC53+CF53 -> 183 | CC53: 143 | CD53: 143 | CE53: =CC53-CD53 -> 0 | CF53: 40 | CG53: 40 | CH53: =CF53-CG53 -> 0 | CI53: 142 | CJ53: 79 | CK53: =CI53-CJ53 -> 63 | CL53: 93 | CN53: 1933 | CO53: 819 | CP53: =C53+AK53+BM53 -> 157 | CQ53: =D53+G53+AN53+AO53+AP53+BQ53+BR53+BS53 -> 334 | CR53: =CO53-CP53-CQ53 -> 328 | CT53: 1933 | CU53: =CO53 -> 819 | CV53: 241 | CW53: =CX53+CY53 -> 211 | CX53: 170 | CY53: =AC53+BC53+CG53 -> 41 | CZ53: 93 | DA53: =CU53-CV53-CW53-CZ53 -> 274
A54: 1934 | B54: 537 | C54: 191 | D54: =E54+F54 -> -11 | E54: 2 | F54: -13 | G54: =H54+I54 -> 42 | H54: 0 | I54: 42 | J54: =K54+L54 -> 28 | K54: 14 | L54: 14 | M54: 0 | N54: =L54-M54 -> 14 | O54: =P54+Q54 -> 287 | P54: 4 | Q54: 283 | S54: 1934 | T54: =B54 -> 537 | U54: =V54+W54 -> 332 | V54: 100 | W54: 232 | X54: =Y54+AB54 -> 71 | Y54: 68 | Z54: 37 | AA54: =Y54-Z54 -> 31 | AB54: 3 | AC54: 2 | AD54: =AB54-AC54 -> 1 | AE54: 22 | AF54: 112 | AH54: 1934 | AI54: 89 | AJ54: =AK54+AL54+AM54 -> 3 | AK54: 0 | AL54: 2 | AM54: 1 | AN54: 0 | AO54: 0 | AP54: 54 | AQ54: =AR54+AS54 -> 7 | AR54: 7 | AS54: 0 | AT54: =AI54-AK54-AL54-AM54-AN54-AO54-AP54-AQ54 -> 25 | AV54: 1934 | AW54: =AI54 -> 89 | AX54: =AY54+BB54 -> 0 | AY54: 0 | AZ54: 0 | BA54: 0 | BB54: 0 | BC54: 0 | BD54: 0 | BE54: 26 | BF54: 0 | BG54: =BE54-BF54 -> 26 | BH54: 63 | BJ54: 1934 | BK54: 428 | BL54: 137 | BM54: 35 | BN54: 17 | BO54: 32 | BP54: =BL54-BM54-BN54-BO54 -> 53 | BQ54: 0 | BR54: 0 | BS54: 256 | BT54: =BU54+BV54 -> 0 | BU54: 0 | BV54: 0 | BW54: =BK54-BM54-BQ54-BR54-BS54-BT54-BN54-BP54 -> 67 | BZ54: 1934 | CA54: =BK54 -> 428 | CB54: =CC54+CF54 -> 193 | CC54: 152 | CD54: 152 | CE54: =CC54-CD54 -> 0 | CF54: 41 | CG54: 41 | CH54: =CF54-CG54 -> 0 | CI54: 146 | CJ54: 71 | CK54: =CI54-CJ54 -> 75 | CL54: 89 | CN54: 1934 | CO54: 910 | CP54: =C54+AK54+BM54 -> 226 | CQ54: =D54+G54+AN54+AO54+AP54+BQ54+BR54+BS54 -> 341 | CR54: =CO54-CP54-CQ54 -> 343 | CT54: 1934 | CU54: =CO54 -> 910 | CV54: 279 | CW54: =CX54+CY54 -> 232 | CX54: 189 | CY54: =AC54+BC54+CG54 -> 43 | CZ54: 78 | DA54: =CU54-CV54-CW54-CZ54 -> 321
A55: 1935 | B55: 600 | C55: 335 | D55: =E55+F55 -> -22 | E55: 5 | F55: -27 | G55: =H55+I55 -> 47 | H55: 0 | I55: 47 | J55: =K55+L55 -> 28 | K55: 14 | L55: 14 | M55: 0 | N55: =L55-M55 -> 14 | O55: =P55+Q55 -> 212 | P55: 6 | Q55: 206 | S55: 1935 | T55: =B55 -> 600 | U55: =V55+W55 -> 363 | V55: 221 | W55: 142 | X55: =Y55+AB55 -> 77 | Y55: 75 | Z55: 39 | AA55: =Y55-Z55 -> 36 | AB55: 2 | AC55: 1 | AD55: =AB55-AC55 -> 1 | AE55: 44 | AF55: 116 | AH55: 1935 | AI55: 104 | AJ55: =AK55+AL55+AM55 -> 8 | AK55: 0 | AL55: 3 | AM55: 5 | AN55: 10 | AO55: 2 | AP55: 54 | AQ55: =AR55+AS55 -> 22 | AR55: 13 | AS55: 9 | AT55: =AI55-AK55-AL55-AM55-AN55-AO55-AP55-AQ55 -> 8 | AV55: 1935 | AW55: =AI55 -> 104 | AX55: =AY55+BB55 -> 0 | AY55: 0 | AZ55: 0 | BA55: 0 | BB55: 0 | BC55: 0 | BD55: 0 | BE55: 46 | BF55: 0 | BG55: =BE55-BF55 -> 46 | BH55: 58 | BJ55: 1935 | BK55: 477 | BL55: 147 | BM55: 57 | BN55: 10 | BO55: 11 | BP55: =BL55-BM55-BN55-BO55 -> 69 | BQ55: 4 | BR55: 5 | BS55: 274 | BT55: =BU55+BV55 -> 8 | BU55: 8 | BV55: 0 | BW55: =BK55-BM55-BQ55-BR55-BS55-BT55-BN55-BP55 -> 50 | BZ55: 1935 | CA55: =BK55 -> 477 | CB55: =CC55+CF55 -> 200 | CC55: 160 | CD55: 160 | CE55: =CC55-CD55 -> 0 | CF55: 40 | CG55: 40 | CH55: =CF55-CG55 -> 0 | CI55: 182 | CJ55: 47 | CK55: =CI55-CJ55 -> 135 | CL55: 95 | CN55: 1935 | CO55: 1018 | CP55: =C55+AK55+BM55 -> 392 | CQ55: =D55+G55+AN55+AO55+AP55+BQ55+BR55+BS55 -> 374 | CR55: =CO55-CP55-CQ55 -> 252 | CT55: 1935 | CU55: =CO55 -> 1018 | CV55: 316 | CW55: =CX55+CY55 -> 240 | CX55: 199 | CY55: =AC55+BC55+CG55 -> 41 | CZ55: 169 | DA55: =CU55-CV55-CW55-CZ55 -> 293
A56: 1936 | B56: 682 | C56: 322 | D56: =E56+F56 -> 26 | E56: 15 | F56: 11 | G56: =H56+I56 -> 61 | H56: 1 | I56: 60 | J56: =K56+L56 -> 28 | K56: 14 | L56: 14 | M56: 0 | N56: =L56-M56 -> 14 | O56: =P56+Q56 -> 245 | P56: 2 | Q56: 243 | S56: 1936 | T56: =B56 -> 682 | U56: =V56+W56 -> 454 | V56: 270 | W56: 184 | X56: =Y56+AB56 -> 86 | Y56: 78 | Z56: 32 | AA56: =Y56-Z56 -> 46 | AB56: 8 | AC56: 7 | AD56: =AB56-AC56 -> 1 | AE56: 45 | AF56: 97 | AH56: 1936 | AI56: 164 | AJ56: =AK56+AL56+AM56 -> 7 | AK56: 0 | AL56: 3 | AM56: 4 | AN56: 19 | AO56: 6 | AP56: 105 | AQ56: =AR56+AS56 -> 6 | AR56: 6 | AS56: 0 | AT56: =AI56-AK56-AL56-AM56-AN56-AO56-AP56-AQ56 -> 21 | AV56: 1936 | AW56: =AI56 -> 164 | AX56: =AY56+BB56 -> 0 | AY56: 0 | AZ56: 0 | BA56: 0 | BB56: 0 | BC56: 0 | BD56: 0 | BE56: 70 | BF56: 0 | BG56: =BE56-BF56 -> 70 | BH56: 94 | BJ56: 1936 | BK56: 527 | BL56: 140 | BM56: 34 | BN56: 14 | BO56: 0 | BP56: =BL56-BM56-BN56-BO56 -> 92 | BQ56: 4 | BR56: 7 | BS56: 319 | BT56: =BU56+BV56 -> 11 | BU56: 11 | BV56: 0 | BW56: =BK56-BM56-BQ56-BR56-BS56-BT56-BN56-BP56 -> 46 | BZ56: 1936 | CA56: =BK56 -> 527 | CB56: =CC56+CF56 -> 212 | CC56: 188 | CD56: 187 | CE56: =CC56-CD56 -> 1 | CF56: 24 | CG56: 24 | CH56: =CF56-CG56 -> 0 | CI56: 215 | CJ56: 38 | CK56: =CI56-CJ56 -> 177 | CL56: 100 | CN56: 1936 | CO56: 1213 | CP56: =C56+AK56+BM56 -> 356 | CQ56: =D56+G56+AN56+AO56+AP56+BQ56+BR56+BS56 -> 547 | CR56: =CO56-CP56-CQ56 -> 310 | CT56: 1936 | CU56: =CO56 -> 1213 | CV56: 407 | CW56: =CX56+CY56 -> 250 | CX56: 219 | CY56: =AC56+BC56+CG56 -> 31 | CZ56: 217 | DA56: =CU56-CV56-CW56-CZ56 -> 339
A57: 1937 | B57: 695 | C57: 202 | D57: =E57+F57 -> 42 | E57: 17 | F57: 25 | G57: =H57+I57 -> 53 | H57: 1 | I57: 52 | J57: =K57+L57 -> 127 | K57: 21 | L57: 106 | M57: 89.3 | N57: =L57-M57 -> 16.7 | O57: =P57+Q57 -> 271 | P57: 3 | Q57: 268 | S57: 1937 | T57: =B57 -> 695 | U57: =V57+W57 -> 504 | V57: 287 | W57: 217 | X57: =Y57+AB57 -> 68 | Y57: 58 | Z57: 24 | AA57: =Y57-Z57 -> 34 | AB57: 10 | AC57: 9 | AD57: =AB57-AC57 -> 1 | AE57: 31 | AF57: 92 | AH57: 1937 | AI57: 273 | AJ57: =AK57+AL57+AM57 -> 9 | AK57: 3 | AL57: 2 | AM57: 4 | AN57: 19 | AO57: 14 | AP57: 213 | AQ57: =AR57+AS57 -> 8 | AR57: 8 | AS57: 0 | AT57: =AI57-AK57-AL57-AM57-AN57-AO57-AP57-AQ57 -> 10 | AV57: 1937 | AW57: =AI57 -> 273 | AX57: =AY57+BB57 -> 1 | AY57: 1 | AZ57: 1 | BA57: 0 | BB57: 0 | BC57: 0 | BD57: 0 | BE57: 161 | BF57: 0 | BG57: =BE57-BF57 -> 161 | BH57: 111 | BJ57: 1937 | BK57: 536 | BL57: 122 | BM57: 23 | BN57: 10 | BO57: 0 | BP57: =BL57-BM57-BN57-BO57 -> 89 | BQ57: 7 | BR57: 10 | BS57: 340 | BT57: =BU57+BV57 -> 13 | BU57: 13 | BV57: 0 | BW57: =BK57-BM57-BQ57-BR57-BS57-BT57-BN57-BP57 -> 44 | BZ57: 1937 | CA57: =BK57 -> 536 | CB57: =CC57+CF57 -> 194 | CC57: 183 | CD57: 182 | CE57: =CC57-CD57 -> 1 | CF57: 11 | CG57: 11 | CH57: =CF57-CG57 -> 0 | CI57: 217 | CJ57: 43 | CK57: =CI57-CJ57 -> 174 | CL57: 125 | CN57: 1937 | CO57: 1268 | CP57: =C57+AK57+BM57 -> 228 | CQ57: =D57+G57+AN57+AO57+AP57+BQ57+BR57+BS57 -> 698 | CR57: =CO57-CP57-CQ57 -> 342 | CT57: 1937 | CU57: =CO57 -> 1268 | CV57: 456 | CW57: =CX57+CY57 -> 227 | CX57: 207 | CY57: =AC57+BC57+CG57 -> 20 | CZ57: 309 | DA57: =CU57-CV57-CW57-CZ57 -> 276
A58: 1938 | B58: 775 | C58: 212 | D58: =E58+F58 -> 149 | E58: 31 | F58: 118 | G58: =H58+I58 -> 75 | H58: 1 | I58: 74 | J58: =K58+L58 -> 39 | K58: 19 | L58: 20 | M58: 0 | N58: =L58-M58 -> 20 | O58: =P58+Q58 -> 300 | P58: 6 | Q58: 294 | S58: 1938 | T58: =B58 -> 775 | U58: =V58+W58 -> 566 | V58: 297 | W58: 269 | X58: =Y58+AB58 -> 83 | Y58: 80 | Z58: 27 | AA58: =Y58-Z58 -> 53 | AB58: 3 | AC58: 1 | AD58: =AB58-AC58 -> 2 | AE58: 27 | AF58: 99 | AH58: 1938 | AI58: 295 | AJ58: =AK58+AL58+AM58 -> 11 | AK58: 4 | AL58: 3 | AM58: 4 | AN58: 8 | AO58: 20 | AP58: 210 | AQ58: =AR58+AS58 -> 24 | AR58: 6 | AS58: 18 | AT58: =AI58-AK58-AL58-AM58-AN58-AO58-AP58-AQ58 -> 22 | AV58: 1938 | AW58: =AI58 -> 295 | AX58: =AY58+BB58 -> 1 | AY58: 1 | AZ58: 1 | BA58: 0 | BB58: 0 | BC58: 0 | BD58: 0 | BE58: 134 | BF58: 0 | BG58: =BE58-BF58 -> 134 | BH58: 160 | BJ58: 1938 | BK58: 521 | BL58: 153 | BM58: 25 | BN58: 17 | BO58: 49 | BP58: =BL58-BM58-BN58-BO58 -> 62 | BQ58: 11 | BR58: 15 | BS58: 284 | BT58: =BU58+BV58 -> 9 | BU58: 9 | BV58: 0 | BW58: =BK58-BM58-BQ58-BR58-BS58-BT58-BN58-BP58 -> 98 | BZ58: 1938 | CA58: =BK58 -> 521 | CB58: =CC58+CF58 -> 210 | CC58: 197 | CD58: 196 | CE58: =CC58-CD58 -> 1 | CF58: 13 | CG58: 13 | CH58: =CF58-CG58 -> 0 | CI58: 184 | CJ58: 35 | CK58: =CI58-CJ58 -> 149 | CL58: 127 | CN58: 1938 | CO58: 1380 | CP58: =C58+AK58+BM58 -> 241 | CQ58: =D58+G58+AN58+AO58+AP58+BQ58+BR58+BS58 -> 772 | CR58: =CO58-CP58-CQ58 -> 367 | CT58: 1938 | CU58: =CO58 -> 1380 | CV58: 513 | CW58: =CX58+CY58 -> 238 | CX58: 224 | CY58: =AC58+BC58+CG58 -> 14 | CZ58: 271 | DA58: =CU58-CV58-CW58-CZ58 -> 358
A59: 1939 | B59: 864 | C59: 210 | D59: =E59+F59 -> 223 | E59: 102 | F59: 121 | G59: =H59+I59 -> 94 | H59: 1 | I59: 93 | J59: =K59+L59 -> 33 | K59: 17 | L59: 16 | M59: 0 | N59: =L59-M59 -> 16 | O59: =P59+Q59 -> 304 | P59: 5 | Q59: 299 | S59: 1939 | T59: =B59 -> 864 | U59: =V59+W59 -> 647 | V59: 373 | W59: 274 | X59: =Y59+AB59 -> 79 | Y59: 71 | Z59: 19 | AA59: =Y59-Z59 -> 52 | AB59: 8 | AC59: 2 | AD59: =AB59-AC59 -> 6 | AE59: 33 | AF59: 105 | AH59: 1939 | AI59: 353 | AJ59: =AK59+AL59+AM59 -> 9 | AK59: 3 | AL59: 3 | AM59: 3 | AN59: 12 | AO59: 16 | AP59: 265 | AQ59: =AR59+AS59 -> 30 | AR59: 7 | AS59: 23 | AT59: =AI59-AK59-AL59-AM59-AN59-AO59-AP59-AQ59 -> 21 | AV59: 1939 | AW59: =AI59 -> 353 | AX59: =AY59+BB59 -> 2 | AY59: 2 | AZ59: 2 | BA59: 0 | BB59: 0 | BC59: 0 | BD59: 0 | BE59: 181 | BF59: 0 | BG59: =BE59-BF59 -> 181 | BH59: 170 | BJ59: 1939 | BK59: 644 | BL59: 167 | BM59: 31 | BN59: 27 | BO59: 56 | BP59: =BL59-BM59-BN59-BO59 -> 53 | BQ59: 13 | BR59: 18 | BS59: 380 | BT59: =BU59+BV59 -> 10 | BU59: 10 | BV59: 0 | BW59: =BK59-BM59-BQ59-BR59-BS59-BT59-BN59-BP59 -> 112 | BZ59: 1939 | CA59: =BK59 -> 644 | CB59: =CC59+CF59 -> 286 | CC59: 265 | CD59: 264 | CE59: =CC59-CD59 -> 1 | CF59: 21 | CG59: 21 | CH59: =CF59-CG59 -> 0 | CI59: 222 | CJ59: 35 | CK59: =CI59-CJ59 -> 187 | CL59: 136 | CN59: 1939 | CO59: 1639 | CP59: =C59+AK59+BM59 -> 244 | CQ59: =D59+G59+AN59+AO59+AP59+BQ59+BR59+BS59 -> 1021 | CR59: =CO59-CP59-CQ59 -> 374 | CT59: 1939 | CU59: =CO59 -> 1639 | CV59: 598 | CW59: =CX59+CY59 -> 308 | CX59: 285 | CY59: =AC59+BC59+CG59 -> 23 | CZ59: 348 | DA59: =CU59-CV59-CW59-CZ59 -> 385
A60: 1940 | B60: 1076 | C60: 310 | D60: =E60+F60 -> 308 | E60: 296 | F60: 12 | G60: =H60+I60 -> 85 | H60: 3 | I60: 82 | J60: =K60+L60 -> 19 | K60: 16 | L60: 3 | M60: 0 | N60: =L60-M60 -> 3 | O60: =P60+Q60 -> 354 | P60: 3 | Q60: 351 | S60: 1940 | T60: =B60 -> 1076 | U60: =V60+W60 -> 747 | V60: 421 | W60: 326 | X60: =Y60+AB60 -> 181 | Y60: 171 | Z60: 20 | AA60: =Y60-Z60 -> 151 | AB60: 10 | AC60: 3 | AD60: =AB60-AC60 -> 7 | AE60: 35 | AF60: 113 | AH60: 1940 | AI60: 349 | AJ60: =AK60+AL60+AM60 -> 12 | AK60: 1 | AL60: 6 | AM60: 5 | AN60: 9 | AO60: 28 | AP60: 246 | AQ60: =AR60+AS60 -> 17 | AR60: 7 | AS60: 10 | AT60: =AI60-AK60-AL60-AM60-AN60-AO60-AP60-AQ60 -> 37 | AV60: 1940 | AW60: =AI60 -> 349 | AX60: =AY60+BB60 -> 3 | AY60: 3 | AZ60: 3 | BA60: 0 | BB60: 0 | BC60: 0 | BD60: 0 | BE60: 114 | BF60: 0 | BG60: =BE60-BF60 -> 114 | BH60: 232 | BJ60: 1940 | BK60: 794 | BL60: 305 | BM60: 25 | BN60: 35 | BO60: 161 | BP60: =BL60-BM60-BN60-BO60 -> 84 | BQ60: 23 | BR60: 21 | BS60: 386 | BT60: =BU60+BV60 -> 12 | BU60: 12 | BV60: 0 | BW60: =BK60-BM60-BQ60-BR60-BS60-BT60-BN60-BP60 -> 208 | BZ60: 1940 | CA60: =BK60 -> 794 | CB60: =CC60+CF60 -> 420 | CC60: 382 | CD60: 377 | CE60: =CC60-CD60 -> 5 | CF60: 38 | CG60: 38 | CH60: =CF60-CG60 -> 0 | CI60: 236 | CJ60: 76 | CK60: =CI60-CJ60 -> 160 | CL60: 138 | CN60: 1940 | CO60: 1878 | CP60: =C60+AK60+BM60 -> 336 | CQ60: =D60+G60+AN60+AO60+AP60+BQ60+BR60+BS60 -> 1106 | CR60: =CO60-CP60-CQ60 -> 436 | CT60: 1940 | CU60: =CO60 -> 1878 | CV60: 662 | CW60: =CX60+CY60 -> 441 | CX60: 400 | CY60: =AC60+BC60+CG60 -> 41 | CZ60: 315 | DA60: =CU60-CV60-CW60-CZ60 -> 460
A61: 1941 | B61: 1213 | C61: 300 | D61: =E61+F61 -> 454 | E61: 442 | F61: 12 | G61: =H61+I61 -> 90 | H61: 3 | I61: 87 | J61: =K61+L61 -> 25 | K61: 15 | L61: 10 | M61: 0 | N61: =L61-M61 -> 10 | O61: =P61+Q61 -> 344 | P61: 7 | Q61: 337 | S61: 1941 | T61: =B61 -> 1213 | U61: =V61+W61 -> 867 | V61: 563 | W61: 304 | X61: =Y61+AB61 -> 174 | Y61: 167 | Z61: 21 | AA61: =Y61-Z61 -> 146 | AB61: 7 | AC61: 5 | AD61: =AB61-AC61 -> 2 | AE61: 45 | AF61: 127 | AH61: 1941 | AI61: 437 | AJ61: =AK61+AL61+AM61 -> 21 | AK61: 1 | AL61: 9 | AM61: 11 | AN61: 11 | AO61: 53 | AP61: 310 | AQ61: =AR61+AS61 -> 10 | AR61: 10 | AS61: 0 | AT61: =AI61-AK61-AL61-AM61-AN61-AO61-AP61-AQ61 -> 32 | AV61: 1941 | AW61: =AI61 -> 437 | AX61: =AY61+BB61 -> 5 | AY61: 5 | AZ61: 5 | BA61: 0 | BB61: 0 | BC61: 0 | BD61: 0 | BE61: 159 | BF61: 0 | BG61: =BE61-BF61 -> 159 | BH61: 273 | BJ61: 1941 | BK61: 984 | BL61: 307 | BM61: 38 | BN61: 53 | BO61: 148 | BP61: =BL61-BM61-BN61-BO61 -> 68 | BQ61: 7 | BR61: 35 | BS61: 559 | BT61: =BU61+BV61 -> 18 | BU61: 18 | BV61: 0 | BW61: =BK61-BM61-BQ61-BR61-BS61-BT61-BN61-BP61 -> 206 | BZ61: 1941 | CA61: =BK61 -> 984 | CB61: =CC61+CF61 -> 493 | CC61: 453 | CD61: 446 | CE61: =CC61-CD61 -> 7 | CF61: 40 | CG61: 40 | CH61: =CF61-CG61 -> 0 | CI61: 320 | CJ61: 103 | CK61: =CI61-CJ61 -> 217 | CL61: 171 | CN61: 1941 | CO61: 2286 | CP61: =C61+AK61+BM61 -> 339 | CQ61: =D61+G61+AN61+AO61+AP61+BQ61+BR61+BS61 -> 1519 | CR61: =CO61-CP61-CQ61 -> 428 | CT61: 1941 | CU61: =CO61 -> 2286 | CV61: 796 | CW61: =CX61+CY61 -> 517 | CX61: 472 | CY61: =AC61+BC61+CG61 -> 45 | CZ61: 434 | DA61: =CU61-CV61-CW61-CZ61 -> 539
A62: 1942 | B62: 1681 | C62: 493 | D62: =E62+F62 -> 593 | E62: 581 | F62: 12 | G62: =H62+I62 -> 133 | H62: 2 | I62: 131 | J62: =K62+L62 -> 95 | K62: 21 | L62: 74 | M62: 0 | N62: =L62-M62 -> 74 | O62: =P62+Q62 -> 367 | P62: 7 | Q62: 360 | S62: 1942 | T62: =B62 -> 1681 | U62: =V62+W62 -> 1096 | V62: 753 | W62: 343 | X62: =Y62+AB62 -> 372 | Y62: 346 | Z62: 39 | AA62: =Y62-Z62 -> 307 | AB62: 26 | AC62: 24 | AD62: =AB62-AC62 -> 2 | AE62: 52 | AF62: 161 | AH62: 1942 | AI62: 586 | AJ62: =AK62+AL62+AM62 -> 33 | AK62: 2 | AL62: 21 | AM62: 10 | AN62: 154 | AO62: 46 | AP62: 285 | AQ62: =AR62+AS62 -> 32 | AR62: 13 | AS62: 19 | AT62: =AI62-AK62-AL62-AM62-AN62-AO62-AP62-AQ62 -> 36 | AV62: 1942 | AW62: =AI62 -> 586 | AX62: =AY62+BB62 -> 3 | AY62: 3 | AZ62: 3 | BA62: 0 | BB62: 0 | BC62: 0 | BD62: 0 | BE62: 319 | BF62: 1 | BG62: =BE62-BF62 -> 318 | BH62: 264 | BJ62: 1942 | BK62: 1486 | BL62: 524 | BM62: 42 | BN62: 86 | BO62: 323 | BP62: =BL62-BM62-BN62-BO62 -> 73 | BQ62: 21 | BR62: 66 | BS62: 727 | BT62: =BU62+BV62 -> 79 | BU62: 58 | BV62: 21 | BW62: =BK62-BM62-BQ62-BR62-BS62-BT62-BN62-BP62 -> 392 | BZ62: 1942 | CA62: =BK62 -> 1486 | CB62: =CC62+CF62 -> 760 | CC62: 720 | CD62: 687 | CE62: =CC62-CD62 -> 33 | CF62: 40 | CG62: 38 | CH62: =CF62-CG62 -> 2 | CI62: 467 | CJ62: 129 | CK62: =CI62-CJ62 -> 338 | CL62: 259 | CN62: 1942 | CO62: 3029 | CP62: =C62+AK62+BM62 -> 537 | CQ62: =D62+G62+AN62+AO62+AP62+BQ62+BR62+BS62 -> 2025 | CR62: =CO62-CP62-CQ62 -> 467 | CT62: 1942 | CU62: =CO62 -> 3029 | CV62: 1021 | CW62: =CX62+CY62 -> 791 | CX62: 729 | CY62: =AC62+BC62+CG62 -> 62 | CZ62: 593 | DA62: =CU62-CV62-CW62-CZ62 -> 624
A63: 1943 | B63: 2559 | C63: 1174 | D63: =E63+F63 -> 531 | E63: 522 | F63: 9 | G63: =H63+I63 -> 202 | H63: 12 | I63: 190 | J63: =K63+L63 -> 145 | K63: 30 | L63: 115 | M63: 0 | N63: =L63-M63 -> 115 | O63: =P63+Q63 -> 507 | P63: 40 | Q63: 467 | S63: 1943 | T63: =B63 -> 2559 | U63: =V63+W63 -> 1614 | V63: 1171 | W63: 443 | X63: =Y63+AB63 -> 701 | Y63: 686 | Z63: 46 | AA63: =Y63-Z63 -> 640 | AB63: 15 | AC63: 10 | AD63: =AB63-AC63 -> 5 | AE63: 73 | AF63: 171 | AH63: 1943 | AI63: 838 | AJ63: =AK63+AL63+AM63 -> 43 | AK63: 6 | AL63: 24 | AM63: 13 | AN63: 199 | AO63: 134 | AP63: 330 | AQ63: =AR63+AS63 -> 84 | AR63: 69 | AS63: 15 | AT63: =AI63-AK63-AL63-AM63-AN63-AO63-AP63-AQ63 -> 48 | AV63: 1943 | AW63: =AI63 -> 838 | AX63: =AY63+BB63 -> 11 | AY63: 10 | AZ63: 10 | BA63: 0 | BB63: 1 | BC63: 1 | BD63: 0 | BE63: 542 | BF63: 2 | BG63: =BE63-BF63 -> 540 | BH63: 285 | BJ63: 1943 | BK63: 2263 | BL63: 917 | BM63: 44 | BN63: 120 | BO63: 620 | BP63: =BL63-BM63-BN63-BO63 -> 133 | BQ63: 35 | BR63: 97 | BS63: 898 | BT63: =BU63+BV63 -> 44 | BU63: 19 | BV63: 25 | BW63: =BK63-BM63-BQ63-BR63-BS63-BT63-BN63-BP63 -> 892 | BZ63: 1943 | CA63: =BK63 -> 2263 | CB63: =CC63+CF63 -> 1226 | CC63: 1182 | CD63: 1139 | CE63: =CC63-CD63 -> 43 | CF63: 44 | CG63: 43 | CH63: =CF63-CG63 -> 1 | CI63: 704 | CJ63: 214 | CK63: =CI63-CJ63 -> 490 | CL63: 333 | CN63: 1943 | CO63: 4337 | CP63: =C63+AK63+BM63 -> 1224 | CQ63: =D63+G63+AN63+AO63+AP63+BQ63+BR63+BS63 -> 2426 | CR63: =CO63-CP63-CQ63 -> 687 | CT63: 1943 | CU63: =CO63 -> 4337 | CV63: 1477 | CW63: =CX63+CY63 -> 1249 | CX63: 1195 | CY63: =AC63+BC63+CG63 -> 54 | CZ63: -37 | DA63: =CU63-CV63-CW63-CZ63 -> 1648
A64: 1944 | B64: 3179 | C64: 1357 | D64: =E64+F64 -> 616 | E64: 618 | F64: -2 | G64: =H64+I64 -> 436 | H64: 23 | I64: 413 | J64: =K64+L64 -> 196 | K64: 73 | L64: 123 | M64: 0 | N64: =L64-M64 -> 123 | O64: =P64+Q64 -> 574 | P64: 22 | Q64: 552 | S64: 1944 | T64: =B64 -> 3179 | U64: =V64+W64 -> 1882 | V64: 1358 | W64: 524 | X64: =Y64+AB64 -> 1025 | Y64: 1009 | Z64: 60 | AA64: =Y64-Z64 -> 949 | AB64: 16 | AC64: 4 | AD64: =AB64-AC64 -> 12 | AE64: 57 | AF64: 215 | AH64: 1944 | AI64: 946 | AJ64: =AK64+AL64+AM64 -> 28 | AK64: 2 | AL64: 9 | AM64: 17 | AN64: 251 | AO64: 180 | AP64: 334 | AQ64: =AR64+AS64 -> 97 | AR64: 31 | AS64: 66 | AT64: =AI64-AK64-AL64-AM64-AN64-AO64-AP64-AQ64 -> 56 | AV64: 1944 | AW64: =AI64 -> 946 | AX64: =AY64+BB64 -> 10 | AY64: 9 | AZ64: 9 | BA64: 0 | BB64: 1 | BC64: 1 | BD64: 0 | BE64: 675 | BF64: 0 | BG64: =BE64-BF64 -> 675 | BH64: 261 | BJ64: 1944 | BK64: 2949 | BL64: 1238 | BM64: 75 | BN64: 142 | BO64: 910 | BP64: =BL64-BM64-BN64-BO64 -> 111 | BQ64: 73 | BR64: 141 | BS64: 1221 | BT64: =BU64+BV64 -> 163 | BU64: 133 | BV64: 30 | BW64: =BK64-BM64-BQ64-BR64-BS64-BT64-BN64-BP64 -> 1023 | BZ64: 1944 | CA64: =BK64 -> 2949 | CB64: =CC64+CF64 -> 1578 | CC64: 1510 | CD64: 1473 | CE64: =CC64-CD64 -> 37 | CF64: 68 | CG64: 67 | CH64: =CF64-CG64 -> 1 | CI64: 958 | CJ64: 294 | CK64: =CI64-CJ64 -> 664 | CL64: 413 | CN64: 1944 | CO64: 5408 | CP64: =C64+AK64+BM64 -> 1434 | CQ64: =D64+G64+AN64+AO64+AP64+BQ64+BR64+BS64 -> 3252 | CR64: =CO64-CP64-CQ64 -> 722 | CT64: 1944 | CU64: =CO64 -> 5408 | CV64: 1767 | CW64: =CX64+CY64 -> 1614 | CX64: 1542 | CY64: =AC64+BC64+CG64 -> 72 | CZ64: 1180 | DA64: =CU64-CV64-CW64-CZ64 -> 847
... A89: 1969 | B89: 32741 | C89: 8981 | D89: =E89+F89 -> 16538 | E89: 16089 | F89: 449 | G89: =H89+I89 -> 1802 | H89: 786 | I89: 1016 | J89: =K89+L89 -> 1023 | K89: 667 | L89: 356 | M89: 233 | N89: =L89-M89 -> 123 | O89: =P89+Q89 -> 4397 | P89: 87 | Q89: 4310 | S89: 1969 | T89: =B89 -> 32741 | U89: =V89+W89 -> 19015 | V89: 17500 | W89: 1515 | X89: =Y89+AB89 -> 8753 | Y89: 8028 | Z89: 789 | AA89: =Y89-Z89 -> 7239 | AB89: 725 | AC89: 67 | AD89: =AB89-AC89 -> 658 | AE89: 850 | AF89: 4123 | AH89: 1969 | AI89: 63797 | AJ89: =AK89+AL89+AM89 -> 937 | AK89: 265 | AL89: 369 | AM89: 303 | AN89: 1632 | AO89: 3548 | AP89: 46742 | AQ89: =AR89+AS89 -> 7091 | AR89: 1427 | AS89: 5664 | AT89: =AI89-AK89-AL89-AM89-AN89-AO89-AP89-AQ89 -> 3847 | AV89: 1969 | AW89: =AI89 -> 63797 | AX89: =AY89+BB89 -> 199 | AY89: 179 | AZ89: 179 | BA89: 0 | BB89: 20 | BC89: 20 | BD89: 0 | BE89: 51942 | BF89: 415 | BG89: =BE89-BF89 -> 51527 | BH89: 11656 | BJ89: 1969 | BK89: 122825 | BL89: 13125 | BM89: 1009 | BN89: 3522 | BO89: 7875 | BP89: =BL89-BM89-BN89-BO89 -> 719 | BQ89: 23675 | BR89: 5434 | BS89: 67389 | BT89: =BU89+BV89 -> 8709 | BU89: 7025 | BV89: 1684 | BW89: =BK89-BM89-BQ89-BR89-BS89-BT89-BN89-BP89 -> 12368 | BZ89: 1969 | CA89: =BK89 -> 122825 | CB89: =CC89+CF89 -> 29069 | CC89: 27259 | CD89: 25127 | CE89: =CC89-CD89 -> 2132 | CF89: 1810 | CG89: 1773 | CH89: =CF89-CG89 -> 37 | CI89: 80293 | CJ89: 12475 | CK89: =CI89-CJ89 -> 67818 | CL89: 13463 | CN89: 1969 | CO89: 191130 | CP89: =C89+AK89+BM89 -> 10255 | CQ89: =D89+G89+AN89+AO89+AP89+BQ89+BR89+BS89 -> 166760 | CR89: =CO89-CP89-CQ89 -> 14115 | CT89: 1969 | CU89: =CO89 -> 191130 | CV89: 18246 | CW89: =CX89+CY89 -> 27994 | CX89: 26134 | CY89: =AC89+BC89+CG89 -> 1860 | CZ89: 118067 | DA89: =CU89-CV89-CW89-CZ89 -> 26823
A90: 1970 | B90: 35742 | C90: 10327 | D90: =E90+F90 -> 17143 | E90: 16945 | F90: 198 | G90: =H90+I90 -> 2201 | H90: 865 | I90: 1336 | J90: =K90+L90 -> 988 | K90: 710 | L90: 278 | M90: 233 | N90: =L90-M90 -> 45 | O90: =P90+Q90 -> 5083 | P90: 59 | Q90: 5024 | S90: 1970 | T90: =B90 -> 35742 | U90: =V90+W90 -> 20941 | V90: 19242 | W90: 1699 | X90: =Y90+AB90 -> 9139 | Y90: 8346 | Z90: 1025 | AA90: =Y90-Z90 -> 7321 | AB90: 793 | AC90: 23 | AD90: =AB90-AC90 -> 770 | AE90: 529 | AF90: 5133 | AH90: 1970 | AI90: 69891 | AJ90: =AK90+AL90+AM90 -> 964 | AK90: 242 | AL90: 475 | AM90: 247 | AN90: 2329 | AO90: 3769 | AP90: 51322 | AQ90: =AR90+AS90 -> 7144 | AR90: 1257 | AS90: 5887 | AT90: =AI90-AK90-AL90-AM90-AN90-AO90-AP90-AQ90 -> 4363 | AV90: 1970 | AW90: =AI90 -> 69891 | AX90: =AY90+BB90 -> 244 | AY90: 229 | AZ90: 229 | BA90: 0 | BB90: 15 | BC90: 15 | BD90: 0 | BE90: 57209 | BF90: 407 | BG90: =BE90-BF90 -> 56802 | BH90: 12438 | BJ90: 1970 | BK90: 144955 | BL90: 14338 | BM90: 1199 | BN90: 4265 | BO90: 8111 | BP90: =BL90-BM90-BN90-BO90 -> 763 | BQ90: 27063 | BR90: 6401 | BS90: 83684 | BT90: =BU90+BV90 -> 9323 | BU90: 8112 | BV90: 1211 | BW90: =BK90-BM90-BQ90-BR90-BS90-BT90-BN90-BP90 -> 12257 | BX90: =BQ90+BR90+BS90+BT90 -> 126471 | BZ90: 1970 | CA90: =BK90 -> 144955 | CB90: =CC90+CF90 -> 32267 | CC90: 30381 | CD90: 27615 | CE90: =CC90-CD90 -> 2766 | CF90: 1886 | CG90: 1849 | CH90: =CF90-CG90 -> 37 | CI90: 97748 | CJ90: 13964 | CK90: =CI90-CJ90 -> 83784 | CL90: 14940 | CN90: 1970 | CO90: 220351 | CP90: =C90+AK90+BM90 -> 11768 | CQ90: =D90+G90+AN90+AO90+AP90+BQ90+BR90+BS90 -> 193912 | CR90: =CO90-CP90-CQ90 -> 14671 | CT90: 1970 | CU90: =CO90 -> 220351 | CV90: 20143 | CW90: =CX90+CY90 -> 30796 | CX90: 28909 | CY90: =AC90+BC90+CG90 -> 1887 | CZ90: 139736 | DA90: =CU90-CV90-CW90-CZ90 -> 29676
A91: 1971 | B91: 40976 | C91: 12859 | D91: =E91+F91 -> 14576 | E91: 13986 | F91: 590 | G91: =H91+I91 -> 3170 | H91: 1219 | I91: 1951 | J91: =K91+L91 -> 1311 | K91: 210 | L91: 1101 | M91: 233 | N91: =L91-M91 -> 868 | O91: =P91+Q91 -> 9060 | P91: 78 | Q91: 8982 | S91: 1971 | T91: =B91 -> 40976 | U91: =V91+W91 -> 22564 | V91: 20474 | W91: 2090 | X91: =Y91+AB91 -> 9581 | Y91: 8955 | Z91: 1165 | AA91: =Y91-Z91 -> 7790 | AB91: 626 | AC91: 22 | AD91: =AB91-AC91 -> 604 | AE91: 2731 | AF91: 6100 | AH91: 1971 | AI91: 84000 | AJ91: =AK91+AL91+AM91 -> 1404 | AK91: 505 | AL91: 592 | AM91: 307 | AN91: 2740 | AO91: 4553 | AP91: 60803 | AQ91: =AR91+AS91 -> 9643 | AR91: 1787 | AS91: 7856 | AT91: =AI91-AK91-AL91-AM91-AN91-AO91-AP91-AQ91 -> 4857 | AV91: 1971 | AW91: =AI91 -> 84000 | AX91: =AY91+BB91 -> 231 | AY91: 216 | AZ91: 216 | BA91: 0 | BB91: 15 | BC91: 15 | BD91: 0 | BE91: 68182 | BF91: 731 | BG91: =BE91-BF91 -> 67451 | BH91: 15587 | BJ91: 1971 | BK91: 167127 | BL91: 16781 | BM91: 1209 | BN91: 5048 | BO91: 9821 | BP91: =BL91-BM91-BN91-BO91 -> 703 | BQ91: 34403 | BR91: 6781 | BS91: 93859 | BT91: =BU91+BV91 -> 9993 | BU91: 8562 | BV91: 1431 | BW91: =BK91-BM91-BQ91-BR91-BS91-BT91-BN91-BP91 -> 15131 | BZ91: 1971 | CA91: =BK91 -> 167127 | CB91: =CC91+CF91 -> 34436 | CC91: 32646 | CD91: 29856 | CE91: =CC91-CD91 -> 2790 | CF91: 1790 | CG91: 1754 | CH91: =CF91-CG91 -> 36 | CI91: 115738 | CJ91: 16739 | CK91: =CI91-CJ91 -> 98999 | CL91: 16953 | CN91: 1971 | CO91: 256005 | CP91: =C91+AK91+BM91 -> 14573 | CQ91: =D91+G91+AN91+AO91+AP91+BQ91+BR91+BS91 -> 220885 | CR91: =CO91-CP91-CQ91 -> 20547 | CT91: 1971 | CU91: =CO91 -> 256005 | CV91: 21824 | CW91: =CX91+CY91 -> 33090 | CX91: 31299 | CY91: =AC91+BC91+CG91 -> 1791 | CZ91: 165718 | DA91: =CU91-CV91-CW91-CZ91 -> 35373
A92: 1972 | B92: 66389 | C92: 16801 | D92: =E92+F92 -> 37577 | E92: 37422 | F92: 155 | G92: =H92+I92 -> 2326 | H92: 1066 | I92: 1260 | J92: =K92+L92 -> 489 | K92: 170 | L92: 319 | M92: 298 | N92: =L92-M92 -> 21 | O92: =P92+Q92 -> 9196 | P92: 156 | Q92: 9040 | S92: 1972 | T92: =B92 -> 66389 | U92: =V92+W92 -> 27748 | V92: 25363 | W92: 2385 | X92: =Y92+AB92 -> 10142 | Y92: 9521 | Z92: 1261 | AA92: =Y92-Z92 -> 8260 | AB92: 621 | AC92: 8 | AD92: =AB92-AC92 -> 613 | AE92: 21348 | AF92: 7151 | AH92: 1972 | AI92: 95735 | AJ92: =AK92+AL92+AM92 -> 1473 | AK92: 238 | AL92: 931 | AM92: 304 | AN92: 2778 | AO92: 4768 | AP92: 68561 | AQ92: =AR92+AS92 -> 13301 | AR92: 1757 | AS92: 11544 | AT92: =AI92-AK92-AL92-AM92-AN92-AO92-AP92-AQ92 -> 4854 | AV92: 1972 | AW92: =AI92 -> 95735 | AX92: =AY92+BB92 -> 437 | AY92: 387 | AZ92: 387 | BA92: 0 | BB92: 50 | BC92: 50 | BD92: 0 | BE92: 77122 | BF92: 753 | BG92: =BE92-BF92 -> 76369 | BH92: 18176 | BJ92: 1972 | BK92: 192651 | BL92: 35608 | BM92: 772 | BN92: 4589 | BO92: 29325 | BP92: =BL92-BM92-BN92-BO92 -> 922 | BQ92: 24333 | BR92: 7629 | BS92: 107723 | BT92: =BU92+BV92 -> 10823 | BU92: 9620 | BV92: 1203 | BW92: =BK92-BM92-BQ92-BR92-BS92-BT92-BN92-BP92 -> 35860 | BZ92: 1972 | CA92: =BK92 -> 192651 | CB92: =CC92+CF92 -> 40052 | CC92: 37896 | CD92: 35903 | CE92: =CC92-CD92 -> 1993 | CF92: 2156 | CG92: 2120 | CH92: =CF92-CG92 -> 36 | CI92: 133923 | CJ92: 19167 | CK92: =CI92-CJ92 -> 114756 | CL92: 18676 | CN92: 1972 | CO92: 296319 | CP92: =C92+AK92+BM92 -> 17811 | CQ92: =D92+G92+AN92+AO92+AP92+BQ92+BR92+BS92 -> 255695 | CR92: =CO92-CP92-CQ92 -> 22813 | CT92: 1972 | CU92: =CO92 -> 296319 | CV92: 26777 | CW92: =CX92+CY92 -> 39770 | CX92: 37592 | CY92: =AC92+BC92+CG92 -> 2178 | CZ92: 189438 | DA92: =CU92-CV92-CW92-CZ92 -> 40334
A93: 1973 | B93: 87948 | C93: 17976 | D93: =E93+F93 -> 59215 | E93: 59206 | F93: 9 | G93: =H93+I93 -> 3157 | H93: 1131 | I93: 2026 | J93: =K93+L93 -> 670 | K93: 327 | L93: 343 | M93: 343 | N93: =L93-M93 -> 0 | O93: =P93+Q93 -> 6930 | P93: 422 | Q93: 6508 | S93: 1973 | T93: =B93 -> 87948 | U93: =V93+W93 -> 36901 | V93: 34227 | W93: 2674 | X93: =Y93+AB93 -> 12643 | Y93: 10914 | Z93: 1706 | AA93: =Y93-Z93 -> 9208 | AB93: 1729 | AC93: 126 | AD93: =AB93-AC93 -> 1603 | AE93: 28623 | AF93: 9781 | AH93: 1973 | AI93: 117869 | AJ93: =AK93+AL93+AM93 -> 2945 | AK93: 1503 | AL93: 996 | AM93: 446 | AN93: 1896 | AO93: 6425 | AP93: 83216 | AQ93: =AR93+AS93 -> 17286 | AR93: 1904 | AS93: 15382 | AT93: =AI93-AK93-AL93-AM93-AN93-AO93-AP93-AQ93 -> 6101 | AV93: 1973 | AW93: =AI93 -> 117869 | AX93: =AY93+BB93 -> 568 | AY93: 546 | AZ93: 546 | BA93: 0 | BB93: 22 | BC93: 22 | BD93: 0 | BE93: 98311 | BF93: 1048 | BG93: =BE93-BF93 -> 97263 | BH93: 18990 | BJ93: 1973 | BK93: 219529 | BL93: 49878 | BM93: 2807 | BN93: 5199 | BO93: 39233 | BP93: =BL93-BM93-BN93-BO93 -> 2639 | BQ93: 22462 | BR93: 8174 | BS93: 118090 | BT93: =BU93+BV93 -> 12963 | BU93: 10953 | BV93: 2010 | BW93: =BK93-BM93-BQ93-BR93-BS93-BT93-BN93-BP93 -> 47195 | BZ93: 1973 | CA93: =BK93 -> 219529 | CB93: =CC93+CF93 -> 50004 | CC93: 45719 | CD93: 43447 | CE93: =CC93-CD93 -> 2272 | CF93: 4285 | CG93: 4246 | CH93: =CF93-CG93 -> 39 | CI93: 148901 | CJ93: 23126 | CK93: =CI93-CJ93 -> 125775 | CL93: 20624 | CN93: 1973 | CO93: 347779 | CP93: =C93+AK93+BM93 -> 22286 | CQ93: =D93+G93+AN93+AO93+AP93+BQ93+BR93+BS93 -> 302635 | CR93: =CO93-CP93-CQ93 -> 22858 | CT93: 1973 | CU93: =CO93 -> 347779 | CV93: 34176 | CW93: =CX93+CY93 -> 50116 | CX93: 45722 | CY93: =AC93+BC93+CG93 -> 4394 | CZ93: 218454 | DA93: =CU93-CV93-CW93-CZ93 -> 45033
A94: 1974 | B94: 121915 | C94: 18176 | D94: =E94+F94 -> 90928 | E94: 94027 | F94: -3099 | G94: =H94+I94 -> 5055 | H94: 1675 | I94: 3380 | J94: =K94+L94 -> 479 | K94: 228 | L94: 251 | M94: 249 | N94: =L94-M94 -> 2 | O94: =P94+Q94 -> 7277 | P94: 315 | Q94: 6962 | S94: 1974 | T94: =B94 -> 121915 | U94: =V94+W94 -> 46505 | V94: 43470 | W94: 3035 | X94: =Y94+AB94 -> 11585 | Y94: 10369 | Z94: 834 | AA94: =Y94-Z94 -> 9535 | AB94: 1216 | AC94: 9 | AD94: =AB94-AC94 -> 1207 | AE94: 50360 | AF94: 13465 | AH94: 1974 | AI94: 150848 | AJ94: =AK94+AL94+AM94 -> 2981 | AK94: 632 | AL94: 1558 | AM94: 791 | AN94: 2135 | AO94: 6797 | AP94: 107308 | AQ94: =AR94+AS94 -> 22725 | AR94: 2107 | AS94: 20618 | AT94: =AI94-AK94-AL94-AM94-AN94-AO94-AP94-AQ94 -> 8902 | AV94: 1974 | AW94: =AI94 -> 150848 | AX94: =AY94+BB94 -> 997 | AY94: 946 | AZ94: 946 | BA94: 0 | BB94: 51 | BC94: 51 | BD94: 0 | BE94: 128000 | BF94: 847 | BG94: =BE94-BF94 -> 127153 | BH94: 21851 | BJ94: 1974 | BK94: 255556 | BL94: 70373 | BM94: 688 | BN94: 6207 | BO94: 59815 | BP94: =BL94-BM94-BN94-BO94 -> 3663 | BQ94: 20664 | BR94: 8967 | BS94: 132027 | BT94: =BU94+BV94 -> 15373 | BU94: 12918 | BV94: 2455 | BW94: =BK94-BM94-BQ94-BR94-BS94-BT94-BN94-BP94 -> 67967 | BZ94: 1974 | CA94: =BK94 -> 255556 | CB94: =CC94+CF94 -> 59864 | CC94: 56305 | CD94: 53007 | CE94: =CC94-CD94 -> 3298 | CF94: 3559 | CG94: 3507 | CH94: =CF94-CG94 -> 52 | CI94: 172684 | CJ94: 26403 | CK94: =CI94-CJ94 -> 146281 | CL94: 23008 | CN94: 1974 | CO94: 418924 | CP94: =C94+AK94+BM94 -> 19496 | CQ94: =D94+G94+AN94+AO94+AP94+BQ94+BR94+BS94 -> 373881 | CR94: =CO94-CP94-CQ94 -> 25547 | CT94: 1974 | CU94: =CO94 -> 418924 | CV94: 42686 | CW94: =CX94+CY94 -> 58366 | CX94: 54799 | CY94: =AC94+BC94+CG94 -> 3567 | CZ94: 265138 | DA94: =CU94-CV94-CW94-CZ94 -> 52734
A95: 1975 | B95: 158566 | C95: 20153 | D95: =E95+F95 -> 123409 | E95: 125904 | F95: -2495 | G95: =H95+I95 -> 5056 | H95: 1181 | I95: 3875 | J95: =K95+L95 -> 816 | K95: 666 | L95: 150 | M95: 150 | N95: =L95-M95 -> 0 | O95: =P95+Q95 -> 9132 | P95: 1147 | Q95: 7985 | S95: 1975 | T95: =B95 -> 158566 | U95: =V95+W95 -> 56708 | V95: 53131 | W95: 3577 | X95: =Y95+AB95 -> 2742 | Y95: 1111 | Z95: 856 | AA95: =Y95-Z95 -> 255 | AB95: 1631 | AC95: 13 | AD95: =AB95-AC95 -> 1618 | AE95: 85574 | AF95: 13542 | AH95: 1975 | AI95: 202442 | AJ95: =AK95+AL95+AM95 -> 4194 | AK95: 1162 | AL95: 2022 | AM95: 1010 | AN95: 4587 | AO95: 9143 | AP95: 140836 | AQ95: =AR95+AS95 -> 31216 | AR95: 3416 | AS95: 27800 | AT95: =AI95-AK95-AL95-AM95-AN95-AO95-AP95-AQ95 -> 12466 | AV95: 1975 | AW95: =AI95 -> 202442 | AX95: =AY95+BB95 -> 1479 | AY95: 1440 | AZ95: 1440 | BA95: 0 | BB95: 39 | BC95: 39 | BD95: 0 | BE95: 170857 | BF95: 1601 | BG95: =BE95-BF95 -> 169256 | BH95: 30106 | BJ95: 1975 | BK95: 318903 | BL95: 98141 | BM95: 750 | BN95: 7767 | BO95: 85381 | BP95: =BL95-BM95-BN95-BO95 -> 4243 | BQ95: 27621 | BR95: 10373 | BS95: 156452 | BT95: =BU95+BV95 -> 17340 | BU95: 12226 | BV95: 5114 | BW95: =BK95-BM95-BQ95-BR95-BS95-BT95-BN95-BP95 -> 94357 | BZ95: 1975 | CA95: =BK95 -> 318903 | CB95: =CC95+CF95 -> 72637 | CC95: 68559 | CD95: 63708 | CE95: =CC95-CD95 -> 4851 | CF95: 4078 | CG95: 3985 | CH95: =CF95-CG95 -> 93 | CI95: 219756 | CJ95: 29458 | CK95: =CI95-CJ95 -> 190298 | CL95: 26510 | CN95: 1975 | CO95: 531847 | CP95: =C95+AK95+BM95 -> 22065 | CQ95: =D95+G95+AN95+AO95+AP95+BQ95+BR95+BS95 -> 477477 | CR95: =CO95-CP95-CQ95 -> 32305 | CT95: 1975 | CU95: =CO95 -> 531847 | CV95: 52262 | CW95: =CX95+CY95 -> 70043 | CX95: 66006 | CY95: =AC95+BC95+CG95 -> 4037 | CZ95: 345415 | DA95: =CU95-CV95-CW95-CZ95 -> 64127
A96: 1976 | B96: 195038 | C96: 28156 | D96: =E96+F96 -> 122564 | E96: 132843 | F96: -10279 | G96: =H96+I96 -> 11599 | H96: 1857 | I96: 9742 | J96: =K96+L96 -> 20460 | K96: 201 | L96: 20259 | M96: 927 | N96: =L96-M96 -> 19332 | O96: =P96+Q96 -> 12259 | P96: 706 | Q96: 11553 | S96: 1976 | T96: =B96 -> 195038 | U96: =V96+W96 -> 84706 | V96: 79366 | W96: 5340 | X96: =Y96+AB96 -> 4816 | Y96: 1431 | Z96: 560 | AA96: =Y96-Z96 -> 871 | AB96: 3385 | AC96: 89 | AD96: =AB96-AC96 -> 3296 | AE96: 73086 | AF96: 32430 | AH96: 1976 | AI96: 344442 | AJ96: =AK96+AL96+AM96 -> 5954 | AK96: 1354 | AL96: 2551 | AM96: 2049 | AN96: 6188 | AO96: 12183 | AP96: 225493 | AQ96: =AR96+AS96 -> 40685 | AR96: 3629 | AS96: 37056 | AT96: =AI96-AK96-AL96-AM96-AN96-AO96-AP96-AQ96 -> 53939 | AV96: 1976 | AW96: =AI96 -> 344442 | AX96: =AY96+BB96 -> 2296 | AY96: 2110 | AZ96: 2110 | BA96: 0 | BB96: 186 | BC96: 186 | BD96: 0 | BE96: 300272 | BF96: 569 | BG96: =BE96-BF96 -> 299703 | BH96: 41874 | BJ96: 1976 | BK96: 379130 | BL96: 63974 | BM96: 1476 | BN96: 7963 | BO96: 50008 | BP96: =BL96-BM96-BN96-BO96 -> 4527 | BQ96: 85521 | BR96: 12215 | BS96: 182714 | BT96: =BU96+BV96 -> 21720 | BU96: 12450 | BV96: 9270 | BW96: =BK96-BM96-BQ96-BR96-BS96-BT96-BN96-BP96 -> 62994 | BZ96: 1976 | CA96: =BK96 -> 379130 | CB96: =CC96+CF96 -> 88467 | CC96: 76901 | CD96: 72257 | CE96: =CC96-CD96 -> 4644 | CF96: 11566 | CG96: 11132 | CH96: =CF96-CG96 -> 434 | CI96: 258845 | CJ96: 34813 | CK96: =CI96-CJ96 -> 224032 | CL96: 31818 | CN96: 1976 | CO96: 768479 | CP96: =C96+AK96+BM96 -> 30986 | CQ96: =D96+G96+AN96+AO96+AP96+BQ96+BR96+BS96 -> 658477 | CR96: =CO96-CP96-CQ96 -> 79016 | CT96: 1976 | CU96: =CO96 -> 768479 | CV96: 79873 | CW96: =CX96+CY96 -> 86341 | CX96: 74934 | CY96: =AC96+BC96+CG96 -> 11407 | CZ96: 502919 | DA96: =CU96-CV96-CW96-CZ96 -> 99346
A97: 1977 | B97: 278382 | C97: 44159 | D97: =E97+F97 -> 189976 | E97: 193325 | F97: -3349 | G97: =H97+I97 -> 19089 | H97: 1747 | I97: 17342 | J97: =K97+L97 -> 9304 | K97: 202 | L97: 9102 | M97: 402 | N97: =L97-M97 -> 8700 | O97: =P97+Q97 -> 15854 | P97: 829 | Q97: 15025 | S97: 1977 | T97: =B97 -> 278382 | U97: =V97+W97 -> 94512 | V97: 87903 | W97: 6609 | X97: =Y97+AB97 -> 13852 | Y97: 6949 | Z97: 1863 | AA97: =Y97-Z97 -> 5086 | AB97: 6903 | AC97: 485 | AD97: =AB97-AC97 -> 6418 | AE97: 130157 | AF97: 39861 | AH97: 1977 | AI97: 431404 | AJ97: =AK97+AL97+AM97 -> 8356 | AK97: 774 | AL97: 2554 | AM97: 5028 | AN97: 3261 | AO97: 14771 | AP97: 303091 | AQ97: =AR97+AS97 -> 37680 | AR97: 3712 | AS97: 33968 | AT97: =AI97-AK97-AL97-AM97-AN97-AO97-AP97-AQ97 -> 64245 | AV97: 1977 | AW97: =AI97 -> 431404 | AX97: =AY97+BB97 -> 3372 | AY97: 3148 | AZ97: 3148 | BA97: 0 | BB97: 224 | BC97: 224 | BD97: 0 | BE97: 384001 | BF97: 15165 | BG97: =BE97-BF97 -> 368836 | BH97: 44031 | BJ97: 1977 | BK97: 477578 | BL97: 135249 | BM97: 1269 | BN97: 8370 | BO97: 120082 | BP97: =BL97-BM97-BN97-BO97 -> 5528 | BQ97: 66591 | BR97: 12619 | BS97: 229374 | BT97: =BU97+BV97 -> 16541 | BU97: 9769 | BV97: 6772 | BW97: =BK97-BM97-BQ97-BR97-BS97-BT97-BN97-BP97 -> 137286 | BZ97: 1977 | CA97: =BK97 -> 477578 | CB97: =CC97+CF97 -> 119058 | CC97: 105062 | CD97: 102365 | CE97: =CC97-CD97 -> 2697 | CF97: 13996 | CG97: 13660 | CH97: =CF97-CG97 -> 336 | CI97: 324161 | CJ97: 97100 | CK97: =CI97-CJ97 -> 227061 | CL97: 34359 | CN97: 1977 | CO97: 983149 | CP97: =C97+AK97+BM97 -> 46202 | CQ97: =D97+G97+AN97+AO97+AP97+BQ97+BR97+BS97 -> 838772 | CR97: =CO97-CP97-CQ97 -> 98175 | CT97: 1977 | CU97: =CO97 -> 983149 | CV97: 88632 | CW97: =CX97+CY97 -> 121745 | CX97: 107376 | CY97: =AC97+BC97+CG97 -> 14369 | CZ97: 657824 | DA97: =CU97-CV97-CW97-CZ97 -> 114948
A98: 1978 | B98: 371929 | C98: 51606 | D98: =E98+F98 -> 258564 | E98: 260803 | F98: -2239 | G98: =H98+I98 -> 21220 | H98: 2132 | I98: 19088 | J98: =K98+L98 -> 8050 | K98: 795 | L98: 7255 | M98: 5106 | N98: =L98-M98 -> 2149 | O98: =P98+Q98 -> 32489 | P98: 984 | Q98: 31505 | S98: 1978 | T98: =B98 -> 371929 | U98: =V98+W98 -> 120876 | V98: 112297 | W98: 8579 | X98: =Y98+AB98 -> 11910 | Y98: 5778 | Z98: 818 | AA98: =Y98-Z98 -> 4960 | AB98: 6132 | AC98: 101 | AD98: =AB98-AC98 -> 6031 | AE98: 192227 | AF98: 46916 | AH98: 1978 | AI98: 470996 | AJ98: =AK98+AL98+AM98 -> 7554 | AK98: 690 | AL98: 2843 | AM98: 4021 | AN98: 3502 | AO98: 16382 | AP98: 333491 | AQ98: =AR98+AS98 -> 35875 | AR98: 2541 | AS98: 33334 | AT98: =AI98-AK98-AL98-AM98-AN98-AO98-AP98-AQ98 -> 74192 | AV98: 1978 | AW98: =AI98 -> 470996 | AX98: =AY98+BB98 -> 4858 | AY98: 4584 | AZ98: 4584 | BA98: 0 | BB98: 274 | BC98: 274 | BD98: 0 | BE98: 414456 | BF98: 23509 | BG98: =BE98-BF98 -> 390947 | BH98: 51682 | BJ98: 1978 | BK98: 627179 | BL98: 215667 | BM98: 3793 | BN98: 13561 | BO98: 192590 | BP98: =BL98-BM98-BN98-BO98 -> 5723 | BQ98: 59628 | BR98: 18386 | BS98: 301031 | BT98: =BU98+BV98 -> 15368 | BU98: 5531 | BV98: 9837 | BW98: =BK98-BM98-BQ98-BR98-BS98-BT98-BN98-BP98 -> 209689 | BZ98: 1978 | CA98: =BK98 -> 627179 | CB98: =CC98+CF98 -> 157479 | CC98: 142052 | CD98: 139788 | CE98: =CC98-CD98 -> 2264 | CF98: 15427 | CG98: 15270 | CH98: =CF98-CG98 -> 157 | CI98: 424890 | CJ98: 161187 | CK98: =CI98-CJ98 -> 263703 | CL98: 44810 | CN98: 1978 | CO98: 1211928 | CP98: =C98+AK98+BM98 -> 56089 | CQ98: =D98+G98+AN98+AO98+AP98+BQ98+BR98+BS98 -> 1012204 | CR98: =CO98-CP98-CQ98 -> 143635 | CT98: 1978 | CU98: =CO98 -> 1211928 | CV98: 114809 | CW98: =CX98+CY98 -> 160839 | CX98: 145194 | CY98: =AC98+BC98+CG98 -> 15645 | CZ98: 798974 | DA98: =CU98-CV98-CW98-CZ98 -> 137306
A99: 1979 | U99: 503500 | V99: 489500
A100: 1980
A101: 1981 | Y101: =Q98-AF98 -> -15411
A102: 1982
A103: 1983
A104: 1984
A105: 1985
A106: 1986
A107: 1987
A108: 1988
A109: 1989
A110: 1990
A111: 1991
A112: 1992
A113: 1993
... A130: 2010

Sheet RyO8500
A1: Banco de México: Recursos y obligaciones
B2: BM Recursos | C2: RI en mp | D2: RI miles de dólares | E2: RI bruta | F2: Pasivos a menos de 6 meses | G2: Tenencia de valores gobierno | H2: Crédito | I2: Crédito al gobierno federal | J2: Crédito a bancos | K2: Crédito a banca de desarrollo | L2: Crédito a banca comercial | M2: Otros créditos | N2: Valores del sector externo | O2: Otros de recursos | R2: BM Obligaciones | S2: Billetes y monedas en circulación | T2: ByM público | U2: ByM bancos | V2: Depositos y acredores varios | W2: Otras obligaciones
A5: 1985 | B5: 9740027 | C5: 2061294 | D5: 5598300 | E5: 0 | F5: 0 | G5: 4288916 | H5: 2430536 | I5: 2013189 | J5: 109894 | K5: 67812 | L5: 42082 | M5: 307453 | N5: 80436 | O5: 878845 | Q5: 1985 | R5: 9740027 | S5: 1888131 | T5: 1731976 | U5: 156155 | V5: 6519510 | W5: 1332386
A6: 1986 | B6: 18208754 | C6: 6029228 | D6: 6588600 | E6: 0 | F6: 0 | G6: 6178834 | H6: 4676724 | I6: 4081729 | J6: 115453 | K6: 67308 | L6: 48145 | M6: 479542 | N6: 222778 | O6: 1101190 | Q6: 1986 | R6: 18208754 | S6: 3385042 | T6: 3065744 | U6: 319298 | V6: 12062852 | W6: 2760860
A7: 1987 | B7: 49985666 | C7: 28814046 | D7: 13039800 | E7: 0 | F7: 0 | G7: 13173889 | H7: 4692413 | I7: 3646028 | J7: 110183 | K7: 64219 | L7: 45964 | M7: 936202 | N7: 549574 | O7: 2755744 | Q7: 1987 | R7: 49985666 | S7: 8065284 | T7: 7318490 | U7: 746794 | V7: 31933721 | W7: 9986661
A8: 1988 | B8: 55857305 | C8: 14551411 | D8: 6379400 | E8: 0 | F8: 0 | G8: 22137559 | H8: 13958190 | I8: 11208361 | J8: 966391 | K8: 803737 | L8: 162654 | M8: 1783438 | N8: 531091 | O8: 4679054 | Q8: 1988 | R8: 55857305 | S8: 14522268 | T8: 13160705 | U8: 1361563 | V8: 27237722 | W8: 14097315
A9: 1989 | B9: 67148617 | C9: 17484476 | D9: 6620400 | E9: 0 | F9: 0 | G9: 35101790 | H9: 7660691 | I9: 4382617 | J9: 121710 | K9: 100491 | L9: 21219 | M9: 3156364 | N9: 627644 | O9: 6274016 | Q9: 1989 | R9: 67148617 | S9: 19660245 | T9: 17992140 | U9: 1668105 | V9: 30308874 | W9: 17179498
A10: 1990 | B10: 89685755 | C10: 29949711 | D10: 10168300 | E10: 0 | F10: 0 | G10: 39978811 | H10: 11272155 | I10: 4905090 | J10: 569244 | K10: 532480 | L10: 36764 | M10: 5797821 | N10: 718932 | O10: 7766146 | Q10: 1990 | R10: 89685755 | S10: 27077501 | T10: 24603553 | U10: 2473948 | V10: 38951593 | W10: 23656661
A11: 1991 | B11: 109570906 | C11: 53885609 | D11: 17546600 | E11: 0 | F11: 0 | G11: 34667896 | H11: 11126801 | I11: 40 | J11: 1251413 | K11: 1217552 | L11: 33861 | M11: 9875348 | N11: 763005 | O11: 9127595 | Q11: 1991 | R11: 109570906 | S11: 36171727 | T11: 32417777 | U11: 3753950 | V11: 45659102 | W11: 27740077
A12: 1992 | B12: 115653708 | C12: 57803443 | D12: 18554100 | E12: 0 | F12: 0 | G12: 30123295 | H12: 17036439 | I12: 40 | J12: 2413087 | K12: 2400466 | L12: 12621 | M12: 14623312 | N12: 948386 | O12: 9742145 | Q12: 1992 | R12: 115653708 | S12: 42015433 | T12: 38013353 | U12: 4002080 | V12: 41606471 | W12: 32031804
A13: 1993 | B13: 125259397 | C13: 76211021 | D13: 24537500 | E13: 0 | F13: 0 | G13: 9864534 | H13: 24863396 | I13: 40 | J13: 3636467 | K13: 2826789 | L13: 809678 | M13: 21226889 | N13: 1005664 | O13: 13314782 | Q13: 1993 | R13: 125259397 | S13: 47192859 | T13: 43230687 | U13: 3962172 | V13: 44210515 | W13: 33856023
A14: 1994 | B14: 192420667 | C14: 32739200 | D14: 6148207 | E14: 0 | F14: 0 | G14: 0 | H14: 83426477 | I14: 0 | J14: 45383122 | K14: 4368472 | L14: 41014650 | M14: 38043355 | N14: 1750326 | O14: 16800101 | Q14: 1994 | R14: 192420667 | S14: 56920386 | T14: 51857760 | U14: 5062626 | V14: 106944969 | W14: 28555312
A15: 1995 | B15: 294737877 | C15: 120300736 | D15: 15741019 | E15: 0 | F15: 0 | G15: 13212032 | H15: 123021648 | I15: 0 | J15: 45020387 | K15: 1888740 | L15: 43131647 | M15: 78001261 | N15: 2512836 | O15: 35690625 | Q15: 1995 | R15: 294737877 | S15: 66808632 | T15: 60657871 | U15: 6150761 | V15: 195123565 | W15: 32805680
A16: 1996 | B16: 279952890 | C16: 137803802 | D16: 17509346 | E16: 0 | F16: 0 | G16: 10488392 | H16: 82195305 | I16: 0 | J16: 11868362 | K16: 367514 | L16: 11500848 | M16: 70326943 | N16: 2413875 | O16: 47051516 | Q16: 1996 | R16: 279952890 | S16: 83991071 | T16: 74088699 | U16: 9902372 | V16: 154931148 | W16: 41030671
... A20: 2000 | B20: 619568785 | C20: 322456082 | D20: 33554921 | E20: 341966296 | F20: -19510214 | G20: 0 | H20: 197871321 | I20: 0 | J20: 95116318 | K20: 4946786 | L20: 90169532 | M20: 102755003 | N20: 3201303 | O20: 96040079 | Q20: 2000 | R20: 619568785 | S20: 208879867 | T20: 182016173 | U20: 26863694 | V20: 349559090 | W20: 61129828

Sheet Fin33-89
D1: Financiamiento al sector público no bancario | H1: Financiamiento al sector privado no bancario | L1: Financiamiento externo | P1: Financiamiento a la Banca Nacional | S1: Financiamiento a la Banca Privada | V1: Financiamiento no sectorizado | Y1: Financiamiento por institución | AC1: Financiamiento por institución sin operaciones interbancarias | AG1: Financiamiento del Banco de México a sectores
B2: Financiamiento total | C2: Sin operaciones interbancarias | D2: Total instituciones de crédito | E2: Banco de México | F2: Banca Nacional | G2: Banca Privada | H2: Total instituciones de crédito | I2: Banco de México | J2: Banca Nacional | K2: Banca Privada | L2: Instituciones de crédito | M2: Banco de México | N2: Banca Nacional | O2: Banca Privada | P2: Instituciones de crédito | Q2: Banco de México | R2: Banca Privada | S2: Instituciones de crédito | T2: Banco de México | U2: Banca Nacional | V2: Instituciones de crédito | W2: Banca nacional | X2: Banca privada | Y2: Total | Z2: Banco de México | AA2: Banca Nacional | AB2: Banca Privada | AC2: Total | AD2: Banco de México | AE2: Banca Nacional | AF2: Banca Privada | AG2: Total | AH2: Sector público | AI2: Sector privado | AJ2: Sector Externo | AK2: Banca nacional | AL2: Banca Privada
A5: 1885 | B5: - | C5: - | D5: - | E5: - | F5: - | G5: - | H5: - | I5: - | J5: - | K5: - | L5: - | M5: - | N5: - | O5: - | P5: - | Q5: - | R5: - | S5: - | T5: - | U5: - | V5: - | W5: - | X5: - | Y5: - | Z5: - | AA5: - | AB5: - | AC5: - | AD5: - | AE5: - | AF5: - | AG5: - | AH5: - | AI5: - | AJ5: - | AK5: - | AL5: -
A6: 1886 | B6: - | C6: - | D6: - | E6: - | F6: - | G6: - | H6: - | I6: - | J6: - | K6: - | L6: - | M6: - | N6: - | O6: - | P6: - | Q6: - | R6: - | S6: - | T6: - | U6: - | V6: - | W6: - | X6: - | Y6: - | Z6: - | AA6: - | AB6: - | AC6: - | AD6: - | AE6: - | AF6: - | AG6: - | AH6: - | AI6: - | AJ6: - | AK6: - | AL6: -
A7: 1887 | B7: - | C7: - | D7: - | E7: - | F7: - | G7: - | H7: - | I7: - | J7: - | K7: - | L7: - | M7: - | N7: - | O7: - | P7: - | Q7: - | R7: - | S7: - | T7: - | U7: - | V7: - | W7: - | X7: - | Y7: - | Z7: - | AA7: - | AB7: - | AC7: - | AD7: - | AE7: - | AF7: - | AG7: - | AH7: - | AI7: - | AJ7: - | AK7: - | AL7: -
A8: 1888 | B8: - | C8: - | D8: - | E8: - | F8: - | G8: - | H8: - | I8: - | J8: - | K8: - | L8: - | M8: - | N8: - | O8: - | P8: - | Q8: - | R8: - | S8: - | T8: - | U8: - | V8: - | W8: - | X8: - | Y8: - | Z8: - | AA8: - | AB8: - | AC8: - | AD8: - | AE8: - | AF8: - | AG8: - | AH8: - | AI8: - | AJ8: - | AK8: - | AL8: -
A9: 1889 | B9: - | C9: - | D9: - | E9: - | F9: - | G9: - | H9: - | I9: - | J9: - | K9: - | L9: - | M9: - | N9: - | O9: - | P9: - | Q9: - | R9: - | S9: - | T9: - | U9: - | V9: - | W9: - | X9: - | Y9: - | Z9: - | AA9: - | AB9: - | AC9: - | AD9: - | AE9: - | AF9: - | AG9: - | AH9: - | AI9: - | AJ9: - | AK9: - | AL9: -
A10: 1890 | B10: - | C10: - | D10: - | E10: - | F10: - | G10: - | H10: - | I10: - | J10: - | K10: - | L10: - | M10: - | N10: - | O10: - | P10: - | Q10: - | R10: - | S10: - | T10: - | U10: - | V10: - | W10: - | X10: - | Y10: - | Z10: - | AA10: - | AB10: - | AC10: - | AD10: - | AE10: - | AF10: - | AG10: - | AH10: - | AI10: - | AJ10: - | AK10: - | AL10: -
A11: 1891 | B11: - | C11: - | D11: - | E11: - | F11: - | G11: - | H11: - | I11: - | J11: - | K11: - | L11: - | M11: - | N11: - | O11: - | P11: - | Q11: - | R11: - | S11: - | T11: - | U11: - | V11: - | W11: - | X11: - | Y11: - | Z11: - | AA11: - | AB11: - | AC11: - | AD11: - | AE11: - | AF11: - | AG11: - | AH11: - | AI11: - | AJ11: - | AK11: - | AL11: -
A12: 1892 | B12: - | C12: - | D12: - | E12: - | F12: - | G12: - | H12: - | I12: - | J12: - | K12: - | L12: - | M12: - | N12: - | O12: - | P12: - | Q12: - | R12: - | S12: - | T12: - | U12: - | V12: - | W12: - | X12: - | Y12: - | Z12: - | AA12: - | AB12: - | AC12: - | AD12: - | AE12: - | AF12: - | AG12: - | AH12: - | AI12: - | AJ12: - | AK12: - | AL12: -
A13: 1893 | B13: - | C13: - | D13: - | E13: - | F13: - | G13: - | H13: - | I13: - | J13: - | K13: - | L13: - | M13: - | N13: - | O13: - | P13: - | Q13: - | R13: - | S13: - | T13: - | U13: - | V13: - | W13: - | X13: - | Y13: - | Z13: - | AA13: - | AB13: - | AC13: - | AD13: - | AE13: - | AF13: - | AG13: - | AH13: - | AI13: - | AJ13: - | AK13: - | AL13: -
A14: 1894 | B14: - | C14: - | D14: - | E14: - | F14: - | G14: - | H14: - | I14: - | J14: - | K14: - | L14: - | M14: - | N14: - | O14: - | P14: - | Q14: - | R14: - | S14: - | T14: - | U14: - | V14: - | W14: - | X14: - | Y14: - | Z14: - | AA14: - | AB14: - | AC14: - | AD14: - | AE14: - | AF14: - | AG14: - | AH14: - | AI14: - | AJ14: - | AK14: - | AL14: -
A15: 1895 | B15: - | C15: - | D15: - | E15: - | F15: - | G15: - | H15: - | I15: - | J15: - | K15: - | L15: - | M15: - | N15: - | O15: - | P15: - | Q15: - | R15: - | S15: - | T15: - | U15: - | V15: - | W15: - | X15: - | Y15: - | Z15: - | AA15: - | AB15: - | AC15: - | AD15: - | AE15: - | AF15: - | AG15: - | AH15: - | AI15: - | AJ15: - | AK15: - | AL15: -
A16: 1896 | B16: - | C16: - | D16: - | E16: - | F16: - | G16: - | H16: - | I16: - | J16: - | K16: - | L16: - | M16: - | N16: - | O16: - | P16: - | Q16: - | R16: - | S16: - | T16: - | U16: - | V16: - | W16: - | X16: - | Y16: - | Z16: - | AA16: - | AB16: - | AC16: - | AD16: - | AE16: - | AF16: - | AG16: - | AH16: - | AI16: - | AJ16: - | AK16: - | AL16: -
... A52: 1932 | B52: - | C52: - | D52: - | E52: - | F52: - | G52: - | H52: - | I52: - | J52: - | K52: - | L52: - | M52: - | N52: - | O52: - | P52: - | Q52: - | R52: - | S52: - | T52: - | U52: - | V52: - | W52: - | X52: - | Y52: - | Z52: - | AA52: - | AB52: - | AC52: - | AD52: - | AE52: - | AF52: - | AG52: - | AH52: - | AI52: - | AJ52: - | AK52: - | AL52: -
A53: 1933 | B53: =H53+P53+S53+D53 -> 346 | C53: =AC53 -> 334 | D53: =E53+F53+G53 -> 10 | E53: ='RyO3378'!D53 -> 10 | F53: ='RyO3378'!AN53 -> 0 | G53: ='RyO3378'!BQ53 -> 0 | H53: =I53+J53+K53 -> 324 | I53: ='RyO3378'!G53 -> 30 | J53: ='RyO3378'!AO53+'RyO3378'!AP53 -> 30 | K53: ='RyO3378'!BR53+'RyO3378'!BS53 -> 264 | L53: - | M53: - | N53: - | O53: - | P53: =Q53+R53 -> 9 | Q53: ='RyO3378'!M53+'RyO3378'!K53 -> 9 | R53: ='RyO3378'!BT53 -> 0 | S53: =T53+U53 -> 3 | T53: ='RyO3378'!$N53 -> 0 | U53: ='RyO3378'!$AQ53 -> 3 | V53: - | W53: - | X53: - | Y53: =Z53+AA53+AB53 -> 346 | Z53: =I53+Q53+T53+E53 -> 49 | AA53: =J53+U53+F53 -> 33 | AB53: =K53+R53+G53 -> 264 | AC53: =AD53+AE53+AF53 -> 334 | AD53: =I53+E53 -> 40 | AE53: =J53+F53 -> 30 | AF53: =K53+G53 -> 264 | AG53: =AH53+AI53+AJ53+AK53+AL53 -> 49 | AH53: =E53 -> 10 | AI53: =I53 -> 30 | AJ53: 0 | AK53: =Q53 -> 9 | AL53: =T53 -> 0
A54: 1934 | B54: =H54+P54+S54+D54 -> 376 | C54: =AC54 -> 341 | D54: =E54+F54+G54 -> -11 | E54: ='RyO3378'!D54 -> -11 | F54: ='RyO3378'!AN54 -> 0 | G54: ='RyO3378'!BQ54 -> 0 | H54: =I54+J54+K54 -> 352 | I54: ='RyO3378'!G54 -> 42 | J54: ='RyO3378'!AO54+'RyO3378'!AP54 -> 54 | K54: ='RyO3378'!BR54+'RyO3378'!BS54 -> 256 | L54: - | M54: - | N54: - | O54: - | P54: =Q54+R54 -> 14 | Q54: ='RyO3378'!M54+'RyO3378'!K54 -> 14 | R54: ='RyO3378'!BT54 -> 0 | S54: =T54+U54 -> 21 | T54: ='RyO3378'!$N54 -> 14 | U54: ='RyO3378'!$AQ54 -> 7 | V54: - | W54: - | X54: - | Y54: =Z54+AA54+AB54 -> 376 | Z54: =I54+Q54+T54+E54 -> 59 | AA54: =J54+U54+F54 -> 61 | AB54: =K54+R54+G54 -> 256 | AC54: =AD54+AE54+AF54 -> 341 | AD54: =I54+E54 -> 31 | AE54: =J54+F54 -> 54 | AF54: =K54+G54 -> 256 | AG54: =AH54+AI54+AJ54+AK54+AL54 -> 59 | AH54: =E54 -> -11 | AI54: =I54 -> 42 | AJ54: 0 | AK54: =Q54 -> 14 | AL54: =T54 -> 14
A55: 1935 | B55: =H55+P55+S55+D55 -> 432 | C55: =AC55 -> 374 | D55: =E55+F55+G55 -> -8 | E55: ='RyO3378'!D55 -> -22 | F55: ='RyO3378'!AN55 -> 10 | G55: ='RyO3378'!BQ55 -> 4 | H55: =I55+J55+K55 -> 382 | I55: ='RyO3378'!G55 -> 47 | J55: ='RyO3378'!AO55+'RyO3378'!AP55 -> 56 | K55: ='RyO3378'!BR55+'RyO3378'!BS55 -> 279 | L55: - | M55: - | N55: - | O55: - | P55: =Q55+R55 -> 22 | Q55: ='RyO3378'!M55+'RyO3378'!K55 -> 14 | R55: ='RyO3378'!BT55 -> 8 | S55: =T55+U55 -> 36 | T55: ='RyO3378'!$N55 -> 14 | U55: ='RyO3378'!$AQ55 -> 22 | V55: - | W55: - | X55: - | Y55: =Z55+AA55+AB55 -> 432 | Z55: =I55+Q55+T55+E55 -> 53 | AA55: =J55+U55+F55 -> 88 | AB55: =K55+R55+G55 -> 291 | AC55: =AD55+AE55+AF55 -> 374 | AD55: =I55+E55 -> 25 | AE55: =J55+F55 -> 66 | AF55: =K55+G55 -> 283 | AG55: =AH55+AI55+AJ55+AK55+AL55 -> 53 | AH55: =E55 -> -22 | AI55: =I55 -> 47 | AJ55: 0 | AK55: =Q55 -> 14 | AL55: =T55 -> 14
A56: 1936 | B56: =H56+P56+S56+D56 -> 592 | C56: =AC56 -> 547 | D56: =E56+F56+G56 -> 49 | E56: ='RyO3378'!D56 -> 26 | F56: ='RyO3378'!AN56 -> 19 | G56: ='RyO3378'!BQ56 -> 4 | H56: =I56+J56+K56 -> 498 | I56: ='RyO3378'!G56 -> 61 | J56: ='RyO3378'!AO56+'RyO3378'!AP56 -> 111 | K56: ='RyO3378'!BR56+'RyO3378'!BS56 -> 326 | L56: - | M56: - | N56: - | O56: - | P56: =Q56+R56 -> 25 | Q56: ='RyO3378'!M56+'RyO3378'!K56 -> 14 | R56: ='RyO3378'!BT56 -> 11 | S56: =T56+U56 -> 20 | T56: ='RyO3378'!$N56 -> 14 | U56: ='RyO3378'!$AQ56 -> 6 | V56: - | W56: - | X56: - | Y56: =Z56+AA56+AB56 -> 592 | Z56: =I56+Q56+T56+E56 -> 115 | AA56: =J56+U56+F56 -> 136 | AB56: =K56+R56+G56 -> 341 | AC56: =AD56+AE56+AF56 -> 547 | AD56: =I56+E56 -> 87 | AE56: =J56+F56 -> 130 | AF56: =K56+G56 -> 330 | AG56: =AH56+AI56+AJ56+AK56+AL56 -> 115 | AH56: =E56 -> 26 | AI56: =I56 -> 61 | AJ56: 0 | AK56: =Q56 -> 14 | AL56: =T56 -> 14
A57: 1937 | B57: =H57+P57+S57+D57 -> 846 | C57: =AC57 -> 698 | D57: =E57+F57+G57 -> 68 | E57: ='RyO3378'!D57 -> 42 | F57: ='RyO3378'!AN57 -> 19 | G57: ='RyO3378'!BQ57 -> 7 | H57: =I57+J57+K57 -> 630 | I57: ='RyO3378'!G57 -> 53 | J57: ='RyO3378'!AO57+'RyO3378'!AP57 -> 227 | K57: ='RyO3378'!BR57+'RyO3378'!BS57 -> 350 | L57: - | M57: - | N57: - | O57: - | P57: =Q57+R57 -> 123.3 | Q57: ='RyO3378'!M57+'RyO3378'!K57 -> 110.3 | R57: ='RyO3378'!BT57 -> 13 | S57: =T57+U57 -> 24.7 | T57: ='RyO3378'!$N57 -> 16.7 | U57: ='RyO3378'!$AQ57 -> 8 | V57: - | W57: - | X57: - | Y57: =Z57+AA57+AB57 -> 846 | Z57: =I57+Q57+T57+E57 -> 222 | AA57: =J57+U57+F57 -> 254 | AB57: =K57+R57+G57 -> 370 | AC57: =AD57+AE57+AF57 -> 698 | AD57: =I57+E57 -> 95 | AE57: =J57+F57 -> 246 | AF57: =K57+G57 -> 357 | AG57: =AH57+AI57+AJ57+AK57+AL57 -> 222 | AH57: =E57 -> 42 | AI57: =I57 -> 53 | AJ57: 0 | AK57: =Q57 -> 110.3 | AL57: =T57 -> 16.7
A58: 1938 | B58: =H58+P58+S58+D58 -> 844 | C58: =AC58 -> 772 | D58: =E58+F58+G58 -> 168 | E58: ='RyO3378'!D58 -> 149 | F58: ='RyO3378'!AN58 -> 8 | G58: ='RyO3378'!BQ58 -> 11 | H58: =I58+J58+K58 -> 604 | I58: ='RyO3378'!G58 -> 75 | J58: ='RyO3378'!AO58+'RyO3378'!AP58 -> 230 | K58: ='RyO3378'!BR58+'RyO3378'!BS58 -> 299 | L58: - | M58: - | N58: - | O58: - | P58: =Q58+R58 -> 28 | Q58: ='RyO3378'!M58+'RyO3378'!K58 -> 19 | R58: ='RyO3378'!BT58 -> 9 | S58: =T58+U58 -> 44 | T58: ='RyO3378'!$N58 -> 20 | U58: ='RyO3378'!$AQ58 -> 24 | V58: - | W58: - | X58: - | Y58: =Z58+AA58+AB58 -> 844 | Z58: =I58+Q58+T58+E58 -> 263 | AA58: =J58+U58+F58 -> 262 | AB58: =K58+R58+G58 -> 319 | AC58: =AD58+AE58+AF58 -> 772 | AD58: =I58+E58 -> 224 | AE58: =J58+F58 -> 238 | AF58: =K58+G58 -> 310 | AG58: =AH58+AI58+AJ58+AK58+AL58 -> 263 | AH58: =E58 -> 149 | AI58: =I58 -> 75 | AJ58: 0 | AK58: =Q58 -> 19 | AL58: =T58 -> 20
A59: 1939 | B59: =H59+P59+S59+D59 -> 1094 | C59: =AC59 -> 1021 | D59: =E59+F59+G59 -> 248 | E59: ='RyO3378'!D59 -> 223 | F59: ='RyO3378'!AN59 -> 12 | G59: ='RyO3378'!BQ59 -> 13 | H59: =I59+J59+K59 -> 773 | I59: ='RyO3378'!G59 -> 94 | J59: ='RyO3378'!AO59+'RyO3378'!AP59 -> 281 | K59: ='RyO3378'!BR59+'RyO3378'!BS59 -> 398 | L59: - | M59: - | N59: - | O59: - | P59: =Q59+R59 -> 27 | Q59: ='RyO3378'!M59+'RyO3378'!K59 -> 17 | R59: ='RyO3378'!BT59 -> 10 | S59: =T59+U59 -> 46 | T59: ='RyO3378'!$N59 -> 16 | U59: ='RyO3378'!$AQ59 -> 30 | V59: - | W59: - | X59: - | Y59: =Z59+AA59+AB59 -> 1094 | Z59: =I59+Q59+T59+E59 -> 350 | AA59: =J59+U59+F59 -> 323 | AB59: =K59+R59+G59 -> 421 | AC59: =AD59+AE59+AF59 -> 1021 | AD59: =I59+E59 -> 317 | AE59: =J59+F59 -> 293 | AF59: =K59+G59 -> 411 | AG59: =AH59+AI59+AJ59+AK59+AL59 -> 350 | AH59: =E59 -> 223 | AI59: =I59 -> 94 | AJ59: 0 | AK59: =Q59 -> 17 | AL59: =T59 -> 16
A60: 1940 | B60: =H60+P60+S60+D60 -> 1154 | C60: =AC60 -> 1106 | D60: =E60+F60+G60 -> 340 | E60: ='RyO3378'!D60 -> 308 | F60: ='RyO3378'!AN60 -> 9 | G60: ='RyO3378'!BQ60 -> 23 | H60: =I60+J60+K60 -> 766 | I60: ='RyO3378'!G60 -> 85 | J60: ='RyO3378'!AO60+'RyO3378'!AP60 -> 274 | K60: ='RyO3378'!BR60+'RyO3378'!BS60 -> 407 | L60: - | M60: - | N60: - | O60: - | P60: =Q60+R60 -> 28 | Q60: ='RyO3378'!M60+'RyO3378'!K60 -> 16 | R60: ='RyO3378'!BT60 -> 12 | S60: =T60+U60 -> 20 | T60: ='RyO3378'!$N60 -> 3 | U60: ='RyO3378'!$AQ60 -> 17 | V60: - | W60: - | X60: - | Y60: =Z60+AA60+AB60 -> 1154 | Z60: =I60+Q60+T60+E60 -> 412 | AA60: =J60+U60+F60 -> 300 | AB60: =K60+R60+G60 -> 442 | AC60: =AD60+AE60+AF60 -> 1106 | AD60: =I60+E60 -> 393 | AE60: =J60+F60 -> 283 | AF60: =K60+G60 -> 430 | AG60: =AH60+AI60+AJ60+AK60+AL60 -> 412 | AH60: =E60 -> 308 | AI60: =I60 -> 85 | AJ60: 0 | AK60: =Q60 -> 16 | AL60: =T60 -> 3
A61: 1941 | B61: =H61+P61+S61+D61 -> 1572 | C61: =AC61 -> 1519 | D61: =E61+F61+G61 -> 472 | E61: ='RyO3378'!D61 -> 454 | F61: ='RyO3378'!AN61 -> 11 | G61: ='RyO3378'!BQ61 -> 7 | H61: =I61+J61+K61 -> 1047 | I61: ='RyO3378'!G61 -> 90 | J61: ='RyO3378'!AO61+'RyO3378'!AP61 -> 363 | K61: ='RyO3378'!BR61+'RyO3378'!BS61 -> 594 | L61: - | M61: - | N61: - | O61: - | P61: =Q61+R61 -> 33 | Q61: ='RyO3378'!M61+'RyO3378'!K61 -> 15 | R61: ='RyO3378'!BT61 -> 18 | S61: =T61+U61 -> 20 | T61: ='RyO3378'!$N61 -> 10 | U61: ='RyO3378'!$AQ61 -> 10 | V61: - | W61: - | X61: - | Y61: =Z61+AA61+AB61 -> 1572 | Z61: =I61+Q61+T61+E61 -> 569 | AA61: =J61+U61+F61 -> 384 | AB61: =K61+R61+G61 -> 619 | AC61: =AD61+AE61+AF61 -> 1519 | AD61: =I61+E61 -> 544 | AE61: =J61+F61 -> 374 | AF61: =K61+G61 -> 601 | AG61: =AH61+AI61+AJ61+AK61+AL61 -> 569 | AH61: =E61 -> 454 | AI61: =I61 -> 90 | AJ61: 0 | AK61: =Q61 -> 15 | AL61: =T61 -> 10
A62: 1942 | B62: =H62+P62+S62+D62 -> 2231 | C62: =AC62 -> 2025 | D62: =E62+F62+G62 -> 768 | E62: ='RyO3378'!D62 -> 593 | F62: ='RyO3378'!AN62 -> 154 | G62: ='RyO3378'!BQ62 -> 21 | H62: =I62+J62+K62 -> 1257 | I62: ='RyO3378'!G62 -> 133 | J62: ='RyO3378'!AO62+'RyO3378'!AP62 -> 331 | K62: ='RyO3378'!BR62+'RyO3378'!BS62 -> 793 | L62: - | M62: - | N62: - | O62: - | P62: =Q62+R62 -> 100 | Q62: ='RyO3378'!M62+'RyO3378'!K62 -> 21 | R62: ='RyO3378'!BT62 -> 79 | S62: =T62+U62 -> 106 | T62: ='RyO3378'!$N62 -> 74 | U62: ='RyO3378'!$AQ62 -> 32 | V62: - | W62: - | X62: - | Y62: =Z62+AA62+AB62 -> 2231 | Z62: =I62+Q62+T62+E62 -> 821 | AA62: =J62+U62+F62 -> 517 | AB62: =K62+R62+G62 -> 893 | AC62: =AD62+AE62+AF62 -> 2025 | AD62: =I62+E62 -> 726 | AE62: =J62+F62 -> 485 | AF62: =K62+G62 -> 814 | AG62: =AH62+AI62+AJ62+AK62+AL62 -> 821 | AH62: =E62 -> 593 | AI62: =I62 -> 133 | AJ62: 0 | AK62: =Q62 -> 21 | AL62: =T62 -> 74
A63: 1943 | B63: =H63+P63+S63+D63 -> 2699 | C63: =AC63 -> 2426 | D63: =E63+F63+G63 -> 765 | E63: ='RyO3378'!D63 -> 531 | F63: ='RyO3378'!AN63 -> 199 | G63: ='RyO3378'!BQ63 -> 35 | H63: =I63+J63+K63 -> 1661 | I63: ='RyO3378'!G63 -> 202 | J63: ='RyO3378'!AO63+'RyO3378'!AP63 -> 464 | K63: ='RyO3378'!BR63+'RyO3378'!BS63 -> 995 | L63: - | M63: - | N63: - | O63: - | P63: =Q63+R63 -> 74 | Q63: ='RyO3378'!M63+'RyO3378'!K63 -> 30 | R63: ='RyO3378'!BT63 -> 44 | S63: =T63+U63 -> 199 | T63: ='RyO3378'!$N63 -> 115 | U63: ='RyO3378'!$AQ63 -> 84 | V63: - | W63: - | X63: - | Y63: =Z63+AA63+AB63 -> 2699 | Z63: =I63+Q63+T63+E63 -> 878 | AA63: =J63+U63+F63 -> 747 | AB63: =K63+R63+G63 -> 1074 | AC63: =AD63+AE63+AF63 -> 2426 | AD63: =I63+E63 -> 733 | AE63: =J63+F63 -> 663 | AF63: =K63+G63 -> 1030 | AG63: =AH63+AI63+AJ63+AK63+AL63 -> 878 | AH63: =E63 -> 531 | AI63: =I63 -> 202 | AJ63: 0 | AK63: =Q63 -> 30 | AL63: =T63 -> 115
A64: 1944 | B64: =H64+P64+S64+D64 -> 3708 | C64: =AC64 -> 3252 | D64: =E64+F64+G64 -> 940 | E64: ='RyO3378'!D64 -> 616 | F64: ='RyO3378'!AN64 -> 251 | G64: ='RyO3378'!BQ64 -> 73 | H64: =I64+J64+K64 -> 2312 | I64: ='RyO3378'!G64 -> 436 | J64: ='RyO3378'!AO64+'RyO3378'!AP64 -> 514 | K64: ='RyO3378'!BR64+'RyO3378'!BS64 -> 1362 | L64: - | M64: - | N64: - | O64: - | P64: =Q64+R64 -> 236 | Q64: ='RyO3378'!M64+'RyO3378'!K64 -> 73 | R64: ='RyO3378'!BT64 -> 163 | S64: =T64+U64 -> 220 | T64: ='RyO3378'!$N64 -> 123 | U64: ='RyO3378'!$AQ64 -> 97 | V64: - | W64: - | X64: - | Y64: =Z64+AA64+AB64 -> 3708 | Z64: =I64+Q64+T64+E64 -> 1248 | AA64: =J64+U64+F64 -> 862 | AB64: =K64+R64+G64 -> 1598 | AC64: =AD64+AE64+AF64 -> 3252 | AD64: =I64+E64 -> 1052 | AE64: =J64+F64 -> 765 | AF64: =K64+G64 -> 1435 | AG64: =AH64+AI64+AJ64+AK64+AL64 -> 1248 | AH64: =E64 -> 616 | AI64: =I64 -> 436 | AJ64: 0 | AK64: =Q64 -> 73 | AL64: =T64 -> 123
... A98: 1978 | B98: =H98+P98+S98+D98 -> 1071497 | C98: =AC98 -> 1012204 | D98: =E98+F98+G98 -> 321694 | E98: ='RyO3378'!D98 -> 258564 | F98: ='RyO3378'!AN98 -> 3502 | G98: ='RyO3378'!BQ98 -> 59628 | H98: =I98+J98+K98 -> 690510 | I98: ='RyO3378'!G98 -> 21220 | J98: ='RyO3378'!AO98+'RyO3378'!AP98 -> 349873 | K98: ='RyO3378'!BR98+'RyO3378'!BS98 -> 319417 | L98: - | M98: - | N98: - | O98: - | P98: =Q98+R98 -> 21269 | Q98: ='RyO3378'!M98+'RyO3378'!K98 -> 5901 | R98: ='RyO3378'!BT98 -> 15368 | S98: =T98+U98 -> 38024 | T98: ='RyO3378'!$N98 -> 2149 | U98: ='RyO3378'!$AQ98 -> 35875 | V98: - | W98: - | X98: - | Y98: =Z98+AA98+AB98 -> 1071497 | Z98: =I98+Q98+T98+E98 -> 287834 | AA98: =J98+U98+F98 -> 389250 | AB98: =K98+R98+G98 -> 394413 | AC98: =AD98+AE98+AF98 -> 1012204 | AD98: =I98+E98 -> 279784 | AE98: =J98+F98 -> 353375 | AF98: =K98+G98 -> 379045 | AG98: =AH98+AI98+AJ98+AK98+AL98 -> 287834 | AH98: =E98 -> 258564 | AI98: =I98 -> 21220 | AJ98: 0 | AK98: =Q98 -> 5901 | AL98: =T98 -> 2149
A99: 1979 | B99: =H99+P99+S99+D99 -> 1496500 | C99: =AC99 -> 1442200 | D99: =E99+F99+G99 -> 828800 | E99: 459500 | F99: 322800 | G99: 46500 | H99: =I99+J99+K99 -> 613400 | I99: 2900 | J99: 123100 | K99: 487400 | L99: - | M99: - | N99: - | O99: - | P99: =Q99+R99 -> 33500 | Q99: 11700 | R99: 21800 | S99: =T99+U99 -> 20800 | T99: 7700 | U99: 13100 | V99: - | W99: - | X99: - | Y99: =Z99+AA99+AB99 -> 1496500 | Z99: =I99+Q99+T99+E99 -> 481800 | AA99: =J99+U99+F99 -> 459000 | AB99: =K99+R99+G99 -> 555700 | AC99: =AD99+AE99+AF99 -> 1442200 | AD99: =I99+E99 -> 462400 | AE99: =J99+F99 -> 445900 | AF99: =K99+G99 -> 533900 | AG99: =AH99+AI99+AJ99+AK99+AL99 -> 481800 | AH99: =E99 -> 459500 | AI99: =I99 -> 2900 | AJ99: 0 | AK99: =Q99 -> 11700 | AL99: =T99 -> 7700
A100: 1980 | B100: =H100+P100+S100+D100 -> 2042400 | C100: =AC100 -> 1956500 | D100: =E100+F100+G100 -> 1090300 | E100: 611400 | F100: 416400 | G100: 62500 | H100: =I100+J100+K100 -> 866200 | I100: 3500 | J100: 167200 | K100: 695500 | L100: - | M100: - | N100: - | O100: - | P100: =Q100+R100 -> 56300 | Q100: 28800 | R100: 27500 | S100: =T100+U100 -> 29600 | T100: 14800 | U100: 14800 | V100: - | W100: - | X100: - | Y100: =Z100+AA100+AB100 -> 2042400 | Z100: =I100+Q100+T100+E100 -> 658500 | AA100: =J100+U100+F100 -> 598400 | AB100: =K100+R100+G100 -> 785500 | AC100: =AD100+AE100+AF100 -> 1956500 | AD100: =I100+E100 -> 614900 | AE100: =J100+F100 -> 583600 | AF100: =K100+G100 -> 758000 | AG100: =AH100+AI100+AJ100+AK100+AL100 -> 658500 | AH100: =E100 -> 611400 | AI100: =I100 -> 3500 | AJ100: 0 | AK100: =Q100 -> 28800 | AL100: =T100 -> 14800
A101: 1981 | B101: =H101+P101+S101+D101 -> 3116600 | C101: =AC101 -> 2991600 | D101: =E101+F101+G101 -> 1793700 | E101: 900000 | F101: 755300 | G101: 138400 | H101: =I101+J101+K101 -> 1197900 | I101: 4700 | J101: 177800 | K101: 1015400 | L101: - | M101: - | N101: - | O101: - | P101: =Q101+R101 -> 75700 | Q101: 35400 | R101: 40300 | S101: =T101+U101 -> 49300 | T101: 11100 | U101: 38200 | V101: - | W101: - | X101: - | Y101: =Z101+AA101+AB101 -> 3116600 | Z101: =I101+Q101+T101+E101 -> 951200 | AA101: =J101+U101+F101 -> 971300 | AB101: =K101+R101+G101 -> 1194100 | AC101: =AD101+AE101+AF101 -> 2991600 | AD101: =I101+E101 -> 904700 | AE101: =J101+F101 -> 933100 | AF101: =K101+G101 -> 1153800 | AG101: =AH101+AI101+AJ101+AK101+AL101 -> 951200 | AH101: =E101 -> 900000 | AI101: =I101 -> 4700 | AJ101: 0 | AK101: =Q101 -> 35400 | AL101: =T101 -> 11100
A102: 1982 | B102: =H102+P102+S102+D102 -> 7364400 | C102: =AC102 -> 6795000 | D102: =E102+F102+G102 -> 5226500 | E102: 2137400 | F102: 2319000 | G102: 770100 | H102: =I102+J102+K102 -> 1568500 | I102: 17300 | J102: 202500 | K102: 1348700 | L102: - | M102: - | N102: - | O102: - | P102: =Q102+R102 -> 268400 | Q102: 72200 | R102: 196200 | S102: =T102+U102 -> 301000 | T102: 233700 | U102: 67300 | V102: - | W102: - | X102: - | Y102: =Z102+AA102+AB102 -> 7365000 | Z102: =I102+Q102+T102+E102 -> 2460600 | AA102: 2589400 | AB102: =K102+R102+G102 -> 2315000 | AC102: =AD102+AE102+AF102 -> 6795000 | AD102: =I102+E102 -> 2154700 | AE102: =J102+F102 -> 2521500 | AF102: =K102+G102 -> 2118800 | AG102: =AH102+AI102+AJ102+AK102+AL102 -> 2460600 | AH102: =E102 -> 2137400 | AI102: =I102 -> 17300 | AJ102: 0 | AK102: =Q102 -> 72200 | AL102: =T102 -> 233700
A103: 1983 | B103: =H103+P103+S103+D103+L103 -> 10483000 | C103: =AC103 -> 9856000 | D103: =E103+F103+G103 -> 7604000 | E103: 3178000 | F103: 3122000 | G103: 1304000 | H103: =I103+J103+K103 -> 2252000 | I103: 4000 | J103: 449000 | K103: 1799000 | L103: =M103+N103+O103 -> 245000 | M103: 25000 | N103: 18000 | O103: 202000 | P103: =Q103+R103 -> 233000 | Q103: 73000 | R103: 160000 | S103: =T103+U103 -> 149000 | T103: 51000 | U103: 98000 | V103: - | W103: - | X103: - | Y103: =Z103+AA103+AB103 -> 10704000 | Z103: =I103+Q103+M103+T103+E103 -> 3331000 | AA103: 3789000 | AB103: 3584000 | AC103: =AD103+AE103+AF103 -> 9856000 | AD103: =I103+E103 -> 3182000 | AE103: =J103+F103 -> 3571000 | AF103: =K103+G103 -> 3103000 | AG103: =AH103+AI103+AJ103+AK103+AL103 -> 3331000 | AH103: =E103 -> 3178000 | AI103: =I103 -> 4000 | AJ103: =M103 -> 25000 | AK103: =Q103 -> 73000 | AL103: =T103 -> 51000
A104: 1984 | B104: =H104+P104+S104+D104+L104 -> 15630000 | C104: =AC104 -> 14759000 | D104: =E104+F104+G104 -> 10594000 | E104: 4121000 | F104: 4413000 | G104: 2060000 | H104: =I104+J104+K104 -> 4165000 | I104: 6000 | J104: 837000 | K104: 3322000 | L104: =M104+N104+O104 -> 359000 | M104: 38000 | N104: 43000 | O104: 278000 | P104: =Q104+R104 -> 336000 | Q104: 129000 | R104: 207000 | S104: =T104+U104 -> 176000 | T104: 53000 | U104: 123000 | V104: - | W104: - | X104: - | Y104: =Z104+AA104+AB104 -> 15955000 | Z104: =I104+Q104+M104+T104+E104 -> 4347000 | AA104: 5557000 | AB104: 6051000 | AC104: =AD104+AE104+AF104 -> 14759000 | AD104: =I104+E104 -> 4127000 | AE104: =J104+F104 -> 5250000 | AF104: =K104+G104 -> 5382000 | AG104: =AH104+AI104+AJ104+AK104+AL104 -> 4347000 | AH104: =E104 -> 4121000 | AI104: =I104 -> 6000 | AJ104: =M104 -> 38000 | AK104: =Q104 -> 129000 | AL104: =T104 -> 53000
A105: 1985 | B105: =H105+P105+S105+D105+L105+V105 -> 27756100 | C105: =AC105 -> 26189500 | D105: =E105+F105+G105 -> 19519800 | E105: 6299800 | F105: 8328400 | G105: 4891600 | H105: =I105+J105+K105 -> 6669700 | I105: 9100 | J105: 1576900 | K105: 5083700 | L105: =M105+N105+O105 -> 731300 | M105: 80400 | N105: 66700 | O105: 584200 | P105: =Q105+R105 -> 409900 | Q105: 79300 | R105: 330600 | S105: =T105+U105 -> 216800 | T105: 42700 | U105: 174100 | V105: =W105+X105 -> 208600 | W105: 29500 | X105: 179100 | Y105: =Z105+AA105+AB105 -> 28179500 | Z105: =I105+Q105+M105+T105+E105 -> 6511300 | AA105: 10492600 | AB105: 11175600 | AC105: =AD105+AE105+AF105 -> 26189500 | AD105: =I105+E105 -> 6308900 | AE105: =J105+F105 -> 9905300 | AF105: =K105+G105 -> 9975300 | AG105: =AH105+AI105+AJ105+AK105+AL105 -> 6511300 | AH105: =E105 -> 6299800 | AI105: =I105 -> 9100 | AJ105: =M105 -> 80400 | AK105: =Q105 -> 79300 | AL105: =T105 -> 42700
A106: 1986 | B106: =H106+P106+S106+D106+L106+V106 -> 60042600 | C106: =AC106 -> 56249900 | D106: =E106+F106+G106 -> 44769400 | E106: 10235100 | F106: 20717300 | G106: 13817000 | H106: =I106+J106+K106 -> 11480500 | I106: 16400 | J106: 2935900 | K106: 8528200 | L106: =M106+N106+O106 -> 1813500 | M106: 222800 | N106: 324400 | O106: 1266300 | P106: =Q106+R106 -> 1049300 | Q106: 93800 | R106: 955500 | S106: =T106+U106 -> 405600 | T106: 48700 | U106: 356900 | V106: =W106+X106 -> 524300 | W106: 77900 | X106: 446400 | Y106: =Z106+AA106+AB106 -> 61075900 | Z106: =I106+Q106+M106+T106+E106 -> 10616800 | AA106: 25159700 | AB106: 25299400 | AC106: =AD106+AE106+AF106 -> 56249900 | AD106: =I106+E106 -> 10251500 | AE106: =J106+F106 -> 23653200 | AF106: =K106+G106 -> 22345200 | AG106: =AH106+AI106+AJ106+AK106+AL106 -> 10616800 | AH106: =E106 -> 10235100 | AI106: =I106 -> 16400 | AJ106: =M106 -> 222800 | AK106: =Q106 -> 93800 | AL106: =T106 -> 48700
A107: 1987 | B107: =H107+P107+S107+D107+L107+V107 -> 137699800 | C107: =AC107 -> 126720100 | D107: =E107+F107+G107 -> 97531100 | E107: 11216000 | F107: 53824200 | G107: 32490900 | H107: =I107+J107+K107 -> 29189000 | I107: 36900 | J107: 7195900 | K107: 21956200 | L107: =M107+N107+O107 -> 5718600 | M107: 549600 | N107: 521100 | O107: 4647900 | P107: =Q107+R107 -> 2757900 | Q107: 126300 | R107: 2631600 | S107: =T107+U107 -> 1010700 | T107: 46400 | U107: 964300 | V107: =W107+X107 -> 1492500 | W107: 206700 | X107: 1285800 | Y107: =Z107+AA107+AB107 -> 141106300 | Z107: =I107+Q107+M107+T107+E107 -> 11975200 | AA107: 65344500 | AB107: 63786600 | AC107: =AD107+AE107+AF107 -> 126720100 | AD107: =I107+E107 -> 11252900 | AE107: =J107+F107 -> 61020100 | AF107: =K107+G107 -> 54447100 | AG107: =AH107+AI107+AJ107+AK107+AL107 -> 11975200 | AH107: =E107 -> 11216000 | AI107: =I107 -> 36900 | AJ107: =M107 -> 549600 | AK107: =Q107 -> 126300 | AL107: =T107 -> 46400
A108: 1988 | B108: =H108+P108+S108+D108+L108+V108 -> 195572100 | C108: =AC108 -> 182247000 | D108: =E108+F108+G108 -> 128851200 | E108: 32657200 | F108: 57697500 | G108: 38496500 | H108: =I108+J108+K108 -> 53395800 | I108: 70700 | J108: 12698300 | K108: 40626800 | L108: =M108+N108+O108 -> 4318400 | M108: 531100 | N108: 699400 | O108: 3087900 | P108: =Q108+R108 -> 2886700 | Q108: 853200 | R108: 2033500 | S108: =T108+U108 -> 2389600 | T108: 163100 | U108: 2226500 | V108: =W108+X108 -> 3730400 | W108: 418800 | X108: 3311600 | Y108: =Z108+AA108+AB108 -> 199595300 | Z108: =I108+Q108+M108+T108+E108 -> 34275300 | AA108: 77047100 | AB108: 88272900 | AC108: =AD108+AE108+AF108 -> 182247000 | AD108: =I108+E108 -> 32727900 | AE108: =J108+F108 -> 70395800 | AF108: =K108+G108 -> 79123300 | AG108: =AH108+AI108+AJ108+AK108+AL108 -> 34275300 | AH108: =E108 -> 32657200 | AI108: =I108 -> 70700 | AJ108: =M108 -> 531100 | AK108: =Q108 -> 853200 | AL108: =T108 -> 163100
A109: 1989 | B109: =H109+P109+S109+D109+L109+V109 -> 254799400 | C109: =AC109 -> 238236700 | D109: =E109+F109+G109 -> 142335300 | E109: 38732400 | F109: 60018700 | G109: 43584200 | H109: =I109+J109+K109 -> 95901400 | I109: 94300 | J109: 14650400 | K109: 81156700 | L109: =M109+N109+O109 -> 4990600 | M109: 627600 | N109: 820300 | O109: 3542700 | P109: =Q109+R109 -> 2795300 | Q109: 142500 | R109: 2652800 | S109: =T109+U109 -> 3873000 | T109: 21600 | U109: 3851400 | V109: =W109+X109 -> 4903800 | W109: 934600 | X109: 3969200 | Y109: =Z109+AA109+AB109 -> 259396900 | Z109: =I109+Q109+M109+T109+E109 -> 39618400 | AA109: 83487000 | AB109: 136291500 | AC109: =AD109+AE109+AF109 -> 238236700 | AD109: =I109+E109 -> 38826700 | AE109: =J109+F109 -> 74669100 | AF109: =K109+G109 -> 124740900 | AG109: =AH109+AI109+AJ109+AK109+AL109 -> 39618400 | AH109: =E109 -> 38732400 | AI109: =I109 -> 94300 | AJ109: =M109 -> 627600 | AK109: =Q109 -> 142500 | AL109: =T109 -> 21600

Sheet BM33-78
B1: Base monetaria | L1: Base Monetaria sin ajustar
B2: Parte Externa (RIN) | C2: Gobierno | D2: Empresas y particulares | E2: Bancos | F2: Parte interna | G2: Base Monetaria | I2: Valores del gobierno adquiridos por los bancos | J2: Base Monetaria ajustada por valores del gobierno adquiridos por los bancos | L2: Incremento de la BM por la parte externa | M2: Incremento de la BM por la parte interna | N2: Incremento de la BM por la parte interna más el ajuste
A5: 1885 | B5: - | C5: - | D5: - | E5: - | F5: - | G5: - | I5: - | J5: - | L5: - | M5: - | N5: -
A6: 1886 | B6: - | C6: - | D6: - | E6: - | F6: - | G6: - | I6: - | J6: - | L6: - | M6: - | N6: -
A7: 1887 | B7: - | C7: - | D7: - | E7: - | F7: - | G7: - | I7: - | J7: - | L7: - | M7: - | N7: -
A8: 1888 | B8: - | C8: - | D8: - | E8: - | F8: - | G8: - | I8: - | J8: - | L8: - | M8: - | N8: -
A9: 1889 | B9: - | C9: - | D9: - | E9: - | F9: - | G9: - | I9: - | J9: - | L9: - | M9: - | N9: -
A10: 1890 | B10: - | C10: - | D10: - | E10: - | F10: - | G10: - | I10: - | J10: - | L10: - | M10: - | N10: -
A11: 1891 | B11: - | C11: - | D11: - | E11: - | F11: - | G11: - | I11: - | J11: - | L11: - | M11: - | N11: -
A12: 1892 | B12: - | C12: - | D12: - | E12: - | F12: - | G12: - | I12: - | J12: - | L12: - | M12: - | N12: -
A13: 1893 | B13: - | C13: - | D13: - | E13: - | F13: - | G13: - | I13: - | J13: - | L13: - | M13: - | N13: -
A14: 1894 | B14: - | C14: - | D14: - | E14: - | F14: - | G14: - | I14: - | J14: - | L14: - | M14: - | N14: -
A15: 1895 | B15: - | C15: - | D15: - | E15: - | F15: - | G15: - | I15: - | J15: - | L15: - | M15: - | N15: -
A16: 1896 | B16: - | C16: - | D16: - | E16: - | F16: - | G16: - | I16: - | J16: - | L16: - | M16: - | N16: -
... A52: 1932 | B52: - | C52: - | D52: - | E52: - | F52: - | G52: - | I52: - | J52: - | L52: - | M52: - | N52: -
A53: 1933 | B53: ='RyO3378'!C53 -> 131 | C53: ='RyO3378'!D53 -> 10 | D53: ='RyO3378'!G53 -> 30 | E53: ='RyO3378'!J53 -> 9 | F53: =C53+D53+E53 -> 49 | G53: =B53+F53 -> 180 | I53: ='RyO3378'!AN53+'RyO3378'!BQ53 -> 0 | J53: =G53+I53 -> 180 | L53: =(B53/G53)*100 -> 72.777778 | M53: =(F53/G53)*100 -> 27.222222 | N53: =((I53+F53)/G53)*100 -> 27.222222
A54: 1934 | B54: ='RyO3378'!C54 -> 191 | C54: ='RyO3378'!D54 -> -11 | D54: ='RyO3378'!G54 -> 42 | E54: ='RyO3378'!J54 -> 28 | F54: =C54+D54+E54 -> 59 | G54: =B54+F54 -> 250 | I54: ='RyO3378'!AN54+'RyO3378'!BQ54 -> 0 | J54: =G54+I54 -> 250 | L54: =(B54/G54)*100 -> 76.4 | M54: =(F54/G54)*100 -> 23.6 | N54: =((I54+F54)/G54)*100 -> 23.6
A55: 1935 | B55: ='RyO3378'!C55 -> 335 | C55: ='RyO3378'!D55 -> -22 | D55: ='RyO3378'!G55 -> 47 | E55: ='RyO3378'!J55 -> 28 | F55: =C55+D55+E55 -> 53 | G55: =B55+F55 -> 388 | I55: ='RyO3378'!AN55+'RyO3378'!BQ55 -> 14 | J55: =G55+I55 -> 402 | L55: =(B55/G55)*100 -> 86.340206 | M55: =(F55/G55)*100 -> 13.659794 | N55: =((I55+F55)/G55)*100 -> 17.268041
A56: 1936 | B56: ='RyO3378'!C56 -> 322 | C56: ='RyO3378'!D56 -> 26 | D56: ='RyO3378'!G56 -> 61 | E56: ='RyO3378'!J56 -> 28 | F56: =C56+D56+E56 -> 115 | G56: =B56+F56 -> 437 | I56: ='RyO3378'!AN56+'RyO3378'!BQ56 -> 23 | J56: =G56+I56 -> 460 | L56: =(B56/G56)*100 -> 73.684211 | M56: =(F56/G56)*100 -> 26.315789 | N56: =((I56+F56)/G56)*100 -> 31.578947
A57: 1937 | B57: ='RyO3378'!C57 -> 202 | C57: ='RyO3378'!D57 -> 42 | D57: ='RyO3378'!G57 -> 53 | E57: ='RyO3378'!J57 -> 127 | F57: =C57+D57+E57 -> 222 | G57: =B57+F57 -> 424 | I57: ='RyO3378'!AN57+'RyO3378'!BQ57 -> 26 | J57: =G57+I57 -> 450 | L57: =(B57/G57)*100 -> 47.641509 | M57: =(F57/G57)*100 -> 52.358491 | N57: =((I57+F57)/G57)*100 -> 58.490566
A58: 1938 | B58: ='RyO3378'!C58 -> 212 | C58: ='RyO3378'!D58 -> 149 | D58: ='RyO3378'!G58 -> 75 | E58: ='RyO3378'!J58 -> 39 | F58: =C58+D58+E58 -> 263 | G58: =B58+F58 -> 475 | I58: ='RyO3378'!AN58+'RyO3378'!BQ58 -> 19 | J58: =G58+I58 -> 494 | L58: =(B58/G58)*100 -> 44.631579 | M58: =(F58/G58)*100 -> 55.368421 | N58: =((I58+F58)/G58)*100 -> 59.368421
A59: 1939 | B59: ='RyO3378'!C59 -> 210 | C59: ='RyO3378'!D59 -> 223 | D59: ='RyO3378'!G59 -> 94 | E59: ='RyO3378'!J59 -> 33 | F59: =C59+D59+E59 -> 350 | G59: =B59+F59 -> 560 | I59: ='RyO3378'!AN59+'RyO3378'!BQ59 -> 25 | J59: =G59+I59 -> 585 | L59: =(B59/G59)*100 -> 37.5 | M59: =(F59/G59)*100 -> 62.5 | N59: =((I59+F59)/G59)*100 -> 66.964286
A60: 1940 | B60: ='RyO3378'!C60 -> 310 | C60: ='RyO3378'!D60 -> 308 | D60: ='RyO3378'!G60 -> 85 | E60: ='RyO3378'!J60 -> 19 | F60: =C60+D60+E60 -> 412 | G60: =B60+F60 -> 722 | I60: ='RyO3378'!AN60+'RyO3378'!BQ60 -> 32 | J60: =G60+I60 -> 754 | L60: =(B60/G60)*100 -> 42.936288 | M60: =(F60/G60)*100 -> 57.063712 | N60: =((I60+F60)/G60)*100 -> 61.495845
A61: 1941 | B61: ='RyO3378'!C61 -> 300 | C61: ='RyO3378'!D61 -> 454 | D61: ='RyO3378'!G61 -> 90 | E61: ='RyO3378'!J61 -> 25 | F61: =C61+D61+E61 -> 569 | G61: =B61+F61 -> 869 | I61: ='RyO3378'!AN61+'RyO3378'!BQ61 -> 18 | J61: =G61+I61 -> 887 | L61: =(B61/G61)*100 -> 34.52244 | M61: =(F61/G61)*100 -> 65.47756 | N61: =((I61+F61)/G61)*100 -> 67.548907
A62: 1942 | B62: ='RyO3378'!C62 -> 493 | C62: ='RyO3378'!D62 -> 593 | D62: ='RyO3378'!G62 -> 133 | E62: ='RyO3378'!J62 -> 95 | F62: =C62+D62+E62 -> 821 | G62: =B62+F62 -> 1314 | I62: ='RyO3378'!AN62+'RyO3378'!BQ62 -> 175 | J62: =G62+I62 -> 1489 | L62: =(B62/G62)*100 -> 37.519026 | M62: =(F62/G62)*100 -> 62.480974 | N62: =((I62+F62)/G62)*100 -> 75.799087
A63: 1943 | B63: ='RyO3378'!C63 -> 1174 | C63: ='RyO3378'!D63 -> 531 | D63: ='RyO3378'!G63 -> 202 | E63: ='RyO3378'!J63 -> 145 | F63: =C63+D63+E63 -> 878 | G63: =B63+F63 -> 2052 | I63: ='RyO3378'!AN63+'RyO3378'!BQ63 -> 234 | J63: =G63+I63 -> 2286 | L63: =(B63/G63)*100 -> 57.212476 | M63: =(F63/G63)*100 -> 42.787524 | N63: =((I63+F63)/G63)*100 -> 54.191033
A64: 1944 | B64: ='RyO3378'!C64 -> 1357 | C64: ='RyO3378'!D64 -> 616 | D64: ='RyO3378'!G64 -> 436 | E64: ='RyO3378'!J64 -> 196 | F64: =C64+D64+E64 -> 1248 | G64: =B64+F64 -> 2605 | I64: ='RyO3378'!AN64+'RyO3378'!BQ64 -> 324 | J64: =G64+I64 -> 2929 | L64: =(B64/G64)*100 -> 52.092131 | M64: =(F64/G64)*100 -> 47.907869 | N64: =((I64+F64)/G64)*100 -> 60.345489
... A98: 1978 | B98: ='RyO3378'!C98 -> 51606 | C98: ='RyO3378'!D98 -> 258564 | D98: ='RyO3378'!G98 -> 21220 | E98: ='RyO3378'!J98 -> 8050 | F98: =C98+D98+E98 -> 287834 | G98: =B98+F98 -> 339440 | I98: ='RyO3378'!AN98+'RyO3378'!BQ98 -> 63130 | J98: =G98+I98 -> 402570 | L98: =(B98/G98)*100 -> 15.203276 | M98: =(F98/G98)*100 -> 84.796724 | N98: =((I98+F98)/G98)*100 -> 103.395

Sheet BM85-00
A1: Banco de México:Base monetaria, Fuentes y usos
A2: Título | B2: Usos de la base monetaria | C2: Billetes y monedas en circulación | D2: Billetes y monedas en circulación, público | E2: Billetes y monedas en circulación, bancos | F2: Depósitos bancarios | G2: Fuentes de la base monetaria | H2: Reserva internacional | I2: Crédito interno neto | J2: Valores gubernamentales | K2: Crédito neto al Gobierno Federal | L2: Crédito interno neto, Depósitos de empresas y organismos del sec. pub. | M2: Crédito interno neto, Regulación monetaria netos | N2: Crédito interno neto, Crédito a bancos | O2: Crédito neto a Banca de desarrollo | P2: Crédito neto a Banca comercial | Q2: Crédito interno neto a otros intermediarios fin. | R2: Crédito interno neto, Otros | S2: Crédito interno neto, Organismos internacionales | T2: Crédito interno neto, Posición neta de otros conceptos
A5: 1885 | B5: - | C5: - | D5: - | E5: - | F5: - | G5: - | H5: - | I5: - | J5: - | K5: - | L5: - | M5: - | N5: - | O5: - | P5: - | Q5: - | R5: - | S5: - | T5: -
A6: 1886 | B6: - | C6: - | D6: - | E6: - | F6: - | G6: - | H6: - | I6: - | J6: - | K6: - | L6: - | M6: - | N6: - | O6: - | P6: - | Q6: - | R6: - | S6: - | T6: -
A7: 1887 | B7: - | C7: - | D7: - | E7: - | F7: - | G7: - | H7: - | I7: - | J7: - | K7: - | L7: - | M7: - | N7: - | O7: - | P7: - | Q7: - | R7: - | S7: - | T7: -
A8: 1888 | B8: - | C8: - | D8: - | E8: - | F8: - | G8: - | H8: - | I8: - | J8: - | K8: - | L8: - | M8: - | N8: - | O8: - | P8: - | Q8: - | R8: - | S8: - | T8: -
A9: 1889 | B9: - | C9: - | D9: - | E9: - | F9: - | G9: - | H9: - | I9: - | J9: - | K9: - | L9: - | M9: - | N9: - | O9: - | P9: - | Q9: - | R9: - | S9: - | T9: -
A10: 1890 | B10: - | C10: - | D10: - | E10: - | F10: - | G10: - | H10: - | I10: - | J10: - | K10: - | L10: - | M10: - | N10: - | O10: - | P10: - | Q10: - | R10: - | S10: - | T10: -
A11: 1891 | B11: - | C11: - | D11: - | E11: - | F11: - | G11: - | H11: - | I11: - | J11: - | K11: - | L11: - | M11: - | N11: - | O11: - | P11: - | Q11: - | R11: - | S11: - | T11: -
A12: 1892 | B12: - | C12: - | D12: - | E12: - | F12: - | G12: - | H12: - | I12: - | J12: - | K12: - | L12: - | M12: - | N12: - | O12: - | P12: - | Q12: - | R12: - | S12: - | T12: -
A13: 1893 | B13: - | C13: - | D13: - | E13: - | F13: - | G13: - | H13: - | I13: - | J13: - | K13: - | L13: - | M13: - | N13: - | O13: - | P13: - | Q13: - | R13: - | S13: - | T13: -
A14: 1894 | B14: - | C14: - | D14: - | E14: - | F14: - | G14: - | H14: - | I14: - | J14: - | K14: - | L14: - | M14: - | N14: - | O14: - | P14: - | Q14: - | R14: - | S14: - | T14: -
A15: 1895 | B15: - | C15: - | D15: - | E15: - | F15: - | G15: - | H15: - | I15: - | J15: - | K15: - | L15: - | M15: - | N15: - | O15: - | P15: - | Q15: - | R15: - | S15: - | T15: -
A16: 1896 | B16: - | C16: - | D16: - | E16: - | F16: - | G16: - | H16: - | I16: - | J16: - | K16: - | L16: - | M16: - | N16: - | O16: - | P16: - | Q16: - | R16: - | S16: - | T16: -
... A52: 1932 | B52: - | C52: - | D52: - | E52: - | F52: - | G52: - | H52: - | I52: - | J52: - | K52: - | L52: - | M52: - | N52: - | O52: - | P52: - | Q52: - | R52: - | S52: - | T52: -
A53: 1933 | B53: =C53+F53 -> 357 | C53: ='RyO3378'!U53 -> 288 | D53: - | E53: - | F53: ='RyO3378'!X53+'RyO3378'!AE53 -> 69 | G53: =B53 -> 357 | H53: ='RyO3378'!C53 -> 131 | I53: - | J53: ='RyO3378'!E53 -> 0 | K53: ='RyO3378'!F53 -> 10 | L53: ='RyO3378'!G53 -> 30 | M53: - | N53: - | O53: ='RyO3378'!M53+'RyO3378'!K53 -> 9 | P53: ='RyO3378'!N53 -> 0 | Q53: - | R53: - | S53: - | T53: =G53-H53-J53-K53-L53-O53-P53 -> 177
A54: 1934 | B54: =C54+F54 -> 425 | C54: ='RyO3378'!U54 -> 332 | D54: - | E54: - | F54: ='RyO3378'!X54+'RyO3378'!AE54 -> 93 | G54: =B54 -> 425 | H54: ='RyO3378'!C54 -> 191 | I54: - | J54: ='RyO3378'!E54 -> 2 | K54: ='RyO3378'!F54 -> -13 | L54: ='RyO3378'!G54 -> 42 | M54: - | N54: - | O54: ='RyO3378'!M54+'RyO3378'!K54 -> 14 | P54: ='RyO3378'!N54 -> 14 | Q54: - | R54: - | S54: - | T54: =G54-H54-J54-K54-L54-O54-P54 -> 175
A55: 1935 | B55: =C55+F55 -> 484 | C55: ='RyO3378'!U55 -> 363 | D55: - | E55: - | F55: ='RyO3378'!X55+'RyO3378'!AE55 -> 121 | G55: =B55 -> 484 | H55: ='RyO3378'!C55 -> 335 | I55: - | J55: ='RyO3378'!E55 -> 5 | K55: ='RyO3378'!F55 -> -27 | L55: ='RyO3378'!G55 -> 47 | M55: - | N55: - | O55: ='RyO3378'!M55+'RyO3378'!K55 -> 14 | P55: ='RyO3378'!N55 -> 14 | Q55: - | R55: - | S55: - | T55: =G55-H55-J55-K55-L55-O55-P55 -> 96
A56: 1936 | B56: =C56+F56 -> 585 | C56: ='RyO3378'!U56 -> 454 | D56: - | E56: - | F56: ='RyO3378'!X56+'RyO3378'!AE56 -> 131 | G56: =B56 -> 585 | H56: ='RyO3378'!C56 -> 322 | I56: - | J56: ='RyO3378'!E56 -> 15 | K56: ='RyO3378'!F56 -> 11 | L56: ='RyO3378'!G56 -> 61 | M56: - | N56: - | O56: ='RyO3378'!M56+'RyO3378'!K56 -> 14 | P56: ='RyO3378'!N56 -> 14 | Q56: - | R56: - | S56: - | T56: =G56-H56-J56-K56-L56-O56-P56 -> 148
A57: 1937 | B57: =C57+F57 -> 603 | C57: ='RyO3378'!U57 -> 504 | D57: - | E57: - | F57: ='RyO3378'!X57+'RyO3378'!AE57 -> 99 | G57: =B57 -> 603 | H57: ='RyO3378'!C57 -> 202 | I57: - | J57: ='RyO3378'!E57 -> 17 | K57: ='RyO3378'!F57 -> 25 | L57: ='RyO3378'!G57 -> 53 | M57: - | N57: - | O57: ='RyO3378'!M57+'RyO3378'!K57 -> 110.3 | P57: ='RyO3378'!N57 -> 16.7 | Q57: - | R57: - | S57: - | T57: =G57-H57-J57-K57-L57-O57-P57 -> 179
A58: 1938 | B58: =C58+F58 -> 676 | C58: ='RyO3378'!U58 -> 566 | D58: - | E58: - | F58: ='RyO3378'!X58+'RyO3378'!AE58 -> 110 | G58: =B58 -> 676 | H58: ='RyO3378'!C58 -> 212 | I58: - | J58: ='RyO3378'!E58 -> 31 | K58: ='RyO3378'!F58 -> 118 | L58: ='RyO3378'!G58 -> 75 | M58: - | N58: - | O58: ='RyO3378'!M58+'RyO3378'!K58 -> 19 | P58: ='RyO3378'!N58 -> 20 | Q58: - | R58: - | S58: - | T58: =G58-H58-J58-K58-L58-O58-P58 -> 201
A59: 1939 | B59: =C59+F59 -> 759 | C59: ='RyO3378'!U59 -> 647 | D59: - | E59: - | F59: ='RyO3378'!X59+'RyO3378'!AE59 -> 112 | G59: =B59 -> 759 | H59: ='RyO3378'!C59 -> 210 | I59: - | J59: ='RyO3378'!E59 -> 102 | K59: ='RyO3378'!F59 -> 121 | L59: ='RyO3378'!G59 -> 94 | M59: - | N59: - | O59: ='RyO3378'!M59+'RyO3378'!K59 -> 17 | P59: ='RyO3378'!N59 -> 16 | Q59: - | R59: - | S59: - | T59: =G59-H59-J59-K59-L59-O59-P59 -> 199
A60: 1940 | B60: =C60+F60 -> 963 | C60: ='RyO3378'!U60 -> 747 | D60: - | E60: - | F60: ='RyO3378'!X60+'RyO3378'!AE60 -> 216 | G60: =B60 -> 963 | H60: ='RyO3378'!C60 -> 310 | I60: - | J60: ='RyO3378'!E60 -> 296 | K60: ='RyO3378'!F60 -> 12 | L60: ='RyO3378'!G60 -> 85 | M60: - | N60: - | O60: ='RyO3378'!M60+'RyO3378'!K60 -> 16 | P60: ='RyO3378'!N60 -> 3 | Q60: - | R60: - | S60: - | T60: =G60-H60-J60-K60-L60-O60-P60 -> 241
A61: 1941 | B61: =C61+F61 -> 1086 | C61: ='RyO3378'!U61 -> 867 | D61: - | E61: - | F61: ='RyO3378'!X61+'RyO3378'!AE61 -> 219 | G61: =B61 -> 1086 | H61: ='RyO3378'!C61 -> 300 | I61: - | J61: ='RyO3378'!E61 -> 442 | K61: ='RyO3378'!F61 -> 12 | L61: ='RyO3378'!G61 -> 90 | M61: - | N61: - | O61: ='RyO3378'!M61+'RyO3378'!K61 -> 15 | P61: ='RyO3378'!N61 -> 10 | Q61: - | R61: - | S61: - | T61: =G61-H61-J61-K61-L61-O61-P61 -> 217
A62: 1942 | B62: =C62+F62 -> 1520 | C62: ='RyO3378'!U62 -> 1096 | D62: - | E62: - | F62: ='RyO3378'!X62+'RyO3378'!AE62 -> 424 | G62: =B62 -> 1520 | H62: ='RyO3378'!C62 -> 493 | I62: - | J62: ='RyO3378'!E62 -> 581 | K62: ='RyO3378'!F62 -> 12 | L62: ='RyO3378'!G62 -> 133 | M62: - | N62: - | O62: ='RyO3378'!M62+'RyO3378'!K62 -> 21 | P62: ='RyO3378'!N62 -> 74 | Q62: - | R62: - | S62: - | T62: =G62-H62-J62-K62-L62-O62-P62 -> 206
A63: 1943 | B63: =C63+F63 -> 2388 | C63: ='RyO3378'!U63 -> 1614 | D63: - | E63: - | F63: ='RyO3378'!X63+'RyO3378'!AE63 -> 774 | G63: =B63 -> 2388 | H63: ='RyO3378'!C63 -> 1174 | I63: - | J63: ='RyO3378'!E63 -> 522 | K63: ='RyO3378'!F63 -> 9 | L63: ='RyO3378'!G63 -> 202 | M63: - | N63: - | O63: ='RyO3378'!M63+'RyO3378'!K63 -> 30 | P63: ='RyO3378'!N63 -> 115 | Q63: - | R63: - | S63: - | T63: =G63-H63-J63-K63-L63-O63-P63 -> 336
A64: 1944 | B64: =C64+F64 -> 2964 | C64: ='RyO3378'!U64 -> 1882 | D64: - | E64: - | F64: ='RyO3378'!X64+'RyO3378'!AE64 -> 1082 | G64: =B64 -> 2964 | H64: ='RyO3378'!C64 -> 1357 | I64: - | J64: ='RyO3378'!E64 -> 618 | K64: ='RyO3378'!F64 -> -2 | L64: ='RyO3378'!G64 -> 436 | M64: - | N64: - | O64: ='RyO3378'!M64+'RyO3378'!K64 -> 73 | P64: ='RyO3378'!N64 -> 123 | Q64: - | R64: - | S64: - | T64: =G64-H64-J64-K64-L64-O64-P64 -> 359
... A98: 1978 | B98: =C98+F98 -> 325013 | C98: ='RyO3378'!U98 -> 120876 | D98: - | E98: - | F98: ='RyO3378'!X98+'RyO3378'!AE98 -> 204137 | G98: =B98 -> 325013 | H98: ='RyO3378'!C98 -> 51606 | I98: - | J98: ='RyO3378'!E98 -> 260803 | K98: ='RyO3378'!F98 -> -2239 | L98: ='RyO3378'!G98 -> 21220 | M98: - | N98: - | O98: ='RyO3378'!M98+'RyO3378'!K98 -> 5901 | P98: ='RyO3378'!N98 -> 2149 | Q98: - | R98: - | S98: - | T98: =G98-H98-J98-K98-L98-O98-P98 -> -14427
A99: 1979 | B99: - | C99: - | D99: - | E99: - | F99: - | G99: - | H99: - | I99: - | J99: - | K99: - | L99: - | M99: - | N99: - | O99: - | P99: - | Q99: - | R99: - | S99: - | T99: -
A100: 1980 | B100: - | C100: - | D100: - | E100: - | F100: - | G100: - | H100: - | I100: - | J100: - | K100: - | L100: - | M100: - | N100: - | O100: - | P100: - | Q100: - | R100: - | S100: - | T100: -
A101: 1981 | B101: - | C101: - | D101: - | E101: - | F101: - | G101: - | H101: - | I101: - | J101: - | K101: - | L101: - | M101: - | N101: - | O101: - | P101: - | Q101: - | R101: - | S101: - | T101: -
A102: 1982 | B102: - | C102: - | D102: - | E102: - | F102: - | G102: - | H102: - | I102: - | J102: - | K102: - | L102: - | M102: - | N102: - | O102: - | P102: - | Q102: - | R102: - | S102: - | T102: -
A103: 1983 | B103: - | C103: - | D103: - | E103: - | F103: - | G103: - | H103: - | I103: - | J103: - | K103: - | L103: - | M103: - | N103: - | O103: - | P103: - | Q103: - | R103: - | S103: - | T103: -
A104: 1984 | B104: - | C104: - | D104: - | E104: - | F104: - | G104: - | H104: - | I104: - | J104: - | K104: - | L104: - | M104: - | N104: - | O104: - | P104: - | Q104: - | R104: - | S104: - | T104: -
A105: 1985 | B105: 2741031 | C105: 1888131 | D105: 1731976 | E105: 156155 | F105: 852900 | G105: 2741031 | H105: 2061294 | I105: 679737 | J105: 4288916 | K105: 2010907 | L105: -565057 | M105: 0 | N105: -2855019 | O105: 13666 | P105: -2868685 | Q105: -427951 | R105: 0 | S105: -1083576 | T105: -688483
A106: 1986 | B106: 5423915 | C106: 3385042 | D106: 3065744 | E106: 319298 | F106: 2038873 | G106: 5423915 | H106: 6029228 | I106: -605313 | J106: 6178834 | K106: 4056239 | L106: -372478 | M106: 0 | N106: -2904663 | O106: -47917 | P106: -2856746 | Q106: -1543436 | R106: 0 | S106: -3685657 | T106: -2334152
A107: 1987 | B107: 11030937 | C107: 8065284 | D107: 7318490 | E107: 746794 | F107: 2965653 | G107: 11030937 | H107: 28814046 | I107: -17783109 | J107: 13173889 | K107: -1957876 | L107: -1350439 | M107: 0 | N107: -3262007 | O107: -88639 | P107: -3173368 | Q107: -4338574 | R107: 0 | S107: -11310791 | T107: -8737311
A108: 1988 | B108: 17514268 | C108: 14522268 | D108: 13160705 | E108: 1361563 | F108: 2992000 | G108: 17514268 | H108: 14551411 | I108: 2962857 | J108: 22137559 | K108: 10519644 | L108: -1192636 | M108: 0 | N108: -1978020 | O108: 639017 | P108: -2617037 | Q108: -5492843 | R108: 0 | S108: -10917094 | T108: -10113753
A109: 1989 | B109: 22224545 | C109: 19660245 | D109: 17992140 | E109: 1668105 | F109: 2564300 | G109: 22224545 | H109: 17484476 | I109: 4740069 | J109: 35101790 | K109: 3594135 | L109: -643192 | M109: 0 | N109: -223971 | O109: -92032 | P109: -131939 | Q109: -4681710 | R109: 0 | S109: -17061388 | T109: -11345595
A110: 1990 | B110: 30121201 | C110: 27077501 | D110: 24603553 | E110: 2473948 | F110: 3043700 | G110: 30121201 | H110: 29949711 | I110: 171490 | J110: 39978811 | K110: 925501 | L110: -834302 | M110: 0 | N110: 177967 | O110: 343137 | P110: -165170 | Q110: -2965064 | R110: 0 | S110: -19169547 | T110: -17941876
A111: 1991 | B111: 38581127 | C111: 36171727 | D111: 32417777 | E111: 3753950 | F111: 2409400 | G111: 38581127 | H111: 53885609 | I111: -15304482 | J111: 34667896 | K111: -12871287 | L111: -383306 | M111: 0 | N111: 743828 | O111: 882085 | P111: -138257 | Q111: 4247416 | R111: 0 | S111: -20756889 | T111: -20952140
A112: 1992 | B112: 43972433 | C112: 42015433 | D112: 38013353 | E112: 4002080 | F112: 1957000 | G112: 43972433 | H112: 57803443 | I112: -13831010 | J112: 30123295 | K112: -14145344 | L112: -527959 | M112: 0 | N112: 2078668 | O112: 2275273 | P112: -196605 | Q112: 11138633 | R112: 0 | S112: -18559684 | T112: -23938619
A113: 1993 | B113: 47192881 | C113: 47192859 | D113: 43230687 | E113: 3962172 | F113: 22 | G113: 47192881 | H113: 76211021 | I113: -29018140 | J113: 9864534 | K113: -18676959 | L113: -591986 | M113: 0 | N113: 1827788 | O113: 2276134 | P113: -448346 | Q113: 15425989 | R113: 0 | S113: -14894033 | T113: -21973473
A114: 1994 | B114: 56935497 | C114: 56920386 | D114: 51857760 | E114: 5062626 | F114: 15111 | G114: 56935497 | H114: 32739200 | I114: 24196297 | J114: 0 | K114: -15203123 | L114: -9137 | M114: -54066611 | N114: 43340813 | O114: 4026163 | P114: 39314650 | Q114: 29159737 | R114: 56716713 | S114: -20555033 | T114: -15187062
A115: 1995 | B115: 66808632 | C115: 66808632 | D115: 60657871 | E115: 6150761 | F115: 0 | G115: 66808632 | H115: 120300736 | I115: -53492104 | J115: 13212032 | K115: -26194362 | L115: -5528 | M115: 0 | N115: 34505212 | O115: 1888740 | P115: 32616472 | Q115: 54580929 | R115: 0 | S115: -132116184 | T115: 2525797
A116: 1996 | B116: 83991071 | C116: 83991071 | D116: 74088699 | E116: 9902372 | F116: 0 | G116: 83991071 | H116: 137803802 | I116: -53812731 | J116: 10488392 | K116: -16123737 | L116: -11770 | M116: 0 | N116: -967323 | O116: 367514 | P116: -1334837 | Q116: 51595419 | R116: 0 | S116: -104507660 | T116: 5713948
... A120: 2000 | B120: 208943119 | C120: 208879867 | D120: 182016173 | E120: 26863694 | F120: 63252 | G120: 208943119 | H120: 322456082 | I120: -113512963 | J120: 0 | K120: -127439038 | L120: 0 | M120: -162764090 | N120: 48375510 | O120: 4946786 | P120: 43428724 | Q120: 22745369 | R120: 69722234 | S120: 0 | T120: 35847052

Sheet M1M2BM
A1: Versión 05
A2: Año | B2: Oferta Monetaria (ByM+ChMn) M1 Dic | C2: Oferta Monetaria (ByM+ChMn) M1 Prom | D2: M2 | E2: Base monetaria
A5: 1885 | B5: - | C5: - | D5: - | E5: -
A6: 1886 | B6: - | C6: - | D6: - | E6: -
A7: 1887 | B7: - | C7: - | D7: - | E7: -
A8: 1888 | B8: - | C8: - | D8: - | E8: -
A9: 1889 | B9: - | C9: - | D9: - | E9: -
A10: 1890 | B10: - | C10: - | D10: - | E10: -
A11: 1891 | B11: - | C11: - | D11: - | E11: -
A12: 1892 | B12: - | C12: - | D12: - | E12: -
A13: 1893 | B13: - | C13: - | D13: - | E13: -
A14: 1894 | B14: - | C14: - | D14: - | E14: -
A15: 1895 | B15: - | C15: - | D15: - | E15: -
A16: 1896 | B16: - | C16: - | D16: - | E16: -
... A44: 1924 | B44: - | C44: - | D44: - | E44: -
A45: 1925 | B45: 462 | C45: - | D45: 400 | E45: -
A46: 1926 | B46: 537 | C46: - | D46: 500 | E46: -
A47: 1927 | B47: 489 | C47: - | D47: 400 | E47: -
A48: 1928 | B48: 628 | C48: - | D48: 600 | E48: -
A49: 1929 | B49: 656 | C49: - | D49: 600 | E49: -
A50: 1930 | B50: 684 | C50: - | D50: 600 | E50: -
A51: 1931 | B51: 272 | C51: - | D51: 200 | E51: -
A52: 1932 | B52: 357 | C52: - | D52: 300 | E52: -
A53: 1933 | B53: ='RyO3378'!CV53+'RyO3378'!CX53 -> 411 | C53: 378.1 | D53: 500 | E53: ='RyO3378'!C53+'RyO3378'!D53+'RyO3378'!G53+'RyO3378'!J53 -> 180
A54: 1934 | B54: ='RyO3378'!CV54+'RyO3378'!CX54 -> 468 | C54: 454.5 | D54: 500 | E54: ='RyO3378'!C54+'RyO3378'!D54+'RyO3378'!G54+'RyO3378'!J54 -> 250
A55: 1935 | B55: ='RyO3378'!CV55+'RyO3378'!CX55 -> 515 | C55: 505.5 | D55: 500 | E55: ='RyO3378'!C55+'RyO3378'!D55+'RyO3378'!G55+'RyO3378'!J55 -> 388
A56: 1936 | B56: ='RyO3378'!CV56+'RyO3378'!CX56 -> 626 | C56: 573.9 | D56: 800 | E56: ='RyO3378'!C56+'RyO3378'!D56+'RyO3378'!G56+'RyO3378'!J56 -> 437
A57: 1937 | B57: ='RyO3378'!CV57+'RyO3378'!CX57 -> 663 | C57: 686.9 | D57: 800 | E57: ='RyO3378'!C57+'RyO3378'!D57+'RyO3378'!G57+'RyO3378'!J57 -> 424
A58: 1938 | B58: ='RyO3378'!CV58+'RyO3378'!CX58 -> 737 | C58: 671.4 | D58: 800 | E58: ='RyO3378'!C58+'RyO3378'!D58+'RyO3378'!G58+'RyO3378'!J58 -> 475
A59: 1939 | B59: ='RyO3378'!CV59+'RyO3378'!CX59 -> 883 | C59: 807.6 | D59: 1000 | E59: ='RyO3378'!C59+'RyO3378'!D59+'RyO3378'!G59+'RyO3378'!J59 -> 560
A60: 1940 | B60: ='RyO3378'!CV60+'RyO3378'!CX60 -> 1062 | C60: 905.1 | D60: 1200 | E60: ='RyO3378'!C60+'RyO3378'!D60+'RyO3378'!G60+'RyO3378'!J60 -> 722
A61: 1941 | B61: ='RyO3378'!CV61+'RyO3378'!CX61 -> 1268 | C61: 1172.7 | D61: 1400 | E61: ='RyO3378'!C61+'RyO3378'!D61+'RyO3378'!G61+'RyO3378'!J61 -> 869
A62: 1942 | B62: ='RyO3378'!CV62+'RyO3378'!CX62 -> 1750 | C62: 1445.6 | D62: 2000 | E62: ='RyO3378'!C62+'RyO3378'!D62+'RyO3378'!G62+'RyO3378'!J62 -> 1314
A63: 1943 | B63: ='RyO3378'!CV63+'RyO3378'!CX63 -> 2672 | C63: 2247.3 | D63: 3000 | E63: ='RyO3378'!C63+'RyO3378'!D63+'RyO3378'!G63+'RyO3378'!J63 -> 2052
A64: 1944 | B64: ='RyO3378'!CV64+'RyO3378'!CX64 -> 3309 | C64: 2982.7 | D64: 3900 | E64: ='RyO3378'!C64+'RyO3378'!D64+'RyO3378'!G64+'RyO3378'!J64 -> 2605
... A95: 1975 | B95: ='RyO3378'!CV95+'RyO3378'!CX95 -> 118268 | C95: 97150.2 | D95: 346100 | E95: ='RyO3378'!C95+'RyO3378'!D95+'RyO3378'!G95+'RyO3378'!J95 -> 149434
A96: 1976 | B96: ='RyO3378'!CV96+'RyO3378'!CX96 -> 154807 | C96: - | D96: 395400 | E96: ='RyO3378'!C96+'RyO3378'!D96+'RyO3378'!G96+'RyO3378'!J96 -> 182779
A97: 1977 | B97: ='RyO3378'!CV97+'RyO3378'!CX97 -> 196008 | C97: - | D97: 495200 | E97: ='RyO3378'!C97+'RyO3378'!D97+'RyO3378'!G97+'RyO3378'!J97 -> 262528
A98: 1978 | B98: ='RyO3378'!CV98+'RyO3378'!CX98 -> 260003 | C98: - | D98: 640900 | E98: ='RyO3378'!C98+'RyO3378'!D98+'RyO3378'!G98+'RyO3378'!J98 -> 339440
A99: 1979 | B99: 369000 | C99: - | D99: 865100 | E99: 496600
A100: 1980 | B100: 492000 | C100: - | D100: 1246000 | E100: 681300
A101: 1981 | B101: 656000 | C101: - | D101: 1907000 | E101: 1028100
A102: 1982 | B102: 1011000 | C102: - | D102: 3265000 | E102: 1935800
A103: 1983 | B103: 1430000 | C103: - | D103: 5275300 | E103: 3069900
A104: 1984 | B104: 2321000 | C104: - | D104: 8971000 | E104: 4738100
A105: 1985 | B105: 3570000 | C105: - | D105: 13128200 | E105: 5679200
A106: 1986 | B106: 6145000 | C106: - | D106: 25525200 | E106: 8390400
A107: 1987 | B107: 14116000 | C107: - | D107: 61505000 | E107: 14754200
A108: 1988 | B108: 22312000 | C108: - | D108: 87430700 | E108: 20750800
A109: 1989 | B109: 31392000 | C109: - | D109: 125043300 | E109: 22960000
A110: 1990 | B110: 51000000 | C110: - | D110: 271200000 | E110: 30100000
... A120: 2000 | B120: 565200000 | C120: - | D120: 2347500000 | E120: 208900000

Sheet CaptaB
B1: Obligaciones Banca comercial Cheques y depositos (Captación)
A2: Año | B2: Obligaciones Banca comercial Cheques y depositos
B3: En millones de pesos | C3: En % | D3: En flujos
A5: 1885 | B5: - | C5: - | D5: -
A6: 1886 | B6: - | C6: - | D6: -
A7: 1887 | B7: - | C7: - | D7: -
A8: 1888 | B8: - | C8: - | D8: -
A9: 1889 | B9: - | C9: - | D9: -
A10: 1890 | B10: - | C10: - | D10: -
A11: 1891 | B11: - | C11: - | D11: -
A12: 1892 | B12: - | C12: - | D12: -
A13: 1893 | B13: - | C13: - | D13: -
A14: 1894 | B14: - | C14: - | D14: -
A15: 1895 | B15: - | C15: - | D15: -
A16: 1896 | B16: - | C16: - | D16: -
... A52: 1932 | B52: - | C52: - | D52: -
A53: 1933 | B53: ='RyO3378'!CB53+'RyO3378'!CI53 -> 325 | C53: - | D53: -
A54: 1934 | B54: ='RyO3378'!CB54+'RyO3378'!CI54 -> 339 | C54: =((B54/B53)-1)*100 -> 4.3076923 | D54: =B54-B53 -> 14
A55: 1935 | B55: ='RyO3378'!CB55+'RyO3378'!CI55 -> 382 | C55: =((B55/B54)-1)*100 -> 12.684366 | D55: =B55-B54 -> 43
A56: 1936 | B56: ='RyO3378'!CB56+'RyO3378'!CI56 -> 427 | C56: =((B56/B55)-1)*100 -> 11.780105 | D56: =B56-B55 -> 45
A57: 1937 | B57: ='RyO3378'!CB57+'RyO3378'!CI57 -> 411 | C57: =((B57/B56)-1)*100 -> -3.7470726 | D57: =B57-B56 -> -16
A58: 1938 | B58: ='RyO3378'!CB58+'RyO3378'!CI58 -> 394 | C58: =((B58/B57)-1)*100 -> -4.136253 | D58: =B58-B57 -> -17
A59: 1939 | B59: ='RyO3378'!CB59+'RyO3378'!CI59 -> 508 | C59: =((B59/B58)-1)*100 -> 28.93401 | D59: =B59-B58 -> 114
A60: 1940 | B60: ='RyO3378'!CB60+'RyO3378'!CI60 -> 656 | C60: =((B60/B59)-1)*100 -> 29.133858 | D60: =B60-B59 -> 148
A61: 1941 | B61: ='RyO3378'!CB61+'RyO3378'!CI61 -> 813 | C61: =((B61/B60)-1)*100 -> 23.932927 | D61: =B61-B60 -> 157
A62: 1942 | B62: ='RyO3378'!CB62+'RyO3378'!CI62 -> 1227 | C62: =((B62/B61)-1)*100 -> 50.922509 | D62: =B62-B61 -> 414
A63: 1943 | B63: ='RyO3378'!CB63+'RyO3378'!CI63 -> 1930 | C63: =((B63/B62)-1)*100 -> 57.294214 | D63: =B63-B62 -> 703
A64: 1944 | B64: ='RyO3378'!CB64+'RyO3378'!CI64 -> 2536 | C64: =((B64/B63)-1)*100 -> 31.398964 | D64: =B64-B63 -> 606
A65: 1945 | B65: ='RyO3378'!CB65+'RyO3378'!CI65 -> 3238 | C65: =((B65/B64)-1)*100 -> 27.681388 | D65: =B65-B64 -> 702
... A98: 1978 | B98: ='RyO3378'!CB98+'RyO3378'!CI98 -> 582369 | C98: =((B98/B97)-1)*100 -> 31.395315 | D98: =B98-B97 -> 139150
A99: 1979 | B99: - | C99: - | D99: -
A100: 1980 | B100: - | C100: - | D100: -
A101: 1981 | B101: - | C101: - | D101: -
A102: 1982 | B102: - | C102: - | D102: -
A103: 1983 | B103: - | C103: - | D103: -
A104: 1984 | B104: - | C104: - | D104: -
A105: 1985 | B105: - | C105: - | D105: -
A106: 1986 | B106: - | C106: - | D106: -
A107: 1987 | B107: - | C107: - | D107: -
A108: 1988 | B108: - | C108: - | D108: -
A109: 1989 | B109: - | C109: - | D109: -
A110: 1990 | B110: - | C110: - | D110: -
... A130: 2010 | B130: - | C130: - | D130: -

Sheet RI
A2: Año | B2: RIBA, serie mixta md | C2: Reservas Internacionales md | D2: RI de Recursos BM 1933-1978 mp | E2: RI de Serie mixta en mp | F2: RI de Recursos BM 1985-2000 mp | H2: Tipo de cambio Pesos por dólar
A5: 1885 | B5: - | C5: - | D5: - | E5: - | F5: - | H5: -
A6: 1886 | B6: - | C6: - | D6: - | E6: - | F6: - | H6: 1.27
A7: 1887 | B7: - | C7: - | D7: - | E7: - | F7: - | H7: 1.33
A8: 1888 | B8: - | C8: - | D8: - | E8: - | F8: - | H8: 1.36
A9: 1889 | B9: - | C9: - | D9: - | E9: - | F9: - | H9: 1.32
A10: 1890 | B10: - | C10: - | D10: - | E10: - | F10: - | H10: 1.24
A11: 1891 | B11: - | C11: - | D11: - | E11: - | F11: - | H11: 1.36
A12: 1892 | B12: - | C12: - | D12: - | E12: - | F12: - | H12: 1.54
A13: 1893 | B13: - | C13: - | D13: - | E13: - | F13: - | H13: 1.78
A14: 1894 | B14: - | C14: - | D14: - | E14: - | F14: - | H14: 2
A15: 1895 | B15: - | C15: - | D15: - | E15: - | F15: - | H15: 1.89
A16: 1896 | B16: - | C16: - | D16: - | E16: - | F16: - | H16: 1.97
A17: 1897 | B17: - | C17: - | D17: - | E17: - | F17: - | H17: 2.17
... A44: 1924 | B44: - | C44: - | D44: - | E44: - | F44: - | H44: 2.05
A45: 1925 | B45: 27.4 | C45: 27.4 | D45: - | E45: =B45*H45 -> 55.896 | F45: - | H45: 2.04
A46: 1926 | B46: 17.7 | C46: 17.7 | D46: - | E46: =B46*H46 -> 37.701 | F46: - | H46: 2.13
A47: 1927 | B47: 16.2 | C47: 16.2 | D47: - | E47: =B47*H47 -> 33.372 | F47: - | H47: 2.06
A48: 1928 | B48: 19.8 | C48: 19.8 | D48: - | E48: =B48*H48 -> 41.184 | F48: - | H48: 2.08
A49: 1929 | B49: 25 | C49: 25 | D49: - | E49: =B49*H49 -> 52 | F49: - | H49: 2.08
A50: 1930 | B50: 13.6 | C50: 13.6 | D50: - | E50: =B50*H50 -> 34.136 | F50: - | H50: 2.51
A51: 1931 | B51: 9.7 | C51: 9.7 | D51: - | E51: =B51*H51 -> 24.929 | F51: - | H51: 2.57
A52: 1932 | B52: 31.2 | C52: 31.2 | D52: - | E52: =B52*H52 -> 96.408 | F52: - | H52: 3.09
A53: 1933 | B53: 36.8 | C53: 36.8 | D53: ='RyO3378'!C53 -> 131 | E53: =B53*H53 -> 132.48 | F53: - | H53: 3.6
A54: 1934 | B54: 52.9 | C54: 52.9 | D54: ='RyO3378'!C54 -> 191 | E54: =B54*H54 -> 190.44 | F54: - | H54: 3.6
A55: 1935 | B55: 93.2 | C55: 93.2 | D55: ='RyO3378'!C55 -> 335 | E55: =B55*H55 -> 335.52 | F55: - | H55: 3.6
A56: 1936 | B56: 89 | C56: 89 | D56: ='RyO3378'!C56 -> 322 | E56: =B56*H56 -> 320.4 | F56: - | H56: 3.6
A57: 1937 | B57: 55.4 | C57: 55.4 | D57: ='RyO3378'!C57 -> 202 | E57: =B57*H57 -> 199.44 | F57: - | H57: 3.6
A58: 1938 | B58: 43.2 | C58: 43.2 | D58: ='RyO3378'!C58 -> 212 | E58: =B58*H58 -> 212.112 | F58: - | H58: 4.91
A59: 1939 | B59: 41.4 | C59: 41.4 | D59: ='RyO3378'!C59 -> 210 | E59: =B59*H59 -> 200.79 | F59: - | H59: 4.85
A60: 1940 | B60: 63.4 | C60: 63.4 | D60: ='RyO3378'!C60 -> 310 | E60: =B60*H60 -> 308.124 | F60: - | H60: 4.86
A61: 1941 | B61: 62.3 | C61: 62.3 | D61: ='RyO3378'!C61 -> 300 | E61: =B61*H61 -> 302.155 | F61: - | H61: 4.85
A62: 1942 | B62: 108.3 | C62: 108.3 | D62: ='RyO3378'!C62 -> 493 | E62: =B62*H62 -> 525.255 | F62: - | H62: 4.85
A63: 1943 | B63: 242.5 | C63: 242.5 | D63: ='RyO3378'!C63 -> 1174 | E63: =B63*H63 -> 1178.55 | F63: - | H63: 4.86
A64: 1944 | B64: 279.5 | C64: 279.5 | D64: ='RyO3378'!C64 -> 1357 | E64: =B64*H64 -> 1355.575 | F64: - | H64: 4.85
... A95: 1975 | B95: 1608.9 | C95: 1608.9 | D95: ='RyO3378'!C95 -> 20153 | E95: =B95*H95 -> 20111.25 | F95: - | H95: 12.5
A96: 1976 | B96: 1411 | C96: - | D96: ='RyO3378'!C96 -> 28156 | E96: =B96*H96 -> 28643.3 | F96: - | H96: 20.3
A97: 1977 | B97: 1968 | C97: - | D97: ='RyO3378'!C97 -> 44159 | E97: =B97*H97 -> 44673.6 | F97: - | H97: 22.7
A98: 1978 | B98: 2303 | C98: - | D98: ='RyO3378'!C98 -> 51606 | E98: =B98*H98 -> 52278.1 | F98: - | H98: 22.7
A99: 1979 | B99: 3088 | C99: - | D99: - | E99: =B99*H99 -> 70406.4 | F99: - | H99: 22.8
A100: 1980 | B100: 4004.109 | C100: - | D100: - | E100: =B100*H100 -> 92895.329 | F100: - | H100: 23.2
A101: 1981 | B101: 5035.483 | C101: - | D101: - | E101: =B101*H101 -> 130922.56 | F101: - | H101: 26
A102: 1982 | B102: 1832.681 | C102: - | D102: - | E102: =B102*H102 -> 147530.82 | F102: - | H102: 80.5
A103: 1983 | B103: 4933.538 | C103: - | D103: - | E103: =B103*H103 -> 700562.4 | F103: - | H103: 142
A104: 1984 | B104: 8134.423 | C104: - | D104: - | E104: =B104*H104 -> 1545540.4 | F104: - | H104: 190
A105: 1985 | B105: 5806.023 | C105: - | D105: - | E105: =B105*H105 -> 2060557.6 | F105: ='RyO8500'!C5 -> 2061294 | H105: 354.9
A106: 1986 | B106: 6791.023 | C106: - | D106: - | E106: =B106*H106 -> 6042652.3 | F106: ='RyO8500'!C6 -> 6029228 | H106: 889.8
A107: 1987 | B107: 13715.423 | C107: - | D107: - | E107: =B107*H107 -> 27532340 | F107: ='RyO8500'!C7 -> 28814046 | H107: 2007.4
A108: 1988 | B108: 6588.423 | C108: - | D108: - | E108: =B108*H108 -> 15028193 | F108: ='RyO8500'!C8 -> 14551411 | H108: 2281
A109: 1989 | B109: 6859.923 | C109: - | D109: - | E109: =B109*H109 -> 18040226 | F109: ='RyO8500'!C9 -> 17484476 | H109: 2629.8
A110: 1990 | B110: 10274.223 | C110: - | D110: - | E110: =B110*H110 -> 30215462 | F110: ='RyO8500'!C10 -> 29949711 | H110: 2940.9
A111: 1991 | B111: 17546.6 | C111: - | D111: - | E111: =B111*H111 -> 53868062 | F111: ='RyO8500'!C11 -> 53885609 | H111: 3070
A112: 1992 | B112: 18554.2 | C112: - | D112: - | E112: =B112*H112 -> 57855706 | F112: ='RyO8500'!C12 -> 57803443 | H112: 3118.2
A113: 1993 | B113: 24537 | C113: - | D113: - | E113: =B113*H113 -> 76253635 | F113: ='RyO8500'!C13 -> 76211021 | H113: 3107.7
A114: 1994 | B114: 6889 | C114: - | D114: - | E114: =B114*H114 -> 27079281 | F114: ='RyO8500'!C14 -> 32739200 | H114: 3930.8
A115: 1995 | B115: 17488.9 | C115: - | D115: - | E115: =B115*H115 -> 1.3395973e+08 | F115: ='RyO8500'!C15 -> 120300736 | H115: 7659.7
A116: 1996 | B116: 19967.1 | C116: - | D116: - | E116: =B116*H116 -> 1.5727486e+08 | F116: ='RyO8500'!C16 -> 137803802 | H116: 7876.7
... A120: 2000 | B120: 36018.6 | C120: - | D120: - | E120: =B120*H120 -> 3.4015606e+08 | F120: ='RyO8500'!C20 -> 322456082 | H120: 9443.9
A121: 2001 | B121: 45247 | C121: - | D121: - | E121: =B121*H121 -> 4.147883e+08 | F121: - | H121: 9167.2
A122: 2002 | B122: - | C122: - | D122: - | E122: - | F122: - | H122: 10198.2
A123: 2003 | B123: - | C123: - | D123: - | E123: - | F123: - | H123: 11262.9
A124: 2004 | B124: - | C124: - | D124: - | E124: - | F124: - | H124: 11210
A125: 2005 | B125: - | C125: - | D125: - | E125: - | F125: - | H125: 10620.1
A126: 2006 | B126: - | C126: - | D126: - | E126: - | F126: - | H126: 10865
A127: 2007 | B127: - | C127: - | D127: - | E127: - | F127: - | H127: 10849.4
A128: 2008 | B128: - | C128: - | D128: - | E128: - | F128: - | H128: 13372.6
A129: 2009 | B129: - | C129: - | D129: - | E129: - | F129: - | H129: 12850.4
A130: 2010 | B130: - | C130: - | D130: - | E130: - | F130: - | H130: 12401.1
A131: Fuente: Fernandez (1976) para 1925-1975; Banco de México, Informe Anual (1976-1990)
A132: Nota: La variable relevante es la reserva primaria bruta, no la reserva secundaria.
A133: "Como complemento de la reserva primaria bruta antes indicada, el Banco de México, S.A., cuenta con apoyos secundarios, provenientes de convenios de cooperación monetaria con bancos centrales y de las disponibilidades en el Fondo Monetario Internacional. Al 31 de diciembre de 1980, las reservas secundarias del Banco Central ascendieron a 3 240 millones de dólares, que representaron un incremento de 576 millones de dólares respecto al nivel en diciembre del año anterior."
A137: Fuentes de datos para 1980-1984
A138: Informe Anual, 1980, p. 29
A139: Informe Anual, 1981

Sheet Redescuentos1932-1940
A2: Período | B2: Redescuentos | D2: Año | E2: Redescuentos Fin | F2: Redescuentos promedio
A5: 01 - 32 | B5: 1512 | D5: 1920 | E5: - | F5: -
A6: 02 - 32 | B6: 3085 | D6: 1921 | E6: - | F6: -
A7: 03 - 32 | B7: 6726 | D7: 1922 | E7: - | F7: -
A8: 04 - 32 | B8: 11214 | D8: 1923 | E8: - | F8: -
A9: 05 - 32 | B9: 14613 | D9: 1924 | E9: - | F9: -
A10: 06 - 32 | B10: 15912 | D10: 1925 | E10: - | F10: -
A11: 07 - 32 | B11: 16819 | D11: 1926 | E11: - | F11: -
A12: 08 - 32 | B12: 18241 | D12: 1927 | E12: - | F12: -
A13: 09 - 32 | B13: 17251 | D13: 1928 | E13: - | F13: -
A14: 10 - 32 | B14: 16205 | D14: 1929 | E14: - | F14: -
A15: 11 - 32 | B15: 16193 | D15: 1930 | E15: - | F15: -
A16: 12 - 32 | B16: 22988 | D16: 1931 | E16: - | F16: -
A17: 01 - 33 | B17: 25768 | D17: 1932 | E17: =B16 -> 22988 | F17: =AVERAGE(B5:B16) -> 13396.583
A18: 02 - 33 | B18: 25957 | D18: 1933 | E18: =B28 -> 25021 | F18: =AVERAGE(B17:B28) -> 26163.417
A19: 03 - 33 | B19: 27893 | D19: 1934 | E19: =B40 -> 34205 | F19: =AVERAGE(B29:B40) -> 31670
A20: 04 - 33 | B20: 25298 | D20: 1935 | E20: =B52 -> 41024 | F20: =AVERAGE(B41:B52) -> 40145.25
A21: 05 - 33 | B21: 24790 | D21: 1936 | E21: =B64 -> 49536 | F21: =AVERAGE(B53:B64) -> 52726.167
A22: 06 - 33 | B22: 24082 | D22: 1937 | E22: =B76 -> 15112 | F22: =AVERAGE(B65:B76) -> 40739.083
A23: 07 - 33 | B23: 23910 | D23: 1938 | E23: =B88 -> 60965 | F23: =AVERAGE(B77:B88) -> 41572.25
A24: 08 - 33 | B24: 25307 | D24: 1939 | E24: =B100 -> 77486 | F24: =AVERAGE(B89:B100) -> 66395.583
A25: 09 - 33 | B25: 28479 | D25: 1940 | E25: =B112 -> 61992 | F25: =AVERAGE(B101:B112) -> 80581
A26: 10 - 33 | B26: 29468
A27: 11 - 33 | B27: 27988
A28: 12 - 33 | B28: 25021
A29: 01 - 34 | B29: 26473
A30: 02 - 34 | B30: 28541
A31: 03 - 34 | B31: 31299
A32: 04 - 34 | B32: 30106
A33: 05 - 34 | B33: 31873
A34: 06 - 34 | B34: 33847
A35: 07 - 34 | B35: 32931
A36: 08 - 34 | B36: 31267
A37: 09 - 34 | B37: 31340
... A112: 12 - 40 | B112: 61992
