Workbook
Name \A: #REF!
Name \A: #REF!
Name \S: #REF!
Name \S: #REF!
Name ACTIVATE: #REF!
Name ACTIVATE: #REF!
Name ASSUMPT: #REF!
Name ASSUMPT: #REF!
Name ASSUMPTIONS: #REF!
Name ASSUMPTIONS: #REF!
Name basicdata1: #REF!
Name basicdata1: #REF!
Name basicdata2: #REF!
Name basicdata2: #REF!
Name BCA_NGDP: [5]Q6!$E$10:$AH$10
Name BMG: [5]Q6!$E$27:$AH$27
Name BOP: #REF!
Name BOP: #REF!
Name BXG: [5]Q6!$E$19:$AH$19
Name CAPITAL: #REF!
Name CAPITAL: #REF!
Name CARGO_BY_TYPE: '[6]Table No.18-Exports goods+servi'!#REF!
Name CARGO_BY_TYPE: '[6]Table No.18-Exports goods+servi'!#REF!
Name CCode: [7]Codes!$A$2
Name CENTRALG: #REF!
Name CENTRALG: #REF!
Name CFLOW: #REF!
Name CFLOW: #REF!
Name chart1: #REF!
Name chart1: #REF!
Name Chart11: #REF!
Name Chart11: #REF!
Name chart2: #REF!
Name chart2: #REF!
Name Chart22: #REF!
Name Chart22: #REF!
Name COUNTER: #REF!
Name COUNTER: #REF!
Name CurrVintage: [8]Current!$D$66
Name Date: [7]Current!$D$67
Name DEBT: #REF!
Name DEBT: #REF!
Name Discount_NC: [9]NPV_base!#REF!
Name Discount_NC: [9]NPV_base!#REF!
Name DiscountRate: #REF!
Name DiscountRate: #REF!
Name empty: [1]Micro!#REF!
Name empty: [1]Micro!#REF!
Name EX_IMP: #REF!
Name EX_IMP: #REF!
Name GCB_NGDP: [5]Q4!$E$19:$AH$19
Name GGB_NGDP: [5]Q4!$E$41:$AH$41
Name Grace_NC: [9]NPV_base!#REF!
Name Grace_NC: [9]NPV_base!#REF!
Name IMPORT: #REF!
Name IMPORT: #REF!
Name IN_OUT: #REF!
Name IN_OUT: #REF!
Name IN1_: #REF!
Name IN1_: #REF!

Sheet PIB
A1: Versión 06
A2: Año | B2: PIB Nominal en millones de pesos | C2: PIB Nominal % | D2: PIB real, base 1950 en millones de pesos | E2: PIB real, base 1950 % | F2: PIB Índice 1950=100 | G2: PIB Índice % | H2: PIB Deflactor 1950=100 | I2: PIB Deflactor 1950 %
A5: 1920 | B5: - | C5: - | D5: - | E5: - | F5: - | G5: - | H5: - | I5: -
A6: 1921 | B6: =PIBN!E6 -> 5455 | C6: =PIBN!I6 -> -8.8 | D6: =(D7/(1+(E7/100))) -> 17117.41 | E6: =PIBR!H6 -> 0.7 | F6: =(D6/D$35)*100 -> 40.598178 | G6: =I6 -> - | H6: =(B6/D6)*100 -> 31.86814 | I6: -
A7: 1922 | B7: =PIBN!E7 -> 4590 | C7: =PIBN!I7 -> -15.857012 | D7: =(D8/(1+(E8/100))) -> 17516.471 | E7: =PIBR!H7 -> 2.3313198 | F7: =(D7/D$35)*100 -> 41.544651 | G7: =((F7/F6)-1)*100 -> 2.3313198 | H7: =(B7/D7)*100 -> 26.203908 | I7: =((H7/H6)-1)*100 -> -17.773964
A8: 1923 | B8: =PIBN!E8 -> 5014 | C8: =((B8/B7)-1)*100 -> 9.2374728 | D8: =(D9/(1+(E9/100))) -> 18118.274 | E8: =PIBR!H8 -> 3.4356373 | F8: =(D8/D$35)*100 -> 42.971974 | G8: =((F8/F7)-1)*100 -> 3.4356373 | H8: =(B8/D8)*100 -> 27.673718 | I8: =((H8/H7)-1)*100 -> 5.6091263
A9: 1924 | B9: =PIBN!E9 -> 4633 | C9: =((B9/B8)-1)*100 -> -7.5987236 | D9: =(D10/(1+(E10/100))) -> 17825.313 | E9: =PIBR!H9 -> -1.616934 | F9: =(D9/D$35)*100 -> 42.277146 | G9: =((F9/F8)-1)*100 -> -1.616934 | H9: =(B9/D9)*100 -> 25.991128 | I9: =((H9/H8)-1)*100 -> -6.0801008
A10: 1925 | B10: =PIBN!E10 -> 5239 | C10: =((B10/B9)-1)*100 -> 13.080078 | D10: =(D11/(1+(E11/100))) -> 18930.589 | E10: =PIBR!H10 -> 6.2005952 | F10: =(D10/D$35)*100 -> 44.898581 | G10: =((F10/F9)-1)*100 -> 6.2005952 | H10: =(B10/D10)*100 -> 27.674787 | I10: =((H10/H9)-1)*100 -> 6.4778191
A11: 1926 | B11: =PIBN!E11 -> 5469 | C11: =((B11/B10)-1)*100 -> 4.3901508 | D11: =(D12/(1+(E12/100))) -> 20066.275 | E11: =PIBR!H11 -> 5.9992146 | F11: =(D11/D$35)*100 -> 47.592143 | G11: =((F11/F10)-1)*100 -> 5.9992146 | H11: =(B11/D11)*100 -> 27.254684 | I11: =((H11/H10)-1)*100 -> -1.517996
A12: 1927 | B12: =PIBN!E12 -> 4987 | C12: =((B12/B11)-1)*100 -> -8.8133114 | D12: =(D13/(1+(E13/100))) -> 19183.677 | E12: =PIBR!H12 -> -4.3984171 | F12: =(D12/D$35)*100 -> 45.498842 | G12: =((F12/F11)-1)*100 -> -4.3984171 | H12: =(B12/D12)*100 -> 25.996059 | I12: =((H12/H11)-1)*100 -> -4.6180138
A13: 1928 | B13: =PIBN!E13 -> 5018 | C13: =((B13/B12)-1)*100 -> 0.6216162 | D13: =(D14/(1+(E14/100))) -> 19302.618 | E13: =PIBR!H13 -> 0.62001303 | F13: =(D13/D$35)*100 -> 45.780941 | G13: =((F13/F12)-1)*100 -> 0.62001303 | H13: =(B13/D13)*100 -> 25.996474 | I13: =((H13/H12)-1)*100 -> 0.0015932892
A14: 1929 | B14: =PIBN!E14 -> 4863 | C14: =((B14/B13)-1)*100 -> -3.08888 | D14: =(D15/(1+(E15/100))) -> 18555.856 | E14: =PIBR!H14 -> -3.868709 | F14: =(D14/D$35)*100 -> 44.009809 | G14: =((F14/F13)-1)*100 -> -3.868709 | H14: =(B14/D14)*100 -> 26.20736 | I14: =((H14/H13)-1)*100 -> 0.81121239
A15: 1930 | B15: =PIBN!E15 -> 4668 | C15: =((B15/B14)-1)*100 -> -4.0098705 | D15: =(D16/(1+(E16/100))) -> 17392.799 | E15: =PIBR!H15 -> -6.2678685 | F15: =(D15/D$35)*100 -> 41.251332 | G15: =((F15/F14)-1)*100 -> -6.2678685 | H15: =(B15/D15)*100 -> 26.838693 | I15: =((H15/H14)-1)*100 -> 2.4089904
A16: 1931 | B16: =PIBN!E16 -> 4218 | C16: =((B16/B15)-1)*100 -> -9.6401028 | D16: =(D17/(1+(E17/100))) -> 17969.259 | E16: =PIBR!H16 -> 3.314359 | F16: =(D16/D$35)*100 -> 42.61855 | G16: =((F16/F15)-1)*100 -> 3.314359 | H16: =(B16/D16)*100 -> 23.473422 | I16: =((H16/H15)-1)*100 -> -12.538878
A17: 1932 | B17: =PIBN!E17 -> 3206 | C17: =((B17/B16)-1)*100 -> -23.992413 | D17: =(D18/(1+(E18/100))) -> 15289.025 | E17: =PIBR!H17 -> -14.915662 | F17: =(D17/D$35)*100 -> 36.261711 | G17: =((F17/F16)-1)*100 -> -14.915662 | H17: =(B17/D17)*100 -> 20.96929 | I17: =((H17/H16)-1)*100 -> -10.667946
A18: 1933 | B18: =PIBN!E18 -> 3782 | C18: =((B18/B17)-1)*100 -> 17.966313 | D18: =(D19/(1+(E19/100))) -> 17016.377 | E18: =PIBR!H18 -> 11.297987 | F18: =(D18/D$35)*100 -> 40.358554 | G18: =((F18/F17)-1)*100 -> 11.297987 | H18: =(B18/D18)*100 -> 22.225648 | I18: =((H18/H17)-1)*100 -> 5.9914171
A19: 1934 | B19: =PIBN!E19 -> 4151 | C19: =((B19/B18)-1)*100 -> 9.7567425 | D19: =(D20/(1+(E20/100))) -> 18164.566 | E19: =PIBR!H19 -> 6.7475526 | F19: =(D19/D$35)*100 -> 43.081769 | G19: =((F19/F18)-1)*100 -> 6.7475526 | H19: =(B19/D19)*100 -> 22.852184 | I19: =((H19/H18)-1)*100 -> 2.8189779
... A34: 1949 | B34: =PIBN!E34 -> 36412 | C34: =((B34/B33)-1)*100 -> 10.002719 | D34: =(D35/(1+(E35/100))) -> 38366.678 | E34: =PIBR!H34 -> 5.4810301 | F34: =(D34/D$35)*100 -> 90.996081 | G34: =((F34/F33)-1)*100 -> 5.4810301 | H34: =(B34/D34)*100 -> 94.905273 | I34: =((H34/H33)-1)*100 -> 4.2867318
A35: 1950 | B35: =PIBN!E35 -> 42163 | C35: =((B35/B34)-1)*100 -> 15.794244 | D35: =PIBN!E35 -> 42163 | E35: =PIBR!H35 -> 9.8948425 | F35: =(D35/D$35)*100 -> 100 | G35: =((F35/F34)-1)*100 -> 9.8948425 | H35: =(B35/D35)*100 -> 100 | I35: =((H35/H34)-1)*100 -> 5.3682238
A36: 1951 | B36: =PIBN!E36 -> 54375 | C36: =((B36/B35)-1)*100 -> 28.963783 | D36: =D35*(1+(E36/100)) -> 45423.749 | E36: =PIBR!H36 -> 7.7336731 | F36: =(D36/D$35)*100 -> 107.73367 | G36: =((F36/F35)-1)*100 -> 7.7336731 | H36: =(B36/D36)*100 -> 119.7061 | I36: =((H36/H35)-1)*100 -> 19.706105
A37: 1952 | B37: =PIBN!E37 -> 60993 | C37: =((B37/B36)-1)*100 -> 12.171034 | D37: =D36*(1+(E37/100)) -> 47230.17 | E37: =PIBR!H37 -> 3.9768205 | F37: =(D37/D$35)*100 -> 112.01805 | G37: =((F37/F36)-1)*100 -> 3.9768205 | H37: =(B37/D37)*100 -> 129.13991 | I37: =((H37/H36)-1)*100 -> 7.8808084
A38: 1953 | B38: =PIBN!E38 -> 60664 | C38: =((B38/B37)-1)*100 -> -0.53940616 | D38: =D37*(1+(E38/100)) -> 47359.586 | E38: =PIBR!H38 -> 0.2740118 | F38: =(D38/D$35)*100 -> 112.32499 | G38: =((F38/F37)-1)*100 -> 0.2740118 | H38: =(B38/D38)*100 -> 128.09234 | I38: =((H38/H37)-1)*100 -> -0.8111952
A39: 1954 | B39: =PIBN!E39 -> 73936 | C39: =((B39/B38)-1)*100 -> 21.877885 | D39: =D38*(1+(E39/100)) -> 52093.585 | E39: =PIBR!H39 -> 9.9958618 | F39: =(D39/D$35)*100 -> 123.55284 | G39: =((F39/F38)-1)*100 -> 9.9958618 | H39: =(B39/D39)*100 -> 141.92919 | I39: =((H39/H38)-1)*100 -> 10.802245
A40: 1955 | B40: =PIBN!E40 -> 90053 | C40: =((B40/B39)-1)*100 -> 21.798583 | D40: =D39*(1+(E40/100)) -> 56520.769 | E40: =PIBR!H40 -> 8.4985211 | F40: =(D40/D$35)*100 -> 134.05301 | G40: =((F40/F39)-1)*100 -> 8.4985211 | H40: =(B40/D40)*100 -> 159.32727 | I40: =((H40/H39)-1)*100 -> 12.258288
A41: 1956 | B41: =PIBN!E41 -> 102920 | C41: =((B41/B40)-1)*100 -> 14.288252 | D41: =D40*(1+(E41/100)) -> 60385.009 | E41: =PIBR!H41 -> 6.8368506 | F41: =(D41/D$35)*100 -> 143.21801 | G41: =((F41/F40)-1)*100 -> 6.8368506 | H41: =(B41/D41)*100 -> 170.43965 | I41: =((H41/H40)-1)*100 -> 6.9745615
A42: 1957 | B42: =PIBN!E42 -> 118206 | C42: =((B42/B41)-1)*100 -> 14.852312 | D42: =D41*(1+(E42/100)) -> 64959.181 | E42: =PIBR!H42 -> 7.5750115 | F42: =(D42/D$35)*100 -> 154.06679 | G42: =((F42/F41)-1)*100 -> 7.5750115 | H42: =(B42/D42)*100 -> 181.96966 | I42: =((H42/H41)-1)*100 -> 6.7648619
A43: 1958 | B43: =PIBN!E43 -> 131377 | C43: =((B43/B42)-1)*100 -> 11.142412 | D43: =D42*(1+(E43/100)) -> 68413.885 | E43: =PIBR!H43 -> 5.3182691 | F43: =(D43/D$35)*100 -> 162.26048 | G43: =((F43/F42)-1)*100 -> 5.3182691 | H43: =(B43/D43)*100 -> 192.03266 | I43: =((H43/H42)-1)*100 -> 5.5300409
A44: 1959 | B44: =PIBN!E44 -> 140772 | C44: =((B44/B43)-1)*100 -> 7.1511756 | D44: =D43*(1+(E44/100)) -> 70460.216 | E44: =PIBR!H44 -> 2.9911047 | F44: =(D44/D$35)*100 -> 167.11386 | G44: =((F44/F43)-1)*100 -> 2.9911047 | H44: =(B44/D44)*100 -> 199.78934 | I44: =((H44/H43)-1)*100 -> 4.0392526
A45: 1960 | B45: =PIBN!E45 -> 159703 | C45: =((B45/B44)-1)*100 -> 13.447987 | D45: =D44*(1+(E45/100)) -> 76179.197 | E45: =PIBR!H45 -> 8.1166106 | F45: =(D45/D$35)*100 -> 180.67784 | G45: =((F45/F44)-1)*100 -> 8.1166106 | H45: =(B45/D45)*100 -> 209.64122 | I45: =((H45/H44)-1)*100 -> 4.9311351
A46: 1961 | B46: =PIBN!E46 -> 173236 | C46: =((B46/B45)-1)*100 -> 8.4738546 | D46: =D45*(1+(E46/100)) -> 79469.587 | E46: =PIBR!H46 -> 4.3192767 | F46: =(D46/D$35)*100 -> 188.48181 | G46: =((F46/F45)-1)*100 -> 4.3192767 | H46: =(B46/D46)*100 -> 217.99031 | I46: =((H46/H45)-1)*100 -> 3.9825601
A47: 1962 | B47: =PIBN!E47 -> 186781 | C47: =((B47/B46)-1)*100 -> 7.8188136 | D47: =D46*(1+(E47/100)) -> 83012.916 | E47: =PIBR!H47 -> 4.4587231 | F47: =(D47/D$35)*100 -> 196.8857 | G47: =((F47/F46)-1)*100 -> 4.4587231 | H47: =(B47/D47)*100 -> 225.00234 | I47: =((H47/H46)-1)*100 -> 3.2166683
... A75: 1990 | B75: =PIBN!E75 -> 6.7200005e+08 | C75: =((B75/B74)-1)*100 -> 34.55188 | D75: =D74*(1+(E75/100)) -> 325853.79 | E75: =PIBR!H75 -> 5.2084322 | F75: =(D75/D$35)*100 -> 772.843 | G75: =((F75/F74)-1)*100 -> 5.2084322 | H75: =(B75/D75)*100 -> 206227.48 | I75: =((H75/H74)-1)*100 -> 27.890776
A76: Fuente: Banco de Información Económica, INEGI (1980 - 2007)

Sheet PIBN
A1: Año | B1: PIB Nominal 1970-1990 MX | C1: PIB Nominal 1980-2007 MX | D1: PIB Nominal 1921-1970 MX | E1: Fusión PIB Nominal millones de pesos 1921-2016 | F1: PIB Nominal 1970-1989 % | G1: PIB Nominal 1980-2007 % | H1: PIB Nominal 1921-1970 % | I1: Fusión PIB Nominal 1921-2016 %
B4: A | C4: B | D4: C | E4: D | F4: A% | G4: B% | H4: C% | I4: D%
A5: 1920 | B5: - | C5: - | D5: - | E5: - | F5: - | G5: - | H5: - | I5: -
A6: 1921 | B6: - | C6: - | D6: 5455 | E6: =D6 -> 5455 | F6: - | G6: - | H6: -8.8 | I6: =H6 -> -8.8
A7: 1922 | B7: - | C7: - | D7: 4590 | E7: =D7 -> 4590 | F7: - | G7: - | H7: =((D7/D6)-1)*100 -> -15.857012 | I7: =((E7/E6)-1)*100 -> -15.857012
A8: 1923 | B8: - | C8: - | D8: 5014 | E8: =D8 -> 5014 | F8: - | G8: - | H8: =((D8/D7)-1)*100 -> 9.2374728 | I8: =((E8/E7)-1)*100 -> 9.2374728
A9: 1924 | B9: - | C9: - | D9: 4633 | E9: =D9 -> 4633 | F9: - | G9: - | H9: =((D9/D8)-1)*100 -> -7.5987236 | I9: =((E9/E8)-1)*100 -> -7.5987236
A10: 1925 | B10: - | C10: - | D10: 5239 | E10: =D10 -> 5239 | F10: - | G10: - | H10: =((D10/D9)-1)*100 -> 13.080078 | I10: =((E10/E9)-1)*100 -> 13.080078
A11: 1926 | B11: - | C11: - | D11: 5469 | E11: =D11 -> 5469 | F11: - | G11: - | H11: =((D11/D10)-1)*100 -> 4.3901508 | I11: =((E11/E10)-1)*100 -> 4.3901508
A12: 1927 | B12: - | C12: - | D12: 4987 | E12: =D12 -> 4987 | F12: - | G12: - | H12: =((D12/D11)-1)*100 -> -8.8133114 | I12: =((E12/E11)-1)*100 -> -8.8133114
A13: 1928 | B13: - | C13: - | D13: 5018 | E13: =D13 -> 5018 | F13: - | G13: - | H13: =((D13/D12)-1)*100 -> 0.6216162 | I13: =((E13/E12)-1)*100 -> 0.6216162
A14: 1929 | B14: - | C14: - | D14: 4863 | E14: =D14 -> 4863 | F14: - | G14: - | H14: =((D14/D13)-1)*100 -> -3.08888 | I14: =((E14/E13)-1)*100 -> -3.08888
A15: 1930 | B15: - | C15: - | D15: 4668 | E15: =D15 -> 4668 | F15: - | G15: - | H15: =((D15/D14)-1)*100 -> -4.0098705 | I15: =((E15/E14)-1)*100 -> -4.0098705
A16: 1931 | B16: - | C16: - | D16: 4218 | E16: =D16 -> 4218 | F16: - | G16: - | H16: =((D16/D15)-1)*100 -> -9.6401028 | I16: =((E16/E15)-1)*100 -> -9.6401028
A17: 1932 | B17: - | C17: - | D17: 3206 | E17: =D17 -> 3206 | F17: - | G17: - | H17: =((D17/D16)-1)*100 -> -23.992413 | I17: =((E17/E16)-1)*100 -> -23.992413
A18: 1933 | B18: - | C18: - | D18: 3782 | E18: =D18 -> 3782 | F18: - | G18: - | H18: =((D18/D17)-1)*100 -> 17.966313 | I18: =((E18/E17)-1)*100 -> 17.966313
... A54: 1969 | B54: - | C54: - | D54: 397796 | E54: =D54 -> 397796 | F54: - | G54: - | H54: =((D54/D53)-1)*100 -> 10.542492 | I54: =((E54/E53)-1)*100 -> 10.542492
A55: 1970 | B55: 444300 | C55: - | D55: 444271 | E55: =B55 -> 444300 | F55: - | G55: - | H55: =((D55/D54)-1)*100 -> 11.683124 | I55: =((E55/E54)-1)*100 -> 11.690414
A56: 1971 | B56: 490011 | C56: - | D56: - | E56: =B56 -> 490011 | F56: =((B56/B55)-1)*100 -> 10.288319 | G56: - | H56: - | I56: =((E56/E55)-1)*100 -> 10.288319
A57: 1972 | B57: 564726 | C57: - | D57: - | E57: =B57 -> 564726 | F57: =((B57/B56)-1)*100 -> 15.247617 | G57: - | H57: - | I57: =((E57/E56)-1)*100 -> 15.247617
A58: 1973 | B58: 690891 | C58: - | D58: - | E58: =B58 -> 690891 | F58: =((B58/B57)-1)*100 -> 22.340923 | G58: - | H58: - | I58: =((E58/E57)-1)*100 -> 22.340923
A59: 1974 | B59: 899707 | C59: - | D59: - | E59: =B59 -> 899707 | F59: =((B59/B58)-1)*100 -> 30.22416 | G59: - | H59: - | I59: =((E59/E58)-1)*100 -> 30.22416
A60: 1975 | B60: 1100050 | C60: - | D60: - | E60: =B60 -> 1100050 | F60: =((B60/B59)-1)*100 -> 22.267583 | G60: - | H60: - | I60: =((E60/E59)-1)*100 -> 22.267583
A61: 1976 | B61: 1370968 | C61: - | D61: - | E61: =B61 -> 1370968 | F61: =((B61/B60)-1)*100 -> 24.62779 | G61: - | H61: - | I61: =((E61/E60)-1)*100 -> 24.62779
A62: 1977 | B62: 1849263 | C62: - | D62: - | E62: =B62 -> 1849263 | F62: =((B62/B61)-1)*100 -> 34.887393 | G62: - | H62: - | I62: =((E62/E61)-1)*100 -> 34.887393
A63: 1978 | B63: 2337398 | C63: - | D63: - | E63: =B63 -> 2337398 | F63: =((B63/B62)-1)*100 -> 26.396191 | G63: - | H63: - | I63: =((E63/E62)-1)*100 -> 26.396191
A64: 1979 | B64: 3067526 | C64: - | D64: - | E64: =B64 -> 3067526 | F64: =((B64/B63)-1)*100 -> 31.236786 | G64: - | H64: - | I64: =((E64/E63)-1)*100 -> 31.236786
A65: 1980 | B65: 4470100 | C65: =PIBT!E5 -> 4391907 | D65: - | E65: =C65 -> 4391907 | F65: =((B65/B64)-1)*100 -> 45.723296 | G65: - | H65: - | I65: =((E65/E64)-1)*100 -> 43.174239
A66: 1981 | B66: 6127600 | C66: =PIBT!E6 -> 6032265.5 | D66: - | E66: =C66 -> 6032265.5 | F66: =((B66/B65)-1)*100 -> 37.079707 | G66: =((C66/C65)-1)*100 -> 37.349573 | H66: - | I66: =((E66/E65)-1)*100 -> 37.349573
A67: 1982 | B67: 9797800 | C67: =PIBT!E7 -> 9595751.5 | D67: - | E67: =C67 -> 9595751.5 | F67: =((B67/B66)-1)*100 -> 59.896207 | G67: =((C67/C66)-1)*100 -> 59.073759 | H67: - | I67: =((E67/E66)-1)*100 -> 59.073759
A68: 1983 | B68: 17878700 | C68: =PIBT!E8 -> 17493312 | D68: - | E68: =C68 -> 17493312 | F68: =((B68/B67)-1)*100 -> 82.476678 | G68: =((C68/C67)-1)*100 -> 82.302676 | H68: - | I68: =((E68/E67)-1)*100 -> 82.302676
A69: 1984 | B69: 29471600 | C69: =PIBT!E9 -> 28659770 | D69: - | E69: =C69 -> 28659770 | F69: =((B69/B68)-1)*100 -> 64.841963 | G69: =((C69/C68)-1)*100 -> 63.83273 | H69: - | I69: =((E69/E68)-1)*100 -> 63.83273
A70: 1985 | B70: 47391700 | C70: =PIBT!E10 -> 45940612 | D70: - | E70: =C70 -> 45940612 | F70: =((B70/B69)-1)*100 -> 60.804639 | G70: =((C70/C69)-1)*100 -> 60.296514 | H70: - | I70: =((E70/E69)-1)*100 -> 60.296514
A71: 1986 | B71: 78786900 | C71: =PIBT!E11 -> 76306561 | D71: - | E71: =C71 -> 76306561 | F71: =((B71/B70)-1)*100 -> 66.246199 | G71: =((C71/C70)-1)*100 -> 66.098266 | H71: - | I71: =((E71/E70)-1)*100 -> 66.098266
A72: 1987 | B72: 193161600 | C72: =PIBT!E12 -> 185542049 | D72: - | E72: =C72 -> 185542049 | F72: =((B72/B71)-1)*100 -> 145.16969 | G72: =((C72/C71)-1)*100 -> 143.15347 | H72: - | I72: =((E72/E71)-1)*100 -> 143.15347
A73: 1988 | B73: 393726900 | C73: =PIBT!E13 -> 3.7897915e+08 | D73: - | E73: =C73 -> 3.7897915e+08 | F73: =((B73/B72)-1)*100 -> 103.8329 | G73: =((C73/C72)-1)*100 -> 104.25513 | H73: - | I73: =((E73/E72)-1)*100 -> 104.25513
A74: 1989 | B74: 512602700 | C74: =PIBT!E14 -> 4.9943565e+08 | D74: - | E74: =C74 -> 4.9943565e+08 | F74: =((B74/B73)-1)*100 -> 30.192451 | G74: =((C74/C73)-1)*100 -> 31.784466 | H74: - | I74: =((E74/E73)-1)*100 -> 31.784466
A75: 1990 | B75: 694872200 | C75: =PIBT!E15 -> 6.7200005e+08 | D75: - | E75: =C75 -> 6.7200005e+08 | F75: =((B75/B74)-1)*100 -> 35.557655 | G75: =((C75/C74)-1)*100 -> 34.55188 | H75: - | I75: =((E75/E74)-1)*100 -> 34.55188
A76: Fuente: Estimación propia con datos del Sistema de Información Económica, Banco de México (1993 - 2013). Banco de Información Económica, INEGI (1980 - 2007)

Sheet PIBR
A2: Año | B2: PIB Real Base 2013 | C2: PIB Real Base 1970 | D2: PIB Real Base 1980 | E2: PIB Real Base 2013 | F2: PIB Real Base 1970 | G2: PIB Real Base 1980 | H2: Fusión PIB Real t/c
B4: A | C4: B | D4: C | E4: A t/c | F4: B t/c | G4: C t/c
A5: 1920 | B5: - | C5: - | D5: - | E5: - | F5: - | G5: - | H5: -
A6: 1921 | B6: - | C6: 50658 | D6: - | E6: - | F6: - | G6: - | H6: 0.7
A7: 1922 | B7: - | C7: 51839 | D7: - | E7: - | F7: =((C7/C6)-1)*100 -> 2.3313198 | G7: - | H7: =F7 -> 2.3313198
A8: 1923 | B8: - | C8: 53620 | D8: - | E8: - | F8: =((C8/C7)-1)*100 -> 3.4356373 | G8: - | H8: =F8 -> 3.4356373
A9: 1924 | B9: - | C9: 52753 | D9: - | E9: - | F9: =((C9/C8)-1)*100 -> -1.616934 | G9: - | H9: =F9 -> -1.616934
A10: 1925 | B10: - | C10: 56024 | D10: - | E10: - | F10: =((C10/C9)-1)*100 -> 6.2005952 | G10: - | H10: =F10 -> 6.2005952
A11: 1926 | B11: - | C11: 59385 | D11: - | E11: - | F11: =((C11/C10)-1)*100 -> 5.9992146 | G11: - | H11: =F11 -> 5.9992146
A12: 1927 | B12: - | C12: 56773 | D12: - | E12: - | F12: =((C12/C11)-1)*100 -> -4.3984171 | G12: - | H12: =F12 -> -4.3984171
A13: 1928 | B13: - | C13: 57125 | D13: - | E13: - | F13: =((C13/C12)-1)*100 -> 0.62001303 | G13: - | H13: =F13 -> 0.62001303
A14: 1929 | B14: - | C14: 54915 | D14: - | E14: - | F14: =((C14/C13)-1)*100 -> -3.868709 | G14: - | H14: =F14 -> -3.868709
A15: 1930 | B15: - | C15: 51473 | D15: - | E15: - | F15: =((C15/C14)-1)*100 -> -6.2678685 | G15: - | H15: =F15 -> -6.2678685
A16: 1931 | B16: - | C16: 53179 | D16: - | E16: - | F16: =((C16/C15)-1)*100 -> 3.314359 | G16: - | H16: =F16 -> 3.314359
A17: 1932 | B17: - | C17: 45247 | D17: - | E17: - | F17: =((C17/C16)-1)*100 -> -14.915662 | G17: - | H17: =F17 -> -14.915662
A18: 1933 | B18: - | C18: 50359 | D18: - | E18: - | F18: =((C18/C17)-1)*100 -> 11.297987 | G18: - | H18: =F18 -> 11.297987
... A44: 1959 | B44: - | C44: 208523 | D44: - | E44: - | F44: =((C44/C43)-1)*100 -> 2.9911047 | G44: - | H44: =F44 -> 2.9911047
A45: 1960 | B45: - | C45: 225448 | D45: 1252293 | E45: - | F45: =((C45/C44)-1)*100 -> 8.1166106 | G45: - | H45: =F45 -> 8.1166106
A46: 1961 | B46: - | C46: 236562 | D46: 1306383 | E46: - | F46: =((C46/C45)-1)*100 -> 4.9297399 | G46: =((D46/D45)-1)*100 -> 4.3192767 | H46: =G46 -> 4.3192767
A47: 1962 | B47: - | C47: 247615 | D47: 1364631 | E47: - | F47: =((C47/C46)-1)*100 -> 4.6723481 | G47: =((D47/D46)-1)*100 -> 4.4587231 | H47: =G47 -> 4.4587231
A48: 1963 | B48: - | C48: 267396 | D48: 1467653 | E48: - | F48: =((C48/C47)-1)*100 -> 7.9886114 | G48: =((D48/D47)-1)*100 -> 7.5494401 | H48: =G48 -> 7.5494401
A49: 1964 | B49: - | C49: 298662 | D49: 1629151 | E49: - | F49: =((C49/C48)-1)*100 -> 11.69277 | G49: =((D49/D48)-1)*100 -> 11.003827 | H49: =G49 -> 11.003827
A50: 1965 | B50: - | C50: 318030 | D50: 1729324 | E50: - | F50: =((C50/C49)-1)*100 -> 6.4849228 | G50: =((D50/D49)-1)*100 -> 6.1487855 | H50: =G50 -> 6.1487855
A51: 1966 | B51: - | C51: 340074 | D51: 1834746 | E51: - | F51: =((C51/C50)-1)*100 -> 6.9314216 | G51: =((D51/D50)-1)*100 -> 6.0961393 | H51: =G51 -> 6.0961393
A52: 1967 | B52: - | C52: 361397 | D52: 1942169 | E52: - | F52: =((C52/C51)-1)*100 -> 6.2701059 | G52: =((D52/D51)-1)*100 -> 5.8549249 | H52: =G52 -> 5.8549249
A53: 1968 | B53: - | C53: 390799 | D53: 2125185 | E53: - | F53: =((C53/C52)-1)*100 -> 8.1356514 | G53: =((D53/D52)-1)*100 -> 9.4232788 | H53: =G53 -> 9.4232788
A54: 1969 | B54: - | C54: 415512 | D54: 2197837 | E54: - | F54: =((C54/C53)-1)*100 -> 6.3237112 | G54: =((D54/D53)-1)*100 -> 3.41862 | H54: =G54 -> 3.41862
A55: 1970 | B55: - | C55: 444271 | D55: 2340751 | E55: - | F55: =((C55/C54)-1)*100 -> 6.9213404 | G55: =((D55/D54)-1)*100 -> 6.502484 | H55: =G55 -> 6.502484
A56: 1971 | B56: - | C56: - | D56: 2428821 | E56: - | F56: - | G56: =((D56/D55)-1)*100 -> 3.7624677 | H56: =G56 -> 3.7624677
A57: 1972 | B57: - | C57: - | D57: 2628684 | E57: - | F57: - | G57: =((D57/D56)-1)*100 -> 8.2288073 | H57: =G57 -> 8.2288073
A58: 1973 | B58: - | C58: - | D58: 2835328 | E58: - | F58: - | G58: =((D58/D57)-1)*100 -> 7.8611199 | H58: =G58 -> 7.8611199
A59: 1974 | B59: - | C59: - | D59: 2999120 | E59: - | F59: - | G59: =((D59/D58)-1)*100 -> 5.7768272 | H59: =G59 -> 5.7768272
A60: 1975 | B60: - | C60: - | D60: 3171404 | E60: - | F60: - | G60: =((D60/D59)-1)*100 -> 5.744485 | H60: =G60 -> 5.744485
A61: 1976 | B61: - | C61: - | D61: 3311499 | E61: - | F61: - | G61: =((D61/D60)-1)*100 -> 4.4174441 | H61: =G61 -> 4.4174441
A62: 1977 | B62: - | C62: - | D62: 3423780 | E62: - | F62: - | G62: =((D62/D61)-1)*100 -> 3.3906397 | H62: =G62 -> 3.3906397
A63: 1978 | B63: - | C63: - | D63: 3730446 | E63: - | F63: - | G63: =((D63/D62)-1)*100 -> 8.9569423 | H63: =G63 -> 8.9569423
A64: 1979 | B64: - | C64: - | D64: 4092231 | E64: - | F64: - | G64: =((D64/D63)-1)*100 -> 9.6981701 | H64: =G64 -> 9.6981701
A65: 1980 | B65: =PIBT!F5 -> 7642962.1 | C65: - | D65: 4470077 | E65: - | F65: - | G65: =((D65/D64)-1)*100 -> 9.233252 | H65: =G65 -> 9.233252
A66: 1981 | B66: =PIBT!F6 -> 8368150.3 | C66: - | D66: 4862219 | E66: =((B66/B65)-1)*100 -> 9.4883124 | F66: - | G66: =((D66/D65)-1)*100 -> 8.7726006 | H66: =E66 -> 9.4883124
A67: 1982 | B67: =PIBT!F7 -> 8367515.7 | C67: - | D67: 4831689 | E67: =((B67/B66)-1)*100 -> -0.0075833694 | F67: - | G67: =((D67/D66)-1)*100 -> -0.62790261 | H67: =E67 -> -0.0075833694
...

Sheet PIBT
A3: Período | B3: PIB Nominal 1980-2007 | C3: PIB Real Base 2013 | D3: Periodo | E3: PIB Nominal anual | F3: PIB Real anual
A5: 01 - 80 | B5: 4026614 | C5: 7547882.1 | D5: 1980 | E5: =AVERAGE(B5:B8) -> 4391907 | F5: =AVERAGE(C5:C8) -> 7642962.1
A6: 02 - 80 | B6: 4223407 | C6: 7536519 | D6: 1981 | E6: =AVERAGE(B9:B12) -> 6032265.5 | F6: =AVERAGE(C9:C12) -> 8368150.3
A7: 03 - 80 | B7: 4393420 | C7: 7478780.8 | D7: 1982 | E7: =AVERAGE(B13:B16) -> 9595751.5 | F7: =AVERAGE(C13:C16) -> 8367515.7
A8: 04 - 80 | B8: 4924187 | C8: 8008666.6 | D8: 1983 | E8: =AVERAGE(B17:B20) -> 17493312 | F8: =AVERAGE(C17:C20) -> 8002442.6
A9: 01 - 81 | B9: 5549530 | C9: 8229212.7 | D9: 1984 | E9: =AVERAGE(B21:B24) -> 28659770 | F9: =AVERAGE(C21:C24) -> 8281464.7
A10: 02 - 81 | B10: 5905243 | C10: 8417818 | D10: 1985 | E10: =AVERAGE(B25:B28) -> 45940612 | F10: =AVERAGE(C25:C28) -> 8437038.4
A11: 03 - 81 | B11: 5994583 | C11: 8211045.5 | D11: 1986 | E11: =AVERAGE(B29:B32) -> 76306561 | F11: =AVERAGE(C29:C32) -> 8124165.4
A12: 04 - 81 | B12: 6679706 | C12: 8614524.9 | D12: 1987 | E12: =AVERAGE(B33:B36) -> 185542049 | F12: =AVERAGE(C33:C36) -> 8292363.8
A13: 01 - 82 | B13: 7695155 | C13: 8512096.4 | D13: 1988 | E13: =AVERAGE(B37:B40) -> 3.7897915e+08 | F13: =AVERAGE(C37:C40) -> 8398436.4
A14: 02 - 82 | B14: 8735369 | C14: 8481760.8 | D14: 1989 | E14: =AVERAGE(B41:B44) -> 4.9943565e+08 | F14: =AVERAGE(C41:C44) -> 8705395.4
A15: 03 - 82 | B15: 9954778 | C15: 8198953.9 | D15: 1990 | E15: =AVERAGE(B45:B48) -> 6.7200005e+08 | F15: =AVERAGE(C45:C48) -> 9158810
A16: 04 - 82 | B16: 11997704 | C16: 8277251.7
A17: 01 - 83 | B17: 14382847 | C17: 8120479.8
A18: 02 - 83 | B18: 16314083 | C18: 7997531.1
A19: 03 - 83 | B19: 18168055 | C19: 7764430.8
A20: 04 - 83 | B20: 21108262 | C20: 8127328.6
A21: 01 - 84 | B21: 24821721 | C21: 8384896.2
A22: 02 - 84 | B22: 26967355 | C22: 8232124.6
A23: 03 - 84 | B23: 29754599 | C23: 8119301.5
A24: 04 - 84 | B24: 33095406 | C24: 8389536.4
A25: 01 - 85 | B25: 39305168 | C25: 8539105
A26: 02 - 85 | B26: 43045493 | C26: 8487030.5
A27: 03 - 85 | B27: 47052614 | C27: 8193122
... A48: 04 - 90 | B48: 769784742 | C48: 9522792.5
A49: Fuente: Elaboración propia con datos de Banco de Información Económica, INEGI (1980 - 2007)

Sheet PIB POT
A2: Año | B2: PIB Real base 1950 | C2: PIB Real t/c | D2: PIB Real LOG | E2: PIB Real HP POT LOG | F2: PIB potencial real Base 1950 | G2: PIB Potencial Índice 1950=100 | H2: PIB Potencial t/c
A5: 1920 | B5: - | C5: - | D5: - | E5: - | F5: - | G5: - | H5: -
A6: 1921 | B6: =PIB!D6 -> 17117.41 | C6: 0.7 | D6: - | E6: - | F6: - | G6: - | H6: -
A7: 1922 | B7: =PIB!D7 -> 17516.471 | C7: =((B7/B6)-1)*100 -> 2.3313198 | D7: =LN(B7) -> 9.7708969 | E7: 9.59 | F7: =EXP(E7) -> 14617.87 | G7: =(F7/F$35)*100 -> 34.900433 | H7: -
A8: 1923 | B8: =PIB!D8 -> 18118.274 | C8: =((B8/B7)-1)*100 -> 3.4356373 | D8: =LN(B8) -> 9.8046763 | E8: 9.6 | F8: =EXP(E8) -> 14764.782 | G8: =(F8/F$35)*100 -> 35.251188 | H8: =((F8/F7)-1)*100 -> 1.0050167
A9: 1924 | B9: =PIB!D9 -> 17825.313 | C9: =((B9/B8)-1)*100 -> -1.616934 | D9: =LN(B9) -> 9.7883748 | E9: 9.607 | F9: =EXP(E9) -> 14868.498 | G9: =(F9/F$35)*100 -> 35.498812 | H9: =((F9/F8)-1)*100 -> 0.70245573
A10: 1925 | B10: =PIB!D10 -> 18930.589 | C10: =((B10/B9)-1)*100 -> 6.2005952 | D10: =LN(B10) -> 9.8485343 | E10: 9.6084437 | F10: =EXP(E10) -> 14889.979 | G10: =(F10/F$35)*100 -> 35.550099 | H10: =((F10/F9)-1)*100 -> 0.1444766
A11: 1926 | B11: =PIB!D11 -> 20066.275 | C11: =((B11/B10)-1)*100 -> 5.9992146 | D11: =LN(B11) -> 9.9067958 | E11: 9.6327234 | F11: =EXP(E11) -> 15255.927 | G11: =(F11/F$35)*100 -> 36.423807 | H11: =((F11/F10)-1)*100 -> 2.4576803
A12: 1927 | B12: =PIB!D12 -> 19183.677 | C12: =((B12/B11)-1)*100 -> -4.3984171 | D12: =LN(B12) -> 9.861815 | E12: 9.657003 | F12: =EXP(E12) -> 15630.869 | G12: =(F12/F$35)*100 -> 37.318988 | H12: =((F12/F11)-1)*100 -> 2.4576803
A13: 1928 | B13: =PIB!D13 -> 19302.618 | C13: =((B13/B12)-1)*100 -> 0.62001303 | D13: =LN(B13) -> 9.867996 | E13: 9.6812827 | F13: =EXP(E13) -> 16015.026 | G13: =(F13/F$35)*100 -> 38.236169 | H13: =((F13/F12)-1)*100 -> 2.4576803
A14: 1929 | B14: =PIB!D14 -> 18555.856 | C14: =((B14/B13)-1)*100 -> -3.868709 | D14: =LN(B14) -> 9.8285407 | E14: 9.7063594 | F14: =EXP(E14) -> 16421.708 | G14: =(F14/F$35)*100 -> 39.20713 | H14: =((F14/F13)-1)*100 -> 2.5393783
A15: 1930 | B15: =PIB!D15 -> 17392.799 | C15: =((B15/B14)-1)*100 -> -6.2678685 | D15: =LN(B15) -> 9.7638116 | E15: 9.7292094 | F15: =EXP(E15) -> 16801.263 | G15: =(F15/F$35)*100 -> 40.113325 | H15: =((F15/F14)-1)*100 -> 2.3113012
A16: 1931 | B16: =PIB!D16 -> 17969.259 | C16: =((B16/B15)-1)*100 -> 3.314359 | D16: =LN(B16) -> 9.7964177 | E16: 9.7529957 | F16: =EXP(E16) -> 17205.695 | G16: =(F16/F$35)*100 -> 41.078913 | H16: =((F16/F15)-1)*100 -> 2.407151
A17: 1932 | B17: =PIB!D17 -> 15289.025 | C17: =((B17/B16)-1)*100 -> -14.915662 | D17: =LN(B17) -> 9.6348905 | E17: 9.7793628 | F17: =EXP(E17) -> 17665.393 | G17: =(F17/F$35)*100 -> 42.17645 | H17: =((F17/F16)-1)*100 -> 2.6717764
A18: 1933 | B18: =PIB!D18 -> 17016.377 | C18: =((B18/B17)-1)*100 -> 11.297987 | D18: =LN(B18) -> 9.7419315 | E18: 9.8104249 | F18: =EXP(E18) -> 18222.729 | G18: =(F18/F$35)*100 -> 43.507101 | H18: =((F18/F17)-1)*100 -> 3.1549614
A19: 1934 | B19: =PIB!D19 -> 18164.566 | C19: =((B19/B18)-1)*100 -> 6.7475526 | D19: =LN(B19) -> 9.8072281 | E19: 9.8465029 | F19: =EXP(E19) -> 18892.171 | G19: =(F19/F$35)*100 -> 45.105406 | H19: =((F19/F18)-1)*100 -> 3.673666
... A75: 1990 | B75: =PIB!D75 -> 325853.79 | C75: =((B75/B74)-1)*100 -> 5.2084322 | D75: =LN(B75) -> 12.694204 | E75: 12.904976 | F75: =EXP(E75) -> 402309.07 | G75: =(F75/F$35)*100 -> 960.52031 | H75: =((F75/F74)-1)*100 -> 2.6999996
A76: Fuente: Estimación propia

Sheet Inv Nom
A2: Notas sobre fuentes: | B2: Año | C2: Inversión total m/p | D2: Inversión privada m/p | E2: Inversión pública m/p | F2: Inversión total t/c | G2: Inversión privada t/c | H2: Inversión pública t/c | I2: Inversión total % del PIB | J2: Inversión privada % del PIB | K2: Inversión pública % del PIB | L2: PIB Nominal en m/p
B5: 1920
B6: 1921 | C6: - | D6: - | E6: - | F6: - | G6: - | H6: - | I6: - | J6: - | K6: - | L6: -
B7: 1922 | C7: - | D7: - | E7: - | F7: - | G7: - | H7: - | I7: - | J7: - | K7: - | L7: -
B8: 1923 | C8: - | D8: - | E8: - | F8: - | G8: - | H8: - | I8: - | J8: - | K8: - | L8: -
B9: 1924 | C9: - | D9: - | E9: - | F9: - | G9: - | H9: - | I9: - | J9: - | K9: - | L9: -
A10: Para 1925-1938 la Inversión total, pública y privada se tomó de Cárdenas (1987). Este autor cita a Fitzgerald (1981) como fuente de la inversión total y a la Secretaría de la Presidencia (1965) como fuente de la inversión pública. La inversión privada se encontró por diferencia. | B10: 1925 | C10: 211 | D10: =C10-E10 -> 129 | E10: 82 | F10: - | G10: - | H10: - | I10: =J10+K10 -> 4.0274862 | J10: =(D10/$L10)*100 -> 2.462302 | K10: =(E10/$L10)*100 -> 1.5651842 | L10: 5239
B11: 1926 | C11: 231 | D11: =C11-E11 -> 129 | E11: 102 | F11: =((C11/C10)-1)*100 -> 9.478673 | G11: =((D11/D10)-1)*100 -> 0 | H11: =((E11/E10)-1)*100 -> 24.390244 | I11: =J11+K11 -> 4.2238069 | J11: =(D11/$L11)*100 -> 2.3587493 | K11: =(E11/$L11)*100 -> 1.8650576 | L11: 5469
B12: 1927 | C12: 221 | D12: =C12-E12 -> 124 | E12: 97 | F12: =((C12/C11)-1)*100 -> -4.3290043 | G12: =((D12/D11)-1)*100 -> -3.875969 | H12: =((E12/E11)-1)*100 -> -4.9019608 | I12: =J12+K12 -> 4.431522 | J12: =(D12/$L12)*100 -> 2.4864648 | K12: =(E12/$L12)*100 -> 1.9450571 | L12: 4987
B13: 1928 | C13: 281 | D13: =C13-E13 -> 182 | E13: 99 | F13: =((C13/C12)-1)*100 -> 27.149321 | G13: =((D13/D12)-1)*100 -> 46.774194 | H13: =((E13/E12)-1)*100 -> 2.0618557 | I13: =J13+K13 -> 5.5998406 | J13: =(D13/$L13)*100 -> 3.626943 | K13: =(E13/$L13)*100 -> 1.9728976 | L13: 5018
B14: 1929 | C14: 249 | D14: =C14-E14 -> 151 | E14: 98 | F14: =((C14/C13)-1)*100 -> -11.3879 | G14: =((D14/D13)-1)*100 -> -17.032967 | H14: =((E14/E13)-1)*100 -> -1.010101 | I14: =J14+K14 -> 5.1202961 | J14: =(D14/$L14)*100 -> 3.1050792 | K14: =(E14/$L14)*100 -> 2.0152169 | L14: 4863
B15: 1930 | C15: 310 | D15: =C15-E15 -> 207 | E15: 103 | F15: =((C15/C14)-1)*100 -> 24.497992 | G15: =((D15/D14)-1)*100 -> 37.086093 | H15: =((E15/E14)-1)*100 -> 5.1020408 | I15: =J15+K15 -> 6.6409597 | J15: =(D15/$L15)*100 -> 4.4344473 | K15: =(E15/$L15)*100 -> 2.2065124 | L15: 4668
B16: 1931 | C16: 199 | D16: =C16-E16 -> 108 | E16: 91 | F16: =((C16/C15)-1)*100 -> -35.806452 | G16: =((D16/D15)-1)*100 -> -47.826087 | H16: =((E16/E15)-1)*100 -> -11.650485 | I16: =J16+K16 -> 4.7178758 | J16: =(D16/$L16)*100 -> 2.5604552 | K16: =(E16/$L16)*100 -> 2.1574206 | L16: 4218
B17: 1932 | C17: 140 | D17: =C17-E17 -> 67 | E17: 73 | F17: =((C17/C16)-1)*100 -> -29.648241 | G17: =((D17/D16)-1)*100 -> -37.962963 | H17: =((E17/E16)-1)*100 -> -19.78022 | I17: =J17+K17 -> 4.3668122 | J17: =(D17/$L17)*100 -> 2.0898316 | K17: =(E17/$L17)*100 -> 2.2769807 | L17: 3206
B18: 1933 | C18: 189 | D18: =C18-E18 -> 104 | E18: 85 | F18: =((C18/C17)-1)*100 -> 35 | G18: =((D18/D17)-1)*100 -> 55.223881 | H18: =((E18/E17)-1)*100 -> 16.438356 | I18: =J18+K18 -> 4.9973559 | J18: =(D18/$L18)*100 -> 2.7498678 | K18: =(E18/$L18)*100 -> 2.2474881 | L18: 3782
B19: 1934 | C19: 281 | D19: =C19-E19 -> 183 | E19: 98 | F19: =((C19/C18)-1)*100 -> 48.677249 | G19: =((D19/D18)-1)*100 -> 75.961538 | H19: =((E19/E18)-1)*100 -> 15.294118 | I19: =J19+K19 -> 6.7694531 | J19: =(D19/$L19)*100 -> 4.4085762 | K19: =(E19/$L19)*100 -> 2.3608769 | L19: 4151
B20: 1935 | C20: 311 | D20: =C20-E20 -> 174 | E20: 137 | F20: =((C20/C19)-1)*100 -> 10.676157 | G20: =((D20/D19)-1)*100 -> -4.9180328 | H20: =((E20/E19)-1)*100 -> 39.795918 | I20: =J20+K20 -> 6.8502203 | J20: =(D20/$L20)*100 -> 3.8325991 | K20: =(E20/$L20)*100 -> 3.0176211 | L20: 4540
B21: 1936 | C21: 351 | D21: =C21-E21 -> 183 | E21: 168 | F21: =((C21/C20)-1)*100 -> 12.861736 | G21: =((D21/D20)-1)*100 -> 5.1724138 | H21: =((E21/E20)-1)*100 -> 22.627737 | I21: =J21+K21 -> 6.5656566 | J21: =(D21/$L21)*100 -> 3.4231201 | K21: =(E21/$L21)*100 -> 3.1425365 | L21: 5346
B22: 1937 | C22: 493 | D22: =C22-E22 -> 301 | E22: 192 | F22: =((C22/C21)-1)*100 -> 40.45584 | G22: =((D22/D21)-1)*100 -> 64.480874 | H22: =((E22/E21)-1)*100 -> 14.285714 | I22: =J22+K22 -> 7.25 | J22: =(D22/$L22)*100 -> 4.4264706 | K22: =(E22/$L22)*100 -> 2.8235294 | L22: 6800
B23: 1938 | C23: 499 | D23: =C23-E23 -> 301 | E23: 198 | F23: =((C23/C22)-1)*100 -> 1.2170385 | G23: =((D23/D22)-1)*100 -> 0 | H23: =((E23/E22)-1)*100 -> 3.125 | I23: =J23+K23 -> 6.8534542 | J23: =(D23/$L23)*100 -> 4.1340475 | K23: =(E23/$L23)*100 -> 2.7194067 | L23: 7281
B24: 1939 | C24: 665.6 | D24: 401 | E24: 264.6 | F24: =((C24/C23)-1)*100 -> 33.386774 | G24: =((D24/D23)-1)*100 -> 33.222591 | H24: =((E24/E23)-1)*100 -> 33.636364 | I24: =(C24/$L24)*100 -> 8.5497752 | J24: =(D24/$L24)*100 -> 5.1509313 | K24: =(E24/$L24)*100 -> 3.3988439 | L24: 7785
A25: Santillán y Rosas (1962), Anexo 1 y Anexo 4. Fuente original Informes anuales Nafinsa y Banco de México | B25: 1940 | C25: 793.2 | D25: 457 | E25: 336.2 | F25: =((C25/C24)-1)*100 -> 19.170673 | G25: =((D25/D24)-1)*100 -> 13.965087 | H25: =((E25/E24)-1)*100 -> 27.059713 | I25: =(C25/$L25)*100 -> 9.615711 | J25: =(D25/$L25)*100 -> 5.5400655 | K25: =(E25/$L25)*100 -> 4.0756455 | L25: 8249
B26: 1941 | C26: 991.7 | D26: 608 | E26: 383.7 | F26: =((C26/C25)-1)*100 -> 25.025214 | G26: =((D26/D25)-1)*100 -> 33.041575 | H26: =((E26/E25)-1)*100 -> 14.128495 | I26: =(C26/$L26)*100 -> 10.741984 | J26: =(D26/$L26)*100 -> 6.5857886 | K26: =(E26/$L26)*100 -> 4.1561958 | L26: 9232
B27: 1942 | C27: 1016.5 | D27: 524 | E27: 492.5 | F27: =((C27/C26)-1)*100 -> 2.5007563 | G27: =((D27/D26)-1)*100 -> -13.815789 | H27: =((E27/E26)-1)*100 -> 28.355486 | I27: =(C27/$L27)*100 -> 9.5168992 | J27: =(D27/$L27)*100 -> 4.9059077 | K27: =(E27/$L27)*100 -> 4.6109915 | L27: 10681
B28: 1943 | C28: 1285.1 | D28: 659 | E28: 626.1 | F28: =((C28/C27)-1)*100 -> 26.424004 | G28: =((D28/D27)-1)*100 -> 25.763359 | H28: =((E28/E27)-1)*100 -> 27.126904 | I28: =(C28/$L28)*100 -> 9.8588416 | J28: =(D28/$L28)*100 -> 5.0556195 | K28: =(E28/$L28)*100 -> 4.8032221 | L28: 13035
B29: 1944 | C29: 1739.5 | D29: 1016 | E29: 723.5 | F29: =((C29/C28)-1)*100 -> 35.359116 | G29: =((D29/D28)-1)*100 -> 54.172989 | H29: =((E29/E28)-1)*100 -> 15.55662 | I29: =(C29/$L29)*100 -> 9.2521674 | J29: =(D29/$L29)*100 -> 5.4039679 | K29: =(E29/$L29)*100 -> 3.8481996 | L29: 18801
B30: 1945 | C30: 2300.6 | D30: 1348 | E30: 952.6 | F30: =((C30/C29)-1)*100 -> 32.256396 | G30: =((D30/D29)-1)*100 -> 32.677165 | H30: =((E30/E29)-1)*100 -> 31.665515 | I30: =(C30/$L30)*100 -> 11.186424 | J30: =(D30/$L30)*100 -> 6.5545074 | K30: =(E30/$L30)*100 -> 4.6319168 | L30: 20566
B31: 1946 | C31: 3286.5 | D31: 2156 | E31: 1130.5 | F31: =((C31/C30)-1)*100 -> 42.854038 | G31: =((D31/D30)-1)*100 -> 59.940653 | H31: =((E31/E30)-1)*100 -> 18.675205 | I31: =(C31/$L31)*100 -> 11.766917 | J31: =(D31/$L31)*100 -> 7.7192982 | K31: =(E31/$L31)*100 -> 4.047619 | L31: 27930
B32: 1947 | C32: 4157.1 | D32: 2726 | E32: 1431.1 | F32: =((C32/C31)-1)*100 -> 26.490187 | G32: =((D32/D31)-1)*100 -> 26.437848 | H32: =((E32/E31)-1)*100 -> 26.590004 | I32: =(C32/$L32)*100 -> 13.400058 | J32: =(D32/$L32)*100 -> 8.787029 | K32: =(E32/$L32)*100 -> 4.613029 | L32: 31023
B33: 1948 | C33: 4548.3 | D33: 2917 | E33: 1631.3 | F33: =((C33/C32)-1)*100 -> 9.4104063 | G33: =((D33/D32)-1)*100 -> 7.0066031 | H33: =((E33/E32)-1)*100 -> 13.989239 | I33: =(C33/$L33)*100 -> 13.740672 | J33: =(D33/$L33)*100 -> 8.8124226 | K33: =(E33/$L33)*100 -> 4.9282499 | L33: 33101
B34: 1949 | C34: 5051.2 | D34: 3087 | E34: 1964.2 | F34: =((C34/C33)-1)*100 -> 11.056878 | G34: =((D34/D33)-1)*100 -> 5.8279054 | H34: =((E34/E33)-1)*100 -> 20.407037 | I34: =(C34/$L34)*100 -> 13.87235 | J34: =(D34/$L34)*100 -> 8.4779743 | K34: =(E34/$L34)*100 -> 5.3943755 | L34: 36412
A35: Nafin 1981, 1950-1970 | B35: 1950 | C35: 5605 | D35: 2765 | E35: 2840 | F35: =((C35/C34)-1)*100 -> 10.963731 | G35: =((D35/D34)-1)*100 -> -10.430839 | H35: =((E35/E34)-1)*100 -> 44.588127 | I35: =(C35/$L35)*100 -> 13.293646 | J35: =(D35/$L35)*100 -> 6.5578825 | K35: =(E35/$L35)*100 -> 6.7357636 | L35: 42163
A36: Fuente original: | B36: 1951 | C36: 8341 | D36: 5330 | E36: 3011 | F36: =((C36/C35)-1)*100 -> 48.813559 | G36: =((D36/D35)-1)*100 -> 92.766727 | H36: =((E36/E35)-1)*100 -> 6.0211268 | I36: =(C36/$L36)*100 -> 15.33977 | J36: =(D36/$L36)*100 -> 9.8022989 | K36: =(E36/$L36)*100 -> 5.5374713 | L36: 54375
A37: Banco de México | B37: 1952 | C37: 9635 | D37: 6157 | E37: 3478 | F37: =((C37/C36)-1)*100 -> 15.513727 | G37: =((D37/D36)-1)*100 -> 15.515947 | H37: =((E37/E36)-1)*100 -> 15.509797 | I37: =(C37/$L37)*100 -> 15.796895 | J37: =(D37/$L37)*100 -> 10.094601 | K37: =(E37/$L37)*100 -> 5.7022937 | L37: 60993
B38: 1953 | C38: 8791 | D38: 5533 | E38: 3258 | F38: =((C38/C37)-1)*100 -> -8.7597302 | G38: =((D38/D37)-1)*100 -> -10.134806 | H38: =((E38/E37)-1)*100 -> -6.3254744 | I38: =(C38/$L38)*100 -> 14.491296 | J38: =(D38/$L38)*100 -> 9.1207306 | K38: =(E38/$L38)*100 -> 5.3705657 | L38: 60664
B39: 1954 | C39: 11217 | D39: 6791 | E39: 4426 | F39: =((C39/C38)-1)*100 -> 27.596405 | G39: =((D39/D38)-1)*100 -> 22.736309 | H39: =((E39/E38)-1)*100 -> 35.850215 | I39: =(C39/$L39)*100 -> 15.171229 | J39: =(D39/$L39)*100 -> 9.1849708 | K39: =(E39/$L39)*100 -> 5.9862584 | L39: 73936
B40: 1955 | C40: 13609 | D40: 8949 | E40: 4660 | F40: =((C40/C39)-1)*100 -> 21.324775 | G40: =((D40/D39)-1)*100 -> 31.777352 | H40: =((E40/E39)-1)*100 -> 5.2869408 | I40: =(C40/$L40)*100 -> 15.112212 | J40: =(D40/$L40)*100 -> 9.9374813 | K40: =(E40/$L40)*100 -> 5.1747304 | L40: 90053
B41: 1956 | C41: 17417 | D41: 12590 | E41: 4827 | F41: =((C41/C40)-1)*100 -> 27.981483 | G41: =((D41/D40)-1)*100 -> 40.68611 | H41: =((E41/E40)-1)*100 -> 3.583691 | I41: =(C41/$L41)*100 -> 16.922853 | J41: =(D41/$L41)*100 -> 12.232802 | K41: =(E41/$L41)*100 -> 4.6900505 | L41: 102920
B42: 1957 | C42: 19884 | D42: 13947 | E42: 5937 | F42: =((C42/C41)-1)*100 -> 14.164322 | G42: =((D42/D41)-1)*100 -> 10.778396 | H42: =((E42/E41)-1)*100 -> 22.995649 | I42: =(C42/$L42)*100 -> 16.821481 | J42: =(D42/$L42)*100 -> 11.798893 | K42: =(E42/$L42)*100 -> 5.0225877 | L42: 118206
B43: 1958 | C43: 20448 | D43: 13925 | E43: 6523 | F43: =((C43/C42)-1)*100 -> 2.8364514 | G43: =((D43/D42)-1)*100 -> -0.15774002 | H43: =((E43/E42)-1)*100 -> 9.8703049 | I43: =(C43/$L43)*100 -> 15.564368 | J43: =(D43/$L43)*100 -> 10.599268 | K43: =(E43/$L43)*100 -> 4.9651004 | L43: 131377
...

Sheet Inv Ext
A2: Año | B2: Inversión extranjera directa
A5: 1920 | B5: -
A6: 1921 | B6: -
A7: 1922 | B7: -
A8: 1923 | B8: -
A9: 1924 | B9: -
A10: 1925 | B10: -
A11: 1926 | B11: -
A12: 1927 | B12: -
A13: 1928 | B13: -
A14: 1929 | B14: -
A15: 1930 | B15: -
A16: 1931 | B16: -
A17: 1932 | B17: -
A18: 1933 | B18: - | F18: 0.4423227
A19: 1934 | B19: - | F19: 1.0032457
A20: 1935 | B20: - | F20: 0.92177044
A21: 1936 | B21: - | F21: 0.82269429
A22: 1937 | B22: - | F22: 2.1904906
A23: 1938 | B23: - | F23: 4.2292508
A24: 1939 | B24: 22.292 | F24: 1.5901853
A25: 1940 | B25: 9.298 | F25: 6.9682593
A26: 1941 | B26: 16.268 | F26: 1.1029142
A27: 1942 | B27: 5.543 | F27: 1.6963552
A28: 1943 | B28: 8.929 | F28: 2.6620514
A29: 1944 | B29: 39.911 | F29: 1.1334107
A30: 1945 | B30: 46.004 | F30: 3.5612859
A31: 1946 | B31: 11.467 | F31: 1.7905074
A32: 1947 | B32: 37.303 | F32: 3.8908443
A33: 1948 | B33: 33.279 | F33: 3.3346612
A34: 1949 | B34: 30.447 | F34: 2.5309749
A35: 1950 | B35: 72.383 | F35: 1.3434924
... A51: 1966 | B51: 186.091 | F51: 2.773509
A52: 1967 b | B52: 88.596 | F52: 3.1096214
A53: 1968 | B53: 116.8 | F53: 1.9352457
A54: 1969 | B54: 195.759 | F54: 5.3459288
A55: 1670 | B55: 200.718 | F55: 3.0688596
A56: 1971 | B56: 196.117 | F56: 4.7770441
A57: 1972 | B57: 189.859 | F57: 2.3053261
A58: 1973 | B58: 286.891 | F58: 2.4550848
...
