Workbook

Sheet Data1
B2: PIB per Cápita Maddison | C2: PIB per Cápita Maddison t/c | D2: Población Maddison | E2: Población Maddison t/c | F2: PIB Real Maddison 1895=100 | G2: PIB Maddison t/c | H2: PIB real Heath | I2: PIB real Heath t/c | J2: PIB Real Martín | K2: PIB Real Martín t/c | L2: PIB Nominal INEGI | M2: PIB Nominal INEGI t/c
A5: 1885 | B5: - | C5: - | D5: - | E5: - | F5: - | G5: - | H5: - | I5: - | J5: - | K5: - | L5: - | M5: -
A6: 1886 | B6: - | C6: - | D6: - | E6: - | F6: - | G6: - | H6: - | I6: - | J6: - | K6: - | L6: - | M6: -
A7: 1887 | B7: - | C7: - | D7: - | E7: - | F7: - | G7: - | H7: - | I7: - | J7: - | K7: - | L7: - | M7: -
A8: 1888 | B8: - | C8: - | D8: - | E8: - | F8: - | G8: - | H8: - | I8: - | J8: - | K8: - | L8: - | M8: -
A9: 1889 | B9: - | C9: - | D9: - | E9: - | F9: - | G9: - | H9: - | I9: - | J9: - | K9: - | L9: - | M9: -
A10: 1890 | B10: - | C10: - | D10: - | E10: - | F10: - | G10: - | H10: - | I10: - | J10: - | K10: - | L10: - | M10: -
A11: 1891 | B11: - | C11: - | D11: - | E11: - | F11: - | G11: - | H11: - | I11: - | J11: - | K11: - | L11: - | M11: -
A12: 1892 | B12: - | C12: - | D12: - | E12: - | F12: - | G12: - | H12: - | I12: - | J12: - | K12: - | L12: - | M12: -
A13: 1893 | B13: - | C13: - | D13: - | E13: - | F13: - | G13: - | H13: - | I13: - | J13: - | K13: - | L13: - | M13: -
A14: 1894 | B14: - | C14: - | D14: - | E14: - | F14: - | G14: - | H14: - | I14: - | J14: - | K14: - | L14: - | M14: -
A15: 1895 | B15: 1757 | C15: - | D15: 12663 | E15: - | F15: 100 | G15: - | H15: 100 | I15: - | J15: 100 | K15: - | L15: 100 | M15: -
A16: 1896 | B16: 1785 | C16: =((B16/B15)-1)*100 -> 1.5936255 | D16: 12822 | E16: =((D16/D15)-1)*100 -> 1.2556266 | F16: =F15*(1+(G16/100)) -> 102.86926 | G16: =(((1+(C16/100))*(1+(E16/100)))-1)*100 -> 2.8692621 | H16: =H15*(1+(I16/100)) -> 102.4 | I16: 2.4 | J16: =J15*(1+(K16/100)) -> 103.09369 | K16: 3.0936862 | L16: =L15*(1+(M16/100)) -> 103.16901 | M16: 3.1690141
A17: 1897 | B17: 1878 | C17: =((B17/B16)-1)*100 -> 5.210084 | D17: 13014 | E17: =((D17/D16)-1)*100 -> 1.4974263 | F17: =F16*(1+(G17/100)) -> 109.84948 | G17: =(((1+(C17/100))*(1+(E17/100)))-1)*100 -> 6.7855275 | H17: =H16*(1+(I17/100)) -> 109.3632 | I17: 6.8 | J17: =J16*(1+(K17/100)) -> 110.00746 | K17: 6.7063005 | L17: =L16*(1+(M17/100)) -> 138.26291 | M17: 34.015927
A18: 1898 | B18: 1959 | C18: =((B18/B17)-1)*100 -> 4.313099 | D18: 13209 | E18: =((D18/D17)-1)*100 -> 1.4983864 | F18: =F17*(1+(G18/100)) -> 116.30436 | G18: =(((1+(C18/100))*(1+(E18/100)))-1)*100 -> 5.8761123 | H18: =H17*(1+(I18/100)) -> 115.92499 | I18: 6 | J18: =J17*(1+(K18/100)) -> 116.36022 | K18: 5.774843 | L18: =L17*(1+(M18/100)) -> 137.20657 | M18: -0.76400679
A19: 1899 | B19: 1835 | C19: =((B19/B18)-1)*100 -> -6.3297601 | D19: 13406 | E19: =((D19/D18)-1)*100 -> 1.4914074 | F19: =F18*(1+(G19/100)) -> 110.56735 | G19: =(((1+(C19/100))*(1+(E19/100)))-1)*100 -> -4.9327552 | H19: =H18*(1+(I19/100)) -> 110.12874 | I19: -5 | J19: =J18*(1+(K19/100)) -> 110.73062 | K19: -4.8380804 | L19: =L18*(1+(M19/100)) -> 139.08451 | M19: 1.3686912
A20: 1900 | B20: 1822 | C20: =((B20/B19)-1)*100 -> -0.70844687 | D20: 13607 | E20: =((D20/D19)-1)*100 -> 1.4993287 | F20: =F19*(1+(G20/100)) -> 111.43007 | G20: =(((1+(C20/100))*(1+(E20/100)))-1)*100 -> 0.78025985 | H20: =H19*(1+(I20/100)) -> 110.349 | I20: 0.2 | J20: =J19*(1+(K20/100)) -> 111.5997 | K20: 0.78486499 | L20: =L19*(1+(M20/100)) -> 154.57746 | M20: 11.139241
A21: 1901 | B21: 1957 | C21: =((B21/B20)-1)*100 -> 7.4094402 | D21: 13755 | E21: =((D21/D20)-1)*100 -> 1.0876755 | F21: =F20*(1+(G21/100)) -> 120.98821 | G21: =(((1+(C21/100))*(1+(E21/100)))-1)*100 -> 8.5777063 | H21: =H20*(1+(I21/100)) -> 119.39762 | I21: 8.2 | J21: =J20*(1+(K21/100)) -> 121.18883 | K21: 8.5924333 | L21: =L20*(1+(M21/100)) -> 208.21596 | M21: 34.700076
A22: 1902 | B22: 1796 | C22: =((B22/B21)-1)*100 -> -8.2268779 | D22: 13904 | E22: =((D22/D21)-1)*100 -> 1.0832425 | F22: =F21*(1+(G22/100)) -> 112.23743 | G22: =(((1+(C22/100))*(1+(E22/100)))-1)*100 -> -7.2327525 | H22: =H21*(1+(I22/100)) -> 111.87557 | I22: -6.3 | J22: =J21*(1+(K22/100)) -> 112.54662 | K22: -7.131198 | L22: =L21*(1+(M22/100)) -> 196.24413 | M22: -5.7497182
A23: 1903 | B23: 1978 | C23: =((B23/B22)-1)*100 -> 10.13363 | D23: 14055 | E23: =((D23/D22)-1)*100 -> 1.0860184 | F23: =F22*(1+(G23/100)) -> 124.9536 | G23: =(((1+(C23/100))*(1+(E23/100)))-1)*100 -> 11.329702 | H23: =H22*(1+(I23/100)) -> 123.51063 | I23: 10.4 | J23: =J22*(1+(K23/100)) -> 125.1516 | K23: 11.199793 | L23: =L22*(1+(M23/100)) -> 218.19249 | M23: 11.184211
A24: 1904 | B24: 1992 | C24: =((B24/B23)-1)*100 -> 0.70778564 | D24: 14208 | E24: =((D24/D23)-1)*100 -> 1.0885806 | F24: =F23*(1+(G24/100)) -> 127.20785 | G24: =(((1+(C24/100))*(1+(E24/100)))-1)*100 -> 1.804071 | H24: =H23*(1+(I24/100)) -> 126.47488 | I24: 2.4 | J24: =J23*(1+(K24/100)) -> 127.35026 | K24: 1.7567953 | L24: =L23*(1+(M24/100)) -> 215.49296 | M24: -1.2372243
A25: 1905 | B25: 2177 | C25: =((B25/B24)-1)*100 -> 9.2871486 | D25: 14363 | E25: =((D25/D24)-1)*100 -> 1.0909347 | F25: =F24*(1+(G25/100)) -> 140.53847 | G25: =(((1+(C25/100))*(1+(E25/100)))-1)*100 -> 10.4794 | H25: =H24*(1+(I25/100)) -> 138.11057 | I25: 9.2 | J25: =J24*(1+(K25/100)) -> 140.58436 | K25: 10.391892 | L25: =L24*(1+(M25/100)) -> 266.78404 | M25: 23.801743
A26: 1906 | B26: 2130 | C26: =((B26/B25)-1)*100 -> -2.1589343 | D26: 14519 | E26: =((D26/D25)-1)*100 -> 1.0861241 | F26: =F25*(1+(G26/100)) -> 138.9978 | G26: =(((1+(C26/100))*(1+(E26/100)))-1)*100 -> -1.0962589 | H26: =H25*(1+(I26/100)) -> 136.59135 | I26: -1.1 | J26: =J25*(1+(K26/100)) -> 138.99536 | K26: -1.1302823 | L26: =L25*(1+(M26/100)) -> 260.21127 | M26: -2.4637044
A27: 1907 | B27: 2232 | C27: =((B27/B26)-1)*100 -> 4.7887324 | D27: 14676 | E27: =((D27/D26)-1)*100 -> 1.0813417 | F27: =F26*(1+(G27/100)) -> 147.22906 | G27: =(((1+(C27/100))*(1+(E27/100)))-1)*100 -> 5.9218566 | H27: =H26*(1+(I27/100)) -> 143.42092 | I27: 5 | J27: =J26*(1+(K27/100)) -> 147.15115 | K27: 5.8676683 | L27: =L26*(1+(M27/100)) -> 275.35211 | M27: 5.8186739 | O27: Cuadro 2. Estimaciones PIB real, 1911-1920
A28: 1908 | B28: 2203 | C28: =((B28/B27)-1)*100 -> -1.2992832 | D28: 14836 | E28: =((D28/D27)-1)*100 -> 1.0902153 | F28: =F27*(1+(G28/100)) -> 146.90039 | G28: =(((1+(C28/100))*(1+(E28/100)))-1)*100 -> -0.22323282 | H28: =H27*(1+(I28/100)) -> 145.28539 | I28: 1.3 | J28: =J27*(1+(K28/100)) -> 146.92739 | K28: -0.15205941 | L28: =L27*(1+(M28/100)) -> 282.62911 | M28: 2.6427962 | S28: PIB Real Maddison 1895=100 | T28: PIB real Heath 1895=100 | U28: PIB Real Martín 1895=100
A29: 1909 | B29: 2244 | C29: =((B29/B28)-1)*100 -> 1.8610985 | D29: 14997 | E29: =((D29/D28)-1)*100 -> 1.0851982 | F29: =F28*(1+(G29/100)) -> 151.25818 | G29: =(((1+(C29/100))*(1+(E29/100)))-1)*100 -> 2.9664933 | H29: =H28*(1+(I29/100)) -> 149.2081 | I29: 2.7 | J29: =J28*(1+(K29/100)) -> 151.24364 | K29: 2.9376711 | L29: =L28*(1+(M29/100)) -> 310.21127 | M29: 9.7591362 | P29: Tasa de cambio en %
A30: 1910 | B30: 2240 | C30: =((B30/B29)-1)*100 -> -0.17825312 | D30: 15000 | E30: =((D30/D29)-1)*100 -> 0.020004001 | F30: =F29*(1+(G30/100)) -> 151.01876 | G30: =(((1+(C30/100))*(1+(E30/100)))-1)*100 -> -0.15828478 | H30: =H29*(1+(I30/100)) -> 150.25256 | I30: 0.7 | J30: =J29*(1+(K30/100)) -> 152.58942 | K30: 0.88981325 | L30: =L29*(1+(M30/100)) -> 363.84977 | M30: 17.290957 | P30: Maddison | Q30: Heath | R30: Martín
A31: 1911 | B31: 2150 | C31: =((B31/B30)-1)*100 -> -4.0178571 | D31: 14990 | E31: =((D31/D30)-1)*100 -> -0.066666667 | F31: =F30*(1+(G31/100)) -> 144.85441 | G31: =(((1+(C31/100))*(1+(E31/100)))-1)*100 -> -4.0818452 | H31: =H30*(1+(I31/100)) -> 148.90028 | I31: -0.9 | J31: =J30*(1+(K31/100)) -> 155.18344 | K31: 1.7 | L31: - | M31: - | O31: =A31 -> 1911 | P31: =G31 -> -4.0818452 | Q31: =I31 -> -0.9 | R31: =K31 -> 1.7 | S31: =F31 -> 144.85441 | T31: =H31 -> 148.90028 | U31: =J31 -> 155.18344
A32: 1912 | B32: 2131 | C32: =((B32/B31)-1)*100 -> -0.88372093 | D32: 14980 | E32: =((D32/D31)-1)*100 -> -0.066711141 | F32: =F31*(1+(G32/100)) -> 143.47852 | G32: =(((1+(C32/100))*(1+(E32/100)))-1)*100 -> -0.94984253 | H32: =H31*(1+(I32/100)) -> 143.68877 | I32: -3.5 | J32: =J31*(1+(K32/100)) -> 157.82156 | K32: 1.7 | L32: - | M32: - | O32: =A32 -> 1912 | P32: =G32 -> -0.94984253 | Q32: =I32 -> -3.5 | R32: =K32 -> 1.7 | S32: =F32 -> 143.47852 | T32: =H32 -> 143.68877 | U32: =J32 -> 157.82156
A33: 1913 | B33: 2004 | C33: =((B33/B32)-1)*100 -> -5.9596434 | D33: 14970 | E33: =((D33/D32)-1)*100 -> -0.066755674 | F33: =F32*(1+(G33/100)) -> 134.83764 | G33: =(((1+(C33/100))*(1+(E33/100)))-1)*100 -> -6.0224206 | H33: =H32*(1+(I33/100)) -> 142.82664 | I33: -0.6 | J33: =J32*(1+(K33/100)) -> 157.66374 | K33: -0.1 | L33: - | M33: - | O33: =A33 -> 1913 | P33: =G33 -> -6.0224206 | Q33: =I33 -> -0.6 | R33: =K33 -> -0.1 | S33: =F33 -> 134.83764 | T33: =H33 -> 142.82664 | U33: =J33 -> 157.66374
A34: 1914 | B34: 2007 | C34: =((B34/B33)-1)*100 -> 0.1497006 | D34: 14960 | E34: =((D34/D33)-1)*100 -> -0.066800267 | F34: =F33*(1+(G34/100)) -> 134.94929 | G34: =(((1+(C34/100))*(1+(E34/100)))-1)*100 -> 0.082800331 | H34: =H33*(1+(I34/100)) -> 128.54398 | I34: -10 | J34: =J33*(1+(K34/100)) -> 151.35719 | K34: -4 | L34: - | M34: - | O34: =A34 -> 1914 | P34: =G34 -> 0.082800331 | Q34: =I34 -> -10 | R34: =K34 -> -4 | S34: =F34 -> 134.94929 | T34: =H34 -> 128.54398 | U34: =J34 -> 151.35719
A35: 1915 | B35: 1978 | C35: =((B35/B34)-1)*100 -> -1.4449427 | D35: 14950 | E35: =((D35/D34)-1)*100 -> -0.06684492 | F35: =F34*(1+(G35/100)) -> 132.91044 | G35: =(((1+(C35/100))*(1+(E35/100)))-1)*100 -> -1.5108217 | H35: =H34*(1+(I35/100)) -> 128.67252 | I35: 0.1 | J35: =J34*(1+(K35/100)) -> 146.05969 | K35: -3.5 | L35: - | M35: - | O35: =A35 -> 1915 | P35: =G35 -> -1.5108217 | Q35: =I35 -> 0.1 | R35: =K35 -> -3.5 | S35: =F35 -> 132.91044 | T35: =H35 -> 128.67252 | U35: =J35 -> 146.05969
A36: 1916 | B36: 2130 | C36: =((B36/B35)-1)*100 -> 7.6845298 | D36: 14940 | E36: =((D36/D35)-1)*100 -> -0.066889632 | F36: =F35*(1+(G36/100)) -> 143.02825 | G36: =(((1+(C36/100))*(1+(E36/100)))-1)*100 -> 7.6125 | H36: =H35*(1+(I36/100)) -> 133.04739 | I36: 3.4 | J36: =J35*(1+(K36/100)) -> 139.487 | K36: -4.5 | L36: - | M36: - | O36: =A36 -> 1916 | P36: =G36 -> 7.6125 | Q36: =I36 -> 3.4 | R36: =K36 -> -4.5 | S36: =F36 -> 143.02825 | T36: =H36 -> 133.04739 | U36: =J36 -> 139.487
A37: 1917 | B37: 2220 | C37: =((B37/B36)-1)*100 -> 4.2253521 | D37: 14930 | E37: =((D37/D36)-1)*100 -> -0.066934404 | F37: =F36*(1+(G37/100)) -> 148.97192 | G37: =(((1+(C37/100))*(1+(E37/100)))-1)*100 -> 4.1555895 | H37: =H36*(1+(I37/100)) -> 136.63967 | I37: 2.7 | J37: =J36*(1+(K37/100)) -> 147.85622 | K37: 6 | L37: - | M37: - | O37: =A37 -> 1917 | P37: =G37 -> 4.1555895 | Q37: =I37 -> 2.7 | R37: =K37 -> 6 | S37: =F37 -> 148.97192 | T37: =H37 -> 136.63967 | U37: =J37 -> 147.85622
A38: 1918 | B38: 2308 | C38: =((B38/B37)-1)*100 -> 3.963964 | D38: 14920 | E38: =((D38/D37)-1)*100 -> -0.066979236 | F38: =F37*(1+(G38/100)) -> 154.77338 | G38: =(((1+(C38/100))*(1+(E38/100)))-1)*100 -> 3.8943297 | H38: =H37*(1+(I38/100)) -> 141.42205 | I38: 3.5 | J38: =J37*(1+(K38/100)) -> 152.29191 | K38: 3 | L38: - | M38: - | O38: =A38 -> 1918 | P38: =G38 -> 3.8943297 | Q38: =I38 -> 3.5 | R38: =K38 -> 3 | S38: =F38 -> 154.77338 | T38: =H38 -> 141.42205 | U38: =J38 -> 152.29191
A39: 1919 | B39: 2399 | C39: =((B39/B38)-1)*100 -> 3.9428076 | D39: 14910 | E39: =((D39/D38)-1)*100 -> -0.067024129 | F39: =F38*(1+(G39/100)) -> 160.76797 | G39: =(((1+(C39/100))*(1+(E39/100)))-1)*100 -> 3.8731409 | H39: =H38*(1+(I39/100)) -> 146.08898 | I39: 3.3 | J39: =J38*(1+(K39/100)) -> 156.09921 | K39: 2.5 | L39: - | M39: - | O39: =A39 -> 1919 | P39: =G39 -> 3.8731409 | Q39: =I39 -> 3.3 | R39: =K39 -> 2.5 | S39: =F39 -> 160.76797 | T39: =H39 -> 146.08898 | U39: =J39 -> 156.09921
A40: 1920 | B40: 2552 | C40: =((B40/B39)-1)*100 -> 6.3776574 | D40: 14900 | E40: =((D40/D39)-1)*100 -> -0.067069081 | F40: =F39*(1+(G40/100)) -> 170.9065 | G40: =(((1+(C40/100))*(1+(E40/100)))-1)*100 -> 6.3063108 | H40: =H39*(1+(I40/100)) -> 152.07863 | I40: 4.1 | J40: =J39*(1+(K40/100)) -> 161.56268 | K40: 3.5 | L40: - | M40: - | O40: =A40 -> 1920 | P40: =G40 -> 6.3063108 | Q40: =I40 -> 4.1 | R40: =K40 -> 3.5 | S40: =F40 -> 170.9065 | T40: =H40 -> 152.07863 | U40: =J40 -> 161.56268
A41: 1921 | B41: 2542 | C41: =((B41/B40)-1)*100 -> -0.39184953 | D41: 14895 | E41: =((D41/D40)-1)*100 -> -0.033557047 | F41: =F40*(1+(G41/100)) -> 170.17967 | G41: =(((1+(C41/100))*(1+(E41/100)))-1)*100 -> -0.42527508 | H41: =H40*(1+(I41/100)) -> 151.92655 | I41: -0.1 | J41: =J40*(1+(K41/100)) -> 162.69362 | K41: 0.7 | M41: -8.8 | O41: Promedio 1911-1920 | P41: =AVERAGE(P31:P40) -> 1.3359741 | Q41: =AVERAGE(Q31:Q40) -> 0.21 | R41: =AVERAGE(R31:R40) -> 0.63 | S41: - | T41: - | U41: -
A42: 1922 | B42: 2562 | C42: =((B42/B41)-1)*100 -> 0.78678206 | D42: 15129 | E42: =((D42/D41)-1)*100 -> 1.570997 | F42: =F41*(1+(G42/100)) -> 174.21317 | G42: =(((1+(C42/100))*(1+(E42/100)))-1)*100 -> 2.3701394 | H42: =H41*(1+(I42/100)) -> 158.15554 | I42: 4.1 | J42: =J41*(1+(K42/100)) -> 166.48653 | K42: 2.3313198 | L42: =L41*(1+(M42/100)) -> 0 | M42: -15.857012 | O42: Promedio 1911-1915 | P42: =AVERAGE(P31:P35) -> -2.496426 | Q42: =AVERAGE(Q31:Q35) -> -2.98 | R42: =AVERAGE(R31:R35) -> -0.84 | S42: - | T42: - | U42: -
A43: 1923 | B43: 2608 | C43: =((B43/B42)-1)*100 -> 1.7954723 | D43: 15367 | E43: =((D43/D42)-1)*100 -> 1.5731377 | F43: =F42*(1+(G43/100)) -> 180.13094 | G43: =(((1+(C43/100))*(1+(E43/100)))-1)*100 -> 3.3968552 | H43: =H42*(1+(I43/100)) -> 164.95623 | I43: 4.3 | J43: =J42*(1+(K43/100)) -> 172.2064 | K43: 3.4356373 | L43: =L42*(1+(M43/100)) -> 0 | M43: 9.2374728 | O43: Promedio 1916-1920 | P43: =AVERAGE(P36:P40) -> 5.1683742 | Q43: =AVERAGE(Q36:Q40) -> 3.4 | R43: =AVERAGE(R36:R40) -> 2.1 | S43: - | T43: - | U43: -
...

Sheet Data2
A2: Años | B2: PIB Real estimación 1895=100 | C2: PIB Real estimación t/c | D2: PIB Real EU 1895=100 | E2: PIB Real EU t/c | F2: Plata, onza en centavos de dólar | G2: Petróleo, dólares por barril
F3: Dol/onza | G3: Dol/Barril
F4: -
A5: 1885 | B5: - | C5: - | D5: - | E5: - | F5: - | G5: -
A6: 1886 | B6: - | C6: - | D6: - | E6: - | F6: - | G6: -
A7: 1887 | B7: - | C7: - | D7: - | E7: - | F7: - | G7: -
A8: 1888 | B8: - | C8: - | D8: - | E8: - | F8: - | G8: -
A9: 1889 | B9: - | C9: - | D9: - | E9: - | F9: - | G9: -
A10: 1890 | B10: - | C10: - | D10: - | E10: - | F10: - | G10: -
A11: 1891 | B11: - | C11: - | D11: - | E11: - | F11: - | G11: -
A12: 1892 | B12: - | C12: - | D12: - | E12: - | F12: - | G12: -
A13: 1893 | B13: - | C13: - | D13: - | E13: - | F13: - | G13: -
A14: 1894 | B14: - | C14: - | D14: - | E14: - | F14: - | G14: -
A15: 1895 | B15: =Data1!J15 -> 100 | C15: =Data1!K15 -> - | D15: 100 | E15: 11.715915 | F15: - | G15: 1.36
A16: 1896 | B16: =Data1!J16 -> 103.09369 | C16: =Data1!K16 -> 3.0936862 | D16: =D15*(1+(E16/100)) -> 97.726218 | E16: -2.2737819 | F16: - | G16: 1.18
A17: 1897 | B17: =Data1!J17 -> 110.00746 | C17: =Data1!K17 -> 6.7063005 | D17: =D16*(1+(E17/100)) -> 105.70766 | E17: 8.1671415 | F17: - | G17: 0.79
A18: 1898 | B18: =Data1!J18 -> 116.36022 | C18: =Data1!K18 -> 5.774843 | D18: =D17*(1+(E18/100)) -> 108.21346 | E18: 2.3705004 | F18: - | G18: 0.91
A19: 1899 | B19: =Data1!J19 -> 110.73062 | C19: =Data1!K19 -> -4.8380804 | D19: =D18*(1+(E19/100)) -> 120.78886 | E19: 11.620926 | F19: - | G19: 1.29
A20: 1900 | B20: =Data1!J20 -> 111.5997 | C20: =Data1!K20 -> 0.78486499 | D20: =D19*(1+(E20/100)) -> 123.15545 | E20: 1.9592778 | F20: 0.62 | G20: 1.19
A21: 1901 | B21: =Data1!J21 -> 121.18883 | C21: =Data1!K21 -> 8.5924333 | D21: =D20*(1+(E21/100)) -> 138.23666 | E21: 12.245667 | F21: 0.596 | G21: 0.96
A22: 1902 | B22: =Data1!J22 -> 112.54662 | C22: =Data1!K22 -> -7.131198 | D22: =D21*(1+(E22/100)) -> 140.60325 | E22: 1.7119839 | F22: 0.528 | G22: 0.8
A23: 1903 | B23: =Data1!J23 -> 125.1516 | C23: =Data1!K23 -> 11.199793 | D23: =D22*(1+(E23/100)) -> 144.64037 | E23: 2.8712871 | F23: 0.543 | G23: 0.94
A24: 1904 | B24: =Data1!J24 -> 127.35026 | C24: =Data1!K24 -> 1.7567953 | D24: =D23*(1+(E24/100)) -> 150.11601 | E24: 3.7856914 | F24: 0.579 | G24: 0.86
A25: 1905 | B25: =Data1!J25 -> 140.58436 | C25: =Data1!K25 -> 10.391892 | D25: =D24*(1+(E25/100)) -> 163.89791 | E25: 9.1808346 | F25: 0.61 | G25: 0.62
A26: 1906 | B26: =Data1!J26 -> 138.99536 | C26: =Data1!K26 -> -1.1302823 | D26: =D25*(1+(E26/100)) -> 170.62645 | E26: 4.1053228 | F26: 0.677 | G26: 0.73
A27: 1907 | B27: =Data1!J27 -> 147.15115 | C27: =Data1!K27 -> 5.8676683 | D27: =D26*(1+(E27/100)) -> 167.98144 | E27: -1.5501768 | F27: 0.662 | G27: 0.72 | I27: Cuadro 1. PIB real y variables seleccionadas
A28: 1908 | B28: =Data1!J28 -> 146.92739 | C28: =Data1!K28 -> -0.15205941 | D28: =D27*(1+(E28/100)) -> 158.7935 | E28: -5.4696133 | F28: 0.535 | G28: 0.72 | I28: Años | J28: PIB Real estimación 1895=100 | K28: PIB Real estimación t/c | L28: Inflación promedio | M28: PIB Real EU 1895=100 | N28: PIB Real EU t/c | O28: Plata, onza en centavos de dólar | P28: Petróleo, dólares por barril
A29: 1909 | B29: =Data1!J29 -> 151.24364 | C29: =Data1!K29 -> 2.9376711 | D29: =D28*(1+(E29/100)) -> 177.30858 | E29: 11.659848 | F29: 0.52 | G29: 0.7
A30: 1910 | B30: =Data1!J30 -> 152.58942 | C30: =Data1!K30 -> 0.88981325 | D30: =D29*(1+(E30/100)) -> 178.09745 | E30: 0.44490971 | F30: 0.541 | G30: 0.61
A31: 1911 | B31: =Data1!J31 -> 155.18344 | C31: =Data1!K31 -> 1.7 | D31: =D30*(1+(E31/100)) -> 183.7587 | E31: 3.1787389 | F31: 0.539 | G31: 0.61 | I31: =A31 -> 1911 | J31: =B31 -> 155.18344 | K31: =C31 -> 1.7 | L31: 0.02055076 | M31: =D31 -> 183.7587 | N31: =E31 -> 3.1787389 | O31: =F31 -> 0.539 | P31: =G31 -> 0.61
A32: 1912 | B32: =Data1!J32 -> 157.82156 | C32: =Data1!K32 -> 1.7 | D32: =D31*(1+(E32/100)) -> 194.38515 | E32: 5.7828283 | F32: 0.615 | G32: 0.74 | I32: =A32 -> 1912 | J32: =B32 -> 157.82156 | K32: =C32 -> 1.7 | L32: 2.356003 | M32: =D32 -> 194.38515 | N32: =E32 -> 5.7828283 | O32: =F32 -> 0.615 | P32: =G32 -> 0.74
A33: 1913 | B33: =Data1!J33 -> 157.66374 | C33: =Data1!K33 -> -0.1 | D33: =D32*(1+(E33/100)) -> 202.04176 | E33: 3.9388876 | F33: 0.605 | G33: 0.95 | I33: =A33 -> 1913 | J33: =B33 -> 157.66374 | K33: =C33 -> -0.1 | L33: 2.3062285 | M33: =D33 -> 202.04176 | N33: =E33 -> 3.9388876 | O33: =F33 -> 0.605 | P33: =G33 -> 0.95
A34: 1914 | B34: =Data1!J34 -> 151.35719 | C34: =Data1!K34 -> -4 | D34: =D33*(1+(E34/100)) -> 186.72854 | E34: -7.5792375 | F34: 0.553 | G34: 0.81 | I34: =A34 -> 1914 | J34: =B34 -> 151.35719 | K34: =C34 -> -4 | L34: 76.18468 | M34: =D34 -> 186.72854 | N34: =E34 -> -7.5792375 | O34: =F34 -> 0.553 | P34: =G34 -> 0.81
A35: 1915 | B35: =Data1!J35 -> 146.05969 | C35: =Data1!K35 -> -3.5 | D35: =D34*(1+(E35/100)) -> 193.64269 | E35: 3.7027833 | F35: 0.519 | G35: 0.64 | I35: =A35 -> 1915 | J35: =B35 -> 146.05969 | K35: =C35 -> -3.5 | L35: 220.85182 | M35: =D35 -> 193.64269 | N35: =E35 -> 3.7027833 | O35: =F35 -> 0.519 | P35: =G35 -> 0.64
A36: 1916 | B36: =Data1!J36 -> 139.487 | C36: =Data1!K36 -> -4.5 | D36: =D35*(1+(E36/100)) -> 225.058 | E36: 16.223341 | F36: 0.686 | G36: 1.1 | I36: =A36 -> 1916 | J36: =B36 -> 139.487 | K36: =C36 -> -4.5 | L36: 2291.9179 | M36: =D36 -> 225.058 | N36: =E36 -> 16.223341 | O36: =F36 -> 0.686 | P36: =G36 -> 1.1
A37: 1917 | B37: =Data1!J37 -> 147.85622 | C37: =Data1!K37 -> 6 | D37: =D36*(1+(E37/100)) -> 225.0116 | E37: -0.020618557 | F37: 0.895 | G37: 1.56 | I37: =A37 -> 1917 | J37: =B37 -> 147.85622 | K37: =C37 -> 6 | L37: -98.835422 | M37: =D37 -> 225.0116 | N37: =E37 -> -0.020618557 | O37: =F37 -> 0.895 | P37: =G37 -> 1.56
A38: 1918 | B38: =Data1!J38 -> 152.29191 | C38: 2 | D38: =D37*(1+(E38/100)) -> 242.32019 | E38: 7.6923077 | F38: 1.042 | G38: 1.98 | I38: =A38 -> 1918 | J38: =B38 -> 152.29191 | K38: =C38 -> 2 | L38: 18.53396 | M38: =D38 -> 242.32019 | N38: =E38 -> 7.6923077 | O38: =F38 -> 1.042 | P38: =G38 -> 1.98
A39: 1919 | B39: =Data1!J39 -> 156.09921 | C39: =Data1!K39 -> 2.5 | D39: =D38*(1+(E39/100)) -> 235.31323 | E39: -2.8916124 | F39: 1.25 | G39: 2.01 | I39: =A39 -> 1919 | J39: =B39 -> 156.09921 | K39: =C39 -> 2.5 | L39: -2.8681972 | M39: =D39 -> 235.31323 | N39: =E39 -> -2.8916124 | O39: =F39 -> 1.25 | P39: =G39 -> 2.01
A40: 1920 | B40: =Data1!J40 -> 161.56268 | C40: =Data1!K40 -> 3.5 | D40: =D39*(1+(E40/100)) -> 230.30162 | E40: -2.1297574 | F40: 1.346 | G40: 3.07 | I40: =A40 -> 1920 | J40: =B40 -> 161.56268 | K40: =C40 -> 3.5 | L40: 10.017447 | M40: =D40 -> 230.30162 | N40: =E40 -> -2.1297574 | O40: =F40 -> 1.346 | P40: =G40 -> 3.07
A41: 1921 | B41: =Data1!J41 -> 162.69362 | C41: =Data1!K41 -> 0.7 | D41: =D40*(1+(E41/100)) -> 222.18097 | E41: -3.5260931 | F41: 0.805 | G41: 1.73 | I41: Fuente: Archivo Excel PIB 1911-1920.xlsx
...
