Workbook
Name \A: #REF!
Name \A: #REF!
Name \A: #REF!
Name \A: #REF!
Name \A: #REF!
Name \g: #REF!
Name \g: #REF!
Name \g: #REF!
Name \g: #REF!
Name \g: #REF!
Name \S: #REF!
Name \S: #REF!
Name \S: #REF!
Name \S: #REF!
Name \S: #REF!
Name ACTIVATE: #REF!
Name ACTIVATE: #REF!
Name ACTIVATE: #REF!
Name ACTIVATE: #REF!
Name ACTIVATE: #REF!
Name ASSUMPT: #REF!
Name ASSUMPT: #REF!
Name ASSUMPT: #REF!
Name ASSUMPT: #REF!
Name ASSUMPT: #REF!
Name ASSUMPTIONS: #REF!
Name ASSUMPTIONS: #REF!
Name ASSUMPTIONS: #REF!
Name ASSUMPTIONS: #REF!
Name ASSUMPTIONS: #REF!
Name basicdata1: #REF!
Name basicdata1: #REF!
Name basicdata1: #REF!
Name basicdata1: #REF!
Name basicdata1: #REF!
Name basicdata2: #REF!
Name basicdata2: #REF!
Name basicdata2: #REF!
Name basicdata2: #REF!
Name basicdata2: #REF!
Name BCA_NGDP: [5]Q6!$E$10:$AH$10
Name BMG: [5]Q6!$E$27:$AH$27
Name BOP: #REF!
Name BOP: #REF!
Name BOP: #REF!
Name BOP: #REF!
Name BOP: #REF!
Name BXG: [5]Q6!$E$19:$AH$19
Name CAPITAL: #REF!
Name CAPITAL: #REF!
Name CAPITAL: #REF!
Name CAPITAL: #REF!
Name CAPITAL: #REF!
Name CARGO_BY_TYPE: '[6]Table No.18-Exports goods+servi'!#REF!
Name CARGO_BY_TYPE: '[6]Table No.18-Exports goods+servi'!#REF!
Name CARGO_BY_TYPE: '[6]Table No.18-Exports goods+servi'!#REF!
Name CARGO_BY_TYPE: '[6]Table No.18-Exports goods+servi'!#REF!
Name CARGO_BY_TYPE: '[6]Table No.18-Exports goods+servi'!#REF!
Name CCode: [7]Codes!$A$2
Name CENTRALG: #REF!

Sheet RI Final
A1: Periodo mensual | B1: Res. Int. md 1925-1940 Cárdenas (1987) | C1: Res. Int. md 1950-1960 | D1: Res Int. md 1960-1982 Final | E1: Res Int. md 1925-1982 Resumen final
A7: 9376 | B7: ='RI M'!B7 -> 27.556 | C7: - | D7: - | E7: =B7 -> 27.556
A8: 9406 | B8: ='RI M'!B8 -> 26.002 | C8: - | D8: - | E8: =B8 -> 26.002
A9: 9437 | B9: ='RI M'!B9 -> 28.114 | C9: - | D9: - | E9: =B9 -> 28.114
A10: 9467 | B10: ='RI M'!B10 -> 27.747 | C10: - | D10: - | E10: =B10 -> 27.747
A11: 9498 | B11: ='RI M'!B11 -> 28.348 | C11: - | D11: - | E11: =B11 -> 28.348
A12: 9529 | B12: ='RI M'!B12 -> 29.431 | C12: - | D12: - | E12: =B12 -> 29.431
A13: 9557 | B13: ='RI M'!B13 -> 33.627 | C13: - | D13: - | E13: =B13 -> 33.627
A14: 9588 | B14: ='RI M'!B14 -> 35.741 | C14: - | D14: - | E14: =B14 -> 35.741
A15: 9618 | B15: ='RI M'!B15 -> 39.751 | C15: - | D15: - | E15: =B15 -> 39.751
A16: 9649 | B16: ='RI M'!B16 -> 39.04 | C16: - | D16: - | E16: =B16 -> 39.04
A17: 9679 | B17: ='RI M'!B17 -> 35.989 | C17: - | D17: - | E17: =B17 -> 35.989
A18: 9710 | B18: ='RI M'!B18 -> 34.102 | C18: - | D18: - | E18: =B18 -> 34.102
... A190: 14946 | B190: ='RI M'!B190 -> 63.981 | C190: - | D190: - | E190: =B190 -> 63.981
A191: 14977 | B191: - | C191: - | D191: - | E191: -
A192: 15008 | B192: - | C192: - | D192: - | E192: -
A193: 15036 | B193: - | C193: - | D193: - | E193: -
A194: 15067 | B194: - | C194: - | D194: - | E194: -
A195: 15097 | B195: - | C195: - | D195: - | E195: -
A196: 15128 | B196: - | C196: - | D196: - | E196: -
A197: 15158 | B197: - | C197: - | D197: - | E197: -
A198: 15189 | B198: - | C198: - | D198: - | E198: -
A199: 15220 | B199: - | C199: - | D199: - | E199: -
A200: 15250 | B200: - | C200: - | D200: - | E200: -
A201: 15281 | B201: - | C201: - | D201: - | E201: -
A202: 15311 | B202: - | C202: - | D202: - | E202: ='RI A'!D23 -> 62.3
A203: 15342 | B203: - | C203: - | D203: - | E203: -
A204: 15373 | B204: - | C204: - | D204: - | E204: -
A205: 15401 | B205: - | C205: - | D205: - | E205: -
A206: 15432 | B206: - | C206: - | D206: - | E206: -
A207: 15462 | B207: - | C207: - | D207: - | E207: -
A208: 15493 | B208: - | C208: - | D208: - | E208: -
A209: 15523 | B209: - | C209: - | D209: - | E209: -
A210: 15554 | B210: - | C210: - | D210: - | E210: -
A211: 15585 | B211: - | C211: - | D211: - | E211: -
A212: 15615 | B212: - | C212: - | D212: - | E212: -
A213: 15646 | B213: - | C213: - | D213: - | E213: -
A214: 15676 | B214: - | C214: - | D214: - | E214: ='RI A'!D24 -> 108.3
A215: 15707 | B215: - | C215: - | D215: - | E215: -
A216: 15738 | B216: - | C216: - | D216: - | E216: -
A217: 15766 | B217: - | C217: - | D217: - | E217: -
A218: 15797 | B218: - | C218: - | D218: - | E218: -
A219: 15827 | B219: - | C219: - | D219: - | E219: -
A220: 15858 | B220: - | C220: - | D220: - | E220: -
A221: 15888 | B221: - | C221: - | D221: - | E221: -
A222: 15919 | B222: - | C222: - | D222: - | E222: -
A223: 15950 | B223: - | C223: - | D223: - | E223: -
A224: 15980 | B224: - | C224: - | D224: - | E224: -
A225: 16011 | B225: - | C225: - | D225: - | E225: -
A226: 16041 | B226: - | C226: - | D226: - | E226: ='RI A'!D25 -> 242.5
A227: 16072 | B227: - | C227: - | D227: - | E227: -
A228: 16103 | B228: - | C228: - | D228: - | E228: -
A229: 16132 | B229: - | C229: - | D229: - | E229: -
A230: 16163 | B230: - | C230: - | D230: - | E230: -
A231: 16193 | B231: - | C231: - | D231: - | E231: -
A232: 16224 | B232: - | C232: - | D232: - | E232: -
A233: 16254 | B233: - | C233: - | D233: - | E233: -
A234: 16285 | B234: - | C234: - | D234: - | E234: -
A235: 16316 | B235: - | C235: - | D235: - | E235: -
A236: 16346 | B236: - | C236: - | D236: - | E236: -
A237: 16377 | B237: - | C237: - | D237: - | E237: -
A238: 16407 | B238: - | C238: - | D238: - | E238: ='RI A'!D26 -> 279.5
A239: 16438 | B239: - | C239: - | D239: - | E239: -
A240: 16469 | B240: - | C240: - | D240: - | E240: -
A241: 16497 | B241: - | C241: - | D241: - | E241: -
A242: 16528 | B242: - | C242: - | D242: - | E242: -
A243: 16558 | B243: - | C243: - | D243: - | E243: -
A244: 16589 | B244: - | C244: - | D244: - | E244: -
A245: 16619 | B245: - | C245: - | D245: - | E245: -
A246: 16650 | B246: - | C246: - | D246: - | E246: -
A247: 16681 | B247: - | C247: - | D247: - | E247: -
A248: 16711 | B248: - | C248: - | D248: - | E248: -
A249: 16742 | B249: - | C249: - | D249: - | E249: -
A250: 16772 | B250: - | C250: - | D250: - | E250: ='RI A'!D27 -> 372.7
A251: 16803 | B251: - | C251: - | D251: - | E251: -
A252: 16834 | B252: - | C252: - | D252: - | E252: -
A253: 16862 | B253: - | C253: - | D253: - | E253: -
A254: 16893 | B254: - | C254: - | D254: - | E254: -
A255: 16923 | B255: - | C255: - | D255: - | E255: -
A256: 16954 | B256: - | C256: - | D256: - | E256: -
A257: 16984 | B257: - | C257: - | D257: - | E257: -
A258: 17015 | B258: - | C258: - | D258: - | E258: -
A259: 17046 | B259: - | C259: - | D259: - | E259: -
A260: 17076 | B260: - | C260: - | D260: - | E260: -
A261: 17107 | B261: - | C261: - | D261: - | E261: -
A262: 17137 | B262: - | C262: - | D262: - | E262: ='RI A'!D28 -> 273.7
A263: 17168 | B263: - | C263: - | D263: - | E263: -
A264: 17199 | B264: - | C264: - | D264: - | E264: -
A265: 17227 | B265: - | C265: - | D265: - | E265: -
A266: 17258 | B266: - | C266: - | D266: - | E266: -
A267: 17288 | B267: - | C267: - | D267: - | E267: -
A268: 17319 | B268: - | C268: - | D268: - | E268: -
A269: 17349 | B269: - | C269: - | D269: - | E269: -
A270: 17380 | B270: - | C270: - | D270: - | E270: -
A271: 17411 | B271: - | C271: - | D271: - | E271: -
A272: 17441 | B272: - | C272: - | D272: - | E272: -
A273: 17472 | B273: - | C273: - | D273: - | E273: -
A274: 17502 | B274: - | C274: - | D274: - | E274: ='RI A'!D29 -> 162.9
A275: 17533 | B275: - | C275: - | D275: - | E275: -
A276: 17564 | B276: - | C276: - | D276: - | E276: -
...

Sheet RI A
A1: Periodo Anual | B1: Res Int anual fin, md Cárdenas (1987), 1925-1940 Se obtuvieron de las observaciones mensuales | C1: Res Int anual promedio, md Cárdenas (1987), 1925-1940; se obtuvieron de las observaciones anuales. | D1: Res Int anual, md; Fernández (1975), 1925-1975; Banco de México, Informe Anual (1980-1990), 1976-1990. | E1: PIB mexicano nominal en millones de dólares.
A7: 1925 | B7: 27.747 | C7: 27.35475 | D7: 27.4 | E7: 2557.6892
A8: 1926 | B8: 17.295 | C8: 30.871667 | D8: 17.7 | E8: 2566.6015
A9: 1927 | B9: 16.297 | C9: 17.146417 | D9: 16.2 | E9: 2179.3154
A10: 1928 | B10: 20.061 | C10: 18.094333 | D10: 19.8 | E10: 2329.4391
A11: 1929 | B11: 26.099 | C11: 22.8745 | D11: 25 | E11: 2266.2524
A12: 1930 | B12: 13.076 | C12: 23.7105 | D12: 13.6 | E12: 2076.2046
A13: 1931 | B13: 8.848 | C13: 10.820583 | D13: 9.7 | E13: 1566.0891
A14: 1932 | B14: 31.637 | C14: 17.47925 | D14: 31.2 | E14: 1013.7549
A15: 1933 | B15: 36.297 | C15: 27.231167 | D15: 36.8 | E15: 1072.6542
A16: 1934 | B16: 52.791 | C16: 51.957 | D16: 52.9 | E16: 1153.0556
A17: 1935 | B17: 93.022 | C17: 82.665462 | D17: 93.2 | E17: 1261.1111
A18: 1936 | B18: 89.456 | C18: 88.094333 | D18: 89 | E18: 1485
... A22: 1940 | B22: 63.981 | C22: 41.86125 | D22: 63.4 | E22: 1698.1987
A23: 1941 | D23: 62.3 | E23: 1902.8513
A24: 1942 | D24: 108.3 | E24: 2202.268
A25: 1943 | D25: 242.5 | E25: 2684.861
A26: 1944 | D26: 279.5 | E26: 3873.8324
A27: 1945 | D27: 372.7 | E27: 4236.7725
A28: 1946 | D28: 273.7 | E28: 5748.8851
A29: 1947 | D29: 162.9 | E29: 6383.3333
A30: 1948 | D30: 122.6 | E30: 5843.9311
A31: 1949 | D31: 164 | E31: 4556.1511
A32: 1950 | D32: 335.9 | E32: 4879.0357
A33: 1951 | D33: 328.4 | E33: 6301.9123
A34: 1952 | D34: 307.8 | E34: 7085.3437
... A72: 1990 | D72: 10273.8 | E72: 238924.86

Sheet RI T
A1: Periodo Trimestral | B1: Variación de las Reservas Int. Trimestrales md 1950-1979 | C1: Saldo de las Reservas Int. Trimestrales md 1950-1980 | D1: Periodo Anual | E1: Res Int anual, md Fernández (1975), 1925-1975
A6: 18172 | B6: - | C6: ='RI A'!D31 -> 164 | D6: 1949 | E6: ='RI A'!D31 -> 164
A7: 18264 | B7: 3.8 | C7: ='RI A'!D31+B7 -> 167.8
A8: 18354 | B8: -18 | C8: =C7+B8 -> 149.8
A9: 18445 | B9: 74 | C9: =C8+B9 -> 223.8
A10: 18537 | B10: 112.2 | C10: =C9+B10 -> 336 | D10: 1950 | E10: ='RI A'!D32 -> 335.9
A11: 18629 | B11: 34.8 | C11: =C10+B11 -> 370.8
A12: 18719 | B12: -83.9 | C12: =C11+B12 -> 286.9
A13: 18810 | B13: 19.3 | C13: =C12+B13 -> 306.2
A14: 18902 | B14: 22.2 | C14: =C13+B14 -> 328.4 | D14: 1951 | E14: ='RI A'!D33 -> 328.4
A15: 18994 | B15: -28.9 | C15: =C14+B15 -> 299.5
A16: 19085 | B16: -103.6 | C16: =C15+B16 -> 195.9
A17: 19176 | B17: 59.6 | C17: =C16+B17 -> 255.5
A18: 19268 | B18: 52.4 | C18: =C17+B18 -> 307.9 | D18: 1952 | E18: ='RI A'!D34 -> 307.8
A19: 19360 | B19: 2 | C19: =C18+B19 -> 309.9
A20: 19450 | B20: -48.2 | C20: =C19+B20 -> 261.7
A21: 19541 | B21: -22.6 | C21: =C20+B21 -> 239.1
A22: 19633 | B22: 26.9 | C22: =C21+B22 -> 266 | D22: 1953 | E22: ='RI A'!D35 -> 266
A23: 19725 | B23: -11.6 | C23: =C22+B23 -> 254.4
A24: 19815 | B24: -116 | C24: =C23+B24 -> 138.4
A25: 19906 | B25: 37.8 | C25: =C24+B25 -> 176.2
A26: 19998 | B26: 63.8 | C26: =C25+B26 -> 240 | D26: 1954 | E26: ='RI A'!D36 -> 240
A27: 20090 | B27: 54.8 | C27: =C26+B27 -> 294.8
A28: 20180 | B28: 20 | C28: =C27+B28 -> 314.8
A29: 20271 | B29: 55.8 | C29: =C28+B29 -> 370.6
A30: 20363 | B30: 70.8 | C30: =C29+B30 -> 441.4 | D30: 1955 | E30: ='RI A'!D37 -> 441.6
A31: 20455 | B31: 12.1 | C31: =C30+B31 -> 453.5
A32: 20546 | B32: -36.8 | C32: =C31+B32 -> 416.7
A33: 20637 | B33: 33.1 | C33: =C32+B33 -> 449.8
A34: 20729 | B34: 52.9 | C34: =C33+B34 -> 502.7 | D34: 1956 | E34: ='RI A'!D38 -> 502.8
A35: 20821 | B35: -11.3 | C35: =C34+B35 -> 491.4
A36: 20911 | B36: -53.2 | C36: =C35+B36 -> 438.2
A37: 21002 | B37: 22.1 | C37: =C36+B37 -> 460.3
A38: 21094 | B38: 28.8 | C38: =C37+B38 -> 489.1 | D38: 1957 | E38: ='RI A'!D39 -> 489.3
A39: 21186 | B39: -54.1 | C39: =C38+B39 -> 435
A40: 21276 | B40: -63.1 | C40: =C39+B40 -> 371.9
A41: 21367 | B41: 12 | C41: =C40+B41 -> 383.9
A42: 21459 | B42: 27.9 | C42: =C41+B42 -> 411.8 | D42: 1958 | E42: ='RI A'!D40 -> 412
A43: 21551 | B43: -15.1 | C43: =C42+B43 -> 396.7
A44: 21641 | B44: 13.1 | C44: =C43+B44 -> 409.8
A45: 21732 | B45: 9 | C45: =C44+B45 -> 418.8
A46: 21824 | B46: 49 | C46: =C45+B46 -> 467.8 | D46: 1959 | E46: ='RI A'!D41 -> 468
A47: 21916 | B47: 10.8 | C47: =C46+B47 -> 478.6
A48: 22007 | B48: -32 | C48: =C47+B48 -> 446.6
A49: 22098 | B49: -38.2 | C49: =C48+B49 -> 408.4
A50: 22190 | B50: 50.8 | C50: =C49+B50 -> 459.2 | D50: 1960 | E50: ='RI A'!D42 -> 459.4
A51: 22282 | B51: -83.9 | C51: =C50+B51 -> 375.3
A52: 22372 | B52: -41.3 | C52: =C51+B52 -> 334
A53: 22463 | B53: 40.8 | C53: =C52+B53 -> 374.8
A54: 22555 | B54: 63 | C54: =C53+B54 -> 437.8 | D54: 1961 | E54: ='RI A'!D43 -> 437.9
A55: 22647 | B55: -5.7 | C55: =C54+B55 -> 432.1
A56: 22737 | B56: -41.6 | C56: =C55+B56 -> 390.5
A57: 22828 | B57: 1.2 | C57: =C56+B57 -> 391.7
A58: 22920 | B58: 63 | C58: =C57+B58 -> 454.7 | D58: 1962 | E58: ='RI A'!D44 -> 454.8
A59: 23012 | B59: 15.2 | C59: =C58+B59 -> 469.9
A60: 23102 | B60: -5.6 | C60: =C59+B60 -> 464.3
A61: 23193 | B61: 37.1 | C61: =C60+B61 -> 501.4
A62: 23285 | B62: 63 | C62: =C61+B62 -> 564.4 | D62: 1963 | E62: ='RI A'!D45 -> 564.5
A63: 23377 | B63: 12.1 | C63: =C62+B63 -> 576.5
A64: 23468 | B64: -51.9 | C64: =C63+B64 -> 524.6
A65: 23559 | B65: -5.1 | C65: =C64+B65 -> 519.5
A66: 23651 | B66: 76.4 | C66: =C65+B66 -> 595.9 | D66: 1964 | E66: ='RI A'!D46 -> 596.1
A67: 23743 | B67: -8.8 | C67: =C66+B67 -> 587.1
A68: 23833 | B68: -88.6 | C68: =C67+B68 -> 498.5
A69: 23924 | B69: 40.8 | C69: =C68+B69 -> 539.3
A70: 24016 | B70: 35.7 | C70: =C69+B70 -> 575 | D70: 1965 | E70: ='RI A'!D47 -> 575.2
A71: 24108 | B71: 11.1 | C71: =C70+B71 -> 586.1
A72: 24198 | B72: -25.1 | C72: =C71+B72 -> 561
A73: 24289 | B73: -32.9 | C73: =C72+B73 -> 528.1
A74: 24381 | B74: 53 | C74: =C73+B74 -> 581.1 | D74: 1966 | E74: ='RI A'!D48 -> 581.2
A75: 24473 | B75: 19.2 | C75: =C74+B75 -> 600.3
A76: 24563 | B76: 31.6 | C76: =C75+B76 -> 631.9
A77: 24654 | B77: -7.8 | C77: =C76+B77 -> 624.1
A78: 24746 | B78: -3.1 | C78: =C77+B78 -> 621 | D78: 1967 | E78: ='RI A'!D49 -> 621
A79: 24838 | B79: -7.4 | C79: =C78+B79 -> 613.6
A80: 24929 | B80: 0.9 | C80: =C79+B80 -> 614.5
A81: 25020 | B81: -13 | C81: =C80+B81 -> 601.5
A82: 25112 | B82: 68.5 | C82: =C81+B82 -> 670 | D82: 1968 | E82: ='RI A'!D50 -> 670
A83: 25204 | B83: 3.4 | C83: =C82+B83 -> 673.4
A84: 25294 | B84: 27.6 | C84: =C83+B84 -> 701
A85: 25385 | B85: -30.6 | C85: =C84+B85 -> 670.4
A86: 25477 | B86: 47.5 | C86: =C85+B86 -> 717.9 | D86: 1969 | E86: ='RI A'!D51 -> 718
A87: 25569 | B87: 51.9 | C87: =C86+B87 -> 769.8
A88: 25659 | B88: -27.6 | C88: =C87+B88 -> 742.2
A89: 25750 | B89: -13.7 | C89: =C88+B89 -> 728.5
A90: 25842 | B90: 91.5 | C90: =C89+B90 -> 820 | D90: 1970 | E90: ='RI A'!D52 -> 820.1
A91: 25934 | B91: 100 | C91: =C90+B91 -> 920
A92: 26024 | B92: 39.9 | C92: =C91+B92 -> 959.9
A93: 26115 | B93: 29.6 | C93: =C92+B93 -> 989.5
A94: 26207 | B94: 30.4 | C94: =C93+B94 -> 1019.9 | D94: 1971 | E94: ='RI A'!D53 -> 1020
A95: 26299 | B95: 99.5 | C95: =C94+B95 -> 1119.4
A96: 26390 | B96: 163.5 | C96: =C95+B96 -> 1282.9
A97: 26481 | B97: -30.3 | C97: =C96+B97 -> 1252.6
A98: 26573 | B98: 31.9 | C98: =C97+B98 -> 1284.5 | D98: 1972 | E98: ='RI A'!D54 -> 1284.7
A99: 26665 | B99: 38.9 | C99: =C98+B99 -> 1323.4
A100: 26755 | B100: -53.2 | C100: =C99+B100 -> 1270.2
A101: 26846 | B101: -113.6 | C101: =C100+B101 -> 1156.6
A102: 26938 | B102: 250.1 | C102: =C101+B102 -> 1406.7 | D102: 1973 | E102: ='RI A'!D55 -> 1406.9
A103: 27030 | B103: 188.5 | C103: =C102+B103 -> 1595.2
A104: 27120 | B104: -5.9 | C104: =C103+B104 -> 1589.3
...

Sheet RI M
A1: Periodo mensual | B1: Res. Int. md 1925-1940 Cárdenas (1987) | C1: Reservas Int. md 1973-1982. Negrete (1999)
A7: 9376 | B7: 27.556 | C7: -
A8: 9406 | B8: 26.002 | C8: -
A9: 9437 | B9: 28.114 | C9: -
A10: 9467 | B10: 27.747 | C10: -
A11: 9498 | B11: 28.348 | C11: -
A12: 9529 | B12: 29.431 | C12: -
A13: 9557 | B13: 33.627 | C13: -
A14: 9588 | B14: 35.741 | C14: -
A15: 9618 | B15: 39.751 | C15: -
A16: 9649 | B16: 39.04 | C16: -
A17: 9679 | B17: 35.989 | C17: -
A18: 9710 | B18: 34.102 | C18: -
... A190: 14946 | B190: 63.981 | C190: -
A191: 14977 | B191: - | C191: -
A192: 15008 | B192: - | C192: -
A193: 15036 | B193: - | C193: -
A194: 15067 | B194: - | C194: -
A195: 15097 | B195: - | C195: -
A196: 15128 | B196: - | C196: -
A197: 15158 | B197: - | C197: -
A198: 15189 | B198: - | C198: -
A199: 15220 | B199: - | C199: -
A200: 15250 | B200: - | C200: -
A201: 15281 | B201: - | C201: -
A202: 15311 | B202: - | C202: -
... A297: 18203 | B297: - | C297: -
A298: 18233 | B298: - | C298: - | D298: 164
A299: 18264 | B299: - | C299: - | D299: =((D301-D298)/3)+D298 -> 165.26667
A300: 18295 | B300: - | C300: - | D300: =((D301-D298)/3)+D299 -> 166.53333
A301: 18323 | B301: - | C301: - | D301: 167.8
A302: 18354 | B302: - | C302: - | D302: =((D304-D301)/3)+D301 -> 161.8
A303: 18384 | B303: - | C303: - | D303: =((D304-D301)/3)+D302 -> 155.8
A304: 18415 | B304: - | C304: - | D304: 149.8
A305: 18445 | B305: - | C305: - | D305: =((D307-D304)/3)+D304 -> 174.46667
A306: 18476 | B306: - | C306: - | D306: =((D307-D304)/3)+D305 -> 199.13333
A307: 18507 | B307: - | C307: - | D307: 223.8
A308: 18537 | B308: - | C308: - | D308: =((D310-D307)/3)+D307 -> 261.2
A309: 18568 | B309: - | C309: - | D309: =((D310-D307)/3)+D308 -> 298.6
A310: 18598 | B310: - | C310: - | D310: 336
A311: 18629 | B311: - | C311: - | D311: =((D313-D310)/3)+D310 -> 347.6
A312: 18660 | B312: - | C312: - | D312: =((D313-D310)/3)+D311 -> 359.2
A313: 18688 | B313: - | C313: - | D313: 370.8
A314: 18719 | B314: - | C314: - | D314: =((D316-D313)/3)+D313 -> 342.83333
A315: 18749 | B315: - | C315: - | D315: =((D316-D313)/3)+D314 -> 314.86667
A316: 18780 | B316: - | C316: - | D316: 286.9
A317: 18810 | B317: - | C317: - | D317: =((D319-D316)/3)+D316 -> 293.33333
A318: 18841 | B318: - | C318: - | D318: =((D319-D316)/3)+D317 -> 299.76667
A319: 18872 | B319: - | C319: - | D319: 306.2
A320: 18902 | B320: - | C320: - | D320: =((D322-D319)/3)+D319 -> 313.6
A321: 18933 | B321: - | C321: - | D321: =((D322-D319)/3)+D320 -> 321
A322: 18963 | B322: - | C322: - | D322: 328.4
A323: 18994 | B323: - | C323: - | D323: =((D325-D322)/3)+D322 -> 318.76667
A324: 19025 | B324: - | C324: - | D324: =((D325-D322)/3)+D323 -> 309.13333
A325: 19054 | B325: - | C325: - | D325: 299.5
A326: 19085 | B326: - | C326: - | D326: =((D328-D325)/3)+D325 -> 264.96667
A327: 19115 | B327: - | C327: - | D327: =((D328-D325)/3)+D326 -> 230.43333
A328: 19146 | B328: - | C328: - | D328: 195.9
A329: 19176 | B329: - | C329: - | D329: =((D331-D328)/3)+D328 -> 215.76667
A330: 19207 | B330: - | C330: - | D330: =((D331-D328)/3)+D329 -> 235.63333
A331: 19238 | B331: - | C331: - | D331: 255.5
A332: 19268 | B332: - | C332: - | D332: =((D334-D331)/3)+D331 -> 272.96667
A333: 19299 | B333: - | C333: - | D333: =((D334-D331)/3)+D332 -> 290.43333
A334: 19329 | B334: - | C334: - | D334: 307.9
A335: 19360 | B335: - | C335: - | D335: =((D337-D334)/3)+D334 -> 308.56667
A336: 19391 | B336: - | C336: - | D336: =((D337-D334)/3)+D335 -> 309.23333
A337: 19419 | B337: - | C337: - | D337: 309.9
A338: 19450 | B338: - | C338: - | D338: =((D340-D337)/3)+D337 -> 293.83333
A339: 19480 | B339: - | C339: - | D339: =((D340-D337)/3)+D338 -> 277.76667
A340: 19511 | B340: - | C340: - | D340: 261.7
A341: 19541 | B341: - | C341: - | D341: =((D343-D340)/3)+D340 -> 254.16667
A342: 19572 | B342: - | C342: - | D342: =((D343-D340)/3)+D341 -> 246.63333
A343: 19603 | B343: - | C343: - | D343: 239.1
A344: 19633 | B344: - | C344: - | D344: =((D346-D343)/3)+D343 -> 248.06667
A345: 19664 | B345: - | C345: - | D345: =((D346-D343)/3)+D344 -> 257.03333
A346: 19694 | B346: - | C346: - | D346: 266
A347: 19725 | B347: - | C347: - | D347: =((D349-D346)/3)+D346 -> 262.13333
A348: 19756 | B348: - | C348: - | D348: =((D349-D346)/3)+D347 -> 258.26667
A349: 19784 | B349: - | C349: - | D349: 254.4
A350: 19815 | B350: - | C350: - | D350: =((D352-D349)/3)+D349 -> 215.73333
A351: 19845 | B351: - | C351: - | D351: =((D352-D349)/3)+D350 -> 177.06667
A352: 19876 | B352: - | C352: - | D352: 138.4
A353: 19906 | B353: - | C353: - | D353: =((D355-D352)/3)+D352 -> 151
A354: 19937 | B354: - | C354: - | D354: =((D355-D352)/3)+D353 -> 163.6
A355: 19968 | B355: - | C355: - | D355: 176.2
A356: 19998 | B356: - | C356: - | D356: =((D358-D355)/3)+D355 -> 197.46667
A357: 20029 | B357: - | C357: - | D357: =((D358-D355)/3)+D356 -> 218.73333
A358: 20059 | B358: - | C358: - | D358: 240
A359: 20090 | B359: - | C359: - | D359: =((D361-D358)/3)+D358 -> 258.26667
A360: 20121 | B360: - | C360: - | D360: =((D361-D358)/3)+D359 -> 276.53333
A361: 20149 | B361: - | C361: - | D361: 294.8
A362: 20180 | B362: - | C362: - | D362: =((D364-D361)/3)+D361 -> 301.46667
A363: 20210 | B363: - | C363: - | D363: =((D364-D361)/3)+D362 -> 308.13333
A364: 20241 | B364: - | C364: - | D364: 314.8
A365: 20271 | B365: - | C365: - | D365: =((D367-D364)/3)+D364 -> 333.4
A366: 20302 | B366: - | C366: - | D366: =((D367-D364)/3)+D365 -> 352
A367: 20333 | B367: - | C367: - | D367: 370.6
A368: 20363 | B368: - | C368: - | D368: =((D370-D367)/3)+D367 -> 394.2
A369: 20394 | B369: - | C369: - | D369: =((D370-D367)/3)+D368 -> 417.8
A370: 20424 | B370: - | C370: - | D370: 441.4
...

Sheet RI Base
B2: Serie original Negrete (1999) | C2: Serie corregida Negrete (1999) | D2: Res B de P original trim | E2: Reservas Banxico anual
A5: 21885 | C5: 468 | D5: 468 | E5: ='RI A'!D41 -> 468
A6: 21916 | B6: 448.3 | C6: 448.3
A7: 21947 | B7: 464.3 | C7: 464.3
A8: 21976 | B8: 480.4 | C8: 478.6 | D8: ='RI T'!C47 -> 478.6
A9: 22007 | B9: 472.4 | C9: 472.4
A10: 22037 | B10: 456.3 | C10: 456.3
A11: 22068 | B11: 448.3 | C11: 446.6 | D11: ='RI T'!C48 -> 446.6
A12: 22098 | B12: 424.3 | C12: 424.3
A13: 22129 | B13: 432.3 | C13: 432.3
A14: 22160 | B14: 416.3 | C14: 408.4 | D14: ='RI T'!C49 -> 408.4
A15: 22190 | B15: 424.3 | C15: 424.3
A16: 22221 | B16: 424.3 | C16: 424.3
A17: 22251 | B17: 456.3 | C17: 459.4 | D17: ='RI T'!C50 -> 459.2 | E17: ='RI A'!D42 -> 459.4
A18: 22282 | B18: 424.3 | C18: 424.3
A19: 22313 | B19: 392.3 | C19: 392.3
A20: 22341 | B20: 376.3 | C20: 375.3 | D20: ='RI T'!C51 -> 375.3
A21: 22372 | B21: 392.3 | C21: 392.3
A22: 22402 | B22: 368.3 | C22: 368.3
A23: 22433 | B23: 336.3 | C23: 334 | D23: ='RI T'!C52 -> 334
A24: 22463 | B24: 336.3 | C24: 336.3
A25: 22494 | B25: 376.3 | C25: 376.3
A26: 22525 | B26: 376.3 | C26: 374.8 | D26: ='RI T'!C53 -> 374.8
A27: 22555 | B27: 368.3 | C27: 368.3
A28: 22586 | B28: 392.3 | C28: 392.3
A29: 22616 | B29: 440.3 | C29: 437.9 | D29: ='RI T'!C54 -> 437.8 | E29: ='RI A'!D43 -> 437.9
A30: 22647 | B30: 416.3 | C30: 416.3
A31: 22678 | B31: 408.3 | C31: 408.3
A32: 22706 | B32: 432.3 | C32: 432.1 | D32: ='RI T'!C55 -> 432.1
A33: 22737 | B33: 432.3 | C33: 432.3
A34: 22767 | B34: 416.3 | C34: 416.3
A35: 22798 | B35: 392.3 | C35: 390.5 | D35: ='RI T'!C56 -> 390.5
A36: 22828 | B36: 400.3 | C36: 400.3
A37: 22859 | B37: 416.3 | C37: 416.3
A38: 22890 | B38: 400.3 | C38: 391.7 | D38: ='RI T'!C57 -> 391.7
A39: 22920 | B39: 392.3 | C39: 392.3
A40: 22951 | B40: 432.3 | C40: 432.3
A41: 22981 | B41: 456.3 | C41: 454.8 | D41: ='RI T'!C58 -> 454.7 | E41: ='RI A'!D44 -> 454.8
A42: 23012 | B42: 472.4 | C42: 472.4
A43: 23043 | B43: 488.4 | C43: 488.4
A44: 23071 | B44: 472.4 | C44: 469.9 | D44: ='RI T'!C59 -> 469.9
A45: 23102 | B45: 488.4 | C45: 488.4
A46: 23132 | B46: 480.4 | C46: 480.4
A47: 23163 | B47: 472.4 | C47: 464.3 | D47: ='RI T'!C60 -> 464.3
A48: 23193 | B48: 520.4 | C48: 520.4
A49: 23224 | B49: 512.4 | C49: 512.4
A50: 23255 | B50: 504.4 | C50: 501.4 | D50: ='RI T'!C61 -> 501.4
A51: 23285 | B51: 496.4 | C51: 496.4
A52: 23316 | B52: 520.4 | C52: 520.4
A53: 23346 | B53: 560.4 | C53: 564.5 | D53: ='RI T'!C62 -> 564.4 | E53: ='RI A'!D45 -> 564.5
A54: 23377 | B54: 584.4 | C54: 584.4
A55: 23408 | B55: 592.4 | C55: 592.4
A56: 23437 | B56: 576.4 | C56: 576.4 | D56: ='RI T'!C63 -> 576.5
A57: 23468 | B57: 568.4 | C57: 568.4
A58: 23498 | B58: 536.4 | C58: 536.4
A59: 23529 | B59: 528.4 | C59: 524.6 | D59: ='RI T'!C64 -> 524.6
A60: 23559 | B60: 536.4 | C60: 536.4
A61: 23590 | B61: 544.4 | C61: 544.4
A62: 23621 | B62: 520.4 | C62: 519.5 | D62: ='RI T'!C65 -> 519.5
A63: 23651 | B63: 536.4 | C63: 536.4
A64: 23682 | B64: 600.5 | C64: 600.5
A65: 23712 | B65: 616.5 | C65: 596.1 | D65: ='RI T'!C66 -> 595.9 | E65: ='RI A'!D46 -> 596.1
A66: 23743 | B66: 584.4 | C66: 584.4
A67: 23774 | B67: 584.4 | C67: 584.4
A68: 23802 | B68: 608.5 | C68: 587.1 | D68: ='RI T'!C67 -> 587.1
A69: 23833 | B69: 552.4 | C69: 552.4
A70: 23863 | B70: 544.4 | C70: 544.4
A71: 23894 | B71: 504.4 | C71: 498.5 | D71: ='RI T'!C68 -> 498.5
A72: 23924 | B72: 488.4 | C72: 488.4
A73: 23955 | B73: 552.4 | C73: 552.4
A74: 23986 | B74: 544.4 | C74: 539.3 | D74: ='RI T'!C69 -> 539.3
A75: 24016 | B75: 528.4 | C75: 528.4
A76: 24047 | B76: 552.4 | C76: 552.4
A77: 24077 | B77: 576.4 | C77: 575.2 | D77: ='RI T'!C70 -> 575 | E77: ='RI A'!D47 -> 575.2
A78: 24108 | B78: 552.4 | C78: 552.4
A79: 24139 | B79: 560.4 | C79: 560.4
A80: 24167 | B80: 568.4 | C80: 586.1 | D80: ='RI T'!C71 -> 586.1
A81: 24198 | B81: 576.4 | C81: 576.4
A82: 24228 | B82: 560.4 | C82: 560.4
A83: 24259 | B83: 544.4 | C83: 561 | D83: ='RI T'!C72 -> 561
A84: 24289 | B84: 536.4 | C84: 536.4
A85: 24320 | B85: 544.4 | C85: 544.4
A86: 24351 | B86: 504.4 | C86: 528.1 | D86: ='RI T'!C73 -> 528.1
A87: 24381 | B87: 496.4 | C87: 496.4
A88: 24412 | B88: 544.4 | C88: 544.4
A89: 24442 | B89: 576.4 | C89: 581.2 | D89: ='RI T'!C74 -> 581.1 | E89: ='RI A'!D48 -> 581.2
A90: 24473 | B90: 584.4 | C90: 584.4
A91: 24504 | B91: 616.5 | C91: 616.5
A92: 24532 | B92: 600.5 | C92: 600.3 | D92: ='RI T'!C75 -> 600.3
A93: 24563 | B93: 624.5 | C93: 624.5
A94: 24593 | B94: 624.5 | C94: 624.5
A95: 24624 | B95: 640.5 | C95: 631.9 | D95: ='RI T'!C76 -> 631.9
A96: 24654 | B96: 648.5 | C96: 648.5
A97: 24685 | B97: 608.5 | C97: 608.5
A98: 24716 | B98: 640.5 | C98: 624.1 | D98: ='RI T'!C77 -> 624.1
A99: 24746 | B99: 624.5 | C99: 624.5
A100: 24777 | B100: 624.5 | C100: 624.5
A101: 24807 | B101: 640.5 | C101: 621 | D101: ='RI T'!C78 -> 621 | E101: ='RI A'!D49 -> 621
A102: 24838 | B102: 640.5 | C102: 640.5
A103: 24869 | B103: 632.5 | C103: 632.5
...

Sheet Cuadro 1
B5: Cuadro 1. Reservas internacionales, millones de dólares
E6: Reserva primaria bruta | F6: Reserva secundaria | G6: Total
B8: 1976 | C8: 31 de diciembre | E8: 1411.3 | F8: 957 | G8: =E8+F8 -> 2368.3
B9: 1977 | C9: 31 de marzo | E9: 1615 | F9: 991 | G9: =E9+F9 -> 2606
C10: 31 de agosto | E10: 1795 | F10: 1141 | G10: =E10+F10 -> 2936
C11: 31 de diciembre | E11: 1967.8 | F11: 1246 | G11: =E11+F11 -> 3213.8
B12: 1978 | C12: 10 de marzo | E12: 2072 | F12: 1388 | G12: =E12+F12 -> 3460
C13: 31 de agosto | E13: 2119 | F13: 1828 | G13: =E13+F13 -> 3947
C14: 31 de diciembre | E14: 2303.2 | F14: 1953.6 | G14: =E14+F14 -> 4256.8
B15: 1979 | C15: 19 de mayo | E15: 2508 | F15: 1989.9 | G15: =E15+F15 -> 4497.9
C16: 31 de agosto | E16: 2638 | F16: 2647.6 | G16: =E16+F16 -> 5285.6
C17: 31 de diciembre | E17: 3087.6 | F17: 2663.5 | G17: =E17+F17 -> 5751.1
B18: 1980 | C18: 13 de junio | E18: 3452 | F18: 2665.3 | G18: =E18+F18 -> 6117.3
C19: 29 de agosto | E19: 3603 | F19: 2665.3 | G19: =E19+F19 -> 6268.3
C20: 31 de diciembre | E20: 4003 | F20: 3239.6 | G20: =E20+F20 -> 7242.6
B21: 1981 | C21: 31 de mayo | E21: 4539 | F21: 5765.2 | G21: =E21+F21 -> 10304.2
C22: 31 de agosto | E22: 4801 | F22: 5505.7 | G22: =E22+F22 -> 10306.7
C23: 31 de diciembre | E23: 5035.1 | F23: 5733.8 | G23: =E23+F23 -> 10768.9
B24: 1982 | C24: 31 de diciembre | E24: 1827.2 | F24: nd | G24: nd
B25: 1983* | C25: 31 de diciembre | E25: 4933.1 | F25: nd | G25: nd
B26: Fuente: Banco de México (Informe Anual 1980, p.28); Banco de México (Informe Anual 1981, p.21);
B28: *El Banco de México (Informe anual 1983, p. 37): "Al 31 de diciembre de 1983, los activos internacionales del Banco de México alcanzaron 4,933.1 millones de dólares, lo que significa un incremento de 3 105.9 millones respecto al nivel alcanzado en 1982."
