Workbook
Name \A: #REF!
Name \A: #REF!
Name \A: #REF!
Name \A: #REF!
Name \A: #REF!
Name \g: #REF!
Name \g: #REF!
Name \g: #REF!
Name \g: #REF!
Name \g: #REF!
Name \S: #REF!
Name \S: #REF!
Name \S: #REF!
Name \S: #REF!
Name \S: #REF!
Name ACTIVATE: #REF!
Name ACTIVATE: #REF!
Name ACTIVATE: #REF!
Name ACTIVATE: #REF!
Name ACTIVATE: #REF!
Name ASSUMPT: #REF!
Name ASSUMPT: #REF!
Name ASSUMPT: #REF!
Name ASSUMPT: #REF!
Name ASSUMPT: #REF!
Name ASSUMPTIONS: #REF!
Name ASSUMPTIONS: #REF!
Name ASSUMPTIONS: #REF!
Name ASSUMPTIONS: #REF!
Name ASSUMPTIONS: #REF!
Name basicdata1: #REF!
Name basicdata1: #REF!
Name basicdata1: #REF!
Name basicdata1: #REF!
Name basicdata1: #REF!
Name basicdata2: #REF!
Name basicdata2: #REF!
Name basicdata2: #REF!
Name basicdata2: #REF!
Name basicdata2: #REF!
Name BCA_NGDP: [5]Q6!$E$10:$AH$10
Name BMG: [5]Q6!$E$27:$AH$27
Name BOP: #REF!
Name BOP: #REF!
Name BOP: #REF!
Name BOP: #REF!
Name BOP: #REF!
Name BXG: [5]Q6!$E$19:$AH$19
Name CAPITAL: #REF!
Name CAPITAL: #REF!
Name CAPITAL: #REF!
Name CAPITAL: #REF!
Name CAPITAL: #REF!
Name CARGO_BY_TYPE: '[6]Table No.18-Exports goods+servi'!#REF!
Name CARGO_BY_TYPE: '[6]Table No.18-Exports goods+servi'!#REF!
Name CARGO_BY_TYPE: '[6]Table No.18-Exports goods+servi'!#REF!
Name CARGO_BY_TYPE: '[6]Table No.18-Exports goods+servi'!#REF!
Name CARGO_BY_TYPE: '[6]Table No.18-Exports goods+servi'!#REF!
Name CCode: [7]Codes!$A$2
Name CENTRALG: #REF!

Sheet RI Final
A1: Periodo mensual | B1: Res. Int. md 1925-1940 Cárdenas (1987) | C1: Res. Int. md 1950-1960 | D1: Res Int. md 1960-1982 Final | E1: Res Int. md 1925-1982 Resumen final
A7: 9376 | B7: ='RI M'!B7 -> 27.556 | C7: - | D7: - | E7: =B7 -> 27.556
A8: 9406 | B8: ='RI M'!B8 -> 26.002 | C8: - | D8: - | E8: =B8 -> 26.002
A9: 9437 | B9: ='RI M'!B9 -> 28.114 | C9: - | D9: - | E9: =B9 -> 28.114
A10: 9467 | B10: ='RI M'!B10 -> 27.747 | C10: - | D10: - | E10: =B10 -> 27.747
A11: 9498 | B11: ='RI M'!B11 -> 28.348 | C11: - | D11: - | E11: =B11 -> 28.348
A12: 9529 | B12: ='RI M'!B12 -> 29.431 | C12: - | D12: - | E12: =B12 -> 29.431
A13: 9557 | B13: ='RI M'!B13 -> 33.627 | C13: - | D13: - | E13: =B13 -> 33.627
A14: 9588 | B14: ='RI M'!B14 -> 35.741 | C14: - | D14: - | E14: =B14 -> 35.741
A15: 9618 | B15: ='RI M'!B15 -> 39.751 | C15: - | D15: - | E15: =B15 -> 39.751
A16: 9649 | B16: ='RI M'!B16 -> 39.04 | C16: - | D16: - | E16: =B16 -> 39.04
A17: 9679 | B17: ='RI M'!B17 -> 35.989 | C17: - | D17: - | E17: =B17 -> 35.989
A18: 9710 | B18: ='RI M'!B18 -> 34.102 | C18: - | D18: - | E18: =B18 -> 34.102
... A190: 14946 | B190: ='RI M'!B190 -> 63.981 | C190: - | D190: - | E190: =B190 -> 63.981
A191: 14977 | B191: - | C191: - | D191: - | E191: -
A192: 15008 | B192: - | C192: - | D192: - | E192: -
A193: 15036 | B193: - | C193: - | D193: - | E193: -
A194: 15067 | B194: - | C194: - | D194: - | E194: -
A195: 15097 | B195: - | C195: - | D195: - | E195: -
A196: 15128 | B196: - | C196: - | D196: - | E196: -
A197: 15158 | B197: - | C197: - | D197: - | E197: -
A198: 15189 | B198: - | C198: - | D198: - | E198: -
A199: 15220 | B199: - | C199: - | D199: - | E199: -
A200: 15250 | B200: - | C200: - | D200: - | E200: -
A201: 15281 | B201: - | C201: - | D201: - | E201: -
A202: 15311 | B202: - | C202: - | D202: - | E202: ='RI A'!D23 -> 62.3
A203: 15342 | B203: - | C203: - | D203: - | E203: -
A204: 15373 | B204: - | C204: - | D204: - | E204: -
A205: 15401 | B205: - | C205: - | D205: - | E205: -
A206: 15432 | B206: - | C206: - | D206: - | E206: -
A207: 15462 | B207: - | C207: - | D207: - | E207: -
A208: 15493 | B208: - | C208: - | D208: - | E208: -
A209: 15523 | B209: - | C209: - | D209: - | E209: -
A210: 15554 | B210: - | C210: - | D210: - | E210: -
A211: 15585 | B211: - | C211: - | D211: - | E211: -
A212: 15615 | B212: - | C212: - | D212: - | E212: -
A213: 15646 | B213: - | C213: - | D213: - | E213: -
A214: 15676 | B214: - | C214: - | D214: - | E214: ='RI A'!D24 -> 108.3
A215: 15707 | B215: - | C215: - | D215: - | E215: -
A216: 15738 | B216: - | C216: - | D216: - | E216: -
...

Sheet RI A
A1: Periodo Anual | B1: Res Int anual fin, md Cárdenas (1987), 1925-1940 Se obtuvieron de las observaciones mensuales | C1: Res Int anual promedio, md Cárdenas (1987), 1925-1940; se obtuvieron de las observaciones anuales. | D1: Res Int anual, md; Fernández (1975), 1925-1975; Banco de México, Informe Anual (1980-1990), 1976-1990. | E1: PIB mexicano nominal en millones de dólares.
A7: 1925 | B7: 27.747 | C7: 27.35475 | D7: 27.4 | E7: 2557.6892
A8: 1926 | B8: 17.295 | C8: 30.871667 | D8: 17.7 | E8: 2566.6015
A9: 1927 | B9: 16.297 | C9: 17.146417 | D9: 16.2 | E9: 2179.3154
A10: 1928 | B10: 20.061 | C10: 18.094333 | D10: 19.8 | E10: 2329.4391
A11: 1929 | B11: 26.099 | C11: 22.8745 | D11: 25 | E11: 2266.2524
A12: 1930 | B12: 13.076 | C12: 23.7105 | D12: 13.6 | E12: 2076.2046
A13: 1931 | B13: 8.848 | C13: 10.820583 | D13: 9.7 | E13: 1566.0891
A14: 1932 | B14: 31.637 | C14: 17.47925 | D14: 31.2 | E14: 1013.7549
A15: 1933 | B15: 36.297 | C15: 27.231167 | D15: 36.8 | E15: 1072.6542
A16: 1934 | B16: 52.791 | C16: 51.957 | D16: 52.9 | E16: 1153.0556
A17: 1935 | B17: 93.022 | C17: 82.665462 | D17: 93.2 | E17: 1261.1111
A18: 1936 | B18: 89.456 | C18: 88.094333 | D18: 89 | E18: 1485
... A22: 1940 | B22: 63.981 | C22: 41.86125 | D22: 63.4 | E22: 1698.1987
A23: 1941 | D23: 62.3 | E23: 1902.8513
A24: 1942 | D24: 108.3 | E24: 2202.268
A25: 1943 | D25: 242.5 | E25: 2684.861
A26: 1944 | D26: 279.5 | E26: 3873.8324
A27: 1945 | D27: 372.7 | E27: 4236.7725
A28: 1946 | D28: 273.7 | E28: 5748.8851
A29: 1947 | D29: 162.9 | E29: 6383.3333
A30: 1948 | D30: 122.6 | E30: 5843.9311
A31: 1949 | D31: 164 | E31: 4556.1511
A32: 1950 | D32: 335.9 | E32: 4879.0357
A33: 1951 | D33: 328.4 | E33: 6301.9123
A34: 1952 | D34: 307.8 | E34: 7085.3437
... A72: 1990 | D72: 10273.8 | E72: 238924.86

Sheet RI T
A1: Periodo Trimestral | B1: Variación de las Reservas Int. Trimestrales md 1950-1979 | C1: Saldo de las Reservas Int. Trimestrales md 1950-1980 | D1: Periodo Anual | E1: Res Int anual, md Fernández (1975), 1925-1975
A6: 18172 | B6: - | C6: ='RI A'!D31 -> 164 | D6: 1949 | E6: ='RI A'!D31 -> 164
A7: 18264 | B7: 3.8 | C7: ='RI A'!D31+B7 -> 167.8
A8: 18354 | B8: -18 | C8: =C7+B8 -> 149.8
A9: 18445 | B9: 74 | C9: =C8+B9 -> 223.8
A10: 18537 | B10: 112.2 | C10: =C9+B10 -> 336 | D10: 1950 | E10: ='RI A'!D32 -> 335.9
A11: 18629 | B11: 34.8 | C11: =C10+B11 -> 370.8
A12: 18719 | B12: -83.9 | C12: =C11+B12 -> 286.9
A13: 18810 | B13: 19.3 | C13: =C12+B13 -> 306.2
A14: 18902 | B14: 22.2 | C14: =C13+B14 -> 328.4 | D14: 1951 | E14: ='RI A'!D33 -> 328.4
A15: 18994 | B15: -28.9 | C15: =C14+B15 -> 299.5
A16: 19085 | B16: -103.6 | C16: =C15+B16 -> 195.9
A17: 19176 | B17: 59.6 | C17: =C16+B17 -> 255.5
A18: 19268 | B18: 52.4 | C18: =C17+B18 -> 307.9 | D18: 1952 | E18: ='RI A'!D34 -> 307.8
A19: 19360 | B19: 2 | C19: =C18+B19 -> 309.9
A20: 19450 | B20: -48.2 | C20: =C19+B20 -> 261.7
A21: 19541 | B21: -22.6 | C21: =C20+B21 -> 239.1
A22: 19633 | B22: 26.9 | C22: =C21+B22 -> 266 | D22: 1953 | E22: ='RI A'!D35 -> 266
A23: 19725 | B23: -11.6 | C23: =C22+B23 -> 254.4
A24: 19815 | B24: -116 | C24: =C23+B24 -> 138.4
A25: 19906 | B25: 37.8 | C25: =C24+B25 -> 176.2
A26: 19998 | B26: 63.8 | C26: =C25+B26 -> 240 | D26: 1954 | E26: ='RI A'!D36 -> 240
A27: 20090 | B27: 54.8 | C27: =C26+B27 -> 294.8
A28: 20180 | B28: 20 | C28: =C27+B28 -> 314.8
A29: 20271 | B29: 55.8 | C29: =C28+B29 -> 370.6
A30: 20363 | B30: 70.8 | C30: =C29+B30 -> 441.4 | D30: 1955 | E30: ='RI A'!D37 -> 441.6
A31: 20455 | B31: 12.1 | C31: =C30+B31 -> 453.5
A32: 20546 | B32: -36.8 | C32: =C31+B32 -> 416.7
A33: 20637 | B33: 33.1 | C33: =C32+B33 -> 449.8
A34: 20729 | B34: 52.9 | C34: =C33+B34 -> 502.7 | D34: 1956 | E34: ='RI A'!D38 -> 502.8
A35: 20821 | B35: -11.3 | C35: =C34+B35 -> 491.4
A36: 20911 | B36: -53.2 | C36: =C35+B36 -> 438.2
A37: 21002 | B37: 22.1 | C37: =C36+B37 -> 460.3
A38: 21094 | B38: 28.8 | C38: =C37+B38 -> 489.1 | D38: 1957 | E38: ='RI A'!D39 -> 489.3
A39: 21186 | B39: -54.1 | C39: =C38+B39 -> 435
A40: 21276 | B40: -63.1 | C40: =C39+B40 -> 371.9
A41: 21367 | B41: 12 | C41: =C40+B41 -> 383.9
A42: 21459 | B42: 27.9 | C42: =C41+B42 -> 411.8 | D42: 1958 | E42: ='RI A'!D40 -> 412
A43: 21551 | B43: -15.1 | C43: =C42+B43 -> 396.7
A44: 21641 | B44: 13.1 | C44: =C43+B44 -> 409.8
...

Sheet RI M
A1: Periodo mensual | B1: Res. Int. md 1925-1940 Cárdenas (1987) | C1: Reservas Int. md 1973-1982. Negrete (1999)
A7: 9376 | B7: 27.556 | C7: -
A8: 9406 | B8: 26.002 | C8: -
A9: 9437 | B9: 28.114 | C9: -
A10: 9467 | B10: 27.747 | C10: -
A11: 9498 | B11: 28.348 | C11: -
A12: 9529 | B12: 29.431 | C12: -
A13: 9557 | B13: 33.627 | C13: -
A14: 9588 | B14: 35.741 | C14: -
A15: 9618 | B15: 39.751 | C15: -
A16: 9649 | B16: 39.04 | C16: -
A17: 9679 | B17: 35.989 | C17: -
A18: 9710 | B18: 34.102 | C18: -
... A190: 14946 | B190: 63.981 | C190: -
A191: 14977 | B191: - | C191: -
A192: 15008 | B192: - | C192: -
A193: 15036 | B193: - | C193: -
A194: 15067 | B194: - | C194: -
A195: 15097 | B195: - | C195: -
A196: 15128 | B196: - | C196: -
A197: 15158 | B197: - | C197: -
A198: 15189 | B198: - | C198: -
A199: 15220 | B199: - | C199: -
A200: 15250 | B200: - | C200: -
A201: 15281 | B201: - | C201: -
A202: 15311 | B202: - | C202: -
... A297: 18203 | B297: - | C297: -
A298: 18233 | B298: - | C298: - | D298: 164
A299: 18264 | B299: - | C299: - | D299: =((D301-D298)/3)+D298 -> 165.26667
A300: 18295 | B300: - | C300: - | D300: =((D301-D298)/3)+D299 -> 166.53333
A301: 18323 | B301: - | C301: - | D301: 167.8
A302: 18354 | B302: - | C302: - | D302: =((D304-D301)/3)+D301 -> 161.8
A303: 18384 | B303: - | C303: - | D303: =((D304-D301)/3)+D302 -> 155.8
A304: 18415 | B304: - | C304: - | D304: 149.8
A305: 18445 | B305: - | C305: - | D305: =((D307-D304)/3)+D304 -> 174.46667
A306: 18476 | B306: - | C306: - | D306: =((D307-D304)/3)+D305 -> 199.13333
A307: 18507 | B307: - | C307: - | D307: 223.8
A308: 18537 | B308: - | C308: - | D308: =((D310-D307)/3)+D307 -> 261.2
A309: 18568 | B309: - | C309: - | D309: =((D310-D307)/3)+D308 -> 298.6
A310: 18598 | B310: - | C310: - | D310: 336
...

Sheet RI Base
B2: Serie original Negrete (1999) | C2: Serie corregida Negrete (1999) | D2: Res B de P original trim | E2: Reservas Banxico anual
A5: 21885 | C5: 468 | D5: 468 | E5: ='RI A'!D41 -> 468
A6: 21916 | B6: 448.3 | C6: 448.3
A7: 21947 | B7: 464.3 | C7: 464.3
A8: 21976 | B8: 480.4 | C8: 478.6 | D8: ='RI T'!C47 -> 478.6
A9: 22007 | B9: 472.4 | C9: 472.4
A10: 22037 | B10: 456.3 | C10: 456.3
A11: 22068 | B11: 448.3 | C11: 446.6 | D11: ='RI T'!C48 -> 446.6
A12: 22098 | B12: 424.3 | C12: 424.3
A13: 22129 | B13: 432.3 | C13: 432.3
A14: 22160 | B14: 416.3 | C14: 408.4 | D14: ='RI T'!C49 -> 408.4
A15: 22190 | B15: 424.3 | C15: 424.3
A16: 22221 | B16: 424.3 | C16: 424.3
A17: 22251 | B17: 456.3 | C17: 459.4 | D17: ='RI T'!C50 -> 459.2 | E17: ='RI A'!D42 -> 459.4
A18: 22282 | B18: 424.3 | C18: 424.3
A19: 22313 | B19: 392.3 | C19: 392.3
A20: 22341 | B20: 376.3 | C20: 375.3 | D20: ='RI T'!C51 -> 375.3
A21: 22372 | B21: 392.3 | C21: 392.3
A22: 22402 | B22: 368.3 | C22: 368.3
A23: 22433 | B23: 336.3 | C23: 334 | D23: ='RI T'!C52 -> 334
A24: 22463 | B24: 336.3 | C24: 336.3
A25: 22494 | B25: 376.3 | C25: 376.3
A26: 22525 | B26: 376.3 | C26: 374.8 | D26: ='RI T'!C53 -> 374.8
A27: 22555 | B27: 368.3 | C27: 368.3
A28: 22586 | B28: 392.3 | C28: 392.3
A29: 22616 | B29: 440.3 | C29: 437.9 | D29: ='RI T'!C54 -> 437.8 | E29: ='RI A'!D43 -> 437.9
A30: 22647 | B30: 416.3 | C30: 416.3
A31: 22678 | B31: 408.3 | C31: 408.3
A32: 22706 | B32: 432.3 | C32: 432.1 | D32: ='RI T'!C55 -> 432.1
A33: 22737 | B33: 432.3 | C33: 432.3
A34: 22767 | B34: 416.3 | C34: 416.3
A35: 22798 | B35: 392.3 | C35: 390.5 | D35: ='RI T'!C56 -> 390.5
A36: 22828 | B36: 400.3 | C36: 400.3
A37: 22859 | B37: 416.3 | C37: 416.3
A38: 22890 | B38: 400.3 | C38: 391.7 | D38: ='RI T'!C57 -> 391.7
A39: 22920 | B39: 392.3 | C39: 392.3
A40: 22951 | B40: 432.3 | C40: 432.3
A41: 22981 | B41: 456.3 | C41: 454.8 | D41: ='RI T'!C58 -> 454.7 | E41: ='RI A'!D44 -> 454.8
A42: 23012 | B42: 472.4 | C42: 472.4
A43: 23043 | B43: 488.4 | C43: 488.4
...

Sheet Cuadro 1
B5: Cuadro 1. Reservas internacionales, millones de dólares
E6: Reserva primaria bruta | F6: Reserva secundaria | G6: Total
B8: 1976 | C8: 31 de diciembre | E8: 1411.3 | F8: 957 | G8: =E8+F8 -> 2368.3
B9: 1977 | C9: 31 de marzo | E9: 1615 | F9: 991 | G9: =E9+F9 -> 2606
C10: 31 de agosto | E10: 1795 | F10: 1141 | G10: =E10+F10 -> 2936
C11: 31 de diciembre | E11: 1967.8 | F11: 1246 | G11: =E11+F11 -> 3213.8
B12: 1978 | C12: 10 de marzo | E12: 2072 | F12: 1388 | G12: =E12+F12 -> 3460
C13: 31 de agosto | E13: 2119 | F13: 1828 | G13: =E13+F13 -> 3947
C14: 31 de diciembre | E14: 2303.2 | F14: 1953.6 | G14: =E14+F14 -> 4256.8
B15: 1979 | C15: 19 de mayo | E15: 2508 | F15: 1989.9 | G15: =E15+F15 -> 4497.9
C16: 31 de agosto | E16: 2638 | F16: 2647.6 | G16: =E16+F16 -> 5285.6
C17: 31 de diciembre | E17: 3087.6 | F17: 2663.5 | G17: =E17+F17 -> 5751.1
B18: 1980 | C18: 13 de junio | E18: 3452 | F18: 2665.3 | G18: =E18+F18 -> 6117.3
C19: 29 de agosto | E19: 3603 | F19: 2665.3 | G19: =E19+F19 -> 6268.3
C20: 31 de diciembre | E20: 4003 | F20: 3239.6 | G20: =E20+F20 -> 7242.6
B21: 1981 | C21: 31 de mayo | E21: 4539 | F21: 5765.2 | G21: =E21+F21 -> 10304.2
C22: 31 de agosto | E22: 4801 | F22: 5505.7 | G22: =E22+F22 -> 10306.7
C23: 31 de diciembre | E23: 5035.1 | F23: 5733.8 | G23: =E23+F23 -> 10768.9
B24: 1982 | C24: 31 de diciembre | E24: 1827.2 | F24: nd | G24: nd
B25: 1983* | C25: 31 de diciembre | E25: 4933.1 | F25: nd | G25: nd
B26: Fuente: Banco de México (Informe Anual 1980, p.28); Banco de México (Informe Anual 1981, p.21);
B28: *El Banco de México (Informe anual 1983, p. 37): "Al 31 de diciembre de 1983, los activos internacionales del Banco de México alcanzaron 4,933.1 millones de dólares, lo que significa un incremento de 3 105.9 millones respecto al nivel alcanzado en 1982."
