Workbook

Sheet SMIN
B1: Proceso de ponderación del salario mínimo
A2: Año | B2: IPC promedio, base 1950=100 | C2: IPC promedio % | D2: SM Urbano 1934-1964 pesos diarios | E2: SM Fusión con observados y ponderados | F2: SM Fusión % | G2: Indice del salario mínimo 1950=100 | H2: Salario mínimo real pesos 1950=100 | I2: Indice del salario mínimo real 1950=100
A5: 1920 | D5: - | E5: - | F5: - | G5: -
A6: 1921 | D6: - | E6: - | F6: - | G6: -
A7: 1922 | D7: - | E7: - | F7: - | G7: -
A8: 1923 | D8: - | E8: - | F8: - | G8: -
A9: 1924 | D9: - | E9: - | F9: - | G9: -
A10: 1925 | D10: - | E10: - | F10: - | G10: -
A11: 1926 | D11: - | E11: - | F11: - | G11: -
A12: 1927 | D12: - | E12: - | F12: - | G12: -
A13: 1928 | D13: - | E13: - | F13: - | G13: -
A14: 1929 | D14: - | E14: - | F14: - | G14: -
A15: 1930 | D15: - | E15: - | F15: - | G15: -
A16: 1931 | D16: - | E16: - | F16: - | G16: -
... A18: 1933 | D18: - | E18: - | F18: - | G18: -
A19: 1934 | B19: 24.103036 | D19: 1.15 | E19: =D19 -> 1.15 | G19: =(E19/$E$35)*100 -> 34.328358 | H19: =(E19/B19)*100 -> 4.7711832 | I19: =(H19/H$35)*100 -> 142.42338
A20: 1935 | B20: 24.028833 | C20: =((B20/B19)-1)*100 -> -0.30785469 | D20: 1.15 | E20: =D20 -> 1.15 | F20: =((E20/E19)-1)*100 -> 0 | G20: =(E20/$E$35)*100 -> 34.328358 | H20: =(E20/B20)*100 -> 4.7859169 | I20: =(H20/H$35)*100 -> 142.86319
A21: 1936 | B21: 25.540441 | C21: =((B21/B20)-1)*100 -> 6.2908064 | D21: 1.31 | E21: =D21 -> 1.31 | F21: =((E21/E20)-1)*100 -> 13.913043 | G21: =(E21/$E$35)*100 -> 39.104478 | H21: =(E21/B21)*100 -> 5.1291205 | I21: =(H21/H$35)*100 -> 153.10808
A22: 1937 | B22: 30.244868 | C22: =((B22/B21)-1)*100 -> 18.419524 | D22: 1.31 | E22: =D22 -> 1.31 | F22: =((E22/E21)-1)*100 -> 0 | G22: =(E22/$E$35)*100 -> 39.104478 | H22: =(E22/B22)*100 -> 4.3313133 | I22: =(H22/H$35)*100 -> 129.29293
A23: 1938 | B23: 32.142328 | C23: =((B23/B22)-1)*100 -> 6.2736576 | D23: 1.46 | E23: =D23 -> 1.46 | F23: =((E23/E22)-1)*100 -> 11.450382 | G23: =(E23/$E$35)*100 -> 43.58209 | H23: =(E23/B23)*100 -> 4.542297 | I23: =(H23/H$35)*100 -> 135.59096
A24: 1939 | B24: 32.318293 | C24: =((B24/B23)-1)*100 -> 0.54745729 | D24: 1.46 | E24: =D24 -> 1.46 | F24: =((E24/E23)-1)*100 -> 0 | G24: =(E24/$E$35)*100 -> 43.58209 | H24: =(E24/B24)*100 -> 4.5175653 | I24: =(H24/H$35)*100 -> 134.85269
A25: 1940 | B25: 32.815305 | C25: =((B25/B24)-1)*100 -> 1.5378641 | D25: 1.52 | E25: =D25 -> 1.52 | F25: =((E25/E24)-1)*100 -> 4.109589 | G25: =(E25/$E$35)*100 -> 45.373134 | H25: =(E25/B25)*100 -> 4.631985 | I25: =(H25/H$35)*100 -> 138.26821
A26: 1941 | B26: 34.97561 | C26: =((B26/B25)-1)*100 -> 6.583225 | D26: 1.52 | E26: =D26 -> 1.52 | F26: =((E26/E25)-1)*100 -> 0 | G26: =(E26/$E$35)*100 -> 45.373134 | H26: =(E26/B26)*100 -> 4.3458856 | I26: =(H26/H$35)*100 -> 129.72793
A27: 1942 | B27: 38.600122 | C27: =((B27/B26)-1)*100 -> 10.362971 | D27: 1.52 | E27: =D27 -> 1.52 | F27: =((E27/E26)-1)*100 -> 0 | G27: =(E27/$E$35)*100 -> 45.373134 | H27: =(E27/B27)*100 -> 3.9378113 | I27: =(H27/H$35)*100 -> 117.54661
A28: 1943 | B28: 46.630591 | C28: =((B28/B27)-1)*100 -> 20.804256 | D28: 1.52 | E28: =D28 -> 1.52 | F28: =((E28/E27)-1)*100 -> 0 | G28: =(E28/$E$35)*100 -> 45.373134 | H28: =(E28/B28)*100 -> 3.2596627 | I28: =(H28/H$35)*100 -> 97.303366
A29: 1944 | B29: 57.128075 | C29: =((B29/B28)-1)*100 -> 22.512011 | D29: 1.9 | E29: =D29 -> 1.9 | F29: =((E29/E28)-1)*100 -> 25 | G29: =(E29/$E$35)*100 -> 56.716418 | H29: =(E29/B29)*100 -> 3.3258604 | I29: =(H29/H$35)*100 -> 99.279414
A30: 1945 | B30: 63.587654 | C30: =((B30/B29)-1)*100 -> 11.30719 | D30: 1.9 | E30: =D30 -> 1.9 | F30: =((E30/E29)-1)*100 -> 0 | G30: =(E30/$E$35)*100 -> 56.716418 | H30: =(E30/B30)*100 -> 2.9880014 | I30: =(H30/H$35)*100 -> 89.194072
A31: 1946 | B31: 73.189011 | C31: =((B31/B30)-1)*100 -> 15.099404 | D31: 2.48 | E31: =D31 -> 2.48 | F31: =((E31/E30)-1)*100 -> 30.526316 | G31: =(E31/$E$35)*100 -> 74.029851 | H31: =(E31/B31)*100 -> 3.3884868 | I31: =(H31/H$35)*100 -> 101.14886
... A48: 1963 | B48: 196.64511 | C48: =((B48/B47)-1)*100 -> 0.5779665 | D48: 12.44 | E48: =D48 -> 12.44 | F48: =((E48/E47)-1)*100 -> 0 | G48: =(E48/$E$35)*100 -> 371.34328 | H48: =(E48/B48)*100 -> 6.3261171 | I48: =(H48/H$35)*100 -> 188.83932
A49: 1964 | B49: 204.98183 | C49: =((B49/B48)-1)*100 -> 4.2394746 | D49: 16 | E49: ='SMIN Pond'!H49 -> 17.79 | F49: =((E49/E48)-1)*100 -> 43.006431 | G49: =(E49/$E$35)*100 -> 531.04478 | H49: =(E49/B49)*100 -> 8.678818 | I49: =(H49/H$35)*100 -> 259.06919
A50: 1965 | B50: 208.72932 | C50: =((B50/B49)-1)*100 -> 1.828205 | D50: - | E50: ='SMIN Pond'!H50 -> 17.79 | F50: =((E50/E49)-1)*100 -> 0 | G50: =(E50/$E$35)*100 -> 531.04478 | H50: =(E50/B50)*100 -> 8.523 | I50: =(H50/H$35)*100 -> 254.41791
A51: 1966 | B51: 211.4621 | C51: =((B51/B50)-1)*100 -> 1.3092476 | D51: - | E51: ='SMIN Pond'!H51 -> 20.9 | F51: =((E51/E50)-1)*100 -> 17.481731 | G51: =(E51/$E$35)*100 -> 623.8806 | H51: =(E51/B51)*100 -> 9.8835676 | I51: =(H51/H$35)*100 -> 295.03187
A52: 1967 | B52: 217.49268 | C52: =((B52/B51)-1)*100 -> 2.8518458 | D52: - | E52: ='SMIN Pond'!H52 -> 20.9 | F52: =((E52/E51)-1)*100 -> 0 | G52: =(E52/$E$35)*100 -> 623.8806 | H52: =(E52/B52)*100 -> 9.609519 | I52: =(H52/H$35)*100 -> 286.85131
A53: 1968 | B53: 221.70139 | C53: =((B53/B52)-1)*100 -> 1.9351076 | D53: - | E53: ='SMIN Pond'!H53 -> 24.15 | F53: =((E53/E52)-1)*100 -> 15.550239 | G53: =(E53/$E$35)*100 -> 720.89552 | H53: =(E53/B53)*100 -> 10.89303 | I53: =(H53/H$35)*100 -> 325.16508
A54: 1969 | B54: 227.30336 | C54: =((B54/B53)-1)*100 -> 2.5268086 | D54: - | E54: ='SMIN Pond'!H54 -> 24.15 | F54: =((E54/E53)-1)*100 -> 0 | G54: =(E54/$E$35)*100 -> 720.89552 | H54: =(E54/B54)*100 -> 10.624568 | I54: =(H54/H$35)*100 -> 317.15128
A55: 1970 | B55: 238.67625 | C55: =((B55/B54)-1)*100 -> 5.0033969 | D55: - | E55: ='SMIN Pond'!H55 -> 27.93 | F55: =((E55/E54)-1)*100 -> 15.652174 | G55: =(E55/$E$35)*100 -> 833.73134 | H55: =(E55/B55)*100 -> 11.702044 | I55: =(H55/H$35)*100 -> 349.31474
A56: 1971 | B56: 251.72951 | C56: =((B56/B55)-1)*100 -> 5.469021 | D56: - | E56: ='SMIN Pond'!H56 -> 27.93 | F56: =((E56/E55)-1)*100 -> 0 | G56: =(E56/$E$35)*100 -> 833.73134 | H56: =(E56/B56)*100 -> 11.095243 | I56: =(H56/H$35)*100 -> 331.20128
A57: 1972 | B57: 264.17423 | C57: =((B57/B56)-1)*100 -> 4.9436884 | D57: - | E57: ='SMIN Pond'!H57 -> 33.23 | F57: =((E57/E56)-1)*100 -> 18.976011 | G57: =(E57/$E$35)*100 -> 991.9403 | H57: =(E57/B57)*100 -> 12.57882 | I57: =(H57/H$35)*100 -> 375.48715
A58: 1973 | B58: 296.09161 | C58: =((B58/B57)-1)*100 -> 12.081945 | D58: - | E58: ='SMIN Pond'!H58 -> 34.97125 | F58: =((E58/E57)-1)*100 -> 5.239994 | G58: =(E58/$E$35)*100 -> 1043.9179 | H58: =(E58/B58)*100 -> 11.810956 | I58: =(H58/H$35)*100 -> 352.56585
A59: 1974 | B59: 366.51412 | C59: =((B59/B58)-1)*100 -> 23.784025 | D59: - | E59: ='SMIN Pond'!H59 -> 47.369792 | F59: =((E59/E58)-1)*100 -> 35.453527 | G59: =(E59/$E$35)*100 -> 1414.0236 | H59: =(E59/B59)*100 -> 12.924411 | I59: =(H59/H$35)*100 -> 385.80332
...

Sheet SMIN Pond
B1: Proceso de ponderación del salario mínimo
A2: Periodos | B2: SM general | C2: Número de meses | D2: Ponderador | E2: Dato ponderado | F2: Año | G2: Salario Mínimo Ponderado (Ver renglón de 1964, abajo)
A4: 1964-1965 | B4: 17.79 | C4: - | D4: - | E4: - | F4: -
A5: 1966-1967 | B5: 20.9 | C5: - | D5: - | E5: - | F5: -
A6: 1968-1969 | B6: 24.15 | C6: - | D6: - | E6: - | F6: -
A7: 1970-1971 | B7: 27.93 | C7: - | D7: - | E7: - | F7: -
A8: 1972 | B8: 33.23 | C8: - | D8: - | E8: - | F8: -
A9: 1973 (1 ene.-16 sept.) | B9: 33.23 | C9: 8.5 | D9: =(C9*30)/360 -> 0.70833333 | E9: - | F9: -
A10: 1973 (17 sept.-31 dic.) | B10: 39.2 | C10: 3.5 | D10: =(C10*30)/360 -> 0.29166667 | E10: =(D9*B9)+(D10*B10) -> 34.97125 | F10: 1973
A11: 1974 (1 ene.-7 oct.) | B11: 45.03 | C11: 9.25 | D11: =(C11*30)/360 -> 0.77083333 | E11: - | F11: -
A12: 1974 (8 oct.-31 dic.) | B12: 55.24 | C12: 2.75 | D12: =(C12*30)/360 -> 0.22916667 | E12: =(D11*B11)+(D12*B12) -> 47.369792 | F12: 1974
A13: 1975 | B13: 55.24 | C13: - | D13: - | E13: - | F13: -
A14: 1976 (1 ene.-30 sept.) | B14: 67.26 | C14: 9 | D14: =(C14*30)/360 -> 0.75 | E14: - | F14: -
A15: 1976 (1 oct.-31 dic.) | B15: 82.74 | C15: 3 | D15: =(C15*30)/360 -> 0.25 | E15: =(D14*B14)+(D15*B15) -> 71.13 | F15: 1976
A16: 1977 | B16: 91.2 | C16: - | D16: - | E16: - | F16: -
A17: 1978 | B17: 103.49 | C17: - | D17: - | E17: - | F17: -
A18: 1979 | B18: 119.78 | C18: - | D18: - | E18: - | F18: -
A19: 1980 | B19: 140.69 | C19: - | D19: - | E19: - | F19: -
A20: 1981 | B20: 183.05 | C20: - | D20: - | E20: - | F20: -
A21: 1982 (1 ene.-31 oct.) | B21: 244.83 | C21: 10 | D21: =(C21*30)/360 -> 0.83333333 | E21: - | F21: -
A22: 1982 (1 nov.-31 dic.) | B22: 318.28 | C22: 2 | D22: =(C22*30)/360 -> 0.16666667 | E22: =(D21*B21)+(D22*B22) -> 257.07167 | F22: 1982
A23: 1983 (1 ene.-13 jun.) | B23: 398.09 | C23: 5.5 | D23: =(C23*30)/360 -> 0.45833333 | E23: - | F23: -
A24: 1983 (14 jun.-31 dic.) | B24: 459.01 | C24: 6.5 | D24: =(C24*30)/360 -> 0.54166667 | E24: =(D23*B23)+(D24*B24) -> 431.08833 | F24: 1983
A25: 1984 (1 ene.-10 jun.) | B25: 598.66 | C25: 9.3 | D25: =(C25*30)/360 -> 0.775 | E25: - | F25: -
A26: 1984 (11 jun.-31 dic.) | B26: 719.02 | C26: 2.7 | D26: =(C26*30)/360 -> 0.225 | E26: =(D25*B25)+(D26*B26) -> 625.741 | F26: 1984
A27: 1985 (1 ene.-3 jun.) | B27: 938.81 | C27: 5.1 | D27: =(C27*30)/360 -> 0.425 | E27: - | F27: -
A28: 1985 (4 jun.-31 dic.) | B28: 1107.64 | C28: 6.9 | D28: =(C28*30)/360 -> 0.575 | E28: =(D27*B27)+(D28*B28) -> 1035.8872 | F28: 1985
A29: 1986 (1 ene.-31 may.) | B29: 1474.5 | C29: 5 | D29: =(C29*30)/360 -> 0.41666667 | E29: - | F29: -
A30: 1986 (1 jun.-21 oct.) | B30: 1844.6 | C30: 4.7 | D30: =(C30*30)/360 -> 0.39166667 | E30: - | F30: -
A31: 1986 (22 oct.-31 dic.) | B31: 2243.77 | C31: 2.3 | D31: =(C31*30)/360 -> 0.19166667 | E31: =(D29*B29)+(D30*B30)+(D31*B31) -> 1766.8992 | F31: 1986
A32: 1987 (1 ene.-31 mar.) | B32: 2760.83 | C32: 3 | D32: =(C32*30)/360 -> 0.25 | E32: - | F32: -
A33: 1987 (1 abr.-30 jun.) | B33: 3314.79 | C33: 3 | D33: =(C33*30)/360 -> 0.25 | E33: - | F33: -
A34: 1987 (1 jul.-30 sept.) | B34: 4080.08 | C34: 3 | D34: =(C34*30)/360 -> 0.25 | E34: - | F34: -
A35: 1987 (1 oct.-15 dic.) | B35: 5101.95 | C35: 2.5 | D35: =(C35*30)/360 -> 0.20833333 | E35: - | F35: -
A36: 1987 (16 dic.-31 dic.) | B36: 5867.24 | C36: 0.5 | D36: =(C36*30)/360 -> 0.041666667 | E36: =(D32*B32)+(D33*B33)+(D34*B34)+(D35*B35)+(D36*B36) -> 3846.2996 | F36: 1987
A37: 1988 (1 ene.-29 feb.) | B37: 7040.69 | C37: 2 | D37: =(C37*30)/360 -> 0.16666667 | E37: - | F37: -
A38: 1988 (1 mar.-31 dic.) | B38: 7252.92 | C38: 10 | D38: =(C38*30)/360 -> 0.83333333 | E38: =(D37*B37)+(D38*B38) -> 7217.5483 | F38: 1988
A39: 1989 (1 ene.-30 jun) | B39: 7834 | C39: 6 | D39: =(C39*30)/360 -> 0.5
A40: 1989 (1 jul.-3 dic.) | B40: 8306 | C40: 5 | D40: =(C40*30)/360 -> 0.41666667
A41: 1989 (4 dic.-31 dic.) | B41: 9139 | C41: 1 | D41: =(C41*30)/360 -> 0.083333333 | E41: =(D39*B39)+(D40*B40)+(D41*B41) -> 8139.4167 | F41: 1989
...

Sheet SIND
B1: Salario medio industrial; Fuente Bortz (1988) | F1: =C35 -> 17.1
A2: Año | B2: Salario semanal real medio industrial ajustado 1950=100 | C2: Salario semanal real manufacturero del DF | D2: Salario semanal real manufacturero del DF t/c | E2: Salario mínimo real nominal 1950=100 | F2: Salario mínimo real t/c
A5: 1920 | B5: - | E5: -
A6: 1921 | B6: - | E6: -
A7: 1922 | B7: - | E7: -
A8: 1923 | B8: - | E8: -
A9: 1924 | B9: - | E9: -
A10: 1925 | B10: - | E10: -
A11: 1926 | B11: - | E11: -
A12: 1927 | B12: - | E12: -
A13: 1928 | B13: - | E13: -
A14: 1929 | B14: - | E14: -
A15: 1930 | B15: - | E15: -
A16: 1931 | B16: - | E16: -
... A18: 1933 | B18: - | E18: -
A19: 1934 | B19: =(C19/F$1)*100 -> 182.95902 | C19: 31.285993 | E19: =SMIN!I19 -> 142.42338
A20: 1935 | B20: =(C20/F$1)*100 -> 182.06034 | C20: 31.132318 | D20: -0.49119464 | E20: =SMIN!I20 -> 142.86319 | F20: =((E20/E19)-1)*100 -> 0.30880536
A21: 1936 | B21: =(C21/F$1)*100 -> 193.65961 | C21: 33.115794 | D21: 6.371116 | E21: =SMIN!I21 -> 153.10808 | F21: =((E21/E20)-1)*100 -> 7.171116
A22: 1937 | B22: =(C22/F$1)*100 -> 161.98762 | C22: 27.699883 | D22: -16.354465 | E22: =SMIN!I22 -> 129.29293 | F22: =((E22/E21)-1)*100 -> -15.554465
A23: 1938 | B23: =(C23/F$1)*100 -> 168.58234 | C23: 28.82758 | D23: 4.0711262 | E23: =SMIN!I23 -> 135.59096 | F23: =((E23/E22)-1)*100 -> 4.8711262
A24: 1939 | B24: =(C24/F$1)*100 -> 166.31579 | C24: 28.44 | D24: -1.3444765 | E24: =SMIN!I24 -> 134.85269 | F24: =((E24/E23)-1)*100 -> -0.54447652
A25: 1940 | B25: =(C25/F$1)*100 -> 150.46784 | C25: 25.73 | D25: =((C25/C24)-1)*100 -> -9.5288326 | E25: =SMIN!I25 -> 138.26821 | F25: =((E25/E24)-1)*100 -> 2.5327743
A26: 1941 | B26: =(C26/F$1)*100 -> 143.04094 | C26: 24.46 | D26: =((C26/C25)-1)*100 -> -4.9358725 | E26: =SMIN!I26 -> 129.72793 | F26: =((E26/E25)-1)*100 -> -6.1766052
A27: 1942 | B27: =(C27/F$1)*100 -> 118.12865 | C27: 20.2 | D27: =((C27/C26)-1)*100 -> -17.41619 | E27: =SMIN!I27 -> 117.54661 | F27: =((E27/E26)-1)*100 -> -9.3898984
A28: 1943 | B28: =(C28/F$1)*100 -> 120.76023 | C28: 20.65 | D28: =((C28/C27)-1)*100 -> 2.2277228 | E28: =SMIN!I28 -> 97.303366 | F28: =((E28/E27)-1)*100 -> -17.22146
A29: 1944 | B29: =(C29/F$1)*100 -> 95.847953 | C29: 16.39 | D29: =((C29/C28)-1)*100 -> -20.62954 | E29: =SMIN!I29 -> 99.279414 | F29: =((E29/E28)-1)*100 -> 2.0308123
A30: 1945 | B30: =(C30/F$1)*100 -> 90.877193 | C30: 15.54 | D30: =((C30/C29)-1)*100 -> -5.1860891 | E30: =SMIN!I30 -> 89.194072 | F30: =((E30/E29)-1)*100 -> -10.158544
A31: 1946 | B31: =(C31/F$1)*100 -> 82.748538 | C31: 14.15 | D31: =((C31/C30)-1)*100 -> -8.9446589 | E31: =SMIN!I31 -> 101.14886 | F31: =((E31/E30)-1)*100 -> 13.40312
A32: 1947 | B32: =(C32/F$1)*100 -> 83.976608 | C32: 14.36 | D32: =((C32/C31)-1)*100 -> 1.4840989 | E32: =SMIN!I32 -> 95.480961 | F32: =((E32/E31)-1)*100 -> -5.6035224
A33: 1948 | B33: =(C33/F$1)*100 -> 94.327485 | C33: 16.13 | D33: =((C33/C32)-1)*100 -> 12.325905 | E33: =SMIN!I33 -> 107.97842 | F33: =((E33/E32)-1)*100 -> 13.088955
A34: 1949 | B34: =(C34/F$1)*100 -> 94.269006 | C34: 16.12 | D34: =((C34/C33)-1)*100 -> -0.06199628 | E34: =SMIN!I34 -> 98.561386 | F34: =((E34/E33)-1)*100 -> -8.7212194
A35: 1950 | B35: =(C35/F$1)*100 -> 100 | C35: 17.1 | D35: =((C35/C34)-1)*100 -> 6.0794045 | E35: =SMIN!I35 -> 100 | F35: =((E35/E34)-1)*100 -> 1.4596118
A36: 1951 | B36: =(C36/F$1)*100 -> 91.988304 | C36: 15.73 | D36: =((C36/C35)-1)*100 -> -8.0116959 | E36: =SMIN!I36 -> 80.386201 | F36: =((E36/E35)-1)*100 -> -19.613799
... A60: 1975 | B60: =(C60/F$1)*100 -> 221.52047 | C60: 37.88 | D60: =((C60/C59)-1)*100 -> -3.5395977 | E60: =SMIN!I60 -> 391.40815 | F60: =((E60/E59)-1)*100 -> 1.452768
A61: 1976 | B61: =(C61/F$1)*100 -> 244.49797 | C61: 41.809152 | D61: 10.37263 | E61: =SMIN!I61 -> 435.13873 | F61: =((E61/E60)-1)*100 -> 11.17263
A62: 1977 | B62: =(C62/F$1)*100 -> 240.93519 | C62: 41.199918 | D62: -1.4571802 | E62: =SMIN!I62 -> 432.27909 | F62: =((E62/E61)-1)*100 -> -0.65718017
A63: 1978 | B63: =(C63/F$1)*100 -> 230.84079 | C63: 39.473776 | D63: -4.189673 | E63: =SMIN!I63 -> 417.62624 | F63: =((E63/E62)-1)*100 -> -3.389673
A64: 1979 | B64: =(C64/F$1)*100 -> 224.20777 | C64: 38.339529 | D64: -2.8734184 | E64: =SMIN!I64 -> 408.9671 | F64: =((E64/E63)-1)*100 -> -2.0734184
A65: 1980 | B65: =(C65/F$1)*100 -> 206.63079 | C65: 35.333866 | D65: -7.8395938 | E65: =SMIN!I65 -> 380.17748 | F65: =((E65/E64)-1)*100 -> -7.0395938
A66: 1981 | B66: =(C66/F$1)*100 -> 208.49066 | C66: 35.651902 | D66: 0.90008967 | E66: =SMIN!I66 -> 386.64083 | F66: =((E66/E65)-1)*100 -> 1.7000897
...
