Workbook
Name \A: #REF!
Name \g: #REF!
Name \S: #REF!
Name ACTIVATE: #REF!
Name ASSUMPT: #REF!
Name ASSUMPTIONS: #REF!
Name basicdata1: #REF!
Name basicdata2: #REF!
Name BCA_NGDP: [5]Q6!$E$10:$AH$10
Name BMG: [5]Q6!$E$27:$AH$27
Name BOP: #REF!
Name BXG: [5]Q6!$E$19:$AH$19
Name CAPITAL: #REF!
Name CARGO_BY_TYPE: '[6]Table No.18-Exports goods+servi'!#REF!
Name CCode: [7]Codes!$A$2
Name CENTRALG: #REF!
Name CFLOW: #REF!
Name chart1: #REF!
Name Chart11: #REF!
Name chart2: #REF!
Name Chart22: #REF!
Name COUNTER: #REF!
Name CurrVintage: [8]Current!$D$66
Name Date: [7]Current!$D$67
Name DEBT: #REF!
Name Discount_NC: [9]NPV_base!#REF!
Name DiscountRate: #REF!
Name empty: [1]Micro!#REF!
Name EX_IMP: #REF!
Name GCB_NGDP: [5]Q4!$E$19:$AH$19
Name GGB_NGDP: [5]Q4!$E$41:$AH$41
Name Grace_NC: [9]NPV_base!#REF!
Name IMPORT: #REF!
Name IN_OUT: #REF!
Name IN1_: #REF!
Name Interest_NC: [9]NPV_base!#REF!
Name InterestRate: #REF!
Name LUR: [5]Q3!$E$16:$AH$16
Name MACRO: #REF!
Name Maturity_NC: [9]NPV_base!#REF!
Name MCV: [10]Q2!$E$101:$AH$101
Name MIDDLE: #REF!
Name NAMES: [11]CUE!#REF!
Name NAMES: [11]CUE!#REF!
Name NAMES: [11]CUE!#REF!
Name NAMES: [11]CUE!#REF!
Name NGDP: [10]Q2!$E$54:$AH$54
Name NGDP_RG: [5]Q1!$E$51:$AH$51
Name OnShow: [12]!OnShow
Name PCPIG: [5]Q3!$E$26:$AH$26
Name PRICES: #REF!
Name PSECTOR: #REF!
Name REDB1: #REF!
Name REDB2: #REF!
Name REDB3: #REF!
Name REDB4: #REF!
Name REDB5: #REF!
Name REDB6: #REF!
Name REDB7: #REF!
Name REDB8: #REF!

Sheet TCA
A1: Versión 05 | B1: Tipo de cambio pesos por dólar, datos anuales; y valuación fin y promedio
A2: Año | B2: Tipo de Cambio Promedio en pesos | C2: Tipo de Cambio Promedio t/c | D2: Tipo de Cambio Fin en pesos | E2: Tipo de Cambio Fin t/c | F2: Índice de Valuación prom 1964=100 | G2: Índice de Valuación prom t/c | H2: Índice Valuación fin 1964=100 | I2: Índice Valuación fin t/c
A5: 1920 | B5: 2.01 | C5: - | D5: 2.03 | E5: - | F5: - | G5: - | H5: - | I5: -
A6: 1921 | B6: 2.04 | C6: - | D6: 2.06 | E6: - | G6: - | H6: - | I6: -
A7: 1922 | B7: 2.05 | C7: =((B7/B6)-1)*100 -> 0.49019608 | D7: 2.045 | E7: =((D7/D6)-1)*100 -> -0.72815534 | F7: ='TCA B64'!I7 -> 122.91351 | G7: - | H7: - | I7: -
A8: 1923 | B8: 2.06 | C8: =((B8/B7)-1)*100 -> 0.48780488 | D8: 2.055 | E8: =((D8/D7)-1)*100 -> 0.48899756 | F8: ='TCA B64'!I8 -> 125.85901 | G8: =((F8/F7)-1)*100 -> 2.3963983 | H8: - | I8: -
A9: 1924 | B9: 2.07 | C9: =((B9/B8)-1)*100 -> 0.48543689 | D9: 2.065 | E9: =((D9/D8)-1)*100 -> 0.486618 | F9: ='TCA B64'!I9 -> 123.49167 | G9: =((F9/F8)-1)*100 -> -1.8809449 | H9: - | I9: -
A10: 1925 | B10: 2.0483333 | C10: =((B10/B9)-1)*100 -> -1.0466989 | D10: =TCM!J5 -> 2.07 | E10: =((D10/D9)-1)*100 -> 0.24213075 | F10: ='TCA B64'!I10 -> 124.11691 | G10: =((F10/F9)-1)*100 -> 0.50630158 | H10: - | I10: -
A11: 1926 | B11: 2.1308333 | C11: =((B11/B10)-1)*100 -> 4.0276648 | D11: =TCM!J6 -> 2.32 | E11: =((D11/D10)-1)*100 -> 12.077295 | F11: ='TCA B64'!I11 -> 120.79999 | G11: =((F11/F10)-1)*100 -> -2.6724112 | H11: - | I11: -
A12: 1927 | B12: 2.2883333 | C12: =((B12/B11)-1)*100 -> 7.3914744 | D12: =TCM!J7 -> 2.19 | E12: =((D12/D11)-1)*100 -> -5.6034483 | F12: ='TCA B64'!I12 -> 115.25848 | G12: =((F12/F11)-1)*100 -> -4.5873478 | H12: - | I12: -
A13: 1928 | B13: 2.1541667 | C13: =((B13/B12)-1)*100 -> -5.8630736 | D13: =TCM!J8 -> 2.16 | E13: =((D13/D12)-1)*100 -> -1.369863 | F13: ='TCA B64'!I13 -> 115.87173 | G13: =((F13/F12)-1)*100 -> 0.53206993 | H13: - | I13: -
A14: 1929 | B14: 2.1458333 | C14: =((B14/B13)-1)*100 -> -0.3868472 | D14: =TCM!J9 -> 2.16 | E14: =((D14/D13)-1)*100 -> 0 | F14: ='TCA B64'!I14 -> 117.739 | G14: =((F14/F13)-1)*100 -> 1.611496 | H14: - | I14: -
A15: 1930 | B15: 2.2483333 | C15: =((B15/B14)-1)*100 -> 4.776699 | D15: =TCM!J10 -> 2.5 | E15: =((D15/D14)-1)*100 -> 15.740741 | F15: ='TCA B64'!I15 -> 124.3985 | G15: =((F15/F14)-1)*100 -> 5.6561506 | H15: - | I15: -
A16: 1931 | B16: 2.6933333 | C16: =((B16/B15)-1)*100 -> 19.792439 | D16: =TCM!J11 -> 2.57 | E16: =((D16/D15)-1)*100 -> 2.8 | F16: ='TCA B64'!I16 -> 110.34535 | G16: =((F16/F15)-1)*100 -> -11.296881 | H16: - | I16: -
A17: 1932 | B17: 3.1625 | C17: =((B17/B16)-1)*100 -> 17.419554 | D17: =TCM!J12 -> 3.09 | E17: =((D17/D16)-1)*100 -> 20.233463 | F17: ='TCA B64'!I17 -> 117.33936 | G17: =((F17/F16)-1)*100 -> 6.3382939 | H17: ='TCM B64'!I17 -> 133.30249 | I17: -
A18: 1933 | B18: 3.5258333 | C18: =((B18/B17)-1)*100 -> 11.488801 | D18: =TCM!J13 -> 3.6 | E18: =((D18/D17)-1)*100 -> 16.504854 | F18: ='TCA B64'!I18 -> 109.87355 | G18: =((F18/F17)-1)*100 -> -6.3625739 | H18: ='TCM B64'!I29 -> 104.32331 | I18: =((H18/H17)-1)*100 -> -21.739415
A19: 1934 | B19: 3.6 | C19: =((B19/B18)-1)*100 -> 2.1035216 | D19: =TCM!J14 -> 3.6 | E19: =((D19/D18)-1)*100 -> 0 | F19: ='TCA B64'!I19 -> 99.797265 | G19: =((F19/F18)-1)*100 -> -9.1708057 | H19: ='TCM B64'!I41 -> 97.757457 | I19: =((H19/H18)-1)*100 -> -6.2937516
A20: 1935 | B20: 3.6 | C20: =((B20/B19)-1)*100 -> 0 | D20: =TCM!J15 -> 3.6 | E20: =((D20/D19)-1)*100 -> 0 | F20: ='TCA B64'!I20 -> 93.245638 | G20: =((F20/F19)-1)*100 -> -6.5649356 | H20: ='TCM B64'!I53 -> 91.889948 | I20: =((H20/H19)-1)*100 -> -6.0021097
A21: 1936 | B21: 3.6 | C21: =((B21/B20)-1)*100 -> 0 | D21: =TCM!J16 -> 3.6 | E21: =((D21/D20)-1)*100 -> 0 | F21: ='TCA B64'!I21 -> 98.340014 | G21: =((F21/F20)-1)*100 -> 5.463393 | H21: ='TCM B64'!I65 -> 99.787848 | I21: =((H21/H20)-1)*100 -> 8.5949563
A22: 1937 | B22: 3.6 | C22: =((B22/B21)-1)*100 -> 0 | D22: =TCM!J17 -> 3.6 | E22: =((D22/D21)-1)*100 -> 0 | F22: ='TCA B64'!I22 -> 108.82921 | G22: =((F22/F21)-1)*100 -> 10.666259 | H22: ='TCM B64'!I77 -> 115.06913 | I22: =((H22/H21)-1)*100 -> 15.313771
A23: 1938 | B23: 4.5175 | C23: =((B23/B22)-1)*100 -> 25.486111 | D23: =TCM!J18 -> 4.91 | E23: =((D23/D22)-1)*100 -> 36.388889 | F23: ='TCA B64'!I23 -> 101.29301 | G23: =((F23/F22)-1)*100 -> -6.9247998 | H23: ='TCM B64'!I89 -> 94.508872 | I23: =((H23/H22)-1)*100 -> -17.867745
A24: 1939 | B24: 5.4041667 | C24: =((B24/B23)-1)*100 -> 19.627375 | D24: =TCM!J19 -> 4.85 | E24: =((D24/D23)-1)*100 -> -1.2219959 | F24: ='TCA B64'!I24 -> 86.79203 | G24: =((F24/F23)-1)*100 -> -14.315874 | H24: ='TCM B64'!I101 -> 93.478996 | I24: =((H24/H23)-1)*100 -> -1.0897145
A25: 1940 | B25: 4.8575 | C25: =((B25/B24)-1)*100 -> -10.115652 | D25: =TCM!J20 -> 4.86 | E25: =((D25/D24)-1)*100 -> 0.20618557 | F25: ='TCA B64'!I25 -> 96.234571 | G25: =((F25/F24)-1)*100 -> 10.879503 | H25: ='TCM B64'!I113 -> 93.351547 | I25: =((H25/H24)-1)*100 -> -0.13633924
A26: 1941 | B26: 4.8516667 | C26: =((B26/B25)-1)*100 -> -0.12008921 | D26: =TCM!J21 -> 4.85 | E26: =((D26/D25)-1)*100 -> -0.20576132 | F26: ='TCA B64'!I26 -> 92.452357 | G26: =((F26/F25)-1)*100 -> -3.9302036 | H26: ='TCM B64'!I125 -> 89.409197 | I26: =((H26/H25)-1)*100 -> -4.2231222
A27: 1942 | B27: 4.85 | C27: =((B27/B26)-1)*100 -> -0.034352456 | D27: =TCM!J22 -> 4.85 | E27: =((D27/D26)-1)*100 -> 0 | F27: ='TCA B64'!I27 -> 90.221918 | G27: =((F27/F26)-1)*100 -> -2.412528 | H27: ='TCM B64'!I137 -> 92.516807 | I27: =((H27/H26)-1)*100 -> 3.4757157
A28: 1943 | B28: 4.855 | C28: =((B28/B27)-1)*100 -> 0.10309278 | D28: =TCM!J23 -> 4.86 | E28: =((D28/D27)-1)*100 -> 0.20618557 | F28: ='TCA B64'!I28 -> 104.1857 | G28: =((F28/F27)-1)*100 -> 15.477152 | H28: ='TCM B64'!I149 -> 112.43767 | I28: =((H28/H27)-1)*100 -> 21.532154
A29: 1944 | B29: 4.8533333 | C29: =((B29/B28)-1)*100 -> -0.034328871 | D29: =TCM!J24 -> 4.85 | E29: =((D29/D28)-1)*100 -> -0.20576132 | F29: ='TCA B64'!I29 -> 126.7926 | G29: =((F29/F28)-1)*100 -> 21.698656 | H29: ='TCM B64'!I161 -> 133.61576 | I29: =((H29/H28)-1)*100 -> 18.835407
A30: 1945 | B30: 4.8541667 | C30: =((B30/B29)-1)*100 -> 0.01717033 | D30: =TCM!J25 -> 4.85 | E30: =((D30/D29)-1)*100 -> 0 | F30: ='TCA B64'!I30 -> 138.65329 | G30: =((F30/F29)-1)*100 -> 9.3544061 | H30: ='TCM B64'!I173 -> 144.84012 | I30: =((H30/H29)-1)*100 -> 8.4004723
A31: 1946 | B31: 4.8583333 | C31: =((B31/B30)-1)*100 -> 0.08583691 | D31: =TCM!J26 -> 4.86 | E31: =((D31/D30)-1)*100 -> 0.20618557 | F31: ='TCA B64'!I31 -> 139.6005 | G31: =((F31/F30)-1)*100 -> 0.68315133 | H31: ='TCM B64'!I185 -> 128.95977 | I31: =((H31/H30)-1)*100 -> -10.964048
A32: 1947 | B32: 4.86 | C32: =((B32/B31)-1)*100 -> 0.034305317 | D32: =TCM!J27 -> 4.86 | E32: =((D32/D31)-1)*100 -> 0 | F32: ='TCA B64'!I32 -> 120.33107 | G32: =((F32/F31)-1)*100 -> -13.803269 | H32: ='TCM B64'!I197 -> 113.98874 | I32: =((H32/H31)-1)*100 -> -11.609071
A33: 1948 | B33: 5.6641667 | C33: =((B33/B32)-1)*100 -> 16.546639 | D33: =TCM!J28 -> 6.88 | E33: =((D33/D32)-1)*100 -> 41.563786 | F33: ='TCA B64'!I33 -> 102.36934 | G33: =((F33/F32)-1)*100 -> -14.926925 | H33: ='TCM B64'!I209 -> 87.793292 | I33: =((H33/H32)-1)*100 -> -22.980735
A34: 1949 | B34: 7.9918333 | C34: =((B34/B33)-1)*100 -> 41.094601 | D34: =TCM!J29 -> 8.64 | E34: =((D34/D33)-1)*100 -> 25.581395 | F34: ='TCA B64'!I34 -> 83.640136 | G34: =((F34/F33)-1)*100 -> -18.295717 | H34: ='TCM B64'!I221 -> 81.437221 | I34: =((H34/H33)-1)*100 -> -7.2398138
A35: 1950 | B35: 8.6416667 | C35: =((B35/B34)-1)*100 -> 8.1312173 | D35: =TCM!J30 -> 8.65 | E35: =((D35/D34)-1)*100 -> 0.11574074 | F35: ='TCA B64'!I35 -> 81.642653 | G35: =((F35/F34)-1)*100 -> -2.3881881 | H35: ='TCM B64'!I233 -> 81.089915 | I35: =((H35/H34)-1)*100 -> -0.42647117
A36: 1951 | B36: 8.6283333 | C36: =((B36/B35)-1)*100 -> -0.15429122 | D36: =TCM!J31 -> 8.6 | E36: =((D36/D35)-1)*100 -> -0.57803468 | F36: ='TCA B64'!I36 -> 91.41145 | G36: =((F36/F35)-1)*100 -> 11.965311 | H36: ='TCM B64'!I245 -> 96.337849 | I36: =((H36/H35)-1)*100 -> 18.803737
A37: 1952 | B37: 8.6083333 | C37: =((B37/B36)-1)*100 -> -0.23179448 | D37: =TCM!J32 -> 8.6 | E37: =((D37/D36)-1)*100 -> 0 | F37: ='TCA B64'!I37 -> 97.582766 | G37: =((F37/F36)-1)*100 -> 6.7511407 | H37: ='TCM B64'!I257 -> 97.464353 | I37: =((H37/H36)-1)*100 -> 1.1693264
A38: 1953 | B38: 8.6083333 | C38: =((B38/B37)-1)*100 -> 2.220446e-14 | D38: =TCM!J33 -> 8.61 | E38: =((D38/D37)-1)*100 -> 0.11627907 | F38: ='TCA B64'!I38 -> 97.150012 | G38: =((F38/F37)-1)*100 -> -0.44347329 | H38: ='TCM B64'!I269 -> 97.734214 | I38: =((H38/H37)-1)*100 -> 0.2768814
A39: 1954 | B39: 11.661667 | C39: =((B39/B38)-1)*100 -> 35.469506 | D39: =TCM!J34 -> 12.49 | E39: =((D39/D38)-1)*100 -> 45.063879 | F39: ='TCA B64'!I39 -> 78.075578 | G39: =((F39/F38)-1)*100 -> -19.634 | H39: ='TCM B64'!I281 -> 78.864094 | I39: =((H39/H38)-1)*100 -> -19.307589
A40: 1955 | B40: 12.5 | C40: =((B40/B39)-1)*100 -> 7.1887952 | D40: =TCM!J35 -> 12.49 | E40: =((D40/D39)-1)*100 -> 0 | F40: ='TCA B64'!I40 -> 82.625607 | G40: =((F40/F39)-1)*100 -> 5.8277239 | H40: ='TCM B64'!I293 -> 84.834661 | I40: =((H40/H39)-1)*100 -> 7.570704
A41: 1956 | B41: 12.5 | C41: =((B41/B40)-1)*100 -> 0 | D41: =TCM!J36 -> 12.49 | E41: =((D41/D40)-1)*100 -> 0 | F41: ='TCA B64'!I41 -> 83.827213 | G41: =((F41/F40)-1)*100 -> 1.4542775 | H41: ='TCM B64'!I305 -> 82.640564 | I41: =((H41/H40)-1)*100 -> -2.5863215
A42: 1957 | B42: 12.5 | C42: =((B42/B41)-1)*100 -> 0 | D42: =TCM!J37 -> 12.49 | E42: =((D42/D41)-1)*100 -> 0 | F42: ='TCA B64'!I42 -> 84.968517 | G42: =((F42/F41)-1)*100 -> 1.3614955 | H42: ='TCM B64'!I317 -> 86.093783 | I42: =((H42/H41)-1)*100 -> 4.1786004
...

Sheet TCM
B1: Tipo de cambio pesos por dólar, datos mensuales; y datos anuales promedio y fin obtenidos de los mensuales
B2: Tipo de cambio fin y promedio mensual, pesos, 1925-1990 | I2: Tipo de cambio fin y promedio anual, pesos, 1925-2016
A3: Período | B3: Tipo de Cambio Fin | C3: % Mensual | D3: % Anual | E3: Tipo de Cambio Promedio | F3: % Mensual | G3: % anual | I3: Año | J3: Tipo de Cambio Fin* | K3: Tipo de Cambio Promedio
A5: 9133 | B5: - | C5: - | D5: - | E5: 2.06 | F5: - | G5: - | I5: 1925 | J5: =E16 -> 2.07 | K5: =AVERAGE(E5:E16) -> 2.0483333
A6: 9164 | B6: - | C6: - | D6: - | E6: 2.04 | F6: =((E6/E5)-1)*100 -> -0.97087379 | G6: - | I6: 1926 | J6: =E28 -> 2.32 | K6: =AVERAGE(E17:E28) -> 2.1308333
A7: 9192 | B7: - | C7: - | D7: - | E7: 2.04 | F7: =((E7/E6)-1)*100 -> 0 | G7: - | I7: 1927 | J7: =E40 -> 2.19 | K7: =AVERAGE(E29:E40) -> 2.2883333
A8: 9223 | B8: - | C8: - | D8: - | E8: 2.03 | F8: =((E8/E7)-1)*100 -> -0.49019608 | G8: - | I8: 1928 | J8: =E52 -> 2.16 | K8: =AVERAGE(E41:E52) -> 2.1541667
A9: 9253 | B9: - | C9: - | D9: - | E9: 2.03 | F9: =((E9/E8)-1)*100 -> 0 | G9: - | I9: 1929 | J9: =E64 -> 2.16 | K9: =AVERAGE(E53:E64) -> 2.1458333
A10: 9284 | B10: - | C10: - | D10: - | E10: 2.04 | F10: =((E10/E9)-1)*100 -> 0.49261084 | G10: - | I10: 1930 | J10: =E76 -> 2.5 | K10: =AVERAGE(E65:E76) -> 2.2483333
A11: 9314 | B11: - | C11: - | D11: - | E11: 2.04 | F11: =((E11/E10)-1)*100 -> 0 | G11: - | I11: 1931 | J11: =E88 -> 2.57 | K11: =AVERAGE(E77:E88) -> 2.6933333
A12: 9345 | B12: - | C12: - | D12: - | E12: 2.05 | F12: =((E12/E11)-1)*100 -> 0.49019608 | G12: - | I12: 1932 | J12: =E100 -> 3.09 | K12: =AVERAGE(E89:E100) -> 3.1625
A13: 9376 | B13: - | C13: - | D13: - | E13: 2.05 | F13: =((E13/E12)-1)*100 -> 0 | G13: - | I13: 1933 | J13: =E112 -> 3.6 | K13: =AVERAGE(E101:E112) -> 3.5258333
A14: 9406 | B14: - | C14: - | D14: - | E14: 2.06 | F14: =((E14/E13)-1)*100 -> 0.48780488 | G14: - | I14: 1934 | J14: =E124 -> 3.6 | K14: =AVERAGE(E113:E124) -> 3.6
A15: 9437 | B15: - | C15: - | D15: - | E15: 2.07 | F15: =((E15/E14)-1)*100 -> 0.48543689 | G15: - | I15: 1935 | J15: =E136 -> 3.6 | K15: =AVERAGE(E125:E136) -> 3.6
A16: 9467 | B16: - | C16: - | D16: - | E16: 2.07 | F16: =((E16/E15)-1)*100 -> 0 | G16: - | I16: 1936 | J16: =E148 -> 3.6 | K16: =AVERAGE(E137:E148) -> 3.6
A17: 9498 | B17: - | C17: - | D17: - | E17: 2.09 | F17: =((E17/E16)-1)*100 -> 0.96618357 | G17: =((E17/E5)-1)*100 -> 1.4563107 | I17: 1937 | J17: =E160 -> 3.6 | K17: =AVERAGE(E149:E160) -> 3.6
A18: 9529 | B18: - | C18: - | D18: - | E18: 2.09 | F18: =((E18/E17)-1)*100 -> 0 | G18: =((E18/E6)-1)*100 -> 2.4509804 | I18: 1938 | J18: =E172 -> 4.91 | K18: =AVERAGE(E161:E172) -> 4.5175
A19: 9557 | B19: - | C19: - | D19: - | E19: 2.07 | F19: =((E19/E18)-1)*100 -> -0.9569378 | G19: =((E19/E7)-1)*100 -> 1.4705882 | I19: 1939 | J19: =E184 -> 4.85 | K19: =AVERAGE(E173:E184) -> 5.4041667
A20: 9588 | B20: - | C20: - | D20: - | E20: 2.07 | F20: =((E20/E19)-1)*100 -> 0 | G20: =((E20/E8)-1)*100 -> 1.9704433 | I20: 1940 | J20: =E196 -> 4.86 | K20: =AVERAGE(E185:E196) -> 4.8575
A21: 9618 | B21: - | C21: - | D21: - | E21: 2.1 | F21: =((E21/E20)-1)*100 -> 1.4492754 | G21: =((E21/E9)-1)*100 -> 3.4482759 | I21: 1941 | J21: =E208 -> 4.85 | K21: =AVERAGE(E197:E208) -> 4.8516667
A22: 9649 | B22: - | C22: - | D22: - | E22: 2.08 | F22: =((E22/E21)-1)*100 -> -0.95238095 | G22: =((E22/E10)-1)*100 -> 1.9607843 | I22: 1942 | J22: =E220 -> 4.85 | K22: =AVERAGE(E209:E220) -> 4.85
A23: 9679 | B23: - | C23: - | D23: - | E23: 2.1 | F23: =((E23/E22)-1)*100 -> 0.96153846 | G23: =((E23/E11)-1)*100 -> 2.9411765 | I23: 1943 | J23: =E232 -> 4.86 | K23: =AVERAGE(E221:E232) -> 4.855
A24: 9710 | B24: - | C24: - | D24: - | E24: 2.12 | F24: =((E24/E23)-1)*100 -> 0.95238095 | G24: =((E24/E12)-1)*100 -> 3.4146341 | I24: 1944 | J24: =E244 -> 4.85 | K24: =AVERAGE(E233:E244) -> 4.8533333
A25: 9741 | B25: - | C25: - | D25: - | E25: 2.12 | F25: =((E25/E24)-1)*100 -> 0 | G25: =((E25/E13)-1)*100 -> 3.4146341 | I25: 1945 | J25: =E256 -> 4.85 | K25: =AVERAGE(E245:E256) -> 4.8541667
A26: 9771 | B26: - | C26: - | D26: - | E26: 2.17 | F26: =((E26/E25)-1)*100 -> 2.3584906 | G26: =((E26/E14)-1)*100 -> 5.3398058 | I26: 1946 | J26: =E268 -> 4.86 | K26: =AVERAGE(E257:E268) -> 4.8583333
A27: 9802 | B27: - | C27: - | D27: - | E27: 2.24 | F27: =((E27/E26)-1)*100 -> 3.2258065 | G27: =((E27/E15)-1)*100 -> 8.2125604 | I27: 1947 | J27: =E280 -> 4.86 | K27: =AVERAGE(E269:E280) -> 4.86
A28: 9832 | B28: - | C28: - | D28: - | E28: 2.32 | F28: =((E28/E27)-1)*100 -> 3.5714286 | G28: =((E28/E16)-1)*100 -> 12.077295 | I28: 1948 | J28: =E292 -> 6.88 | K28: =AVERAGE(E281:E292) -> 5.6641667
A29: 9863 | B29: - | C29: - | D29: - | E29: 2.33 | F29: =((E29/E28)-1)*100 -> 0.43103448 | G29: =((E29/E17)-1)*100 -> 11.483254 | I29: 1949 | J29: =E304 -> 8.64 | K29: =AVERAGE(E293:E304) -> 7.9918333
A30: 9894 | B30: - | C30: - | D30: - | E30: 2.37 | F30: =((E30/E29)-1)*100 -> 1.7167382 | G30: =((E30/E18)-1)*100 -> 13.397129 | I30: 1950 | J30: =E316 -> 8.65 | K30: =AVERAGE(E305:E316) -> 8.6416667
A31: 9922 | B31: - | C31: - | D31: - | E31: 2.33 | F31: =((E31/E30)-1)*100 -> -1.6877637 | G31: =((E31/E19)-1)*100 -> 12.560386 | I31: 1951 | J31: =E328 -> 8.6 | K31: =AVERAGE(E317:E328) -> 8.6283333
A32: 9953 | B32: - | C32: - | D32: - | E32: 2.36 | F32: =((E32/E31)-1)*100 -> 1.2875536 | G32: =((E32/E20)-1)*100 -> 14.009662 | I32: 1952 | J32: =E340 -> 8.6 | K32: =AVERAGE(E329:E340) -> 8.6083333
A33: 9983 | B33: - | C33: - | D33: - | E33: 2.36 | F33: =((E33/E32)-1)*100 -> 0 | G33: =((E33/E21)-1)*100 -> 12.380952 | I33: 1953 | J33: =E352 -> 8.61 | K33: =AVERAGE(E341:E352) -> 8.6083333
A34: 10014 | B34: - | C34: - | D34: - | E34: 2.32 | F34: =((E34/E33)-1)*100 -> -1.6949153 | G34: =((E34/E22)-1)*100 -> 11.538462 | I34: 1954 | J34: =E364 -> 12.49 | K34: =AVERAGE(E353:E364) -> 11.3625
A35: 10044 | B35: - | C35: - | D35: - | E35: 2.29 | F35: =((E35/E34)-1)*100 -> -1.2931034 | G35: =((E35/E23)-1)*100 -> 9.047619 | I35: 1955 | J35: =E376 -> 12.49 | K35: 12.5
A36: 10075 | B36: - | C36: - | D36: - | E36: 2.23 | F36: =((E36/E35)-1)*100 -> -2.6200873 | G36: =((E36/E24)-1)*100 -> 5.1886792 | I36: 1956 | J36: =E388 -> 12.49 | K36: 12.5
A37: 10106 | B37: - | C37: - | D37: - | E37: 2.22 | F37: =((E37/E36)-1)*100 -> -0.44843049 | G37: =((E37/E25)-1)*100 -> 4.7169811 | I37: 1957 | J37: =E400 -> 12.49 | K37: 12.5
A38: 10136 | B38: - | C38: - | D38: - | E38: 2.23 | F38: =((E38/E37)-1)*100 -> 0.45045045 | G38: =((E38/E26)-1)*100 -> 2.764977 | I38: 1958 | J38: =E412 -> 12.49 | K38: 12.5
A39: 10167 | B39: - | C39: - | D39: - | E39: 2.23 | F39: =((E39/E38)-1)*100 -> 0 | G39: =((E39/E27)-1)*100 -> -0.44642857 | I39: 1959 | J39: =E424 -> 12.49 | K39: 12.5
A40: 10197 | B40: - | C40: - | D40: - | E40: 2.19 | F40: =((E40/E39)-1)*100 -> -1.793722 | G40: =((E40/E28)-1)*100 -> -5.6034483 | I40: 1960 | J40: =E436 -> 12.49 | K40: 12.5
A41: 10228 | B41: - | C41: - | D41: - | E41: 2.15 | F41: =((E41/E40)-1)*100 -> -1.826484 | G41: =((E41/E29)-1)*100 -> -7.7253219 | I41: 1961 | J41: =E448 -> 12.49 | K41: 12.5
...

Sheet TCA B64
B1: Cálculo del Índice de Valuación, datos anuales y base 1964=100
A2: Año | B2: TC Promedio (1) | C2: TC Promedio % | D2: IPMC US Inflación (3) | E2: IPMC US 1964=100 (4) | F2: IPC Mex Inflación (5) | G2: IPC Mex 1964=100 (6) | H2: TC de equilibrio (6/4)*12.5 =(7) | I2: Valuación promedio 1964=100 (7)/(1) | J2: Índice de valuación 1922=100
A5: 1920 | B5: - | C5: - | D5: - | E5: - | F5: 4.8 | G5: - | H5: - | I5: - | J5: -
A6: 1921 | B6: =TCA!B6 -> 2.04 | C6: - | D6: - | E6: - | F6: -8.7060923 | G6: - | H6: - | I6: - | J6: -
A7: 1922 | B7: =TCA!B7 -> 2.05 | C7: =((B7/B6)-1)*100 -> 0.49019608 | D7: -37.402191 | E7: =E8/(1+(D8/100)) -> 52.687039 | F7: -16.086235 | G7: =G8/(1+(F8/100)) -> 10.620556 | H7: =(G7/E7)*$B$49 -> 2.5197269 | I7: =(H7/B7)*100 -> 122.91351 | J7: =(I7/$I$7)*100 -> 100
A8: 1923 | B8: =TCA!B8 -> 2.06 | C8: =((B8/B7)-1)*100 -> 0.48780488 | D8: 4.1 | E8: =E9/(1+(D9/100)) -> 54.847208 | F8: 7.1146245 | G8: =G9/(1+(F9/100)) -> 11.376169 | H8: =(G8/E8)*$B$49 -> 2.5926955 | I8: =(H8/B8)*100 -> 125.85901 | J8: =(I8/$I$7)*100 -> 102.3964
A9: 1924 | B9: =TCA!B9 -> 2.07 | C9: =((B9/B8)-1)*100 -> 0.48543689 | D9: -2.7857829 | E9: =E10/(1+(D10/100)) -> 53.319283 | F9: -4.1512915 | G9: =G10/(1+(F10/100)) -> 10.903911 | H9: =(G9/E9)*$B$49 -> 2.5562775 | I9: =(H9/B9)*100 -> 123.49167 | J9: =(I9/$I$7)*100 -> 100.47038
A10: 1925 | B10: =TCA!B10 -> 2.0483333 | C10: =((B10/B9)-1)*100 -> -1.0466989 | D10: 5.4841897 | E10: =E11/(1+(D11/100)) -> 56.243414 | F10: 4.9085659 | G10: =G11/(1+(F11/100)) -> 11.439136 | H10: =(G10/E10)*$B$49 -> 2.542328 | I10: =(H10/B10)*100 -> 124.11691 | J10: =(I10/$I$7)*100 -> 100.97906
A11: 1926 | B11: =TCA!B11 -> 2.1308333 | C11: =((B11/B10)-1)*100 -> 4.0276648 | D11: -3.0444965 | E11: =E12/(1+(D12/100)) -> 54.531085 | F11: -1.8348624 | G11: =G12/(1+(F12/100)) -> 11.229244 | H11: =(G11/E11)*$B$49 -> 2.5740465 | I11: =(H11/B11)*100 -> 120.79999 | J11: =(I11/$I$7)*100 -> 98.280486
A12: 1927 | B12: =TCA!B12 -> 2.2883333 | C12: =((B12/B11)-1)*100 -> 7.3914744 | D12: -4.6859903 | E12: =E13/(1+(D13/100)) -> 51.975764 | F12: -2.3364486 | G12: =G13/(1+(F13/100)) -> 10.966879 | H12: =(G12/E12)*$B$49 -> 2.6374981 | I12: =(H12/B12)*100 -> 115.25848 | J12: =(I12/$I$7)*100 -> 93.772018
A13: 1928 | B13: =TCA!B13 -> 2.1541667 | C13: =((B13/B12)-1)*100 -> -5.8630736 | D13: 1.4191586 | E13: =E14/(1+(D14/100)) -> 52.713383 | F13: -4.0191388 | G13: =G14/(1+(F14/100)) -> 10.526104 | H13: =(G13/E13)*$B$49 -> 2.4960702 | I13: =(H13/B13)*100 -> 115.87173 | J13: =(I13/$I$7)*100 -> 94.270951
A14: 1929 | B14: =TCA!B14 -> 2.1458333 | C14: =((B14/B13)-1)*100 -> -0.3868472 | D14: -1.4992504 | E14: =E15/(1+(D15/100)) -> 51.923077 | F14: -0.29910269 | G14: =G15/(1+(F15/100)) -> 10.494621 | H14: =(G14/E14)*$B$49 -> 2.5264827 | I14: =(H14/B14)*100 -> 117.739 | J14: =(I14/$I$7)*100 -> 95.790123
A15: 1930 | B15: =TCA!B15 -> 2.2483333 | C15: =((B15/B14)-1)*100 -> 4.776699 | D15: -9.4875698 | E15: =E16/(1+(D16/100)) -> 46.996839 | F15: 0.2 | G15: =G16/(1+(F16/100)) -> 10.51561 | H15: =(G15/E15)*$B$49 -> 2.7968929 | I15: =(H15/B15)*100 -> 124.3985 | J15: =(I15/$I$7)*100 -> 101.20816
A16: 1931 | B16: =TCA!B16 -> 2.6933333 | C16: =((B16/B15)-1)*100 -> 19.792439 | D16: -15.470852 | E16: =E17/(1+(D17/100)) -> 39.726027 | F16: -10.179641 | G16: =G17/(1+(F17/100)) -> 9.4451585 | H16: =(G16/E16)*$B$49 -> 2.971968 | I16: =(H16/B16)*100 -> 110.34535 | J16: =(I16/$I$7)*100 -> 89.774792
A17: 1932 | B17: =TCA!B17 -> 3.1625 | C17: =((B17/B16)-1)*100 -> 17.419554 | D17: -10.941645 | E17: =E18/(1+(D18/100)) -> 35.379347 | F17: 11.2 | G17: =G18/(1+(F18/100)) -> 10.503016 | H17: =(G17/E17)*$B$49 -> 3.7108572 | I17: =(H17/B17)*100 -> 117.33936 | J17: =(I17/$I$7)*100 -> 95.464982
A18: 1933 | B18: =TCA!B18 -> 3.5258333 | C18: =((B18/B17)-1)*100 -> 11.488801 | D18: 1.6381236 | E18: =E19/(1+(D19/100)) -> 35.958904 | F18: 6.1053668 | G18: =G19/(1+(F19/100)) -> 11.144264 | H18: =(G18/E18)*$B$49 -> 3.8739584 | I18: =(H18/B18)*100 -> 109.87355 | J18: =(I18/$I$7)*100 -> 89.390952
... A48: 1963 | B48: =TCA!B48 -> 12.5 | C48: =((B48/B47)-1)*100 -> 0 | D48: -0.23696682 | E48: =E49/(1+(D49/100)) -> 99.815595 | F48: 0.5779665 | G48: =G49/(1+(F49/100)) -> 95.932947 | H48: =(G48/E48)*$B$49 -> 12.013772 | I48: =(H48/B48)*100 -> 96.110179 | J48: =(I48/$I$7)*100 -> 78.193341
A49: 1964 | B49: =TCA!B49 -> 12.5 | C49: =((B49/B48)-1)*100 -> 0 | D49: 0.18474532 | E49: 100 | F49: 4.2394746 | G49: 100 | H49: =(G49/E49)*$B$49 -> 12.5 | I49: =(H49/B49)*100 -> 100 | J49: =(I49/$I$7)*100 -> 81.358023
A50: 1965 | B50: =TCA!B50 -> 12.5 | C50: =((B50/B49)-1)*100 -> 0 | D50: 2.0021075 | E50: =E49*(1+(D50/100)) -> 102.00211 | F50: 1.828205 | G50: =G49*(1+(F50/100)) -> 101.8282 | H50: =(G50/E50)*$B$49 -> 12.478689 | I50: =(H50/B50)*100 -> 99.829511 | J50: =(I50/$I$7)*100 -> 81.219316
A51: 1966 | B51: =TCA!B51 -> 12.5 | C51: =((B51/B50)-1)*100 -> 0 | D51: 3.2283058 | E51: =E50*(1+(D51/100)) -> 105.29505 | F51: 1.3092476 | G51: =G50*(1+(F51/100)) -> 103.16139 | H51: =(G51/E51)*$B$49 -> 12.246705 | I51: =(H51/B51)*100 -> 97.973638 | J51: =(I51/$I$7)*100 -> 79.709415
A52: 1967 | B52: =TCA!B52 -> 12.5 | C52: =((B52/B51)-1)*100 -> 0 | D52: 0.2752064 | E52: =E51*(1+(D52/100)) -> 105.58483 | F52: 2.8518458 | G52: =G51*(1+(F52/100)) -> 106.10339 | H52: =(G52/E52)*$B$49 -> 12.561392 | I52: =(H52/B52)*100 -> 100.49114 | J52: =(I52/$I$7)*100 -> 81.757602
A53: 1968 | B53: =TCA!B53 -> 12.5 | C53: =((B53/B52)-1)*100 -> 0 | D53: 2.49501 | E53: =E52*(1+(D53/100)) -> 108.21918 | F53: 1.9351076 | G53: =G52*(1+(F53/100)) -> 108.15661 | H53: =(G53/E53)*$B$49 -> 12.492773 | I53: =(H53/B53)*100 -> 99.942181 | J53: =(I53/$I$7)*100 -> 81.310982
A54: 1969 | B54: =TCA!B54 -> 12.5 | C54: =((B54/B53)-1)*100 -> 0 | D54: 5.4596059 | E54: =E53*(1+(D54/100)) -> 114.12752 | F54: 2.5268086 | G54: =G53*(1+(F54/100)) -> 110.88952 | H54: =(G54/E54)*$B$49 -> 12.145353 | I54: =(H54/B54)*100 -> 97.162821 | J54: =(I54/$I$7)*100 -> 79.04975
A55: 1970 | B55: =TCA!B55 -> 12.5 | C55: =((B55/B54)-1)*100 -> 0 | D55: 5.8398643 | E55: =E54*(1+(D55/100)) -> 120.79241 | F55: 5.0033969 | G55: =G54*(1+(F55/100)) -> 116.43776 | H55: =(G55/E55)*$B$49 -> 12.049366 | I55: =(H55/B55)*100 -> 96.39493 | J55: =(I55/$I$7)*100 -> 78.425009
A56: 1971 | B56: =TCA!B56 -> 12.5 | C56: =((B56/B55)-1)*100 -> 0 | D56: 4.2962688 | E56: =E55*(1+(D56/100)) -> 125.98198 | F56: 5.469021 | G56: =G55*(1+(F56/100)) -> 122.80577 | H56: =(G56/E56)*$B$49 -> 12.184855 | I56: =(H56/B56)*100 -> 97.478836 | J56: =(I56/$I$7)*100 -> 79.306854
A57: 1972 | B57: =TCA!B57 -> 12.5 | C57: =((B57/B56)-1)*100 -> 0 | D57: 3.2724046 | E57: =E56*(1+(D57/100)) -> 130.10462 | F57: 4.9436884 | G57: =G56*(1+(F57/100)) -> 128.8769 | H57: =(G57/E57)*$B$49 -> 12.382045 | I57: =(H57/B57)*100 -> 99.056361 | J57: =(I57/$I$7)*100 -> 80.590297
A58: 1973 | B58: =TCA!B58 -> 12.5 | C58: =((B58/B57)-1)*100 -> 0 | D58: 6.1657376 | E58: =E57*(1+(D58/100)) -> 138.12653 | F58: 12.081945 | G58: =G57*(1+(F58/100)) -> 144.44774 | H58: =(G58/E58)*$B$49 -> 13.072049 | I58: =(H58/B58)*100 -> 104.57639 | J58: =(I58/$I$7)*100 -> 85.081283
A59: 1974 | B59: =TCA!B59 -> 12.5 | C59: =((B59/B58)-1)*100 -> 0 | D59: 11.048524 | E59: =E58*(1+(D59/100)) -> 153.38747 | F59: 23.784025 | G59: =G58*(1+(F59/100)) -> 178.80322 | H59: =(G59/E59)*$B$49 -> 14.571205 | I59: =(H59/B59)*100 -> 116.56964 | J59: =(I59/$I$7)*100 -> 94.838754
A60: 1975 | B60: =TCA!B60 -> 12.5 | C60: =((B60/B59)-1)*100 -> 0 | D60: 9.153608 | E60: =E59*(1+(D60/100)) -> 167.42796 | F60: 14.944526 | G60: =G59*(1+(F60/100)) -> 205.52452 | H60: =(G60/E60)*$B$49 -> 15.34425 | I60: =(H60/B60)*100 -> 122.754 | J60: =(I60/$I$7)*100 -> 99.870228
A61: 1976 | B61: =TCA!B61 -> 15.4 | C61: =((B61/B60)-1)*100 -> 23.2 | D61: 5.748413 | E61: =E60*(1+(D61/100)) -> 177.05241 | F61: 15.82472 | G61: =G60*(1+(F61/100)) -> 238.04819 | H61: =(G61/E61)*$B$49 -> 16.806337 | I61: =(H61/B61)*100 -> 109.13206 | J61: =(I61/$I$7)*100 -> 88.787685
... A75: 1990 | B75: =TCA!B75 -> 2812.6 | C75: =((B75/B74)-1)*100 -> 14.25283 | D75: 5.3940942 | E75: =E74*(1+(D75/100)) -> 406.49818 | F75: 26.651674 | G75: =G74*(1+(F75/100)) -> 81125.855 | H75: =(G75/E75)*$B$49 -> 2494.6562 | I75: =(H75/B75)*100 -> 88.695733 | J75: =(I75/$I$7)*100 -> 72.161095
B77: =TCA!B77 -> Fuente: Elaboración Propia con Datos del Sistema de Información Económica, Banxico: Serie histórica del tipo de cambio y Estadísticas históricas de INEGI (2015)

Sheet TCM B64
B1: Cálculo del Índice de Valuación, datos mensuales y base 1964=100 | K1: Diferencia entre los datos promedio calculados anuales y mensuales
B2: Tipo de Cambio Promedio en Pesos | C2: Tipo de Cambio Promedio t/c | D2: Índice IPMC EU t/c | E2: IPMC EU 1964=100 | F2: IPC México t/c | G2: IPMC México 1964=100 | H2: TC equilibrio (MX/US)*12.5 | I2: Índice de valuación 1964=100 | L2: Índice de valuación mensual 1964=100 | M2: Índice de valuación 1964=100 | N2: Diferencia mensual-anual
H5: =AVERAGE(B390:B401) -> 12.49
A6: =TCM!A89 -> 11689 | B6: =TCM!E89 -> 2.55 | E6: =E7/(1+(D7/100)) -> 36.670179 | G6: =G7/(1+(F7/100)) -> 9.947212 | H6: =(G6/E6)*$H$5 -> 3.3880576 | I6: =(H6/B6)*100 -> 132.865 | K6: 1932 | L6: =AVERAGE(I6:I17) -> 118.84397 | M6: ='TCA B64'!I17 -> 117.33936 | N6: =L6-M6 -> 1.5046155
A7: =TCM!A90 -> 11720 | B7: =TCM!E90 -> 2.67 | C7: =((B7/B6)-1)*100 -> 4.7058824 | D7: -1.7241379 | E7: =E8/(1+(D8/100)) -> 36.037935 | F7: -1.758794 | G7: =G8/(1+(F8/100)) -> 9.772261 | H7: =(G7/E7)*$H$5 -> 3.3868628 | I7: =(H7/B7)*100 -> 126.84879 | K7: 1933 | L7: =AVERAGE(I18:I29) -> 111.00211 | M7: ='TCA B64'!I18 -> 109.87355 | N7: =L7-M7 -> 1.1285557
A8: =TCM!A91 -> 11749 | B8: =TCM!E91 -> 2.96 | C8: =((B8/B7)-1)*100 -> 10.861423 | D8: 0 | E8: =E9/(1+(D9/100)) -> 36.037935 | F8: -1.7902813 | G8: =G9/(1+(F9/100)) -> 9.5973101 | H8: =(G8/E8)*$H$5 -> 3.3262284 | I8: =(H8/B8)*100 -> 112.37258 | K8: 1934 | L8: =AVERAGE(I30:I41) -> 100.46393 | M8: ='TCA B64'!I19 -> 99.797265 | N8: =L8-M8 -> 0.6666668
A9: =TCM!A92 -> 11780 | B9: =TCM!E92 -> 2.97 | C9: =((B9/B8)-1)*100 -> 0.33783784 | D9: -0.87719298 | E9: =E10/(1+(D10/100)) -> 35.721812 | F9: 1.0416667 | G9: =G10/(1+(F10/100)) -> 9.697282 | H9: =(G9/E9)*$H$5 -> 3.3906189 | I9: =(H9/B9)*100 -> 114.16225 | K9: 1935 | L9: =AVERAGE(I42:I53) -> 93.81726 | M9: ='TCA B64'!I20 -> 93.245638 | N9: =L9-M9 -> 0.57162156
A10: =TCM!A93 -> 11810 | B10: =TCM!E93 -> 3.3 | C10: =((B10/B9)-1)*100 -> 11.111111 | D10: -1.7699115 | E10: =E11/(1+(D11/100)) -> 35.089568 | F10: 3.7371134 | G10: =G11/(1+(F11/100)) -> 10.05968 | H10: =(G10/E10)*$H$5 -> 3.5807055 | I10: =(H10/B10)*100 -> 108.50623 | K10: 1936 | L10: =AVERAGE(I54:I65) -> 98.908287 | M10: ='TCA B64'!I21 -> 98.340014 | N10: =L10-M10 -> 0.56827288
A11: =TCM!A94 -> 11841 | B11: =TCM!E94 -> 3.71 | C11: =((B11/B10)-1)*100 -> 12.424242 | D11: -0.9009009 | E11: =E12/(1+(D12/100)) -> 34.773446 | F11: 10.434783 | G11: =G12/(1+(F12/100)) -> 11.109386 | H11: =(G11/E11)*$H$5 -> 3.9902929 | I11: =(H11/B11)*100 -> 107.55507 | K11: 1937 | L11: =AVERAGE(I66:I77) -> 109.541 | M11: ='TCA B64'!I22 -> 108.82921 | N11: =L11-M11 -> 0.71178575
A12: =TCM!A95 -> 11871 | B12: =TCM!E95 -> 3.59 | C12: =((B12/B11)-1)*100 -> -3.2345013 | D12: 0.90909091 | E12: =E13/(1+(D13/100)) -> 35.089568 | F12: 3.3745782 | G12: =G13/(1+(F13/100)) -> 11.484281 | H12: =(G12/E12)*$H$5 -> 4.0877868 | I12: =(H12/B12)*100 -> 113.86593 | K12: 1938 | L12: =AVERAGE(I78:I89) -> 103.14742 | M12: ='TCA B64'!I23 -> 101.29301 | N12: =L12-M12 -> 1.8544115
A13: =TCM!A96 -> 11902 | B13: =TCM!E96 -> 3.49 | C13: =((B13/B12)-1)*100 -> -2.7855153 | D13: 0.9009009 | E13: =E14/(1+(D14/100)) -> 35.40569 | F13: -3.2644178 | G13: =G14/(1+(F14/100)) -> 11.109386 | H13: =(G13/E13)*$H$5 -> 3.9190377 | I13: =(H13/B13)*100 -> 112.29334 | K13: 1939 | L13: =AVERAGE(I90:I101) -> 88.174504 | M13: ='TCA B64'!I24 -> 86.79203 | N13: =L13-M13 -> 1.3824742
A14: =TCM!A97 -> 11933 | B14: =TCM!E97 -> 3.32 | C14: =((B14/B13)-1)*100 -> -4.8710602 | D14: 0.89285714 | E14: =E15/(1+(D15/100)) -> 35.721812 | F14: -2.6996625 | G14: =G15/(1+(F15/100)) -> 10.80947 | H14: =(G14/E14)*$H$5 -> 3.7794914 | I14: =(H14/B14)*100 -> 113.8401 | K14: 1940 | L14: =AVERAGE(I102:I113) -> 96.833953 | M14: ='TCA B64'!I25 -> 96.234571 | N14: =L14-M14 -> 0.59938127
A15: =TCM!A98 -> 11963 | B15: =TCM!E98 -> 3.21 | C15: =((B15/B14)-1)*100 -> -3.313253 | D15: -1.7699115 | E15: =E16/(1+(D16/100)) -> 35.089568 | F15: 1.3872832 | G15: =G16/(1+(F16/100)) -> 10.959428 | H15: =(G15/E15)*$H$5 -> 3.9009674 | I15: =(H15/B15)*100 -> 121.52546 | K15: 1941 | L15: =AVERAGE(I114:I125) -> 93.149444 | M15: ='TCA B64'!I26 -> 92.452357 | N15: =L15-M15 -> 0.69708706
A16: =TCM!A99 -> 11994 | B16: =TCM!E99 -> 3.09 | C16: =((B16/B15)-1)*100 -> -3.7383178 | D16: -0.9009009 | E16: =E17/(1+(D17/100)) -> 34.773446 | F16: 1.2542759 | G16: =G17/(1+(F17/100)) -> 11.09689 | H16: =(G16/E16)*$H$5 -> 3.9858044 | I16: =(H16/B16)*100 -> 128.99043 | K16: 1942 | L16: =AVERAGE(I126:I137) -> 90.754987 | M16: ='TCA B64'!I27 -> 90.221918 | N16: =L16-M16 -> 0.53306908
A17: =TCM!A100 -> 12024 | B17: =TCM!E100 -> 3.09 | C17: =((B17/B16)-1)*100 -> 0 | D17: -1.8181818 | E17: =E18/(1+(D18/100)) -> 34.141201 | F17: 1.463964 | G17: =G18/(1+(F18/100)) -> 11.259344 | H17: =(G17/E17)*$H$5 -> 4.1190469 | I17: =(H17/B17)*100 -> 133.30249 | K17: 1943 | L17: =AVERAGE(I138:I149) -> 104.79658 | M17: ='TCA B64'!I28 -> 104.1857 | N17: =L17-M17 -> 0.610878
A18: =TCM!A101 -> 12055 | B18: =TCM!E101 -> 3.3 | C18: =((B18/B17)-1)*100 -> 6.7961165 | D18: -2.7777778 | E18: =E19/(1+(D19/100)) -> 33.192835 | F18: -4.4395117 | G18: =G19/(1+(F19/100)) -> 10.759484 | H18: =(G18/E18)*$H$5 -> 4.0486437 | I18: =(H18/B18)*100 -> 122.68617 | K18: 1944 | L18: =AVERAGE(I150:I161) -> 127.54764 | M18: ='TCA B64'!I29 -> 126.7926 | N18: =L18-M18 -> 0.75504427
A19: =TCM!A102 -> 12086 | B19: =TCM!E102 -> 3.52 | C19: =((B19/B18)-1)*100 -> 6.6666667 | D19: -1.9047619 | E19: =E20/(1+(D20/100)) -> 32.56059 | F19: 0.34843206 | G19: =G20/(1+(F20/100)) -> 10.796974 | H19: =(G19/E19)*$H$5 -> 4.1416388 | I19: =(H19/B19)*100 -> 117.66019 | K19: 1945 | L19: =AVERAGE(I162:I173) -> 139.47753 | M19: ='TCA B64'!I30 -> 138.65329 | N19: =L19-M19 -> 0.8242376
A20: =TCM!A103 -> 12114 | B20: =TCM!E103 -> 3.47 | C20: =((B20/B19)-1)*100 -> -1.4204545 | D20: 0.97087379 | E20: =E21/(1+(D21/100)) -> 32.876712 | F20: 0.5787037 | G20: =G21/(1+(F21/100)) -> 10.859456 | H20: =(G20/E20)*$H$5 -> 4.1255527 | I20: =(H20/B20)*100 -> 118.89201 | K20: 1946 | L20: =AVERAGE(I174:I185) -> 141.18736 | M20: ='TCA B64'!I31 -> 139.6005 | N20: =L20-M20 -> 1.5868609
A21: =TCM!A104 -> 12145 | B21: =TCM!E104 -> 3.57 | C21: =((B21/B20)-1)*100 -> 2.8818444 | D21: 0 | E21: =E22/(1+(D22/100)) -> 32.876712 | F21: 0.92059839 | G21: =G22/(1+(F22/100)) -> 10.959428 | H21: =(G21/E21)*$H$5 -> 4.1635325 | I21: =(H21/B21)*100 -> 116.62556 | K21: 1947 | L21: =AVERAGE(I186:I197) -> 121.19695 | M21: ='TCA B64'!I32 -> 120.33107 | N21: =L21-M21 -> 0.86587709
A22: =TCM!A105 -> 12175 | B22: =TCM!E105 -> 3.47 | C22: =((B22/B21)-1)*100 -> -2.8011204 | D22: 3.8461538 | E22: =E23/(1+(D23/100)) -> 34.141201 | F22: -0.22805017 | G22: =G23/(1+(F23/100)) -> 10.934435 | H22: =(G22/E22)*$H$5 -> 4.0001843 | I22: =(H22/B22)*100 -> 115.27909 | K22: 1948 | L22: =AVERAGE(I198:I209) -> 105.37576 | M22: ='TCA B64'!I33 -> 102.36934 | N22: =L22-M22 -> 3.006422
A23: =TCM!A106 -> 12206 | B23: =TCM!E106 -> 3.6 | C23: =((B23/B22)-1)*100 -> 3.7463977 | D23: 3.7037037 | E23: =E24/(1+(D24/100)) -> 35.40569 | F23: 2.1714286 | G23: =G24/(1+(F24/100)) -> 11.171869 | H23: =(G23/E23)*$H$5 -> 3.9410795 | I23: =(H23/B23)*100 -> 109.47443 | K23: 1949 | L23: =AVERAGE(I210:I221) -> 84.639758 | M23: ='TCA B64'!I34 -> 83.640136 | N23: =L23-M23 -> 0.99962134
A24: =TCM!A107 -> 12236 | B24: =TCM!E107 -> 3.56 | C24: =((B24/B23)-1)*100 -> -1.1111111 | D24: 6.25 | E24: =E25/(1+(D25/100)) -> 37.618546 | F24: 4.9217002 | G24: =G25/(1+(F25/100)) -> 11.721715 | H24: =(G24/E24)*$H$5 -> 3.8918095 | I24: =(H24/B24)*100 -> 109.32049 | K24: 1950 | L24: =AVERAGE(I222:I233) -> 81.815127 | M24: ='TCA B64'!I35 -> 81.642653 | N24: =L24-M24 -> 0.17247464
A25: =TCM!A108 -> 12267 | B25: =TCM!E108 -> 3.55 | C25: =((B25/B24)-1)*100 -> -0.28089888 | D25: 0.84033613 | E25: =E26/(1+(D26/100)) -> 37.934668 | F25: -1.5991471 | G25: =G26/(1+(F26/100)) -> 11.534267 | H25: =(G25/E25)*$H$5 -> 3.7976607 | I25: =(H25/B25)*100 -> 106.97636 | K25: 1951 | L25: =AVERAGE(I234:I245) -> 91.380443 | M25: ='TCA B64'!I36 -> 91.41145 | N25: =L25-M25 -> -0.031007114
A26: =TCM!A109 -> 12298 | B26: =TCM!E109 -> 3.54 | C26: =((B26/B25)-1)*100 -> -0.28169014 | D26: 1.6666667 | E26: =E27/(1+(D27/100)) -> 38.566913 | F26: -0.54171181 | G26: =G27/(1+(F27/100)) -> 11.471785 | H26: =(G26/E26)*$H$5 -> 3.7151688 | I26: =(H26/B26)*100 -> 104.94827 | K26: 1952 | L26: =AVERAGE(I246:I257) -> 97.505351 | M26: ='TCA B64'!I37 -> 97.582766 | N26: =L26-M26 -> -0.077414348
A27: =TCM!A110 -> 12328 | B27: =TCM!E110 -> 3.54 | C27: =((B27/B26)-1)*100 -> 0 | D27: 0.81967213 | E27: =E28/(1+(D28/100)) -> 38.883035 | F27: -0.43572985 | G27: =G28/(1+(F28/100)) -> 11.421799 | H27: =(G27/E27)*$H$5 -> 3.6689077 | I27: =(H27/B27)*100 -> 103.64146 | K27: 1953 | L27: =AVERAGE(I258:I269) -> 97.07078 | M27: ='TCA B64'!I38 -> 97.150012 | N27: =L27-M27 -> -0.079231877
A28: =TCM!A111 -> 12359 | B28: =TCM!E111 -> 3.59 | C28: =((B28/B27)-1)*100 -> 1.4124294 | D28: 0 | E28: =E29/(1+(D29/100)) -> 38.883035 | F28: 0 | G28: =G29/(1+(F29/100)) -> 11.421799 | H28: =(G28/E28)*$H$5 -> 3.6689077 | I28: =(H28/B28)*100 -> 102.19799 | K28: 1954 | L28: =AVERAGE(I270:I281) -> 81.416025 | M28: ='TCA B64'!I39 -> 78.075578 | N28: =L28-M28 -> 3.340447
A29: =TCM!A112 -> 12389 | B29: =TCM!E112 -> 3.6 | C29: =((B29/B28)-1)*100 -> 0.27855153 | D29: -0.81300813 | E29: =E30/(1+(D30/100)) -> 38.566913 | F29: 1.5317287 | G29: =G30/(1+(F30/100)) -> 11.59675 | H29: =(G29/E29)*$H$5 -> 3.7556391 | I29: =(H29/B29)*100 -> 104.32331 | K29: 1955 | L29: =AVERAGE(I282:I293) -> 82.61878 | M29: ='TCA B64'!I40 -> 82.625607 | N29: =L29-M29 -> -0.0068270526
A30: =TCM!A113 -> 12420 | B30: =TCM!E113 -> 3.6 | C30: =((B30/B29)-1)*100 -> 0 | D30: 1.6393443 | E30: =E31/(1+(D31/100)) -> 39.199157 | F30: 0.86206897 | G30: =G31/(1+(F31/100)) -> 11.696722 | H30: =(G30/E30)*$H$5 -> 3.7269182 | I30: =(H30/B30)*100 -> 103.52551 | K30: 1956 | L30: =AVERAGE(I294:I305) -> 83.842633 | M30: ='TCA B64'!I41 -> 83.827213 | N30: =L30-M30 -> 0.015419911
A31: =TCM!A114 -> 12451 | B31: =TCM!E114 -> 3.6 | C31: =((B31/B30)-1)*100 -> 0 | D31: 2.4193548 | E31: =E32/(1+(D32/100)) -> 40.147524 | F31: 1.3888889 | G31: =G32/(1+(F32/100)) -> 11.859176 | H31: =(G31/E31)*$H$5 -> 3.6894208 | I31: =(H31/B31)*100 -> 102.48391 | K31: 1957 | L31: =AVERAGE(I306:I317) -> 84.962619 | M31: ='TCA B64'!I42 -> 84.968517 | N31: =L31-M31 -> -0.0058983616
A32: =TCM!A115 -> 12479 | B32: =TCM!E115 -> 3.6 | C32: =((B32/B31)-1)*100 -> 0 | D32: 0 | E32: =E33/(1+(D33/100)) -> 40.147524 | F32: 0.31612223 | G32: =G33/(1+(F33/100)) -> 11.896666 | H32: =(G32/E32)*$H$5 -> 3.7010839 | I32: =(H32/B32)*100 -> 102.80789 | K32: 1958 | L32: =AVERAGE(I318:I329) -> 87.565033 | M32: ='TCA B64'!I43 -> 87.565415 | N32: =L32-M32 -> -0.00038200362
A33: =TCM!A116 -> 12510 | B33: =TCM!E116 -> 3.6 | C33: =((B33/B32)-1)*100 -> 0 | D33: 0 | E33: =E34/(1+(D34/100)) -> 40.147524 | F33: 2.7310924 | G33: =G34/(1+(F34/100)) -> 12.221575 | H33: =(G33/E33)*$H$5 -> 3.8021639 | I33: =(H33/B33)*100 -> 105.61566 | K33: 1959 | L33: =AVERAGE(I320:I341) -> 88.073521 | M33: ='TCA B64'!I44 -> 88.363882 | N33: =L33-M33 -> -0.29036114
A34: =TCM!A117 -> 12540 | B34: =TCM!E117 -> 3.6 | C34: =((B34/B33)-1)*100 -> 0 | D34: 0 | E34: =E35/(1+(D35/100)) -> 40.147524 | F34: -2.2494888 | G34: =G35/(1+(F35/100)) -> 11.946652 | H34: =(G34/E34)*$H$5 -> 3.7166347 | I34: =(H34/B34)*100 -> 103.23985 | K34: 1960 | L34: =AVERAGE(I342:I353) -> 92.652863 | M34: ='TCA B64'!I45 -> 92.653236 | N34: =L34-M34 -> -0.00037322853
A35: =TCM!A118 -> 12571 | B35: =TCM!E118 -> 3.6 | C35: =((B35/B34)-1)*100 -> 0 | D35: 1.5748031 | E35: =E36/(1+(D36/100)) -> 40.779768 | F35: -1.5690377 | G35: =G36/(1+(F36/100)) -> 11.759204 | H35: =(G35/E35)*$H$5 -> 3.6016011 | I35: =(H35/B35)*100 -> 100.04448 | K35: 1961 | L35: =AVERAGE(I354:I365) -> 93.869326 | M35: ='TCA B64'!I46 -> 93.867195 | N35: =L35-M35 -> 0.0021318913
A36: =TCM!A119 -> 12601 | B36: =TCM!E119 -> 3.6 | C36: =((B36/B35)-1)*100 -> 0 | D36: 0 | E36: =E37/(1+(D37/100)) -> 40.779768 | F36: 1.0626993 | G36: =G37/(1+(F37/100)) -> 11.884169 | H36: =(G36/E36)*$H$5 -> 3.6398753 | I36: =(H36/B36)*100 -> 101.10765 | K36: 1962 | L36: =AVERAGE(I366:I377) -> 95.332214 | M36: ='TCA B64'!I47 -> 95.331446 | N36: =L36-M36 -> 0.00076809443
A37: =TCM!A120 -> 12632 | B37: =TCM!E120 -> 3.6 | C37: =((B37/B36)-1)*100 -> 0 | D37: 2.3255814 | E37: =E38/(1+(D38/100)) -> 41.728135 | F37: -0.94637224 | G37: =G38/(1+(F38/100)) -> 11.771701 | H37: =(G37/E37)*$H$5 -> 3.523487 | I37: =(H37/B37)*100 -> 97.874639 | K37: 1963 | L37: =AVERAGE(I378:I389) -> 96.111137 | M37: ='TCA B64'!I48 -> 96.110179 | N37: =L37-M37 -> 0.00095846478
A38: =TCM!A121 -> 12663 | B38: =TCM!E121 -> 3.6 | C38: =((B38/B37)-1)*100 -> 0 | D38: 1.5151515 | E38: =E39/(1+(D39/100)) -> 42.360379 | F38: 0.95541401 | G38: =G39/(1+(F39/100)) -> 11.884169 | H38: =(G38/E38)*$H$5 -> 3.5040591 | I38: =(H38/B38)*100 -> 97.334975 | K38: 1964 | L38: =AVERAGE(I390:I401) -> 100.00114 | M38: ='TCA B64'!I49 -> 100 | N38: =L38-M38 -> 0.0011365337
A39: =TCM!A122 -> 12693 | B39: =TCM!E122 -> 3.6 | C39: =((B39/B38)-1)*100 -> 0 | D39: -1.4925373 | E39: =E40/(1+(D40/100)) -> 41.728135 | F39: -1.8927445 | G39: =G40/(1+(F40/100)) -> 11.659232 | H39: =(G39/E39)*$H$5 -> 3.4898231 | I39: =(H39/B39)*100 -> 96.939531 | K39: 1965 | L39: =AVERAGE(I402:I413) -> 99.837295 | M39: ='TCA B64'!I50 -> 99.829511 | N39: =L39-M39 -> 0.0077840181
A40: =TCM!A123 -> 12724 | B40: =TCM!E123 -> 3.6 | C40: =((B40/B39)-1)*100 -> 0 | D40: 0 | E40: =E41/(1+(D41/100)) -> 41.728135 | F40: -0.10718114 | G40: =G41/(1+(F41/100)) -> 11.646736 | H40: =(G40/E40)*$H$5 -> 3.4860827 | I40: =(H40/B40)*100 -> 96.83563 | K40: 1966 | L40: =AVERAGE(I414:I425) -> 97.973029 | M40: ='TCA B64'!I51 -> 97.973638 | N40: =L40-M40 -> -0.00060905907
A41: =TCM!A124 -> 12754 | B41: =TCM!E124 -> 3.6 | C41: =((B41/B40)-1)*100 -> 0 | D41: 0.75757576 | E41: =E42/(1+(D42/100)) -> 42.044257 | F41: 1.7167382 | G41: =G42/(1+(F42/100)) -> 11.84668 | H41: =(G41/E41)*$H$5 -> 3.5192685 | I41: =(H41/B41)*100 -> 97.757457 | K41: 1967 | L41: =AVERAGE(I426:I437) -> 100.49287 | M41: ='TCA B64'!I52 -> 100.49114 | N41: =L41-M41 -> 0.0017316644
A42: =TCM!A125 -> 12785 | B42: =TCM!E125 -> 3.6 | C42: =((B42/B41)-1)*100 -> 0 | D42: 2.2556391 | E42: =E43/(1+(D43/100)) -> 42.992624 | F42: 0.42194093 | G42: =G43/(1+(F43/100)) -> 11.896666 | H42: =(G42/E42)*$H$5 -> 3.4561592 | I42: =(H42/B42)*100 -> 96.004423 | K42: 1968 | L42: =AVERAGE(I438:I449) -> 99.86276 | M42: ='TCA B64'!I53 -> 99.942181 | N42: =L42-M42 -> -0.079421364
...

Sheet TC Diario
B2: Tipo de cambio, pesos por dólar, datos diarios, 1954-1990; fin y promedio
A3: Tipo de cambio diario (pesos viejos), 1954-1990
A4: Período | B4: Pesos por Dólar | C4: Años | D4: Fin
A5: 19833 | B5: 12.5 | C5: 1954 | D5: 12.5
A6: 19834 | B6: 12.5 | C6: 1955 | D6: 12.5
A7: 19835 | B7: 12.5 | C7: 1956 | D7: 12.5
A8: 19836 | B8: 12.5 | C8: 1957 | D8: 12.5
A9: 19837 | B9: 12.5 | C9: 1958 | D9: 12.5
A10: 19840 | B10: 12.5 | C10: 1959 | D10: 12.5
A11: 19841 | B11: 12.5 | C11: 1960 | D11: 12.5
A12: 19842 | B12: 12.5 | C12: 1961 | D12: 12.5
A13: 19843 | B13: 12.5 | C13: 1962 | D13: 12.5
A14: 19844 | B14: 12.5 | C14: 1963 | D14: 12.5
A15: 19847 | B15: 12.5 | C15: 1964 | D15: 12.5
A16: 19848 | B16: 12.5 | C16: 1965 | D16: 12.5
... A26: 19862 | B26: 12.5 | C26: 1975 | D26: 12.5
A27: 19863 | B27: 12.5 | C27: 1976 | D27: =B5925 -> 19.98
A28: 19864 | B28: 12.5 | C28: 1977 | D28: =B6176 -> 22.74
A29: 19865 | B29: 12.5 | C29: 1978 | D29: =B6423 -> 22.71
A30: 19868 | B30: 12.5 | C30: 1979 | D30: =B6672 -> 22.77
A31: 19869 | B31: 12.5 | C31: 1980 | D31: =B6922 -> 23.27
A32: 19870 | B32: 12.5 | C32: 1981 | D32: =B7171 -> 26.16
A33: 19871 | B33: 12.5 | C33: 1982 | D33: =B7427 -> 149.25
A34: 19872 | B34: 12.5 | C34: 1983 | D34: =B7678 -> 161.22
A35: 19875 | B35: 12.5 | C35: 1984 | D35: =B7929 -> 209.97
A36: 19876 | B36: 12.5 | C36: 1985 | D36: =B8178 -> 453.5
A37: 19877 | B37: 12.5 | C37: 1986 | D37: =B8426 -> 913.5
A38: 19878 | B38: 12.5 | C38: 1987 | D38: =B8674 -> 2225
A39: 19879 | B39: 12.5 | C39: 1988 | D39: =B8922 -> 2298
A40: 19882 | B40: 12.5 | C40: 1989 | D40: =B9170 -> 2685.5
A41: 19883 | B41: 12.5 | C41: 1990 | D41: =B9418 -> 2944.3
A42: 19884 | B42: 12.5
A43: 19885 | B43: 12.5 | C43: Fuente: Sistema de Información Económica, Banxico: Serie histórica del tipo de cambio.
A44: 19886 | B44: 12.5
A45: 19889 | B45: 12.5
A46: 19890 | B46: 12.5
A47: 19891 | B47: 12.5
A48: 19892 | B48: 12.5
A49: 19893 | B49: 12.5
A50: 19896 | B50: 12.5
...
