Workbook
Name \A: #REF!
Name \A: #REF!
Name \A: #REF!
Name \A: #REF!
Name \A: #REF!
Name \A: #REF!
Name \g: #REF!
Name \g: #REF!
Name \g: #REF!
Name \g: #REF!
Name \g: #REF!
Name \g: #REF!
Name \S: #REF!
Name \S: #REF!
Name \S: #REF!
Name \S: #REF!
Name \S: #REF!
Name ACTIVATE: #REF!
Name ACTIVATE: #REF!
Name ACTIVATE: #REF!
Name ACTIVATE: #REF!
Name ASSUMPT: #REF!
Name ASSUMPT: #REF!
Name ASSUMPT: #REF!
Name ASSUMPT: #REF!
Name ASSUMPT: #REF!
Name ASSUMPT: #REF!
Name ASSUMPTIONS: #REF!
Name ASSUMPTIONS: #REF!
Name ASSUMPTIONS: #REF!
Name ASSUMPTIONS: #REF!
Name ASSUMPTIONS: #REF!
Name ASSUMPTIONS: #REF!
Name basicdata1: #REF!
Name basicdata1: #REF!
Name basicdata1: #REF!
Name basicdata2: #REF!
Name basicdata2: #REF!
Name basicdata2: #REF!
Name BCA_NGDP: [5]Q6!$E$10:$AH$10
Name BMG: [5]Q6!$E$27:$AH$27
Name BOP: #REF!
Name BOP: #REF!
Name BOP: #REF!
Name BOP: #REF!
Name BOP: #REF!
Name BOP: #REF!
Name BXG: [5]Q6!$E$19:$AH$19
Name CAPITAL: #REF!
Name CAPITAL: #REF!
Name CAPITAL: #REF!
Name CAPITAL: #REF!
Name CAPITAL: #REF!
Name CAPITAL: #REF!
Name CARGO_BY_TYPE: '[6]Table No.18-Exports goods+servi'!#REF!
Name CARGO_BY_TYPE: '[6]Table No.18-Exports goods+servi'!#REF!
Name CARGO_BY_TYPE: '[6]Table No.18-Exports goods+servi'!#REF!
Name CARGO_BY_TYPE: '[6]Table No.18-Exports goods+servi'!#REF!
Name CCode: [7]Codes!$A$2
Name CENTRALG: #REF!

Sheet TCA
A1: Versión 05 | B1: Tipo de cambio pesos viejos por dólar, datos anuales; y valuación fin y promedio
A2: Año | B2: Tipo de Cambio Promedio en pesos | C2: Tipo de Cambio Promedio t/c | D2: Tipo de Cambio Fin en pesos | E2: Tipo de Cambio Fin t/c | F2: Índice de Valuación prom 1964=100 | G2: Índice de Valuación prom t/c | H2: Índice Valuación fin 1964=100 | I2: Índice Valuación fin t/c
A5: 1885 | B5: - | C5: - | D5: - | E5: - | F5: - | G5: - | H5: - | I5: -
A6: 1886 | B6: =TCAnual!B6 -> 1.303 | C6: - | D6: =TCAnual!D6 -> 1.27 | E6: - | F6: ='TCR Anual B1964 y B1895'!I6 -> 166.97734 | G6: - | H6: =TCMyG!B28 -> 169.22144 | I6: -
A7: 1887 | B7: =TCAnual!B7 -> 1.3133333 | C7: =((B7/B6)-1)*100 -> 0.7930417 | D7: =TCAnual!D7 -> 1.33 | E7: =((D7/D6)-1)*100 -> 4.7244094 | F7: ='TCR Anual B1964 y B1895'!I7 -> 164.59672 | G7: =((F7/F6)-1)*100 -> -1.4257122 | H7: =TCMyG!B40 -> 155.56435 | I7: =((H7/H6)-1)*100 -> -8.0705458
A8: 1888 | B8: =TCAnual!B8 -> 1.3408333 | C8: =((B8/B7)-1)*100 -> 2.0939086 | D8: =TCAnual!D8 -> 1.36 | E8: =((D8/D7)-1)*100 -> 2.2556391 | F8: ='TCR Anual B1964 y B1895'!I8 -> 172.43339 | G8: =((F8/F7)-1)*100 -> 4.7611324 | H8: =TCMyG!B52 -> 165.66751 | I8: =((H8/H7)-1)*100 -> 6.4945267
A9: 1889 | B9: =TCAnual!B9 -> 1.36 | C9: =((B9/B8)-1)*100 -> 1.4294593 | D9: =TCAnual!D9 -> 1.32 | E9: =((D9/D8)-1)*100 -> -2.9411765 | F9: ='TCR Anual B1964 y B1895'!I9 -> 190.9 | G9: =((F9/F8)-1)*100 -> 10.709414 | H9: =TCMyG!B64 -> 186.50105 | I9: =((H9/H8)-1)*100 -> 12.575508
A10: 1890 | B10: =TCAnual!B10 -> 1.2366667 | C10: =((B10/B9)-1)*100 -> -9.0686275 | D10: =TCAnual!D10 -> 1.24 | E10: =((D10/D9)-1)*100 -> -6.0606061 | F10: ='TCR Anual B1964 y B1895'!I10 -> 194.97012 | G10: =((F10/F9)-1)*100 -> 2.1320705 | H10: =TCMyG!B76 -> 187.1502 | I10: =((H10/H9)-1)*100 -> 0.34807107
A11: 1891 | B11: =TCAnual!B11 -> 1.3066667 | C11: =((B11/B10)-1)*100 -> 5.6603774 | D11: =TCAnual!D11 -> 1.36 | E11: =((D11/D10)-1)*100 -> 9.6774194 | F11: ='TCR Anual B1964 y B1895'!I11 -> 174.89324 | G11: =((F11/F10)-1)*100 -> -10.297415 | H11: =TCMyG!B88 -> 179.2345 | I11: =((H11/H10)-1)*100 -> -4.2296
A12: 1892 | B12: =TCAnual!B12 -> 1.475 | C12: =((B12/B11)-1)*100 -> 12.882653 | D12: =TCAnual!D12 -> 1.54 | E12: =((D12/D11)-1)*100 -> 13.235294 | F12: ='TCR Anual B1964 y B1895'!I12 -> 185.22242 | G12: =((F12/F11)-1)*100 -> 5.9059928 | H12: =TCMyG!B100 -> 179.08745 | I12: =((H12/H11)-1)*100 -> -0.082039673
A13: 1893 | B13: =TCAnual!B13 -> 1.6533333 | C13: =((B13/B12)-1)*100 -> 12.090395 | D13: =TCAnual!D13 -> 1.78 | E13: =((D13/D12)-1)*100 -> 15.584416 | F13: ='TCR Anual B1964 y B1895'!I13 -> 168.76762 | G13: =((F13/F12)-1)*100 -> -8.8838074 | H13: =TCMyG!B112 -> 164.12545 | I13: =((H13/H12)-1)*100 -> -8.3545812
A14: 1894 | B14: =TCAnual!B14 -> 1.9566667 | C14: =((B14/B13)-1)*100 -> 18.346774 | D14: =TCAnual!D14 -> 2 | E14: =((D14/D13)-1)*100 -> 12.359551 | F14: ='TCR Anual B1964 y B1895'!I14 -> 161.48385 | G14: =((F14/F13)-1)*100 -> -4.3158541 | H14: =TCMyG!B124 -> 159.01629 | I14: =((H14/H13)-1)*100 -> -3.1129618
A15: 1895 | B15: =TCAnual!B15 -> 1.9058333 | C15: =((B15/B14)-1)*100 -> -2.5979557 | D15: =TCAnual!D15 -> 1.89 | E15: =((D15/D14)-1)*100 -> -5.5 | F15: ='TCR Anual B1964 y B1895'!I15 -> 157.69233 | G15: =((F15/F14)-1)*100 -> -2.34793 | H15: =TCMyG!B136 -> 163.37146 | I15: =((H15/H14)-1)*100 -> 2.7388252
A16: 1896 | B16: =TCAnual!B16 -> 1.905 | C16: =((B16/B15)-1)*100 -> -0.043725404 | D16: =TCAnual!D16 -> 1.97 | E16: =((D16/D15)-1)*100 -> 4.2328042 | F16: ='TCR Anual B1964 y B1895'!I16 -> 166.08586 | G16: =((F16/F15)-1)*100 -> 5.3227285 | H16: =TCMyG!B148 -> 153.02507 | I16: =((H16/H15)-1)*100 -> -6.3330505
A17: 1897 | B17: =TCAnual!B17 -> 2.1283333 | C17: =((B17/B16)-1)*100 -> 11.723535 | D17: =TCAnual!D17 -> 2.17 | E17: =((D17/D16)-1)*100 -> 10.152284 | F17: ='TCR Anual B1964 y B1895'!I17 -> 148.29005 | G17: =((F17/F16)-1)*100 -> -10.714825 | H17: =TCMyG!B160 -> 135.70595 | I17: =((H17/H16)-1)*100 -> -11.317833
A18: 1898 | B18: =TCAnual!B18 -> 2.1783333 | C18: =((B18/B17)-1)*100 -> 2.3492561 | D18: =TCAnual!D18 -> 2.11 | E18: =((D18/D17)-1)*100 -> -2.764977 | F18: ='TCR Anual B1964 y B1895'!I18 -> 135.64552 | G18: =((F18/F17)-1)*100 -> -8.5268896 | H18: =TCMyG!B172 -> 135.67143 | I18: =((H18/H17)-1)*100 -> -0.025434006
A19: 1899 | B19: =TCAnual!B19 -> 2.0991667 | C19: =((B19/B18)-1)*100 -> -3.634277 | D19: =TCAnual!D19 -> 2.11 | E19: =((D19/D18)-1)*100 -> 0 | F19: ='TCR Anual B1964 y B1895'!I19 -> 135.41951 | G19: =((F19/F18)-1)*100 -> -0.16661944 | H19: =TCMyG!B184 -> 130.59964 | I19: =((H19/H18)-1)*100 -> -3.7382858
A20: 1900 | B20: =TCAnual!B20 -> 2.0608333 | C20: =((B20/B19)-1)*100 -> -1.8261215 | D20: =TCAnual!D20 -> 2 | E20: =((D20/D19)-1)*100 -> -5.2132701 | F20: ='TCR Anual B1964 y B1895'!I20 -> 138.43929 | G20: =((F20/F19)-1)*100 -> 2.229944 | H20: =TCMyG!B196 -> 149.83962 | I20: =((H20/H19)-1)*100 -> 14.732029
A21: 1901 | B21: =TCAnual!B21 -> 2.1375 | C21: =((B21/B20)-1)*100 -> 3.7201779 | D21: =TCAnual!D21 -> 2.3 | E21: =((D21/D20)-1)*100 -> 15 | F21: ='TCR Anual B1964 y B1895'!I21 -> 139.24864 | G21: =((F21/F20)-1)*100 -> 0.58462676 | H21: =TCMyG!B208 -> 138.63202 | I21: =((H21/H20)-1)*100 -> -7.4797313
A22: 1902 | B22: =TCAnual!B22 -> 2.4158333 | C22: =((B22/B21)-1)*100 -> 13.021442 | D22: =TCAnual!D22 -> 2.66 | E22: =((D22/D21)-1)*100 -> 15.652174 | F22: ='TCR Anual B1964 y B1895'!I22 -> 132.33203 | G22: =((F22/F21)-1)*100 -> -4.9670933 | H22: =TCMyG!B220 -> 116.44808 | I22: =((H22/H21)-1)*100 -> -16.002031
A23: 1903 | B23: =TCAnual!B23 -> 2.3733333 | C23: =((B23/B22)-1)*100 -> -1.7592273 | D23: =TCAnual!D23 -> 2.29 | E23: =((D23/D22)-1)*100 -> -13.909774 | F23: ='TCR Anual B1964 y B1895'!I23 -> 134.051 | G23: =((F23/F22)-1)*100 -> 1.2989826 | H23: =TCMyG!B232 -> 139.30884 | I23: =((H23/H22)-1)*100 -> 19.63172
A24: 1904 | B24: =TCAnual!B24 -> 2.1608333 | C24: =((B24/B23)-1)*100 -> -8.9536517 | D24: =TCAnual!D24 -> 2.03 | E24: =((D24/D23)-1)*100 -> -11.353712 | F24: ='TCR Anual B1964 y B1895'!I24 -> 145.30818 | G24: =((F24/F23)-1)*100 -> 8.3976783 | H24: =TCMyG!B244 -> 156.07902 | I24: =((H24/H23)-1)*100 -> 12.03813
A25: 1905 | B25: =TCAnual!B25 -> 2.0191667 | C25: =((B25/B24)-1)*100 -> -6.5561126 | D25: =TCAnual!D25 -> 1.99 | E25: =((D25/D24)-1)*100 -> -1.9704433 | F25: ='TCR Anual B1964 y B1895'!I25 -> 154.7846 | G25: =((F25/F24)-1)*100 -> 6.5216057 | H25: =TCMyG!B256 -> 155.70898 | I25: =((H25/H24)-1)*100 -> -0.23708532
A26: 1906 | B26: =TCAnual!B26 -> 1.9883333 | C26: =((B26/B25)-1)*100 -> -1.5270326 | D26: =TCAnual!D26 -> 1.99 | E26: =((D26/D25)-1)*100 -> 0 | F26: ='TCR Anual B1964 y B1895'!I26 -> 150.63776 | G26: =((F26/F25)-1)*100 -> -2.6791051 | H26: =TCMyG!B268 -> 148.58963 | I26: =((H26/H25)-1)*100 -> -4.5722176
A27: 1907 | B27: =TCAnual!B27 -> 2.0116667 | C27: =((B27/B26)-1)*100 -> 1.1735122 | D27: =TCAnual!D27 -> 2.02 | E27: =((D27/D26)-1)*100 -> 1.5075377 | F27: ='TCR Anual B1964 y B1895'!I27 -> 147.28656 | G27: =((F27/F26)-1)*100 -> -2.224675 | H27: =TCMyG!B280 -> 150.30398 | I27: =((H27/H26)-1)*100 -> 1.1537476
A28: 1908 | B28: =TCAnual!B28 -> 2.1916667 | C28: =((B28/B27)-1)*100 -> 8.9478045 | D28: =TCAnual!D28 -> 2.22 | E28: =((D28/D27)-1)*100 -> 9.9009901 | F28: ='TCR Anual B1964 y B1895'!I28 -> 140.78879 | G28: =((F28/F27)-1)*100 -> -4.4116476 | H28: =TCMyG!B292 -> 135.05922 | I28: =((H28/H27)-1)*100 -> -10.142619
A29: 1909 | B29: =TCAnual!B29 -> 2.2783333 | C29: =((B29/B28)-1)*100 -> 3.9543726 | D29: =TCAnual!D29 -> 2.3 | E29: =((D29/D28)-1)*100 -> 3.6036036 | F29: ='TCR Anual B1964 y B1895'!I29 -> 136.29442 | G29: =((F29/F28)-1)*100 -> -3.1922804 | H29: =TCMyG!B304 -> 140.98658 | I29: =((H29/H28)-1)*100 -> 4.3887114
A30: 1910 | B30: =TCAnual!B30 -> 2.2525 | C30: =((B30/B29)-1)*100 -> -1.1338698 | D30: =TCAnual!D30 -> 2.2 | E30: =((D30/D29)-1)*100 -> -4.3478261 | F30: ='TCR Anual B1964 y B1895'!I30 -> 154.80228 | G30: =((F30/F29)-1)*100 -> 13.579324 | H30: =TCMyG!B316 -> 176.52922 | I30: =((H30/H29)-1)*100 -> 25.209946
A31: 1911 | B31: =TCAnual!B31 -> 2.2091667 | C31: =((B31/B30)-1)*100 -> -1.9237884 | D31: =TCAnual!D31 -> 2.17 | E31: =((D31/D30)-1)*100 -> -1.3636364 | F31: ='TCR Anual B1964 y B1895'!I31 -> 171.93686 | G31: =((F31/F30)-1)*100 -> 11.068685 | H31: =TCMyG!B328 -> 168.01149 | I31: =((H31/H30)-1)*100 -> -4.8251115
A32: 1912 | B32: =TCAnual!B32 -> 2.0841667 | C32: =((B32/B31)-1)*100 -> -5.6582422 | D32: =TCAnual!D32 -> 2.04 | E32: =((D32/D31)-1)*100 -> -5.9907834 | F32: ='TCR Anual B1964 y B1895'!I32 -> 173.9738 | G32: =((F32/F31)-1)*100 -> 1.1847025 | H32: =TCMyG!B340 -> 176.46701 | I32: =((H32/H31)-1)*100 -> 5.0327074
A33: 1913 | B33: =TCAnual!B33 -> 2.135 | C33: =((B33/B32)-1)*100 -> 2.4390244 | D33: =TCAnual!D33 -> 2.22 | E33: =((D33/D32)-1)*100 -> 8.8235294 | F33: ='TCR Anual B1964 y B1895'!I33 -> 169.32203 | G33: =((F33/F32)-1)*100 -> -2.6738335 | H33: =TCMyG!B352 -> 167.19928 | I33: =((H33/H32)-1)*100 -> -5.2518188
A34: 1914 | B34: =TCAnual!B34 -> 3.7566667 | C34: =((B34/B33)-1)*100 -> 75.956284 | D34: =TCAnual!D34 -> 5.35 | E34: =((D34/D33)-1)*100 -> 140.99099 | F34: ='TCR Anual B1964 y B1895'!I34 -> 167.28502 | G34: =((F34/F33)-1)*100 -> -1.2030402 | H34: =TCMyG!B364 -> 165.54385 | I34: =((H34/H33)-1)*100 -> -0.99009901
A35: 1915 | B35: =TCAnual!B35 -> 12.053333 | C35: =((B35/B34)-1)*100 -> 220.85182 | D35: =TCAnual!D35 -> 16.95 | E35: =((D35/D34)-1)*100 -> 216.82243 | F35: ='TCR Anual B1964 y B1895'!I35 -> 165.76801 | G35: =((F35/F34)-1)*100 -> -0.90684254 | H35: =TCMyG!B376 -> 162.3294 | I35: =((H35/H34)-1)*100 -> -1.9417476
A36: 1916 | B36: =TCAnual!B36 -> 288.30583 | C36: =((B36/B35)-1)*100 -> 2291.9179 | D36: =TCAnual!D36 -> 1630.43 | E36: =((D36/D35)-1)*100 -> 9519.056 | F36: ='TCR Anual B1964 y B1895'!I36 -> 153.9637 | G36: =((F36/F35)-1)*100 -> -7.1209801 | H36: =TCMyG!B388 -> 144.13731 | I36: =((H36/H35)-1)*100 -> -11.206897
A37: 1917 | B37: =TCAnual!B37 -> 1.9066667 | C37: =((B37/B36)-1)*100 -> -99.338665 | D37: =TCAnual!D37 -> 1.92 | E37: =((D37/D36)-1)*100 -> -99.88224 | F37: ='TCR Anual B1964 y B1895'!I37 -> 230.07544 | G37: =((F37/F36)-1)*100 -> 49.434858 | H37: =TCMyG!B400 -> 297.11978 | I37: =((H37/H36)-1)*100 -> 106.13662
A38: 1918 | B38: =TCAnual!B38 -> 1.8108333 | C38: =((B38/B37)-1)*100 -> -5.0262238 | D38: =TCAnual!D38 -> 1.9 | E38: =((D38/D37)-1)*100 -> -1.0416667 | F38: ='TCR Anual B1964 y B1895'!I38 -> 268.74335 | G38: =((F38/F37)-1)*100 -> 16.806622 | H38: =TCMyG!B412 -> 220.89742 | I38: =((H38/H37)-1)*100 -> -25.653748
A39: 1919 | B39: =TCAnual!B39 -> 1.985 | C39: =((B39/B38)-1)*100 -> 9.6180396 | D39: =TCAnual!D39 -> 1.98 | E39: =((D39/D38)-1)*100 -> 4.2105263 | F39: ='TCR Anual B1964 y B1895'!I39 -> 204.08539 | G39: =((F39/F38)-1)*100 -> -24.059372 | H39: =TCMyG!B424 -> 194.30554 | I39: =((H39/H38)-1)*100 -> -12.038112
A40: 1920 | B40: =TCAnual!B40 -> 2.01 | C40: =((B40/B39)-1)*100 -> 1.2594458 | D40: =TCAnual!D40 -> 2.03 | E40: =((D40/D39)-1)*100 -> 2.5252525 | F40: ='TCR Anual B1964 y B1895'!I40 -> 189.51777 | G40: =((F40/F39)-1)*100 -> -7.1380017 | H40: =TCMyG!B436 -> 186.25437 | I40: =((H40/H39)-1)*100 -> -4.1435607
A41: 1921 | B41: =TCAnual!B41 -> 2.0391667 | C41: =((B41/B40)-1)*100 -> 1.4510779 | D41: =TCAnual!D41 -> 2.06 | E41: =((D41/D40)-1)*100 -> 1.4778325 | F41: ='TCR Anual B1964 y B1895'!I41 -> 187.82059 | G41: =((F41/F40)-1)*100 -> -0.89552537 | H41: =TCMyG!B448 -> 167.55385 | I41: =((H41/H40)-1)*100 -> -10.040315
A42: 1922 | B42: =TCAnual!B42 -> 2.0525 | C42: =((B42/B41)-1)*100 -> 0.65386187 | D42: =TCAnual!D42 -> 2.06 | E42: =((D42/D41)-1)*100 -> 0 | F42: ='TCR Anual B1964 y B1895'!I42 -> 158.53506 | G42: =((F42/F41)-1)*100 -> -15.592288 | H42: =TCMyG!B460 -> 133.77573 | I42: =((H42/H41)-1)*100 -> -20.15956
...

Sheet TCDiario
A1: Tipo de cambio diario en pesos viejos y nuevos, 1954-2010
B2: Pesos viejos por Dólar | C2: Pesos nuevos por Dólar
A3: Días
A5: 19833 | B5: 12.5 | C5: =B5/1000 -> 0.0125
A6: 19834 | B6: 12.5 | C6: =B6/1000 -> 0.0125
A7: 19835 | B7: 12.5 | C7: =B7/1000 -> 0.0125
A8: 19836 | B8: 12.5 | C8: =B8/1000 -> 0.0125
A9: 19837 | B9: 12.5 | C9: =B9/1000 -> 0.0125
A10: 19840 | B10: 12.5 | C10: =B10/1000 -> 0.0125
A11: 19841 | B11: 12.5 | C11: =B11/1000 -> 0.0125
A12: 19842 | B12: 12.5 | C12: =B12/1000 -> 0.0125
A13: 19843 | B13: 12.5 | C13: =B13/1000 -> 0.0125
A14: 19844 | B14: 12.5 | C14: =B14/1000 -> 0.0125
A15: 19847 | B15: 12.5 | C15: =B15/1000 -> 0.0125
A16: 19848 | B16: 12.5 | C16: =B16/1000 -> 0.0125
... A9418: 33235 | B9418: 2944.3 | C9418: =B9418/1000 -> 2.9443
A9419: 33240 | B9419: 2944.7 | C9419: 2.9447
A9420: 33241 | B9420: 2945.9 | C9420: 2.9459
A9421: 33242 | B9421: 2946.3 | C9421: 2.9463
A9422: 33245 | B9422: 2946.7 | C9422: 2.9467
A9423: 33246 | B9423: 2947.1 | C9423: 2.9471
A9424: 33247 | B9424: 2947.5 | C9424: 2.9475
A9425: 33248 | B9425: 2948.7 | C9425: 2.9487
A9426: 33249 | B9426: 2949.1 | C9426: 2.9491
A9427: 33252 | B9427: 2949.5 | C9427: 2.9495
A9428: 33253 | B9428: 2949.9 | C9428: 2.9499
A9429: 33254 | B9429: 2950.3 | C9429: 2.9503
A9430: 33255 | B9430: 2951.5 | C9430: 2.9515
... A14443: 40543 | B14443: 12349.6 | C14443: 12.3496
A14444: Fuente: Sistema de Información Económica, Banxico: Serie histórica del tipo de cambio.

Sheet TCMensual
A2: Meses | B2: Pesos viejos por dólar | C2: Tasa de cambio mensual | D2: Tasa de cambio anual | E2: Pesos nuevos por dólar | F2: Tasa de cambio mensual | G2: Tasa de cambio anual | I2: Fuentes: Gómez-Galvarratio y Mussachio (2000) para 1886-1929; Torres Gaytan (1980, p. 185) para 1930-1931; y Banco de México (Informe Anual, varios años, y SIE) para 1932 a 2010.
A5: 1/1/1885 | B5: - | C5: - | D5: - | E5: - | F5: - | G5: -
A6: 2/1/1885 | B6: - | C6: - | D6: - | E6: - | F6: - | G6: -
A7: 3/1/1885 | B7: - | C7: - | D7: - | E7: - | F7: - | G7: -
A8: 4/1/1885 | B8: - | C8: - | D8: - | E8: - | F8: - | G8: -
A9: 5/1/1885 | B9: - | C9: - | D9: - | E9: - | F9: - | G9: -
A10: 6/1/1885 | B10: - | C10: - | D10: - | E10: - | F10: - | G10: -
A11: 7/1/1885 | B11: - | C11: - | D11: - | E11: - | F11: - | G11: -
A12: 8/1/1885 | B12: - | C12: - | D12: - | E12: - | F12: - | G12: -
A13: 9/1/1885 | B13: - | C13: - | D13: - | E13: - | F13: - | G13: -
A14: 10/1/1885 | B14: - | C14: - | D14: - | E14: - | F14: - | G14: -
A15: 11/1/1885 | B15: - | C15: - | D15: - | E15: - | F15: - | G15: -
A16: 12/1/1885 | B16: - | C16: - | D16: - | E16: - | F16: - | G16: -
... A18: 2/1/1886 | B18: - | C18: - | D18: - | E18: - | F18: - | G18: -
A19: 3/1/1886 | B19: 1.26 | C19: - | D19: - | E19: =B19/1000 -> 0.00126 | F19: - | G19: -
A20: 4/1/1886 | B20: 1.27 | C20: =((B20/B19)-1)*100 -> 0.79365079 | D20: - | E20: =B20/1000 -> 0.00127 | F20: =((E20/E19)-1)*100 -> 0.79365079 | G20: -
A21: 5/1/1886 | B21: 1.29 | C21: =((B21/B20)-1)*100 -> 1.5748031 | D21: - | E21: =B21/1000 -> 0.00129 | F21: =((E21/E20)-1)*100 -> 1.5748031 | G21: -
A22: 6/1/1886 | B22: 1.3 | C22: =((B22/B21)-1)*100 -> 0.7751938 | D22: - | E22: =B22/1000 -> 0.0013 | F22: =((E22/E21)-1)*100 -> 0.7751938 | G22: -
A23: 7/1/1886 | B23: 1.31 | C23: =((B23/B22)-1)*100 -> 0.76923077 | D23: - | E23: =B23/1000 -> 0.00131 | F23: =((E23/E22)-1)*100 -> 0.76923077 | G23: -
A24: 8/1/1886 | B24: 1.38 | C24: =((B24/B23)-1)*100 -> 5.3435115 | D24: - | E24: =B24/1000 -> 0.00138 | F24: =((E24/E23)-1)*100 -> 5.3435115 | G24: -
A25: 9/1/1886 | B25: 1.36 | C25: =((B25/B24)-1)*100 -> -1.4492754 | D25: - | E25: =B25/1000 -> 0.00136 | F25: =((E25/E24)-1)*100 -> -1.4492754 | G25: -
A26: 10/1/1886 | B26: 1.31 | C26: =((B26/B25)-1)*100 -> -3.6764706 | D26: - | E26: =B26/1000 -> 0.00131 | F26: =((E26/E25)-1)*100 -> -3.6764706 | G26: -
A27: 11/1/1886 | B27: 1.28 | C27: =((B27/B26)-1)*100 -> -2.2900763 | D27: - | E27: =B27/1000 -> 0.00128 | F27: =((E27/E26)-1)*100 -> -2.2900763 | G27: -
A28: 12/1/1886 | B28: 1.27 | C28: =((B28/B27)-1)*100 -> -0.78125 | D28: - | E28: =B28/1000 -> 0.00127 | F28: =((E28/E27)-1)*100 -> -0.78125 | G28: -
A29: 1/1/1887 | B29: 1.26 | C29: =((B29/B28)-1)*100 -> -0.78740157 | D29: - | E29: =B29/1000 -> 0.00126 | F29: =((E29/E28)-1)*100 -> -0.78740157 | G29: -
A30: 2/1/1887 | B30: 1.25 | C30: =((B30/B29)-1)*100 -> -0.79365079 | D30: - | E30: =B30/1000 -> 0.00125 | F30: =((E30/E29)-1)*100 -> -0.79365079 | G30: -
A31: 3/1/1887 | B31: 1.28 | C31: =((B31/B30)-1)*100 -> 2.4 | D31: =((B31/B19)-1)*100 -> 1.5873016 | E31: =B31/1000 -> 0.00128 | F31: =((E31/E30)-1)*100 -> 2.4 | G31: =((E31/E19)-1)*100 -> 1.5873016
A32: 4/1/1887 | B32: 1.32 | C32: =((B32/B31)-1)*100 -> 3.125 | D32: =((B32/B20)-1)*100 -> 3.9370079 | E32: =B32/1000 -> 0.00132 | F32: =((E32/E31)-1)*100 -> 3.125 | G32: =((E32/E20)-1)*100 -> 3.9370079
A33: 5/1/1887 | B33: 1.34 | C33: =((B33/B32)-1)*100 -> 1.5151515 | D33: =((B33/B21)-1)*100 -> 3.875969 | E33: =B33/1000 -> 0.00134 | F33: =((E33/E32)-1)*100 -> 1.5151515 | G33: =((E33/E21)-1)*100 -> 3.875969
A34: 6/1/1887 | B34: 1.33 | C34: =((B34/B33)-1)*100 -> -0.74626866 | D34: =((B34/B22)-1)*100 -> 2.3076923 | E34: =B34/1000 -> 0.00133 | F34: =((E34/E33)-1)*100 -> -0.74626866 | G34: =((E34/E22)-1)*100 -> 2.3076923
A35: 7/1/1887 | B35: 1.33 | C35: =((B35/B34)-1)*100 -> 0 | D35: =((B35/B23)-1)*100 -> 1.5267176 | E35: =B35/1000 -> 0.00133 | F35: =((E35/E34)-1)*100 -> 0 | G35: =((E35/E23)-1)*100 -> 1.5267176
A36: 8/1/1887 | B36: 1.33 | C36: =((B36/B35)-1)*100 -> 0 | D36: =((B36/B24)-1)*100 -> -3.6231884 | E36: =B36/1000 -> 0.00133 | F36: =((E36/E35)-1)*100 -> 0 | G36: =((E36/E24)-1)*100 -> -3.6231884
A37: 9/1/1887 | B37: 1.32 | C37: =((B37/B36)-1)*100 -> -0.7518797 | D37: =((B37/B25)-1)*100 -> -2.9411765 | E37: =B37/1000 -> 0.00132 | F37: =((E37/E36)-1)*100 -> -0.7518797 | G37: =((E37/E25)-1)*100 -> -2.9411765
A38: 10/1/1887 | B38: 1.33 | C38: =((B38/B37)-1)*100 -> 0.75757576 | D38: =((B38/B26)-1)*100 -> 1.5267176 | E38: =B38/1000 -> 0.00133 | F38: =((E38/E37)-1)*100 -> 0.75757576 | G38: =((E38/E26)-1)*100 -> 1.5267176
A39: 11/1/1887 | B39: 1.34 | C39: =((B39/B38)-1)*100 -> 0.7518797 | D39: =((B39/B27)-1)*100 -> 4.6875 | E39: =B39/1000 -> 0.00134 | F39: =((E39/E38)-1)*100 -> 0.7518797 | G39: =((E39/E27)-1)*100 -> 4.6875
A40: 12/1/1887 | B40: 1.33 | C40: =((B40/B39)-1)*100 -> -0.74626866 | D40: =((B40/B28)-1)*100 -> 4.7244094 | E40: =B40/1000 -> 0.00133 | F40: =((E40/E39)-1)*100 -> -0.74626866 | G40: =((E40/E28)-1)*100 -> 4.7244094
A41: 1/1/1888 | B41: 1.32 | C41: =((B41/B40)-1)*100 -> -0.7518797 | D41: =((B41/B29)-1)*100 -> 4.7619048 | E41: =B41/1000 -> 0.00132 | F41: =((E41/E40)-1)*100 -> -0.7518797 | G41: =((E41/E29)-1)*100 -> 4.7619048
A42: 2/1/1888 | B42: 1.32 | C42: =((B42/B41)-1)*100 -> 0 | D42: =((B42/B30)-1)*100 -> 5.6 | E42: =B42/1000 -> 0.00132 | F42: =((E42/E41)-1)*100 -> 0 | G42: =((E42/E30)-1)*100 -> 5.6
... A208: 12/1/1901 | B208: 2.3 | C208: =((B208/B207)-1)*100 -> 3.6036036 | D208: =((B208/B196)-1)*100 -> 15 | E208: =B208/1000 -> 0.0023 | F208: =((E208/E207)-1)*100 -> 3.6036036 | G208: =((E208/E196)-1)*100 -> 15
A209: 732 | B209: 2.26 | C209: =((B209/B208)-1)*100 -> -1.7391304 | D209: =((B209/B197)-1)*100 -> 11.330049 | E209: =B209/1000 -> 0.00226 | F209: =((E209/E208)-1)*100 -> -1.7391304 | G209: =((E209/E197)-1)*100 -> 11.330049
...

Sheet TCAnual
A2: Años | B2: TC BDH (1886-2000) Promedio | C2: Tasa de cambio | D2: TC BDH (1886-2000) Fin | E2: Tasa de cambio | G2: Fuentes: Gómez-Galvarratio y Mussachio (2000) para 1886-1929; Torres Gaytan (1980, p. 185) para 1930-1931; y Banco de México (Informe Anual, varios años, y SIE) para 1932 a 2010.
A5: 1885 | B5: - | C5: - | D5: - | E5: -
A6: 1886 | B6: =AVERAGE(TCMensual!B19:B28) -> 1.303 | C6: - | D6: =TCMensual!B28 -> 1.27 | E6: -
A7: 1887 | B7: =AVERAGE(TCMensual!B29:B40) -> 1.3133333 | C7: =((B7/B6)-1)*100 -> 0.7930417 | D7: =TCMensual!B40 -> 1.33 | E7: =((D7/D6)-1)*100 -> 4.7244094
A8: 1888 | B8: =AVERAGE(TCMensual!B41:B52) -> 1.3408333 | C8: =((B8/B7)-1)*100 -> 2.0939086 | D8: =TCMensual!B52 -> 1.36 | E8: =((D8/D7)-1)*100 -> 2.2556391
A9: 1889 | B9: =AVERAGE(TCMensual!B53:B64) -> 1.36 | C9: =((B9/B8)-1)*100 -> 1.4294593 | D9: =TCMensual!B64 -> 1.32 | E9: =((D9/D8)-1)*100 -> -2.9411765
A10: 1890 | B10: =AVERAGE(TCMensual!B65:B76) -> 1.2366667 | C10: =((B10/B9)-1)*100 -> -9.0686275 | D10: =TCMensual!B76 -> 1.24 | E10: =((D10/D9)-1)*100 -> -6.0606061
A11: 1891 | B11: =AVERAGE(TCMensual!B77:B88) -> 1.3066667 | C11: =((B11/B10)-1)*100 -> 5.6603774 | D11: =TCMensual!B88 -> 1.36 | E11: =((D11/D10)-1)*100 -> 9.6774194
A12: 1892 | B12: =AVERAGE(TCMensual!B89:B100) -> 1.475 | C12: =((B12/B11)-1)*100 -> 12.882653 | D12: =TCMensual!B100 -> 1.54 | E12: =((D12/D11)-1)*100 -> 13.235294
A13: 1893 | B13: =AVERAGE(TCMensual!B101:B112) -> 1.6533333 | C13: =((B13/B12)-1)*100 -> 12.090395 | D13: =TCMensual!B112 -> 1.78 | E13: =((D13/D12)-1)*100 -> 15.584416
A14: 1894 | B14: =AVERAGE(TCMensual!B113:B124) -> 1.9566667 | C14: =((B14/B13)-1)*100 -> 18.346774 | D14: =TCMensual!B124 -> 2 | E14: =((D14/D13)-1)*100 -> 12.359551
A15: 1895 | B15: =AVERAGE(TCMensual!B125:B136) -> 1.9058333 | C15: =((B15/B14)-1)*100 -> -2.5979557 | D15: =TCMensual!B136 -> 1.89 | E15: =((D15/D14)-1)*100 -> -5.5
A16: 1896 | B16: =AVERAGE(TCMensual!B137:B148) -> 1.905 | C16: =((B16/B15)-1)*100 -> -0.043725404 | D16: =TCMensual!B148 -> 1.97 | E16: =((D16/D15)-1)*100 -> 4.2328042
A17: 1897 | B17: =AVERAGE(TCMensual!B149:B160) -> 2.1283333 | C17: =((B17/B16)-1)*100 -> 11.723535 | D17: =TCMensual!B160 -> 2.17 | E17: =((D17/D16)-1)*100 -> 10.152284
A18: 1898 | B18: =AVERAGE(TCMensual!B161:B172) -> 2.1783333 | C18: =((B18/B17)-1)*100 -> 2.3492561 | D18: =TCMensual!B172 -> 2.11 | E18: =((D18/D17)-1)*100 -> -2.764977
A19: 1899 | B19: =AVERAGE(TCMensual!B173:B184) -> 2.0991667 | C19: =((B19/B18)-1)*100 -> -3.634277 | D19: =TCMensual!B184 -> 2.11 | E19: =((D19/D18)-1)*100 -> 0
A20: 1900 | B20: =AVERAGE(TCMensual!B185:B196) -> 2.0608333 | C20: =((B20/B19)-1)*100 -> -1.8261215 | D20: =TCMensual!B196 -> 2 | E20: =((D20/D19)-1)*100 -> -5.2132701
A21: 1901 | B21: =AVERAGE(TCMensual!B197:B208) -> 2.1375 | C21: =((B21/B20)-1)*100 -> 3.7201779 | D21: =TCMensual!B208 -> 2.3 | E21: =((D21/D20)-1)*100 -> 15
A22: 1902 | B22: =AVERAGE(TCMensual!B209:B220) -> 2.4158333 | C22: =((B22/B21)-1)*100 -> 13.021442 | D22: =TCMensual!B220 -> 2.66 | E22: =((D22/D21)-1)*100 -> 15.652174
A23: 1903 | B23: =AVERAGE(TCMensual!B221:B232) -> 2.3733333 | C23: =((B23/B22)-1)*100 -> -1.7592273 | D23: =TCMensual!B232 -> 2.29 | E23: =((D23/D22)-1)*100 -> -13.909774
A24: 1904 | B24: =AVERAGE(TCMensual!B233:B244) -> 2.1608333 | C24: =((B24/B23)-1)*100 -> -8.9536517 | D24: =TCMensual!B244 -> 2.03 | E24: =((D24/D23)-1)*100 -> -11.353712
A25: 1905 | B25: =AVERAGE(TCMensual!B245:B256) -> 2.0191667 | C25: =((B25/B24)-1)*100 -> -6.5561126 | D25: =TCMensual!B256 -> 1.99 | E25: =((D25/D24)-1)*100 -> -1.9704433
A26: 1906 | B26: =AVERAGE(TCMensual!B257:B268) -> 1.9883333 | C26: =((B26/B25)-1)*100 -> -1.5270326 | D26: =TCMensual!B268 -> 1.99 | E26: =((D26/D25)-1)*100 -> 0
A27: 1907 | B27: =AVERAGE(TCMensual!B269:B280) -> 2.0116667 | C27: =((B27/B26)-1)*100 -> 1.1735122 | D27: =TCMensual!B280 -> 2.02 | E27: =((D27/D26)-1)*100 -> 1.5075377
A28: 1908 | B28: =AVERAGE(TCMensual!B281:B292) -> 2.1916667 | C28: =((B28/B27)-1)*100 -> 8.9478045 | D28: =TCMensual!B292 -> 2.22 | E28: =((D28/D27)-1)*100 -> 9.9009901
A29: 1909 | B29: =AVERAGE(TCMensual!B293:B304) -> 2.2783333 | C29: =((B29/B28)-1)*100 -> 3.9543726 | D29: =TCMensual!B304 -> 2.3 | E29: =((D29/D28)-1)*100 -> 3.6036036
A30: 1910 | B30: =AVERAGE(TCMensual!B305:B316) -> 2.2525 | C30: =((B30/B29)-1)*100 -> -1.1338698 | D30: =TCMensual!B316 -> 2.2 | E30: =((D30/D29)-1)*100 -> -4.3478261
A31: 1911 | B31: =AVERAGE(TCMensual!B317:B328) -> 2.2091667 | C31: =((B31/B30)-1)*100 -> -1.9237884 | D31: =TCMensual!B328 -> 2.17 | E31: =((D31/D30)-1)*100 -> -1.3636364
A32: 1912 | B32: =AVERAGE(TCMensual!B329:B340) -> 2.0841667 | C32: =((B32/B31)-1)*100 -> -5.6582422 | D32: =TCMensual!B340 -> 2.04 | E32: =((D32/D31)-1)*100 -> -5.9907834
A33: 1913 | B33: =AVERAGE(TCMensual!B341:B352) -> 2.135 | C33: =((B33/B32)-1)*100 -> 2.4390244 | D33: =TCMensual!B352 -> 2.22 | E33: =((D33/D32)-1)*100 -> 8.8235294
A34: 1914 | B34: =AVERAGE(TCMensual!B353:B364) -> 3.7566667 | C34: =((B34/B33)-1)*100 -> 75.956284 | D34: =TCMensual!B364 -> 5.35 | E34: =((D34/D33)-1)*100 -> 140.99099
A35: 1915 | B35: =AVERAGE(TCMensual!B365:B376) -> 12.053333 | C35: =((B35/B34)-1)*100 -> 220.85182 | D35: =TCMensual!B376 -> 16.95 | E35: =((D35/D34)-1)*100 -> 216.82243
A36: 1916 | B36: =AVERAGE(TCMensual!B377:B388) -> 288.30583 | C36: =((B36/B35)-1)*100 -> 2291.9179 | D36: =TCMensual!B388 -> 1630.43 | E36: =((D36/D35)-1)*100 -> 9519.056
A37: 1917 | B37: =AVERAGE(TCMensual!B389:B400) -> 1.9066667 | C37: =((B37/B36)-1)*100 -> -99.338665 | D37: =TCMensual!B400 -> 1.92 | E37: =((D37/D36)-1)*100 -> -99.88224
A38: 1918 | B38: =AVERAGE(TCMensual!B401:B412) -> 1.8108333 | C38: =((B38/B37)-1)*100 -> -5.0262238 | D38: =TCMensual!B412 -> 1.9 | E38: =((D38/D37)-1)*100 -> -1.0416667
A39: 1919 | B39: =AVERAGE(TCMensual!B413:B424) -> 1.985 | C39: =((B39/B38)-1)*100 -> 9.6180396 | D39: =TCMensual!B424 -> 1.98 | E39: =((D39/D38)-1)*100 -> 4.2105263
A40: 1920 | B40: =AVERAGE(TCMensual!B425:B436) -> 2.01 | C40: =((B40/B39)-1)*100 -> 1.2594458 | D40: =TCMensual!B436 -> 2.03 | E40: =((D40/D39)-1)*100 -> 2.5252525
A41: 1921 | B41: =AVERAGE(TCMensual!B437:B448) -> 2.0391667 | C41: =((B41/B40)-1)*100 -> 1.4510779 | D41: =TCMensual!B448 -> 2.06 | E41: =((D41/D40)-1)*100 -> 1.4778325
A42: 1922 | B42: =AVERAGE(TCMensual!B449:B460) -> 2.0525 | C42: =((B42/B41)-1)*100 -> 0.65386187 | D42: =TCMensual!B460 -> 2.06 | E42: =((D42/D41)-1)*100 -> 0
A43: 1923 | B43: =AVERAGE(TCMensual!B461:B472) -> 2.055 | C43: =((B43/B42)-1)*100 -> 0.12180268 | D43: =TCMensual!B472 -> 2.05 | E43: =((D43/D42)-1)*100 -> -0.48543689
...

Sheet TCR Anual B1964 y B1895
B1: Cálculo del Índice de Valuación, datos anuales y base 1964=100
A2: Año | B2: TC Promedio (1) | C2: TC Promedio % (2) | D2: US Inflación (3) | E2: Índice US 1964=100 (4) | F2: IPC Mex Inflación (5) | G2: IPC Mex 1964=100 (6) | H2: TC de equilibrio (6/4)*12.5 =(7) | I2: Valuación promedio 1964=100 (7)/(1) | J2: Índice de valuación 1895=100
A5: 1885 | B5: - | C5: - | D5: - | E5: - | F5: - | G5: - | H5: - | I5: - | J5: -
A6: 1886 | B6: =TCAnual!B6 -> 1.303 | C6: - | D6: - | E6: =E7/(1+(D7/100)) -> 24.823606 | F6: - | G6: =G7/(1+(F7/100)) -> 4.3241862 | H6: =(G6/E6)*$B$84 -> 2.1757147 | I6: =(H6/B6)*100 -> 166.97734 | J6: -
A7: 1887 | B7: =TCAnual!B7 -> 1.3133333 | C7: =((B7/B6)-1)*100 -> 0.7930417 | D7: 4.607978 | E7: =E8/(1+(D8/100)) -> 25.967472 | F7: 3.9343267 | G7: =G8/(1+(F8/100)) -> 4.4943138 | H7: =(G7/E7)*$B$84 -> 2.1617036 | I7: =(H7/B7)*100 -> 164.59672 | J7: =(I7/$I$42)*100 -> 103.82355 | S7: Esta gráfica nos sugiere un cambio estructural en el TCR alrededor de 1933. O sea, no podemos integrar en una serie los dos periodos 1887-1933 y 1933-2010
A8: 1888 | B8: =TCAnual!B8 -> 1.3408333 | C8: =((B8/B7)-1)*100 -> 2.0939086 | D8: 1.7751479 | E8: =E9/(1+(D9/100)) -> 26.428433 | F8: 8.8533396 | G8: =G9/(1+(F9/100)) -> 4.8922107 | H8: =(G8/E8)*$B$84 -> 2.3120444 | I8: =(H8/B8)*100 -> 172.43339 | J8: =(I8/$I$42)*100 -> 108.76672
A9: 1889 | B9: =TCAnual!B9 -> 1.36 | C9: =((B9/B8)-1)*100 -> 1.4294593 | D9: -5.4263566 | E9: =E10/(1+(D10/100)) -> 24.994332 | F9: 6.1985979 | G9: =G10/(1+(F10/100)) -> 5.1954591 | H9: =(G9/E9)*$B$84 -> 2.59624 | I9: =(H9/B9)*100 -> 190.9 | J9: =(I9/$I$42)*100 -> 120.415
A10: 1890 | B10: =TCAnual!B10 -> 1.2366667 | C10: =((B10/B9)-1)*100 -> -9.0686275 | D10: 1.0429466 | E10: =E11/(1+(D11/100)) -> 25.25501 | F10: -6.161321 | G10: =G11/(1+(F11/100)) -> 4.8753502 | H10: =(G10/E10)*$B$84 -> 2.4111305 | I10: =(H10/B10)*100 -> 194.97012 | J10: =(I10/$I$42)*100 -> 122.98234
A11: 1891 | B11: =TCAnual!B11 -> 1.3066667 | C11: =((B11/B10)-1)*100 -> 5.6603774 | D11: -0.57837758 | E11: =E12/(1+(D12/100)) -> 25.10894 | F11: -5.7680971 | G11: =G12/(1+(F12/100)) -> 4.5941353 | H11: =(G11/E11)*$B$84 -> 2.2852716 | I11: =(H11/B11)*100 -> 174.89324 | J11: =(I11/$I$42)*100 -> 110.31833
A12: 1892 | B12: =TCAnual!B12 -> 1.475 | C12: =((B12/B11)-1)*100 -> 12.882653 | D12: -6.3991647 | E12: =E13/(1+(D13/100)) -> 23.502178 | F12: 11.899325 | G12: =G13/(1+(F13/100)) -> 5.1408064 | H12: =(G12/E12)*$B$84 -> 2.7320307 | I12: =(H12/B12)*100 -> 185.22242 | J12: =(I12/$I$42)*100 -> 116.83373
A13: 1893 | B13: =TCAnual!B13 -> 1.6533333 | C13: =((B13/B12)-1)*100 -> 12.090395 | D13: 2.3904382 | E13: =E14/(1+(D14/100)) -> 24.063983 | F13: 4.573915 | G13: =G14/(1+(F14/100)) -> 5.3759425 | H13: =(G13/E13)*$B$84 -> 2.7902913 | I13: =(H13/B13)*100 -> 168.76762 | J13: =(I13/$I$42)*100 -> 106.45444
A14: 1894 | B14: =TCAnual!B14 -> 1.9566667 | C14: =((B14/B13)-1)*100 -> 18.346774 | D14: -10.319066 | E14: =E15/(1+(D15/100)) -> 21.580805 | F14: 1.5538825 | G14: =G15/(1+(F15/100)) -> 5.4594783 | H14: =(G14/E14)*$B$84 -> 3.1597007 | I14: =(H14/B14)*100 -> 161.48385 | J14: =(I14/$I$42)*100 -> 101.86003
A15: 1895 | B15: =TCAnual!B15 -> 1.9058333 | C15: =((B15/B14)-1)*100 -> -2.5979557 | D15: 1.8049288 | E15: =E16/(1+(D16/100)) -> 21.970323 | F15: -3.1681275 | G15: =G16/(1+(F16/100)) -> 5.2865151 | H15: =(G15/E15)*$B$84 -> 3.0053529 | I15: =(H15/B15)*100 -> 157.69233 | J15: =(I15/$I$15)*100 -> 100
A16: 1896 | B16: =TCAnual!B16 -> 1.905 | C16: =((B16/B15)-1)*100 -> -0.043725404 | D16: -4.8073645 | E16: =E17/(1+(D17/100)) -> 20.914129 | F16: 0.21564222 | G16: =G17/(1+(F17/100)) -> 5.2979151 | H16: =(G16/E16)*$B$84 -> 3.1639356 | I16: =(H16/B16)*100 -> 166.08586 | J16: =(I16/$I$42)*100 -> 104.76286
A17: 1897 | B17: =TCAnual!B17 -> 2.1283333 | C17: =((B17/B16)-1)*100 -> 11.723535 | D17: 0.39398281 | E17: =E18/(1+(D18/100)) -> 20.996528 | F17: 0.14556172 | G17: =G18/(1+(F18/100)) -> 5.3056268 | H17: =(G17/E17)*$B$84 -> 3.1561066 | I17: =(H17/B17)*100 -> 148.29005 | J17: =(I17/$I$42)*100 -> 93.537701
A18: 1898 | B18: =TCAnual!B18 -> 2.1783333 | C18: =((B18/B17)-1)*100 -> 2.3492561 | D18: 3.8530146 | E18: =E19/(1+(D19/100)) -> 21.805527 | F18: -2.7706808 | G18: =G19/(1+(F19/100)) -> 5.1586248 | H18: =(G18/E18)*$B$84 -> 2.9548116 | I18: =(H18/B18)*100 -> 135.64552 | J18: =(I18/$I$42)*100 -> 85.561845
A19: 1899 | B19: =TCAnual!B19 -> 2.0991667 | C19: =((B19/B18)-1)*100 -> -3.634277 | D19: 7.9354174 | E19: =E20/(1+(D20/100)) -> 23.535886 | F19: 3.8394399 | G19: =G20/(1+(F20/100)) -> 5.3566871 | H19: =(G19/E19)*$B$84 -> 2.8426812 | I19: =(H19/B19)*100 -> 135.41951 | J19: =(I19/$I$42)*100 -> 85.419282
A20: 1900 | B20: =TCAnual!B20 -> 2.0608333 | C20: =((B20/B19)-1)*100 -> -1.8261215 | D20: 7.2246976 | E20: =E21/(1+(D21/100)) -> 25.236283 | F20: 7.6140316 | G20: =G21/(1+(F21/100)) -> 5.764547 | H20: =(G20/E20)*$B$84 -> 2.853003 | I20: =(H20/B20)*100 -> 138.43929 | J20: =(I20/$I$42)*100 -> 87.324084
A21: 1901 | B21: =TCAnual!B21 -> 2.1375 | C21: =((B21/B20)-1)*100 -> 3.7201779 | D21: -1.5434847 | E21: =E22/(1+(D22/100)) -> 24.846765 | F21: 2.7162894 | G21: =G22/(1+(F22/100)) -> 5.9211288 | H21: =(G21/E21)*$B$84 -> 2.9764397 | I21: =(H21/B21)*100 -> 139.24864 | J21: =(I21/$I$42)*100 -> 87.834604 | R21: Esta gráfica sugiere que el año de equilibrio en 1887-1933 es 1895 en función del cruce aproximado de la linea de tendencia con la serie en ese punto. Esto implica que cualquier valor por encima de 100 en el índice representa una sobrevaluación y cualquier otro valor por debajo indica subvaluación.
A22: 1902 | B22: =TCAnual!B22 -> 2.4158333 | C22: =((B22/B21)-1)*100 -> 13.021442 | D22: 6.3762436 | E22: =E23/(1+(D23/100)) -> 26.431055 | F22: 14.25613 | G22: =G23/(1+(F23/100)) -> 6.7652526 | H22: =(G22/E22)*$B$84 -> 3.1969214 | I22: =(H22/B22)*100 -> 132.33203 | J22: =(I22/$I$42)*100 -> 83.471777
A23: 1903 | B23: =TCAnual!B23 -> 2.3733333 | C23: =((B23/B22)-1)*100 -> -1.7592273 | D23: 1.3178404 | E23: =E24/(1+(D24/100)) -> 26.779374 | F23: 0.82837723 | G23: =G24/(1+(F24/100)) -> 6.8212944 | H23: =(G23/E23)*$B$84 -> 3.1814771 | I23: =(H23/B23)*100 -> 134.051 | J23: =(I23/$I$42)*100 -> 84.556061
A24: 1904 | B24: =TCAnual!B24 -> 2.1608333 | C24: =((B24/B23)-1)*100 -> -8.9536517 | D24: 0.18181818 | E24: =E25/(1+(D25/100)) -> 26.828064 | F24: -1.128432 | G24: =G25/(1+(F25/100)) -> 6.7443207 | H24: =(G24/E24)*$B$84 -> 3.1398675 | I24: =(H24/B24)*100 -> 145.30818 | J24: =(I24/$I$42)*100 -> 91.656807
A25: 1905 | B25: =TCAnual!B25 -> 2.0191667 | C25: =((B25/B24)-1)*100 -> -6.5561126 | D25: 0.65614966 | E25: =E26/(1+(D26/100)) -> 27.004096 | F25: 0.19104707 | G25: =G26/(1+(F26/100)) -> 6.7572055 | H25: =(G25/E25)*$B$84 -> 3.1253591 | I25: =(H25/B25)*100 -> 154.7846 | J25: =(I25/$I$42)*100 -> 97.634303
A26: 1906 | B26: =TCAnual!B26 -> 1.9883333 | C26: =((B26/B25)-1)*100 -> -1.5270326 | D26: 2.5658807 | E26: =E27/(1+(D27/100)) -> 27.696989 | F26: -1.7062209 | G26: =G27/(1+(F27/100)) -> 6.6419127 | H26: =(G26/E26)*$B$84 -> 2.9951808 | I26: =(H26/B26)*100 -> 150.63776 | J26: =(I26/$I$42)*100 -> 95.018577
A27: 1907 | B27: =TCAnual!B27 -> 2.0116667 | C27: =((B27/B26)-1)*100 -> 1.1735122 | D27: 5.8553076 | E27: =E28/(1+(D28/100)) -> 29.318733 | F27: 4.7149605 | G27: =G28/(1+(F28/100)) -> 6.9550762 | H27: =(G27/E27)*$B$84 -> 2.9629146 | I27: =(H27/B27)*100 -> 147.28656 | J27: =(I27/$I$42)*100 -> 92.904723
A28: 1908 | B28: =TCAnual!B28 -> 2.1916667 | C28: =((B28/B27)-1)*100 -> 8.9478045 | D28: -3.6407767 | E28: =E29/(1+(D29/100)) -> 28.251303 | F28: 0.34985503 | G28: =G29/(1+(F29/100)) -> 6.9794089 | H28: =(G28/E28)*$B$84 -> 3.0856211 | I28: =(H28/B28)*100 -> 140.78879 | J28: =(I28/$I$42)*100 -> 88.806094
A29: 1909 | B29: =TCAnual!B29 -> 2.2783333 | C29: =((B29/B28)-1)*100 -> 3.9543726 | D29: 7.8748509 | E29: =E30/(1+(D30/100)) -> 30.476051 | F29: 8.5607813 | G29: =G30/(1+(F30/100)) -> 7.5769009 | H29: =(G29/E29)*$B$84 -> 3.1052412 | I29: =(H29/B29)*100 -> 136.29442 | J29: =(I29/$I$42)*100 -> 85.971154
A30: 1910 | B30: =TCAnual!B30 -> 2.2525 | C30: =((B30/B29)-1)*100 -> -1.1338698 | D30: 3.7728893 | E30: =E31/(1+(D31/100)) -> 31.625879 | F30: 16.528116 | G30: =G31/(1+(F31/100)) -> 8.8292198 | H30: =(G30/E30)*$B$84 -> 3.4869214 | I30: =(H30/B30)*100 -> 154.80228 | J30: =(I30/$I$42)*100 -> 97.645456
A31: 1911 | B31: =TCAnual!B31 -> 2.2091667 | C31: =((B31/B30)-1)*100 -> -1.9237884 | D31: -7.9346281 | E31: =E32/(1+(D32/100)) -> 29.116483 | F31: 0.28861281 | G31: =G32/(1+(F32/100)) -> 8.8547021 | H31: =(G31/E31)*$B$84 -> 3.7983718 | I31: =(H31/B31)*100 -> 171.93686 | J31: =(I31/$I$42)*100 -> 108.45352
A32: 1912 | B32: =TCAnual!B32 -> 2.0841667 | C32: =((B32/B31)-1)*100 -> -5.6582422 | D32: 6.650373 | E32: =E33/(1+(D33/100)) -> 31.052838 | F32: 1.807835 | G32: =G33/(1+(F33/100)) -> 9.0147805 | H32: =(G32/E32)*$B$84 -> 3.625904 | I32: =(H32/B32)*100 -> 173.9738 | J32: =(I32/$I$42)*100 -> 109.73838
A33: 1913 | B33: =TCAnual!B33 -> 2.135 | C33: =((B33/B32)-1)*100 -> 2.4390244 | D33: 2.6140959 | E33: =E34/(1+(D34/100)) -> 31.864589 | F33: 2.3062285 | G33: =G34/(1+(F34/100)) -> 9.2226819 | H33: =(G33/E33)*$B$84 -> 3.6150254 | I33: =(H33/B33)*100 -> 169.32203 | J33: =(I33/$I$42)*100 -> 106.80415
... A37: 1917 | B37: =TCAnual!B37 -> 1.9066667 | C37: =((B37/B36)-1)*100 -> -99.338665 | D37: 17.840735 | E37: =E38/(1+(D38/100)) -> 41.348737 | F37: -98.835422 | G37: =G38/(1+(F38/100)) -> 14.522616 | H37: =(G37/E37)*$B$84 -> 4.3867717 | I37: =(H37/B37)*100 -> 230.07544 | J37: =(I37/$I$42)*100 -> 145.1259
A38: 1918 | B38: =TCAnual!B38 -> 1.8108333 | C38: =((B38/B37)-1)*100 -> -5.0262238 | D38: 17.283951 | E38: =E39/(1+(D39/100)) -> 48.495433 | F38: 30.109724 | G38: =G39/(1+(F39/100)) -> 18.895335 | H38: =(G38/E38)*$B$84 -> 4.8664941 | I38: =(H38/B38)*100 -> 268.74335 | J38: =(I38/$I$42)*100 -> 169.51666 | R38: Esta gráfica sugiere que el año de equilibrio en 1933-2010 es 1964 en función del cruce aproximado de la linea de tendencia con la serie en ese punto. Esto implica que cualquier valor por encima de 100 en el índice representa una sobrevaluación y cualquier otro por debajo de ese valor una subvaluación..
A39: 1919 | B39: =TCAnual!B39 -> 1.985 | C39: =((B39/B38)-1)*100 -> 9.6180396 | D39: 15.235457 | E39: =E40/(1+(D40/100)) -> 55.883933 | F39: -4.0726723 | G39: =G40/(1+(F40/100)) -> 18.12579 | H39: =(G39/E39)*$B$84 -> 4.0510949 | I39: =(H39/B39)*100 -> 204.08539 | J39: =(I39/$I$42)*100 -> 128.73202
A40: 1920 | B40: =TCAnual!B40 -> 2.01 | C40: =((B40/B39)-1)*100 -> 1.2594458 | D40: 15.625 | E40: =E41/(1+(D41/100)) -> 64.615798 | F40: 8.7239738 | G40: =G41/(1+(F41/100)) -> 19.707079 | H40: =(G40/E40)*$B$84 -> 3.8093071 | I40: =(H40/B40)*100 -> 189.51777 | J40: =(I40/$I$42)*100 -> 119.54313
A41: 1921 | B41: =TCAnual!B41 -> 2.0391667 | C41: =((B41/B40)-1)*100 -> 1.4510779 | D41: -10.935551 | E41: =E42/(1+(D42/100)) -> 57.549704 | F41: -10.452325 | G41: =G42/(1+(F42/100)) -> 17.647231 | H41: =(G41/E41)*$B$84 -> 3.8299748 | I41: =(H41/B41)*100 -> 187.82059 | J41: =(I41/$I$42)*100 -> 118.47259
A42: 1922 | B42: =TCAnual!B42 -> 2.0525 | C42: =((B42/B41)-1)*100 -> 0.65386187 | D42: -6.162465 | E42: =E43/(1+(D43/100)) -> 54.003224 | F42: -20.275985 | G42: =G43/(1+(F43/100)) -> 14.069081 | H42: =(G42/E42)*$B$84 -> 3.2539321 | I42: =(H42/B42)*100 -> 158.53506 | J42: =(I42/$I$42)*100 -> 100
A43: 1923 | B43: =TCAnual!B43 -> 2.055 | C43: =((B43/B42)-1)*100 -> 0.12180268 | D43: 1.7910448 | E43: =E44/(1+(D44/100)) -> 54.970446 | F43: -10.193243 | G43: =G44/(1+(F44/100)) -> 12.634986 | H43: =(G43/E43)*$B$84 -> 2.870833 | I43: =(H43/B43)*100 -> 139.6999 | J43: =(I43/$I$42)*100 -> 88.119248
A44: 1924 | B44: =TCAnual!B44 -> 2.0666667 | C44: =((B44/B43)-1)*100 -> 0.56772101 | D44: 0.4398827 | E44: =E45/(1+(D45/100)) -> 55.212251 | F44: 4.2883571 | G44: =G45/(1+(F45/100)) -> 13.176819 | H44: =(G44/E44)*$B$84 -> 2.9808324 | I44: =(H44/B44)*100 -> 144.23383 | J44: =(I44/$I$42)*100 -> 90.979135
A45: 1925 | B45: =TCAnual!B45 -> 2.0208333 | C45: =((B45/B44)-1)*100 -> -2.2177419 | D45: 2.43309 | E45: =E46/(1+(D46/100)) -> 56.555615 | F45: 14.762483 | G45: =G46/(1+(F46/100)) -> 15.122045 | H45: =(G45/E45)*$B$84 -> 3.3396213 | I45: =(H45/B45)*100 -> 165.25961 | J45: =(I45/$I$42)*100 -> 104.24168
...

Sheet TCMyG
I1: No borrar | J1: 12.49
A2: Periodo | B2: Índice de valuación 1964=100 | C2: TC de equilibrio (MX/US)*12.5 =(7) | D2: TC Promedio Pesos viejos | E2: TC % | F2: Precios EU 1964=100 (2) | G2: Inflación EU | H2: Precios Mex 1964=100 (3) | I2: Inflación MX | J2: Índice TC 1964=100 | K2: IPC/TC base 1964=100 | M2: IPC US Log Natural | N2: IPC/TC Log Natural | O2: Correlation coef 1886-2010 | Q2: =CORREL(M20:M1516,N20:N1516) -> 0.97124167
O3: Correlation coef 1933-1981 | Q3: =CORREL(M581:M1168,N581:N1168) -> 0.96884282
O4: Correlation coef 1933-2010 | Q4: =CORREL(M581:M1516,N581:N1516) -> 0.98578563
A5: 1/1/1885 | B5: - | C5: - | D5: - | E5: - | F5: - | G5: - | H5: - | I5: - | J5: - | K5: Mex | M5: EU | N5: Mex
A6: 2/1/1885 | B6: - | C6: - | D6: - | E6: - | F6: - | G6: - | H6: - | I6: - | J6: - | K6: - | M6: - | N6: - | X6: Cuadro 1. Inflación acumulada EU VS México, 1886-2010
A7: 3/1/1885 | B7: - | C7: - | D7: - | E7: - | F7: - | G7: - | H7: - | I7: - | J7: - | K7: - | M7: - | N7: - | Y7: Observación final 2010* | Z7: Observación inicial 1886* | AA7: Inflación 1933-1981 **
A8: 4/1/1885 | B8: - | C8: - | D8: - | E8: - | F8: - | G8: - | H8: - | I8: - | J8: - | K8: - | M8: - | N8: - | X8: Estados Unidos | Y8: =AVERAGE(F1505:F1516) -> 700.36874 | Z8: =AVERAGE(F20:F28) -> 25.048612 | AA8: =(Y8/Z8) -> 27.960381
A9: 5/1/1885 | B9: - | C9: - | D9: - | E9: - | F9: - | G9: - | H9: - | I9: - | J9: - | K9: - | M9: - | N9: - | X9: México | Y9: =AVERAGE(K1505:K1516) -> 682.59922 | Z9: =AVERAGE(K20:K128) -> 43.361894 | AA9: =(Y9/Z9) -> 15.741915
A10: 6/1/1885 | B10: - | C10: - | D10: - | E10: - | F10: - | G10: - | H10: - | I10: - | J10: - | K10: - | M10: - | N10: - | X10: Inflación externa menos interna*** | AA10: =AA8/AA9 -> 1.7761741
A11: 7/1/1885 | B11: - | C11: - | D11: - | E11: - | F11: - | G11: - | H11: - | I11: - | J11: - | K11: - | M11: - | N11: - | X11: * Promedio de observaciones mensuales del índice de precios en 1886 y 2010.
A12: 8/1/1885 | B12: - | C12: - | D12: - | E12: - | F12: - | G12: - | H12: - | I12: - | J12: - | K12: - | M12: - | N12: - | X12: ** Inflación acumulada al dividir la observación final del índice de precios por la inicial.
A13: 9/1/1885 | B13: - | C13: - | D13: - | E13: - | F13: - | G13: - | H13: - | I13: - | J13: - | K13: - | M13: - | N13: - | X13: *** Cálculo [1+(Inf EU/100)]/[1+(Inf Mex/100)].
A14: 10/1/1885 | B14: - | C14: - | D14: - | E14: - | F14: - | G14: - | H14: - | I14: - | J14: - | K14: - | M14: - | N14: -
A15: 11/1/1885 | B15: - | C15: - | D15: - | E15: - | F15: - | G15: - | H15: - | I15: - | J15: - | K15: - | M15: - | N15: -
A16: 12/1/1885 | B16: - | C16: - | D16: - | E16: - | F16: - | G16: - | H16: - | I16: - | J16: - | K16: - | M16: - | N16: -
A17: 1/1/1886 | B17: - | C17: - | D17: - | E17: - | F17: - | G17: - | H17: - | I17: - | J17: - | K17: - | M17: - | N17: -
A18: 2/1/1886 | B18: - | C18: - | D18: - | E18: - | F18: - | G18: - | H18: - | I18: - | J18: - | K18: - | M18: - | N18: -
A19: 2/1/1887 | B19: - | C19: - | D19: - | E19: - | G19: - | H19: - | I19: - | J19: - | K19: - | M19: - | N19: -
A20: 4/1/1886 | B20: =(C20/D20)*100 -> 163.82695 | C20: =(H20/F20)*$J$1 -> 2.0806022 | D20: 1.27 | E20: - | F20: 25.427615 | G20: - | H20: 4.2357688 | J20: =(D20/J$1)*100 -> 10.168135 | K20: =(H20/J20)*100 -> 41.657285 | M20: =LN(F20) -> 3.2358358 | N20: =LN(K20) -> 3.7294763
A21: 5/1/1886 | B21: =(C21/D21)*100 -> 167.39724 | C21: =(H21/F21)*$J$1 -> 2.1594243 | D21: 1.29 | E21: =((D21/D20)-1)*100 -> 1.5748031 | F21: 24.807429 | G21: =((F21/F20)-1)*100 -> -2.4390244 | H21: 4.2890125 | I21: =((H21/H20)-1)*100 -> 1.2570023 | J21: =(D21/J$1)*100 -> 10.328263 | K21: =(H21/J21)*100 -> 41.526951 | M21: =LN(F21) -> 3.2111432 | N21: =LN(K21) -> 3.7263426
A22: 6/1/1886 | B22: =(C22/D22)*100 -> 168.3938 | C22: =(H22/F22)*$J$1 -> 2.1891194 | D22: 1.3 | E22: =((D22/D21)-1)*100 -> 0.7751938 | F22: 24.497336 | G22: =((F22/F21)-1)*100 -> -1.25 | H22: 4.2936424 | I22: =((H22/H21)-1)*100 -> 0.10794765 | J22: =(D22/J$1)*100 -> 10.408327 | K22: =(H22/J22)*100 -> 41.251995 | M22: =LN(F22) -> 3.1985644 | N22: =LN(K22) -> 3.7196995 | X22: Cuadro 2. Inflación acumulada EU VS México, 1933-1981
A23: 7/1/1886 | B23: =(C23/D23)*100 -> 163.95184 | C23: =(H23/F23)*$J$1 -> 2.1477691 | D23: 1.31 | E23: =((D23/D22)-1)*100 -> 0.76923077 | F23: 24.807429 | G23: =((F23/F22)-1)*100 -> 1.2658228 | H23: 4.2658631 | I23: =((H23/H22)-1)*100 -> -0.64698746 | J23: =(D23/J$1)*100 -> 10.488391 | K23: =(H23/J23)*100 -> 40.672237 | M23: =LN(F23) -> 3.2111432 | N23: =LN(K23) -> 3.7055457 | Y23: Observación final 1981* | Z23: Observación inicial 1933* | AA23: Inflación 1933-1981 **
A24: 8/1/1886 | B24: =(C24/D24)*100 -> 159.2403 | C24: =(H24/F24)*$J$1 -> 2.1975161 | D24: 1.38 | E24: =((D24/D23)-1)*100 -> 5.3435115 | F24: 25.117522 | G24: =((F24/F23)-1)*100 -> 1.25 | H24: 4.4192281 | I24: =((H24/H23)-1)*100 -> 3.5951703 | J24: =(D24/J$1)*100 -> 11.048839 | K24: =(H24/J24)*100 -> 39.997217 | M24: =LN(F24) -> 3.2235657 | N24: =LN(K24) -> 3.6888099 | X24: Estados Unidos | Y24: =AVERAGE(F1157:F1168) -> 292.04046 | Z24: =AVERAGE(F581:F592) -> 42.075972 | AA24: =(Y24/Z24) -> 6.9407894
A25: 9/1/1886 | B25: =(C25/D25)*100 -> 158.55611 | C25: =(H25/F25)*$J$1 -> 2.156363 | D25: 1.36 | E25: =((D25/D24)-1)*100 -> -1.4492754 | F25: 25.117522 | G25: =((F25/F24)-1)*100 -> 0 | H25: 4.3364689 | I25: =((H25/H24)-1)*100 -> -1.8727082 | J25: =(D25/J$1)*100 -> 10.888711 | K25: =(H25/J25)*100 -> 39.825365 | M25: =LN(F25) -> 3.2235657 | N25: =LN(K25) -> 3.684504 | X25: México | Y25: =AVERAGE(K1157:K1168) -> 351.3378 | Z25: =AVERAGE(K581:K592) -> 39.752855 | AA25: =(Y25/Z25) -> 8.838052
A26: 10/1/1886 | B26: =(C26/D26)*100 -> 178.38194 | C26: =(H26/F26)*$J$1 -> 2.3368034 | D26: 1.31 | E26: =((D26/D25)-1)*100 -> -3.6764706 | F26: 25.117522 | G26: =((F26/F25)-1)*100 -> 0 | H26: 4.6993363 | I26: =((H26/H25)-1)*100 -> 8.36781 | J26: =(D26/J$1)*100 -> 10.488391 | K26: =(H26/J26)*100 -> 44.805123 | M26: =LN(F26) -> 3.2235657 | N26: =LN(K26) -> 3.8023225 | X26: Inflación externa menos interna*** | AA26: =AA24/AA25 -> 0.78533023
A27: 11/1/1886 | B27: =(C27/D27)*100 -> 173.77187 | C27: =(H27/F27)*$J$1 -> 2.22428 | D27: 1.28 | E27: =((D27/D26)-1)*100 -> -2.2900763 | F27: 25.117522 | G27: =((F27/F26)-1)*100 -> 0 | H27: 4.4730506 | I27: =((H27/H26)-1)*100 -> -4.8152709 | J27: =(D27/J$1)*100 -> 10.248199 | K27: =(H27/J27)*100 -> 43.647189 | M27: =LN(F27) -> 3.2235657 | N27: =LN(K27) -> 3.7761389 | X27: * Promedio de observaciones mensuales del índice de precios en 1933 y 1981.
A28: 12/1/1886 | B28: =(C28/D28)*100 -> 169.22144 | C28: =(H28/F28)*$J$1 -> 2.1491123 | D28: 1.27 | E28: =((D28/D27)-1)*100 -> -0.78125 | F28: 25.427615 | G28: =((F28/F27)-1)*100 -> 1.2345679 | H28: 4.3752442 | I28: =((H28/H27)-1)*100 -> -2.1865701 | J28: =(D28/J$1)*100 -> 10.168135 | K28: =(H28/J28)*100 -> 43.028976 | M28: =LN(F28) -> 3.2358358 | N28: =LN(K28) -> 3.7618738 | X28: ** Inflación acumulada al dividir la observación final del índice de precios por la inicial.
A29: 1/1/1887 | B29: =(C29/D29)*100 -> 161.08544 | C29: =(H29/F29)*$J$1 -> 2.0296766 | D29: 1.26 | E29: =((D29/D28)-1)*100 -> -0.78740157 | F29: 26.047801 | G29: =((F29/F28)-1)*100 -> 2.4390244 | H29: 4.2328751 | I29: =((H29/H28)-1)*100 -> -3.2539683 | J29: =(D29/J$1)*100 -> 10.08807 | K29: =(H29/J29)*100 -> 41.959215 | M29: =LN(F29) -> 3.2599333 | N29: =LN(K29) -> 3.7366981 | X29: *** Cálculo [1+(Inf EU/100)]/[1+(Inf Mex/100)].
A30: 2/1/1887 | B30: =(C30/D30)*100 -> 163.03074 | C30: =(H30/F30)*$J$1 -> 2.0378842 | D30: 1.25 | E30: =((D30/D29)-1)*100 -> -0.79365079 | F30: 26.357893 | G30: =((F30/F29)-1)*100 -> 1.1904762 | H30: 4.3005872 | I30: =((H30/H29)-1)*100 -> 1.5996719 | J30: =(D30/J$1)*100 -> 10.008006 | K30: =(H30/J30)*100 -> 42.971468 | M30: =LN(F30) -> 3.2717678 | N30: =LN(K30) -> 3.7605364
A31: 3/1/1887 | B31: =(C31/D31)*100 -> 162.95909 | C31: =(H31/F31)*$J$1 -> 2.0858764 | D31: 1.28 | E31: =((D31/D30)-1)*100 -> 2.4 | F31: 26.357893 | G31: =((F31/F30)-1)*100 -> 0 | H31: 4.401866 | I31: =((H31/H30)-1)*100 -> 2.3549993 | J31: =(D31/J$1)*100 -> 10.248199 | K31: =(H31/J31)*100 -> 42.952583 | M31: =LN(F31) -> 3.2717678 | N31: =LN(K31) -> 3.7600968
A32: 4/1/1887 | B32: =(C32/D32)*100 -> 159.64145 | C32: =(H32/F32)*$J$1 -> 2.1072671 | D32: 1.32 | E32: =((D32/D31)-1)*100 -> 3.125 | F32: 26.357893 | G32: =((F32/F31)-1)*100 -> 0 | H32: 4.4470075 | I32: =((H32/H31)-1)*100 -> 1.0255062 | J32: =(D32/J$1)*100 -> 10.568455 | K32: =(H32/J32)*100 -> 42.078124 | M32: =LN(F32) -> 3.2717678 | N32: =LN(K32) -> 3.739528
A33: 5/1/1887 | B33: =(C33/D33)*100 -> 161.1677 | C33: =(H33/F33)*$J$1 -> 2.1596472 | D33: 1.34 | E33: =((D33/D32)-1)*100 -> 1.5151515 | F33: 26.357893 | G33: =((F33/F32)-1)*100 -> 0 | H33: 4.557546 | I33: =((H33/H32)-1)*100 -> 2.4856845 | J33: =(D33/J$1)*100 -> 10.728583 | K33: =(H33/J33)*100 -> 42.48041 | M33: =LN(F33) -> 3.2717678 | N33: =LN(K33) -> 3.749043
A34: 6/1/1887 | B34: =(C34/D34)*100 -> 166.77466 | C34: =(H34/F34)*$J$1 -> 2.2181029 | D34: 1.33 | E34: =((D34/D33)-1)*100 -> -0.74626866 | F34: 26.047801 | G34: =((F34/F33)-1)*100 -> -1.1764706 | H34: 4.6258369 | I34: =((H34/H33)-1)*100 -> 1.4984127 | J34: =(D34/J$1)*100 -> 10.648519 | K34: =(H34/J34)*100 -> 43.44113 | M34: =LN(F34) -> 3.2599333 | N34: =LN(K34) -> 3.7714067
A35: 7/1/1887 | B35: =(C35/D35)*100 -> 165.36312 | C35: =(H35/F35)*$J$1 -> 2.1993295 | D35: 1.33 | E35: =((D35/D34)-1)*100 -> 0 | F35: 25.737708 | G35: =((F35/F34)-1)*100 -> -1.1904762 | H35: 4.5320816 | I35: =((H35/H34)-1)*100 -> -2.0267734 | J35: =(D35/J$1)*100 -> 10.648519 | K35: =(H35/J35)*100 -> 42.560676 | M35: =LN(F35) -> 3.2479571 | N35: =LN(K35) -> 3.7509307
A36: 8/1/1887 | B36: =(C36/D36)*100 -> 171.99093 | C36: =(H36/F36)*$J$1 -> 2.2874793 | D36: 1.33 | E36: =((D36/D35)-1)*100 -> 0 | F36: 26.047801 | G36: =((F36/F35)-1)*100 -> 1.2048193 | H36: 4.7705209 | I36: =((H36/H35)-1)*100 -> 5.2611416 | J36: =(D36/J$1)*100 -> 10.648519 | K36: =(H36/J36)*100 -> 44.799854 | M36: =LN(F36) -> 3.2599333 | N36: =LN(K36) -> 3.8022049
A37: 9/1/1887 | B37: =(C37/D37)*100 -> 164.97758 | C37: =(H37/F37)*$J$1 -> 2.1777041 | D37: 1.32 | E37: =((D37/D36)-1)*100 -> -0.7518797 | F37: 25.737708 | G37: =((F37/F36)-1)*100 -> -1.1904762 | H37: 4.487519 | I37: =((H37/H36)-1)*100 -> -5.9323062 | J37: =(D37/J$1)*100 -> 10.568455 | K37: =(H37/J37)*100 -> 42.461448 | M37: =LN(F37) -> 3.2479571 | N37: =LN(K37) -> 3.7485966
A38: 10/1/1887 | B38: =(C38/D38)*100 -> 172.53342 | C38: =(H38/F38)*$J$1 -> 2.2946945 | D38: 1.33 | E38: =((D38/D37)-1)*100 -> 0.75757576 | F38: 26.047801 | G38: =((F38/F37)-1)*100 -> 1.2048193 | H38: 4.785568 | I38: =((H38/H37)-1)*100 -> 6.6417333 | J38: =(D38/J$1)*100 -> 10.648519 | K38: =(H38/J38)*100 -> 44.941161 | M38: =LN(F38) -> 3.2599333 | N38: =LN(K38) -> 3.8053541 | X38: Cuadro 3. Inflación acumulada EU VS México, 1933-2010
A39: 11/1/1887 | B39: =(C39/D39)*100 -> 165.91575 | C39: =(H39/F39)*$J$1 -> 2.2232711 | D39: 1.34 | E39: =((D39/D38)-1)*100 -> 0.7518797 | F39: 26.357893 | G39: =((F39/F38)-1)*100 -> 1.1904762 | H39: 4.6918128 | I39: =((H39/H38)-1)*100 -> -1.9591244 | J39: =(D39/J$1)*100 -> 10.728583 | K39: =(H39/J39)*100 -> 43.731897 | M39: =LN(F39) -> 3.2717678 | N39: =LN(K39) -> 3.7780777 | Y39: Observación final 2010* | Z39: Observación inicial 1933* | AA39: Inflación 1933-1981 **
A40: 12/1/1887 | B40: =(C40/D40)*100 -> 155.56435 | C40: =(H40/F40)*$J$1 -> 2.0690058 | D40: 1.33 | E40: =((D40/D39)-1)*100 -> -0.74626866 | F40: 26.978079 | G40: =((F40/F39)-1)*100 -> 2.3529412 | H40: 4.4689994 | I40: =((H40/H39)-1)*100 -> -4.7489824 | J40: =(D40/J$1)*100 -> 10.648519 | K40: =(H40/J40)*100 -> 41.968273 | M40: =LN(F40) -> 3.2950247 | N40: =LN(K40) -> 3.7369139 | X40: Estados Unidos | Y40: =AVERAGE(F1505:F1516) -> 700.36874 | Z40: =AVERAGE(F581:F592) -> 42.075972 | AA40: =(Y40/Z40) -> 16.645337
...
